{"text_format":"1","workbook":"xlsx","n_sheets":29,"sheets":["Deckblatt","Gesamtstand","Verlosungen","Einzelwertung1","Einzelwertung2","Einzelwertung3","Einzelwertung4","Einzelwertung5","Einzelwertung6","Einzelwertung7","Einzelwertung8","Einzelwertung9","Einzelwertung10","Einzelwertung11","Einzelwertung12","Einzelwertung13","Einzelwertung14","Einzelwertung15","Einzelwertung16","Einzelwertung17","Einzelwertung18","Statistik","bangolf_players","Teilnehmer","bangolf_kategorien","Punkteschema","Hilfe","Vereine","Preise"],"not_rendered":{"charts":0,"images":1,"macros":1,"external_links":1,"defined_names":25,"comments":0,"pivot_tables":0},"unopened":[],"bounds":{"document_bytes":16777216,"sheet_cells":100000,"rows_first":2000,"rows_last":500,"rows_between":2000,"halvings":0,"cell_chars":16384,"cell_head_chars":4096},"cells_cut":0,"cells_raw":0,"read":"whole","date_system":"1900"}

{"sheet":"Deckblatt","index":0,"n_rows":42,"n_cols":4,"rows_kept":42,"cut":false,"hidden":false,"merged":[[31,0,31,4],[1,0,1,4],[3,0,3,4],[5,0,5,4],[27,0,27,4],[30,0,30,4],[29,0,29,4]]}
[]
["Sommer-Cup 2019"]
[]
["Witten-Herbede, Abt.1&2 - 02.05.-29.08.2019 - Welcome-Cup"]
[]
["Ergebnisliste - Deckblatt"]
[]
["Turnierleitung:","Melanie Wickel-Paffrath, MGC Heven, Lizenznr. 11618"]
[null,"und Peter Tabor, MGC \"AS\" Witten, Lizenznr. 8564"]
["Platzturnierleiter:","Uwe Kersch"]
["Ausrichter:","Marita Keuth/Uwe Kersch (Pächter)"]
[null,"in Kooperation mit MGC \"AS\" Witten und MGC Heven"]
["Schiedsgericht:","wechselnd, jeweils durch Aushang bekanntgegeben"]
[null,null,null,"Auch sowas kann man beim"]
[null,null,null,"Sommer-Cup in Herbede"]
[null,null,null,"sehen:"]
[null,null,null,"Am drittletzten Spieltag"]
[null,null,null,"(17.8.19) konnten die Teil-"]
[null,null,null,"nehmer einen schönen"]
[null,null,null,"Regenbogen bewundern;"]
[null,null,null,"der Regen sorgte also nicht"]
[null,null,null,"nur für nasse Bahnen und"]
[null,null,null,"Spielabbruch in Runde 2,"]
[null,null,null,"sondern auch für schöne"]
[null,null,null,"Bilder. Dafür verzichten wir"]
[null,null,null,"hier auf die Siegerfotos."]
[]
["Besondere Vorkommnisse:"]
[]
["Am 2.5. und am 4.7. konnte witterungsbedingt nicht gespielt werden."]
["Am 15.8. musste in der Runde auf Beton witterungsbedingt abgebrochen werden."]
[]
["Anmerkungen des Turnierleiters:"]
[]
["Je Spieltag wurden weitere Sachpreise unter den Teilnehmern ausgelost,"]
["eine Liste der Preise findet sich ebenfalls in dieser Ergebnisliste."]
[]
["Wir danken allen Teilnehmern und freuen uns auf ein Wiedersehen!"]
[]
["Für die Richtigkeit:"]
["Peter Tabor"]
["MGC \"AS\" Witten"]

{"sheet":"Gesamtstand","index":1,"n_rows":42,"n_cols":26,"rows_kept":42,"cut":false,"hidden":false,"merged":[[0,1,0,23],[41,1,41,4]]}
[null,"Sommer-Cup 2019 im Freizeittreff Herbede - Gesamtstand"]
["Pl.","Spieler","Verein","Passnr.","Kat.","2019-05-02",{"$f":"F2+7","v":"2019-05-09"},{"$f":"G2+7","v":"2019-05-16"},{"$f":"H2+7","v":"2019-05-23"},{"$f":"I2+6","v":"2019-05-29"},{"$f":"J2+8","v":"2019-06-06"},{"$f":"K2+7","v":"2019-06-13"},{"$f":"L2+6","v":"2019-06-19"},{"$f":"M2+8","v":"2019-06-27"},"2019-07-04","2019-07-11","2019-07-18","2019-07-25","2019-08-01","2019-08-08","2019-08-15","2019-08-22","2019-08-29","Pkt. ges.","Starts","Startgeld"]
[1,"Buchholz, Ansgar",{"$f":"VLOOKUP($B3,Teilnehmer!$A$3:$E$126,2,FALSE)","v":"ASW"},{"$f":"VLOOKUP($B3,Teilnehmer!$A$3:$E$126,3,FALSE)","v":31513},{"$f":"VLOOKUP($B3,Teilnehmer!$A$3:$E$126,4,FALSE)","v":"SM1"},{"$f":"SUMIF(Einzelwertung1!$A$3:$A$55,$B3,Einzelwertung1!$J$3:$J$55)+0.017","v":1.7000000000000001E-2},{"$f":"SUMIF(Einzelwertung2!$A$3:$A$55,$B3,Einzelwertung2!$J$3:$J$55)+0.016","v":1.6E-2},{"$f":"SUMIF(Einzelwertung3!$A$3:$A$55,$B3,Einzelwertung3!$J$3:$J$55)+0.015","v":1.4999999999999999E-2},{"$f":"SUMIF(Einzelwertung4!$A$3:$A$55,$B3,Einzelwertung4!$J$3:$J$55)+0.014","v":1.4E-2},{"$f":"SUMIF(Einzelwertung5!$A$3:$A$55,$B3,Einzelwertung5!$J$3:$J$55)+0.013","v":1.2999999999999999E-2},{"$f":"SUMIF(Einzelwertung6!$A$3:$A$55,$B3,Einzelwertung6!$J$3:$J$55)+0.012","v":25.012},{"$f":"SUMIF(Einzelwertung7!$A$3:$A$55,$B3,Einzelwertung7!$J$3:$J$55)+0.011","v":18.010999999999999},{"$f":"SUMIF(Einzelwertung8!$A$3:$A$55,$B3,Einzelwertung8!$J$3:$J$55)+0.01","v":25.01},{"$f":"SUMIF(Einzelwertung9!$A$3:$A$55,$B3,Einzelwertung9!$J$3:$J$55)+0.009","v":21.009},{"$f":"SUMIF(Einzelwertung10!$A$3:$A$55,$B3,Einzelwertung10!$J$3:$J$55)+0.008","v":8.0000000000000002E-3},{"$f":"SUMIF(Einzelwertung11!$A$3:$A$55,$B3,Einzelwertung11!$J$3:$J$55)+0.007","v":25.007000000000001},{"$f":"SUMIF(Einzelwertung12!$A$3:$A$55,$B3,Einzelwertung12!$J$3:$J$55)+0.006","v":25.006},{"$f":"SUMIF(Einzelwertung13!$A$3:$A$55,$B3,Einzelwertung13!$J$3:$J$55)+0.005","v":15.005000000000001},{"$f":"SUMIF(Einzelwertung14!$A$3:$A$55,$B3,Einzelwertung14!$J$3:$J$55)+0.004","v":4.0000000000000001E-3},{"$f":"SUMIF(Einzelwertung15!$A$3:$A$67,$B3,Einzelwertung15!$J$3:$J$67)+0.003","v":25.003},{"$f":"SUMIF(Einzelwertung16!$A$3:$A$55,$B3,Einzelwertung16!$J$3:$J$55)+0.002","v":25.001999999999999},{"$f":"SUMIF(Einzelwertung17!$A$3:$A$55,$B3,Einzelwertung17!$J$3:$J$55)+0.001","v":10.000999999999999},{"$f":"SUMIF(Einzelwertung18!$A$3:$A$55,$B3,Einzelwertung18!$J$3:$J$55)+0","v":25},{"$f":"INT(IF(COUNTIF(F3:W3,CONCATENATE(\">\",1/10))<=Hilfe!$A$1,SUM(F3:W3),SUMIF(F3:W3,CONCATENATE(\">=\",LARGE(F3:W3,Hilfe!$A$1)),F3:W3)))","v":229},{"$f":"COUNTIF(E3:W3,\">1\")","v":11},{"$f":"IF(ISERROR(SEARCH(CONCATENATE(\" \",E3,\" \"),\" JM JW SCHM SCHW \")),3,1.5)*Y3","v":33}]
[2,"Urban, Volker",{"$f":"VLOOKUP($B4,Teilnehmer!$A$3:$E$126,2,FALSE)","v":"ASW"},{"$f":"VLOOKUP($B4,Teilnehmer!$A$3:$E$126,3,FALSE)","v":35604},{"$f":"VLOOKUP($B4,Teilnehmer!$A$3:$E$126,4,FALSE)","v":"SM1"},{"$f":"SUMIF(Einzelwertung1!$A$3:$A$55,$B4,Einzelwertung1!$J$3:$J$55)+0.017","v":1.7000000000000001E-2},{"$f":"SUMIF(Einzelwertung2!$A$3:$A$55,$B4,Einzelwertung2!$J$3:$J$55)+0.016","v":25.015999999999998},{"$f":"SUMIF(Einzelwertung3!$A$3:$A$55,$B4,Einzelwertung3!$J$3:$J$55)+0.015","v":18.015000000000001},{"$f":"SUMIF(Einzelwertung4!$A$3:$A$55,$B4,Einzelwertung4!$J$3:$J$55)+0.014","v":15.013999999999999},{"$f":"SUMIF(Einzelwertung5!$A$3:$A$55,$B4,Einzelwertung5!$J$3:$J$55)+0.013","v":10.013},{"$f":"SUMIF(Einzelwertung6!$A$3:$A$55,$B4,Einzelwertung6!$J$3:$J$55)+0.012","v":15.012},{"$f":"SUMIF(Einzelwertung7!$A$3:$A$55,$B4,Einzelwertung7!$J$3:$J$55)+0.011","v":15.010999999999999},{"$f":"SUMIF(Einzelwertung8!$A$3:$A$55,$B4,Einzelwertung8!$J$3:$J$55)+0.01","v":15.01},{"$f":"SUMIF(Einzelwertung9!$A$3:$A$55,$B4,Einzelwertung9!$J$3:$J$55)+0.009","v":15.009},{"$f":"SUMIF(Einzelwertung10!$A$3:$A$55,$B4,Einzelwertung10!$J$3:$J$55)+0.008","v":8.0000000000000002E-3},{"$f":"SUMIF(Einzelwertung11!$A$3:$A$55,$B4,Einzelwertung11!$J$3:$J$55)+0.007","v":21.007000000000001},{"$f":"SUMIF(Einzelwertung12!$A$3:$A$55,$B4,Einzelwertung12!$J$3:$J$55)+0.006","v":18.006},{"$f":"SUMIF(Einzelwertung13!$A$3:$A$55,$B4,Einzelwertung13!$J$3:$J$55)+0.005","v":25.004999999999999},{"$f":"SUMIF(Einzelwertung14!$A$3:$A$55,$B4,Einzelwertung14!$J$3:$J$55)+0.004","v":4.0000000000000001E-3},{"$f":"SUMIF(Einzelwertung15!$A$3:$A$67,$B4,Einzelwertung15!$J$3:$J$67)+0.003","v":5.0030000000000001},{"$f":"SUMIF(Einzelwertung16!$A$3:$A$55,$B4,Einzelwertung16!$J$3:$J$55)+0.002","v":18.001999999999999},{"$f":"SUMIF(Einzelwertung17!$A$3:$A$55,$B4,Einzelwertung17!$J$3:$J$55)+0.001","v":15.000999999999999},{"$f":"SUMIF(Einzelwertung18!$A$3:$A$55,$B4,Einzelwertung18!$J$3:$J$55)+0","v":15},{"$f":"INT(IF(COUNTIF(F4:W4,CONCATENATE(\">\",1/10))<=Hilfe!$A$1,SUM(F4:W4),SUMIF(F4:W4,CONCATENATE(\">=\",LARGE(F4:W4,Hilfe!$A$1)),F4:W4)))","v":185},15,45]
[3,"Greiffendorf, Hellmut",{"$f":"VLOOKUP($B5,Teilnehmer!$A$3:$E$126,2,FALSE)","v":"ASW"},{"$f":"VLOOKUP($B5,Teilnehmer!$A$3:$E$126,3,FALSE)","v":3800},{"$f":"VLOOKUP($B5,Teilnehmer!$A$3:$E$126,4,FALSE)","v":"SM2"},{"$f":"SUMIF(Einzelwertung1!$A$3:$A$55,$B5,Einzelwertung1!$J$3:$J$55)+0.017","v":1.7000000000000001E-2},{"$f":"SUMIF(Einzelwertung2!$A$3:$A$55,$B5,Einzelwertung2!$J$3:$J$55)+0.016","v":1.6E-2},{"$f":"SUMIF(Einzelwertung3!$A$3:$A$55,$B5,Einzelwertung3!$J$3:$J$55)+0.015","v":1.4999999999999999E-2},{"$f":"SUMIF(Einzelwertung4!$A$3:$A$55,$B5,Einzelwertung4!$J$3:$J$55)+0.014","v":25.013999999999999},{"$f":"SUMIF(Einzelwertung5!$A$3:$A$55,$B5,Einzelwertung5!$J$3:$J$55)+0.013","v":25.013000000000002},{"$f":"SUMIF(Einzelwertung6!$A$3:$A$55,$B5,Einzelwertung6!$J$3:$J$55)+0.012","v":10.012},{"$f":"SUMIF(Einzelwertung7!$A$3:$A$55,$B5,Einzelwertung7!$J$3:$J$55)+0.011","v":21.010999999999999},{"$f":"SUMIF(Einzelwertung8!$A$3:$A$55,$B5,Einzelwertung8!$J$3:$J$55)+0.01","v":0.01},{"$f":"SUMIF(Einzelwertung9!$A$3:$A$55,$B5,Einzelwertung9!$J$3:$J$55)+0.009","v":8.9999999999999993E-3},{"$f":"SUMIF(Einzelwertung10!$A$3:$A$55,$B5,Einzelwertung10!$J$3:$J$55)+0.008","v":8.0000000000000002E-3},{"$f":"SUMIF(Einzelwertung11!$A$3:$A$55,$B5,Einzelwertung11!$J$3:$J$55)+0.007","v":10.007},{"$f":"SUMIF(Einzelwertung12!$A$3:$A$55,$B5,Einzelwertung12!$J$3:$J$55)+0.006","v":25.006},{"$f":"SUMIF(Einzelwertung13!$A$3:$A$55,$B5,Einzelwertung13!$J$3:$J$55)+0.005","v":21.004999999999999},{"$f":"SUMIF(Einzelwertung14!$A$3:$A$55,$B5,Einzelwertung14!$J$3:$J$55)+0.004","v":15.004},{"$f":"SUMIF(Einzelwertung15!$A$3:$A$67,$B5,Einzelwertung15!$J$3:$J$67)+0.003","v":15.003},{"$f":"SUMIF(Einzelwertung16!$A$3:$A$55,$B5,Einzelwertung16!$J$3:$J$55)+0.002","v":10.002000000000001},{"$f":"SUMIF(Einzelwertung17!$A$3:$A$55,$B5,Einzelwertung17!$J$3:$J$55)+0.001","v":5.0010000000000003},{"$f":"SUMIF(Einzelwertung18!$A$3:$A$55,$B5,Einzelwertung18!$J$3:$J$55)+0","v":15},{"$f":"INT(IF(COUNTIF(F5:W5,CONCATENATE(\">\",1/10))<=Hilfe!$A$1,SUM(F5:W5),SUMIF(F5:W5,CONCATENATE(\">=\",LARGE(F5:W5,Hilfe!$A$1)),F5:W5)))","v":182},12,36]
["4 n.St.","Mühling, Dirk",{"$f":"VLOOKUP($B6,Teilnehmer!$A$3:$E$126,2,FALSE)","v":"HEV"},{"$f":"VLOOKUP($B6,Teilnehmer!$A$3:$E$126,3,FALSE)","v":49369},{"$f":"VLOOKUP($B6,Teilnehmer!$A$3:$E$126,4,FALSE)","v":"SM1"},{"$f":"SUMIF(Einzelwertung1!$A$3:$A$55,$B6,Einzelwertung1!$J$3:$J$55)+0.017","v":1.7000000000000001E-2},{"$f":"SUMIF(Einzelwertung2!$A$3:$A$55,$B6,Einzelwertung2!$J$3:$J$55)+0.016","v":18.015999999999998},{"$f":"SUMIF(Einzelwertung3!$A$3:$A$55,$B6,Einzelwertung3!$J$3:$J$55)+0.015","v":15.015000000000001},{"$f":"SUMIF(Einzelwertung4!$A$3:$A$55,$B6,Einzelwertung4!$J$3:$J$55)+0.014","v":25.013999999999999},{"$f":"SUMIF(Einzelwertung5!$A$3:$A$55,$B6,Einzelwertung5!$J$3:$J$55)+0.013","v":1.2999999999999999E-2},{"$f":"SUMIF(Einzelwertung6!$A$3:$A$55,$B6,Einzelwertung6!$J$3:$J$55)+0.012","v":10.012},{"$f":"SUMIF(Einzelwertung7!$A$3:$A$55,$B6,Einzelwertung7!$J$3:$J$55)+0.011","v":21.010999999999999},{"$f":"SUMIF(Einzelwertung8!$A$3:$A$55,$B6,Einzelwertung8!$J$3:$J$55)+0.01","v":15.01},{"$f":"SUMIF(Einzelwertung9!$A$3:$A$55,$B6,Einzelwertung9!$J$3:$J$55)+0.009","v":15.009},{"$f":"SUMIF(Einzelwertung10!$A$3:$A$55,$B6,Einzelwertung10!$J$3:$J$55)+0.008","v":8.0000000000000002E-3},{"$f":"SUMIF(Einzelwertung11!$A$3:$A$55,$B6,Einzelwertung11!$J$3:$J$55)+0.007","v":15.007},{"$f":"SUMIF(Einzelwertung12!$A$3:$A$55,$B6,Einzelwertung12!$J$3:$J$55)+0.006","v":10.006},{"$f":"SUMIF(Einzelwertung13!$A$3:$A$55,$B6,Einzelwertung13!$J$3:$J$55)+0.005","v":21.004999999999999},{"$f":"SUMIF(Einzelwertung14!$A$3:$A$55,$B6,Einzelwertung14!$J$3:$J$55)+0.004","v":15.004},{"$f":"SUMIF(Einzelwertung15!$A$3:$A$67,$B6,Einzelwertung15!$J$3:$J$67)+0.003","v":15.003},{"$f":"SUMIF(Einzelwertung16!$A$3:$A$55,$B6,Einzelwertung16!$J$3:$J$55)+0.002","v":10.002000000000001},{"$f":"SUMIF(Einzelwertung17!$A$3:$A$55,$B6,Einzelwertung17!$J$3:$J$55)+0.001","v":1E-3},{"$f":"SUMIF(Einzelwertung18!$A$3:$A$55,$B6,Einzelwertung18!$J$3:$J$55)+0","v":18},{"$f":"INT(IF(COUNTIF(F6:W6,CONCATENATE(\">\",1/10))<=Hilfe!$A$1,SUM(F6:W6),SUMIF(F6:W6,CONCATENATE(\">=\",LARGE(F6:W6,Hilfe!$A$1)),F6:W6)))","v":178},14,42]
["5 n.St.","Tabor, Peter",{"$f":"VLOOKUP($B7,Teilnehmer!$A$3:$E$126,2,FALSE)","v":"ASW"},{"$f":"VLOOKUP($B7,Teilnehmer!$A$3:$E$126,3,FALSE)","v":65804},{"$f":"VLOOKUP($B7,Teilnehmer!$A$3:$E$126,4,FALSE)","v":"SM2"},{"$f":"SUMIF(Einzelwertung1!$A$3:$A$55,$B7,Einzelwertung1!$J$3:$J$55)+0.017","v":1.7000000000000001E-2},{"$f":"SUMIF(Einzelwertung2!$A$3:$A$55,$B7,Einzelwertung2!$J$3:$J$55)+0.016","v":18.015999999999998},{"$f":"SUMIF(Einzelwertung3!$A$3:$A$55,$B7,Einzelwertung3!$J$3:$J$55)+0.015","v":10.015000000000001},{"$f":"SUMIF(Einzelwertung4!$A$3:$A$55,$B7,Einzelwertung4!$J$3:$J$55)+0.014","v":1.4E-2},{"$f":"SUMIF(Einzelwertung5!$A$3:$A$55,$B7,Einzelwertung5!$J$3:$J$55)+0.013","v":15.013},{"$f":"SUMIF(Einzelwertung6!$A$3:$A$55,$B7,Einzelwertung6!$J$3:$J$55)+0.012","v":25.012},{"$f":"SUMIF(Einzelwertung7!$A$3:$A$55,$B7,Einzelwertung7!$J$3:$J$55)+0.011","v":25.010999999999999},{"$f":"SUMIF(Einzelwertung8!$A$3:$A$55,$B7,Einzelwertung8!$J$3:$J$55)+0.01","v":10.01},{"$f":"SUMIF(Einzelwertung9!$A$3:$A$55,$B7,Einzelwertung9!$J$3:$J$55)+0.009","v":21.009},{"$f":"SUMIF(Einzelwertung10!$A$3:$A$55,$B7,Einzelwertung10!$J$3:$J$55)+0.008","v":8.0000000000000002E-3},{"$f":"SUMIF(Einzelwertung11!$A$3:$A$55,$B7,Einzelwertung11!$J$3:$J$55)+0.007","v":10.007},{"$f":"SUMIF(Einzelwertung12!$A$3:$A$55,$B7,Einzelwertung12!$J$3:$J$55)+0.006","v":5.0060000000000002},{"$f":"SUMIF(Einzelwertung13!$A$3:$A$55,$B7,Einzelwertung13!$J$3:$J$55)+0.005","v":21.004999999999999},{"$f":"SUMIF(Einzelwertung14!$A$3:$A$55,$B7,Einzelwertung14!$J$3:$J$55)+0.004","v":3.004},{"$f":"SUMIF(Einzelwertung15!$A$3:$A$67,$B7,Einzelwertung15!$J$3:$J$67)+0.003","v":5.0030000000000001},{"$f":"SUMIF(Einzelwertung16!$A$3:$A$55,$B7,Einzelwertung16!$J$3:$J$55)+0.002","v":18.001999999999999},{"$f":"SUMIF(Einzelwertung17!$A$3:$A$55,$B7,Einzelwertung17!$J$3:$J$55)+0.001","v":15.000999999999999},{"$f":"SUMIF(Einzelwertung18!$A$3:$A$55,$B7,Einzelwertung18!$J$3:$J$55)+0","v":10},{"$f":"INT(IF(COUNTIF(F7:W7,CONCATENATE(\">\",1/10))<=Hilfe!$A$1,SUM(F7:W7),SUMIF(F7:W7,CONCATENATE(\">=\",LARGE(F7:W7,Hilfe!$A$1)),F7:W7)))","v":178},15,45]
[6,"Puschner, Michael",{"$f":"VLOOKUP($B8,Teilnehmer!$A$3:$E$126,2,FALSE)","v":"Hobby"},{"$f":"VLOOKUP($B8,Teilnehmer!$A$3:$E$126,3,FALSE)","v":"Hobby11"},{"$f":"VLOOKUP($B8,Teilnehmer!$A$3:$E$126,4,FALSE)","v":"SM2"},{"$f":"SUMIF(Einzelwertung1!$A$3:$A$55,$B8,Einzelwertung1!$J$3:$J$55)+0.017","v":1.7000000000000001E-2},{"$f":"SUMIF(Einzelwertung2!$A$3:$A$55,$B8,Einzelwertung2!$J$3:$J$55)+0.016","v":25.015999999999998},{"$f":"SUMIF(Einzelwertung3!$A$3:$A$55,$B8,Einzelwertung3!$J$3:$J$55)+0.015","v":5.0149999999999997},{"$f":"SUMIF(Einzelwertung4!$A$3:$A$55,$B8,Einzelwertung4!$J$3:$J$55)+0.014","v":15.013999999999999},{"$f":"SUMIF(Einzelwertung5!$A$3:$A$55,$B8,Einzelwertung5!$J$3:$J$55)+0.013","v":15.013},{"$f":"SUMIF(Einzelwertung6!$A$3:$A$55,$B8,Einzelwertung6!$J$3:$J$55)+0.012","v":10.012},{"$f":"SUMIF(Einzelwertung7!$A$3:$A$55,$B8,Einzelwertung7!$J$3:$J$55)+0.011","v":15.010999999999999},{"$f":"SUMIF(Einzelwertung8!$A$3:$A$55,$B8,Einzelwertung8!$J$3:$J$55)+0.01","v":21.01},{"$f":"SUMIF(Einzelwertung9!$A$3:$A$55,$B8,Einzelwertung9!$J$3:$J$55)+0.009","v":5.0090000000000003},{"$f":"SUMIF(Einzelwertung10!$A$3:$A$55,$B8,Einzelwertung10!$J$3:$J$55)+0.008","v":8.0000000000000002E-3},{"$f":"SUMIF(Einzelwertung11!$A$3:$A$55,$B8,Einzelwertung11!$J$3:$J$55)+0.007","v":18.007000000000001},{"$f":"SUMIF(Einzelwertung12!$A$3:$A$55,$B8,Einzelwertung12!$J$3:$J$55)+0.006","v":15.006},{"$f":"SUMIF(Einzelwertung13!$A$3:$A$55,$B8,Einzelwertung13!$J$3:$J$55)+0.005","v":10.005000000000001},{"$f":"SUMIF(Einzelwertung14!$A$3:$A$55,$B8,Einzelwertung14!$J$3:$J$55)+0.004","v":5.0039999999999996},{"$f":"SUMIF(Einzelwertung15!$A$3:$A$67,$B8,Einzelwertung15!$J$3:$J$67)+0.003","v":3.0000000000000001E-3},{"$f":"SUMIF(Einzelwertung16!$A$3:$A$55,$B8,Einzelwertung16!$J$3:$J$55)+0.002","v":2E-3},{"$f":"SUMIF(Einzelwertung17!$A$3:$A$55,$B8,Einzelwertung17!$J$3:$J$55)+0.001","v":21.001000000000001},{"$f":"SUMIF(Einzelwertung18!$A$3:$A$55,$B8,Einzelwertung18!$J$3:$J$55)+0","v":18},{"$f":"INT(IF(COUNTIF(F8:W8,CONCATENATE(\">\",1/10))<=Hilfe!$A$1,SUM(F8:W8),SUMIF(F8:W8,CONCATENATE(\">=\",LARGE(F8:W8,Hilfe!$A$1)),F8:W8)))","v":173},14,42]
[7,"Lenk, Rolf",{"$f":"VLOOKUP($B9,Teilnehmer!$A$3:$E$126,2,FALSE)","v":"ASW"},{"$f":"VLOOKUP($B9,Teilnehmer!$A$3:$E$126,3,FALSE)","v":61716},{"$f":"VLOOKUP($B9,Teilnehmer!$A$3:$E$126,4,FALSE)","v":"SM2"},{"$f":"SUMIF(Einzelwertung1!$A$3:$A$55,$B9,Einzelwertung1!$J$3:$J$55)+0.017","v":1.7000000000000001E-2},{"$f":"SUMIF(Einzelwertung2!$A$3:$A$55,$B9,Einzelwertung2!$J$3:$J$55)+0.016","v":15.016},{"$f":"SUMIF(Einzelwertung3!$A$3:$A$55,$B9,Einzelwertung3!$J$3:$J$55)+0.015","v":25.015000000000001},{"$f":"SUMIF(Einzelwertung4!$A$3:$A$55,$B9,Einzelwertung4!$J$3:$J$55)+0.014","v":15.013999999999999},{"$f":"SUMIF(Einzelwertung5!$A$3:$A$55,$B9,Einzelwertung5!$J$3:$J$55)+0.013","v":10.013},{"$f":"SUMIF(Einzelwertung6!$A$3:$A$55,$B9,Einzelwertung6!$J$3:$J$55)+0.012","v":15.012},{"$f":"SUMIF(Einzelwertung7!$A$3:$A$55,$B9,Einzelwertung7!$J$3:$J$55)+0.011","v":5.0110000000000001},{"$f":"SUMIF(Einzelwertung8!$A$3:$A$55,$B9,Einzelwertung8!$J$3:$J$55)+0.01","v":21.01},{"$f":"SUMIF(Einzelwertung9!$A$3:$A$55,$B9,Einzelwertung9!$J$3:$J$55)+0.009","v":10.009},{"$f":"SUMIF(Einzelwertung10!$A$3:$A$55,$B9,Einzelwertung10!$J$3:$J$55)+0.008","v":8.0000000000000002E-3},{"$f":"SUMIF(Einzelwertung11!$A$3:$A$55,$B9,Einzelwertung11!$J$3:$J$55)+0.007","v":5.0069999999999997},{"$f":"SUMIF(Einzelwertung12!$A$3:$A$55,$B9,Einzelwertung12!$J$3:$J$55)+0.006","v":5.0060000000000002},{"$f":"SUMIF(Einzelwertung13!$A$3:$A$55,$B9,Einzelwertung13!$J$3:$J$55)+0.005","v":18.004999999999999},{"$f":"SUMIF(Einzelwertung14!$A$3:$A$55,$B9,Einzelwertung14!$J$3:$J$55)+0.004","v":18.004000000000001},{"$f":"SUMIF(Einzelwertung15!$A$3:$A$67,$B9,Einzelwertung15!$J$3:$J$67)+0.003","v":15.003},{"$f":"SUMIF(Einzelwertung16!$A$3:$A$55,$B9,Einzelwertung16!$J$3:$J$55)+0.002","v":10.002000000000001},{"$f":"SUMIF(Einzelwertung17!$A$3:$A$55,$B9,Einzelwertung17!$J$3:$J$55)+0.001","v":15.000999999999999},{"$f":"SUMIF(Einzelwertung18!$A$3:$A$55,$B9,Einzelwertung18!$J$3:$J$55)+0","v":15},{"$f":"INT(IF(COUNTIF(F9:W9,CONCATENATE(\">\",1/10))<=Hilfe!$A$1,SUM(F9:W9),SUMIF(F9:W9,CONCATENATE(\">=\",LARGE(F9:W9,Hilfe!$A$1)),F9:W9)))","v":172},16,48]
[8,"Lieber, Nicole",{"$f":"VLOOKUP($B10,Teilnehmer!$A$3:$E$126,2,FALSE)","v":"Hobby"},{"$f":"VLOOKUP($B10,Teilnehmer!$A$3:$E$126,3,FALSE)","v":"Hobby7"},{"$f":"VLOOKUP($B10,Teilnehmer!$A$3:$E$126,4,FALSE)","v":"D"},{"$f":"SUMIF(Einzelwertung1!$A$3:$A$55,$B10,Einzelwertung1!$J$3:$J$55)+0.017","v":1.7000000000000001E-2},{"$f":"SUMIF(Einzelwertung2!$A$3:$A$55,$B10,Einzelwertung2!$J$3:$J$55)+0.016","v":1.6E-2},{"$f":"SUMIF(Einzelwertung3!$A$3:$A$55,$B10,Einzelwertung3!$J$3:$J$55)+0.015","v":1.4999999999999999E-2},{"$f":"SUMIF(Einzelwertung4!$A$3:$A$55,$B10,Einzelwertung4!$J$3:$J$55)+0.014","v":1.4E-2},{"$f":"SUMIF(Einzelwertung5!$A$3:$A$55,$B10,Einzelwertung5!$J$3:$J$55)+0.013","v":15.013},{"$f":"SUMIF(Einzelwertung6!$A$3:$A$55,$B10,Einzelwertung6!$J$3:$J$55)+0.012","v":15.012},{"$f":"SUMIF(Einzelwertung7!$A$3:$A$55,$B10,Einzelwertung7!$J$3:$J$55)+0.011","v":10.010999999999999},{"$f":"SUMIF(Einzelwertung8!$A$3:$A$55,$B10,Einzelwertung8!$J$3:$J$55)+0.01","v":10.01},{"$f":"SUMIF(Einzelwertung9!$A$3:$A$55,$B10,Einzelwertung9!$J$3:$J$55)+0.009","v":18.009},{"$f":"SUMIF(Einzelwertung10!$A$3:$A$55,$B10,Einzelwertung10!$J$3:$J$55)+0.008","v":8.0000000000000002E-3},{"$f":"SUMIF(Einzelwertung11!$A$3:$A$55,$B10,Einzelwertung11!$J$3:$J$55)+0.007","v":15.007},{"$f":"SUMIF(Einzelwertung12!$A$3:$A$55,$B10,Einzelwertung12!$J$3:$J$55)+0.006","v":10.006},{"$f":"SUMIF(Einzelwertung13!$A$3:$A$55,$B10,Einzelwertung13!$J$3:$J$55)+0.005","v":10.005000000000001},{"$f":"SUMIF(Einzelwertung14!$A$3:$A$55,$B10,Einzelwertung14!$J$3:$J$55)+0.004","v":25.004000000000001},{"$f":"SUMIF(Einzelwertung15!$A$3:$A$67,$B10,Einzelwertung15!$J$3:$J$67)+0.003","v":21.003},{"$f":"SUMIF(Einzelwertung16!$A$3:$A$55,$B10,Einzelwertung16!$J$3:$J$55)+0.002","v":5.0019999999999998},{"$f":"SUMIF(Einzelwertung17!$A$3:$A$55,$B10,Einzelwertung17!$J$3:$J$55)+0.001","v":25.001000000000001},{"$f":"SUMIF(Einzelwertung18!$A$3:$A$55,$B10,Einzelwertung18!$J$3:$J$55)+0","v":15},{"$f":"INT(IF(COUNTIF(F10:W10,CONCATENATE(\">\",1/10))<=Hilfe!$A$1,SUM(F10:W10),SUMIF(F10:W10,CONCATENATE(\">=\",LARGE(F10:W10,Hilfe!$A$1)),F10:W10)))","v":169},13,39]
[9,"Börgmann, Ulrich",{"$f":"VLOOKUP($B11,Teilnehmer!$A$3:$E$126,2,FALSE)","v":"Hobby"},{"$f":"VLOOKUP($B11,Teilnehmer!$A$3:$E$126,3,FALSE)","v":"Hobby15"},{"$f":"VLOOKUP($B11,Teilnehmer!$A$3:$E$126,4,FALSE)","v":"SM1"},{"$f":"SUMIF(Einzelwertung1!$A$3:$A$55,$B11,Einzelwertung1!$J$3:$J$55)+0.017","v":1.7000000000000001E-2},{"$f":"SUMIF(Einzelwertung2!$A$3:$A$55,$B11,Einzelwertung2!$J$3:$J$55)+0.016","v":18.015999999999998},{"$f":"SUMIF(Einzelwertung3!$A$3:$A$55,$B11,Einzelwertung3!$J$3:$J$55)+0.015","v":5.0149999999999997},{"$f":"SUMIF(Einzelwertung4!$A$3:$A$55,$B11,Einzelwertung4!$J$3:$J$55)+0.014","v":5.0140000000000002},{"$f":"SUMIF(Einzelwertung5!$A$3:$A$55,$B11,Einzelwertung5!$J$3:$J$55)+0.013","v":10.013},{"$f":"SUMIF(Einzelwertung6!$A$3:$A$55,$B11,Einzelwertung6!$J$3:$J$55)+0.012","v":15.012},{"$f":"SUMIF(Einzelwertung7!$A$3:$A$55,$B11,Einzelwertung7!$J$3:$J$55)+0.011","v":15.010999999999999},{"$f":"SUMIF(Einzelwertung8!$A$3:$A$55,$B11,Einzelwertung8!$J$3:$J$55)+0.01","v":15.01},{"$f":"SUMIF(Einzelwertung9!$A$3:$A$55,$B11,Einzelwertung9!$J$3:$J$55)+0.009","v":10.009},{"$f":"SUMIF(Einzelwertung10!$A$3:$A$55,$B11,Einzelwertung10!$J$3:$J$55)+0.008","v":8.0000000000000002E-3},{"$f":"SUMIF(Einzelwertung11!$A$3:$A$55,$B11,Einzelwertung11!$J$3:$J$55)+0.007","v":15.007},{"$f":"SUMIF(Einzelwertung12!$A$3:$A$55,$B11,Einzelwertung12!$J$3:$J$55)+0.006","v":10.006},{"$f":"SUMIF(Einzelwertung13!$A$3:$A$55,$B11,Einzelwertung13!$J$3:$J$55)+0.005","v":10.005000000000001},{"$f":"SUMIF(Einzelwertung14!$A$3:$A$55,$B11,Einzelwertung14!$J$3:$J$55)+0.004","v":15.004},{"$f":"SUMIF(Einzelwertung15!$A$3:$A$67,$B11,Einzelwertung15!$J$3:$J$67)+0.003","v":5.0030000000000001},{"$f":"SUMIF(Einzelwertung16!$A$3:$A$55,$B11,Einzelwertung16!$J$3:$J$55)+0.002","v":10.002000000000001},{"$f":"SUMIF(Einzelwertung17!$A$3:$A$55,$B11,Einzelwertung17!$J$3:$J$55)+0.001","v":15.000999999999999},{"$f":"SUMIF(Einzelwertung18!$A$3:$A$55,$B11,Einzelwertung18!$J$3:$J$55)+0","v":5},{"$f":"INT(IF(COUNTIF(F11:W11,CONCATENATE(\">\",1/10))<=Hilfe!$A$1,SUM(F11:W11),SUMIF(F11:W11,CONCATENATE(\">=\",LARGE(F11:W11,Hilfe!$A$1)),F11:W11)))","v":138},16,48]
[10,"Schmidtbauer, Günter",{"$f":"VLOOKUP($B12,Teilnehmer!$A$3:$E$126,2,FALSE)","v":"Hobby"},{"$f":"VLOOKUP($B12,Teilnehmer!$A$3:$E$126,3,FALSE)","v":"Hobby4"},{"$f":"VLOOKUP($B12,Teilnehmer!$A$3:$E$126,4,FALSE)","v":"SM2"},{"$f":"SUMIF(Einzelwertung1!$A$3:$A$55,$B12,Einzelwertung1!$J$3:$J$55)+0.017","v":1.7000000000000001E-2},{"$f":"SUMIF(Einzelwertung2!$A$3:$A$55,$B12,Einzelwertung2!$J$3:$J$55)+0.016","v":1.6E-2},{"$f":"SUMIF(Einzelwertung3!$A$3:$A$55,$B12,Einzelwertung3!$J$3:$J$55)+0.015","v":25.015000000000001},{"$f":"SUMIF(Einzelwertung4!$A$3:$A$55,$B12,Einzelwertung4!$J$3:$J$55)+0.014","v":10.013999999999999},{"$f":"SUMIF(Einzelwertung5!$A$3:$A$55,$B12,Einzelwertung5!$J$3:$J$55)+0.013","v":3.0129999999999999},{"$f":"SUMIF(Einzelwertung6!$A$3:$A$55,$B12,Einzelwertung6!$J$3:$J$55)+0.012","v":10.012},{"$f":"SUMIF(Einzelwertung7!$A$3:$A$55,$B12,Einzelwertung7!$J$3:$J$55)+0.011","v":10.010999999999999},{"$f":"SUMIF(Einzelwertung8!$A$3:$A$55,$B12,Einzelwertung8!$J$3:$J$55)+0.01","v":10.01},{"$f":"SUMIF(Einzelwertung9!$A$3:$A$55,$B12,Einzelwertung9!$J$3:$J$55)+0.009","v":5.0090000000000003},{"$f":"SUMIF(Einzelwertung10!$A$3:$A$55,$B12,Einzelwertung10!$J$3:$J$55)+0.008","v":8.0000000000000002E-3},{"$f":"SUMIF(Einzelwertung11!$A$3:$A$55,$B12,Einzelwertung11!$J$3:$J$55)+0.007","v":25.007000000000001},{"$f":"SUMIF(Einzelwertung12!$A$3:$A$55,$B12,Einzelwertung12!$J$3:$J$55)+0.006","v":10.006},{"$f":"SUMIF(Einzelwertung13!$A$3:$A$55,$B12,Einzelwertung13!$J$3:$J$55)+0.005","v":5.0000000000000001E-3},{"$f":"SUMIF(Einzelwertung14!$A$3:$A$55,$B12,Einzelwertung14!$J$3:$J$55)+0.004","v":5.0039999999999996},{"$f":"SUMIF(Einzelwertung15!$A$3:$A$67,$B12,Einzelwertung15!$J$3:$J$67)+0.003","v":5.0030000000000001},{"$f":"SUMIF(Einzelwertung16!$A$3:$A$55,$B12,Einzelwertung16!$J$3:$J$55)+0.002","v":5.0019999999999998},{"$f":"SUMIF(Einzelwertung17!$A$3:$A$55,$B12,Einzelwertung17!$J$3:$J$55)+0.001","v":21.001000000000001},{"$f":"SUMIF(Einzelwertung18!$A$3:$A$55,$B12,Einzelwertung18!$J$3:$J$55)+0","v":0},{"$f":"INT(IF(COUNTIF(F12:W12,CONCATENATE(\">\",1/10))<=Hilfe!$A$1,SUM(F12:W12),SUMIF(F12:W12,CONCATENATE(\">=\",LARGE(F12:W12,Hilfe!$A$1)),F12:W12)))","v":131},13,39]
[11,"Kortmann, Sabine",{"$f":"VLOOKUP($B13,Teilnehmer!$A$3:$E$126,2,FALSE)","v":"Hobby"},{"$f":"VLOOKUP($B13,Teilnehmer!$A$3:$E$126,3,FALSE)","v":"Hobby31"},{"$f":"VLOOKUP($B13,Teilnehmer!$A$3:$E$126,4,FALSE)","v":"SW1"},{"$f":"SUMIF(Einzelwertung1!$A$3:$A$55,$B13,Einzelwertung1!$J$3:$J$55)+0.017","v":1.7000000000000001E-2},{"$f":"SUMIF(Einzelwertung2!$A$3:$A$55,$B13,Einzelwertung2!$J$3:$J$55)+0.016","v":15.016},{"$f":"SUMIF(Einzelwertung3!$A$3:$A$55,$B13,Einzelwertung3!$J$3:$J$55)+0.015","v":15.015000000000001},{"$f":"SUMIF(Einzelwertung4!$A$3:$A$55,$B13,Einzelwertung4!$J$3:$J$55)+0.014","v":18.013999999999999},{"$f":"SUMIF(Einzelwertung5!$A$3:$A$55,$B13,Einzelwertung5!$J$3:$J$55)+0.013","v":10.013},{"$f":"SUMIF(Einzelwertung6!$A$3:$A$55,$B13,Einzelwertung6!$J$3:$J$55)+0.012","v":1.2E-2},{"$f":"SUMIF(Einzelwertung7!$A$3:$A$55,$B13,Einzelwertung7!$J$3:$J$55)+0.011","v":1.0999999999999999E-2},{"$f":"SUMIF(Einzelwertung8!$A$3:$A$55,$B13,Einzelwertung8!$J$3:$J$55)+0.01","v":0.01},{"$f":"SUMIF(Einzelwertung9!$A$3:$A$55,$B13,Einzelwertung9!$J$3:$J$55)+0.009","v":15.009},{"$f":"SUMIF(Einzelwertung10!$A$3:$A$55,$B13,Einzelwertung10!$J$3:$J$55)+0.008","v":8.0000000000000002E-3},{"$f":"SUMIF(Einzelwertung11!$A$3:$A$55,$B13,Einzelwertung11!$J$3:$J$55)+0.007","v":5.0069999999999997},{"$f":"SUMIF(Einzelwertung12!$A$3:$A$55,$B13,Einzelwertung12!$J$3:$J$55)+0.006","v":10.006},{"$f":"SUMIF(Einzelwertung13!$A$3:$A$55,$B13,Einzelwertung13!$J$3:$J$55)+0.005","v":5.0049999999999999},{"$f":"SUMIF(Einzelwertung14!$A$3:$A$55,$B13,Einzelwertung14!$J$3:$J$55)+0.004","v":5.0039999999999996},{"$f":"SUMIF(Einzelwertung15!$A$3:$A$67,$B13,Einzelwertung15!$J$3:$J$67)+0.003","v":5.0030000000000001},{"$f":"SUMIF(Einzelwertung16!$A$3:$A$55,$B13,Einzelwertung16!$J$3:$J$55)+0.002","v":5.0019999999999998},{"$f":"SUMIF(Einzelwertung17!$A$3:$A$55,$B13,Einzelwertung17!$J$3:$J$55)+0.001","v":15.000999999999999},{"$f":"SUMIF(Einzelwertung18!$A$3:$A$55,$B13,Einzelwertung18!$J$3:$J$55)+0","v":15},{"$f":"INT(IF(COUNTIF(F13:W13,CONCATENATE(\">\",1/10))<=Hilfe!$A$1,SUM(F13:W13),SUMIF(F13:W13,CONCATENATE(\">=\",LARGE(F13:W13,Hilfe!$A$1)),F13:W13)))","v":123},13,39]
[12,"Kortmann, Uwe",{"$f":"VLOOKUP($B14,Teilnehmer!$A$3:$E$126,2,FALSE)","v":"Hobby"},{"$f":"VLOOKUP($B14,Teilnehmer!$A$3:$E$126,3,FALSE)","v":"Hobby32"},{"$f":"VLOOKUP($B14,Teilnehmer!$A$3:$E$126,4,FALSE)","v":"SM1"},{"$f":"SUMIF(Einzelwertung1!$A$3:$A$55,$B14,Einzelwertung1!$J$3:$J$55)+0.017","v":1.7000000000000001E-2},{"$f":"SUMIF(Einzelwertung2!$A$3:$A$55,$B14,Einzelwertung2!$J$3:$J$55)+0.016","v":15.016},{"$f":"SUMIF(Einzelwertung3!$A$3:$A$55,$B14,Einzelwertung3!$J$3:$J$55)+0.015","v":10.015000000000001},{"$f":"SUMIF(Einzelwertung4!$A$3:$A$55,$B14,Einzelwertung4!$J$3:$J$55)+0.014","v":5.0140000000000002},{"$f":"SUMIF(Einzelwertung5!$A$3:$A$55,$B14,Einzelwertung5!$J$3:$J$55)+0.013","v":10.013},{"$f":"SUMIF(Einzelwertung6!$A$3:$A$55,$B14,Einzelwertung6!$J$3:$J$55)+0.012","v":1.2E-2},{"$f":"SUMIF(Einzelwertung7!$A$3:$A$55,$B14,Einzelwertung7!$J$3:$J$55)+0.011","v":1.0999999999999999E-2},{"$f":"SUMIF(Einzelwertung8!$A$3:$A$55,$B14,Einzelwertung8!$J$3:$J$55)+0.01","v":0.01},{"$f":"SUMIF(Einzelwertung9!$A$3:$A$55,$B14,Einzelwertung9!$J$3:$J$55)+0.009","v":10.009},{"$f":"SUMIF(Einzelwertung10!$A$3:$A$55,$B14,Einzelwertung10!$J$3:$J$55)+0.008","v":8.0000000000000002E-3},{"$f":"SUMIF(Einzelwertung11!$A$3:$A$55,$B14,Einzelwertung11!$J$3:$J$55)+0.007","v":15.007},{"$f":"SUMIF(Einzelwertung12!$A$3:$A$55,$B14,Einzelwertung12!$J$3:$J$55)+0.006","v":15.006},{"$f":"SUMIF(Einzelwertung13!$A$3:$A$55,$B14,Einzelwertung13!$J$3:$J$55)+0.005","v":15.005000000000001},{"$f":"SUMIF(Einzelwertung14!$A$3:$A$55,$B14,Einzelwertung14!$J$3:$J$55)+0.004","v":10.004},{"$f":"SUMIF(Einzelwertung15!$A$3:$A$67,$B14,Einzelwertung15!$J$3:$J$67)+0.003","v":15.003},{"$f":"SUMIF(Einzelwertung16!$A$3:$A$55,$B14,Einzelwertung16!$J$3:$J$55)+0.002","v":3.0019999999999998},{"$f":"SUMIF(Einzelwertung17!$A$3:$A$55,$B14,Einzelwertung17!$J$3:$J$55)+0.001","v":5.0010000000000003},{"$f":"SUMIF(Einzelwertung18!$A$3:$A$55,$B14,Einzelwertung18!$J$3:$J$55)+0","v":5},{"$f":"INT(IF(COUNTIF(F14:W14,CONCATENATE(\">\",1/10))<=Hilfe!$A$1,SUM(F14:W14),SUMIF(F14:W14,CONCATENATE(\">=\",LARGE(F14:W14,Hilfe!$A$1)),F14:W14)))","v":120},13,39]
[13,"Urban, Dominic",{"$f":"VLOOKUP($B15,Teilnehmer!$A$3:$E$126,2,FALSE)","v":"ASW"},{"$f":"VLOOKUP($B15,Teilnehmer!$A$3:$E$126,3,FALSE)","v":66186},{"$f":"VLOOKUP($B15,Teilnehmer!$A$3:$E$126,4,FALSE)","v":"JM"},{"$f":"SUMIF(Einzelwertung1!$A$3:$A$55,$B15,Einzelwertung1!$J$3:$J$55)+0.017","v":1.7000000000000001E-2},{"$f":"SUMIF(Einzelwertung2!$A$3:$A$55,$B15,Einzelwertung2!$J$3:$J$55)+0.016","v":10.016},{"$f":"SUMIF(Einzelwertung3!$A$3:$A$55,$B15,Einzelwertung3!$J$3:$J$55)+0.015","v":1.4999999999999999E-2},{"$f":"SUMIF(Einzelwertung4!$A$3:$A$55,$B15,Einzelwertung4!$J$3:$J$55)+0.014","v":25.013999999999999},{"$f":"SUMIF(Einzelwertung5!$A$3:$A$55,$B15,Einzelwertung5!$J$3:$J$55)+0.013","v":15.013},{"$f":"SUMIF(Einzelwertung6!$A$3:$A$55,$B15,Einzelwertung6!$J$3:$J$55)+0.012","v":15.012},{"$f":"SUMIF(Einzelwertung7!$A$3:$A$55,$B15,Einzelwertung7!$J$3:$J$55)+0.011","v":5.0110000000000001},{"$f":"SUMIF(Einzelwertung8!$A$3:$A$55,$B15,Einzelwertung8!$J$3:$J$55)+0.01","v":0.01},{"$f":"SUMIF(Einzelwertung9!$A$3:$A$55,$B15,Einzelwertung9!$J$3:$J$55)+0.009","v":5.0090000000000003},{"$f":"SUMIF(Einzelwertung10!$A$3:$A$55,$B15,Einzelwertung10!$J$3:$J$55)+0.008","v":8.0000000000000002E-3},{"$f":"SUMIF(Einzelwertung11!$A$3:$A$55,$B15,Einzelwertung11!$J$3:$J$55)+0.007","v":10.007},{"$f":"SUMIF(Einzelwertung12!$A$3:$A$55,$B15,Einzelwertung12!$J$3:$J$55)+0.006","v":6.0000000000000001E-3},{"$f":"SUMIF(Einzelwertung13!$A$3:$A$55,$B15,Einzelwertung13!$J$3:$J$55)+0.005","v":10.005000000000001},{"$f":"SUMIF(Einzelwertung14!$A$3:$A$55,$B15,Einzelwertung14!$J$3:$J$55)+0.004","v":4.0000000000000001E-3},{"$f":"SUMIF(Einzelwertung15!$A$3:$A$67,$B15,Einzelwertung15!$J$3:$J$67)+0.003","v":3.0030000000000001},{"$f":"SUMIF(Einzelwertung16!$A$3:$A$55,$B15,Einzelwertung16!$J$3:$J$55)+0.002","v":3.0019999999999998},{"$f":"SUMIF(Einzelwertung17!$A$3:$A$55,$B15,Einzelwertung17!$J$3:$J$55)+0.001","v":10.000999999999999},{"$f":"SUMIF(Einzelwertung18!$A$3:$A$55,$B15,Einzelwertung18!$J$3:$J$55)+0","v":10},{"$f":"INT(IF(COUNTIF(F15:W15,CONCATENATE(\">\",1/10))<=Hilfe!$A$1,SUM(F15:W15),SUMIF(F15:W15,CONCATENATE(\">=\",LARGE(F15:W15,Hilfe!$A$1)),F15:W15)))","v":115},12,18]
[14,"Kunz, Martin",{"$f":"VLOOKUP($B16,Teilnehmer!$A$3:$E$126,2,FALSE)","v":"Hobby"},{"$f":"VLOOKUP($B16,Teilnehmer!$A$3:$E$126,3,FALSE)","v":"Hobby40"},{"$f":"VLOOKUP($B16,Teilnehmer!$A$3:$E$126,4,FALSE)","v":"SM1"},{"$f":"SUMIF(Einzelwertung1!$A$3:$A$55,$B16,Einzelwertung1!$J$3:$J$55)+0.017","v":1.7000000000000001E-2},{"$f":"SUMIF(Einzelwertung2!$A$3:$A$55,$B16,Einzelwertung2!$J$3:$J$55)+0.016","v":1.6E-2},{"$f":"SUMIF(Einzelwertung3!$A$3:$A$55,$B16,Einzelwertung3!$J$3:$J$55)+0.015","v":18.015000000000001},{"$f":"SUMIF(Einzelwertung4!$A$3:$A$55,$B16,Einzelwertung4!$J$3:$J$55)+0.014","v":10.013999999999999},{"$f":"SUMIF(Einzelwertung5!$A$3:$A$55,$B16,Einzelwertung5!$J$3:$J$55)+0.013","v":25.013000000000002},{"$f":"SUMIF(Einzelwertung6!$A$3:$A$55,$B16,Einzelwertung6!$J$3:$J$55)+0.012","v":1.2E-2},{"$f":"SUMIF(Einzelwertung7!$A$3:$A$55,$B16,Einzelwertung7!$J$3:$J$55)+0.011","v":1.0999999999999999E-2},{"$f":"SUMIF(Einzelwertung8!$A$3:$A$55,$B16,Einzelwertung8!$J$3:$J$55)+0.01","v":10.01},{"$f":"SUMIF(Einzelwertung9!$A$3:$A$55,$B16,Einzelwertung9!$J$3:$J$55)+0.009","v":8.9999999999999993E-3},{"$f":"SUMIF(Einzelwertung10!$A$3:$A$55,$B16,Einzelwertung10!$J$3:$J$55)+0.008","v":8.0000000000000002E-3},{"$f":"SUMIF(Einzelwertung11!$A$3:$A$55,$B16,Einzelwertung11!$J$3:$J$55)+0.007","v":10.007},{"$f":"SUMIF(Einzelwertung12!$A$3:$A$55,$B16,Einzelwertung12!$J$3:$J$55)+0.006","v":6.0000000000000001E-3},{"$f":"SUMIF(Einzelwertung13!$A$3:$A$55,$B16,Einzelwertung13!$J$3:$J$55)+0.005","v":5.0000000000000001E-3},{"$f":"SUMIF(Einzelwertung14!$A$3:$A$55,$B16,Einzelwertung14!$J$3:$J$55)+0.004","v":15.004},{"$f":"SUMIF(Einzelwertung15!$A$3:$A$67,$B16,Einzelwertung15!$J$3:$J$67)+0.003","v":3.0000000000000001E-3},{"$f":"SUMIF(Einzelwertung16!$A$3:$A$55,$B16,Einzelwertung16!$J$3:$J$55)+0.002","v":5.0019999999999998},{"$f":"SUMIF(Einzelwertung17!$A$3:$A$55,$B16,Einzelwertung17!$J$3:$J$55)+0.001","v":10.000999999999999},{"$f":"SUMIF(Einzelwertung18!$A$3:$A$55,$B16,Einzelwertung18!$J$3:$J$55)+0","v":10},{"$f":"INT(IF(COUNTIF(F16:W16,CONCATENATE(\">\",1/10))<=Hilfe!$A$1,SUM(F16:W16),SUMIF(F16:W16,CONCATENATE(\">=\",LARGE(F16:W16,Hilfe!$A$1)),F16:W16)))","v":113},9,27]
[15,"Urban, Angela",{"$f":"VLOOKUP($B17,Teilnehmer!$A$3:$E$126,2,FALSE)","v":"ASW"},{"$f":"VLOOKUP($B17,Teilnehmer!$A$3:$E$126,3,FALSE)","v":35605},{"$f":"VLOOKUP($B17,Teilnehmer!$A$3:$E$126,4,FALSE)","v":"SW1"},{"$f":"SUMIF(Einzelwertung1!$A$3:$A$55,$B17,Einzelwertung1!$J$3:$J$55)+0.017","v":1.7000000000000001E-2},{"$f":"SUMIF(Einzelwertung2!$A$3:$A$55,$B17,Einzelwertung2!$J$3:$J$55)+0.016","v":1.6E-2},{"$f":"SUMIF(Einzelwertung3!$A$3:$A$55,$B17,Einzelwertung3!$J$3:$J$55)+0.015","v":18.015000000000001},{"$f":"SUMIF(Einzelwertung4!$A$3:$A$55,$B17,Einzelwertung4!$J$3:$J$55)+0.014","v":1.4E-2},{"$f":"SUMIF(Einzelwertung5!$A$3:$A$55,$B17,Einzelwertung5!$J$3:$J$55)+0.013","v":10.013},{"$f":"SUMIF(Einzelwertung6!$A$3:$A$55,$B17,Einzelwertung6!$J$3:$J$55)+0.012","v":1.2E-2},{"$f":"SUMIF(Einzelwertung7!$A$3:$A$55,$B17,Einzelwertung7!$J$3:$J$55)+0.011","v":10.010999999999999},{"$f":"SUMIF(Einzelwertung8!$A$3:$A$55,$B17,Einzelwertung8!$J$3:$J$55)+0.01","v":0.01},{"$f":"SUMIF(Einzelwertung9!$A$3:$A$55,$B17,Einzelwertung9!$J$3:$J$55)+0.009","v":10.009},{"$f":"SUMIF(Einzelwertung10!$A$3:$A$55,$B17,Einzelwertung10!$J$3:$J$55)+0.008","v":8.0000000000000002E-3},{"$f":"SUMIF(Einzelwertung11!$A$3:$A$55,$B17,Einzelwertung11!$J$3:$J$55)+0.007","v":15.007},{"$f":"SUMIF(Einzelwertung12!$A$3:$A$55,$B17,Einzelwertung12!$J$3:$J$55)+0.006","v":5.0060000000000002},{"$f":"SUMIF(Einzelwertung13!$A$3:$A$55,$B17,Einzelwertung13!$J$3:$J$55)+0.005","v":10.005000000000001},{"$f":"SUMIF(Einzelwertung14!$A$3:$A$55,$B17,Einzelwertung14!$J$3:$J$55)+0.004","v":4.0000000000000001E-3},{"$f":"SUMIF(Einzelwertung15!$A$3:$A$67,$B17,Einzelwertung15!$J$3:$J$67)+0.003","v":3.0030000000000001},{"$f":"SUMIF(Einzelwertung16!$A$3:$A$55,$B17,Einzelwertung16!$J$3:$J$55)+0.002","v":5.0019999999999998},{"$f":"SUMIF(Einzelwertung17!$A$3:$A$55,$B17,Einzelwertung17!$J$3:$J$55)+0.001","v":15.000999999999999},{"$f":"SUMIF(Einzelwertung18!$A$3:$A$55,$B17,Einzelwertung18!$J$3:$J$55)+0","v":0},{"$f":"INT(IF(COUNTIF(F17:W17,CONCATENATE(\">\",1/10))<=Hilfe!$A$1,SUM(F17:W17),SUMIF(F17:W17,CONCATENATE(\">=\",LARGE(F17:W17,Hilfe!$A$1)),F17:W17)))","v":101},10,30]
[16,"Jezierski, Marie-Luise",{"$f":"VLOOKUP($B18,Teilnehmer!$A$3:$E$126,2,FALSE)","v":"ASW"},{"$f":"VLOOKUP($B18,Teilnehmer!$A$3:$E$126,3,FALSE)","v":61958},{"$f":"VLOOKUP($B18,Teilnehmer!$A$3:$E$126,4,FALSE)","v":"SW2"},{"$f":"SUMIF(Einzelwertung1!$A$3:$A$55,$B18,Einzelwertung1!$J$3:$J$55)+0.017","v":1.7000000000000001E-2},{"$f":"SUMIF(Einzelwertung2!$A$3:$A$55,$B18,Einzelwertung2!$J$3:$J$55)+0.016","v":5.016},{"$f":"SUMIF(Einzelwertung3!$A$3:$A$55,$B18,Einzelwertung3!$J$3:$J$55)+0.015","v":10.015000000000001},{"$f":"SUMIF(Einzelwertung4!$A$3:$A$55,$B18,Einzelwertung4!$J$3:$J$55)+0.014","v":5.0140000000000002},{"$f":"SUMIF(Einzelwertung5!$A$3:$A$55,$B18,Einzelwertung5!$J$3:$J$55)+0.013","v":18.013000000000002},{"$f":"SUMIF(Einzelwertung6!$A$3:$A$55,$B18,Einzelwertung6!$J$3:$J$55)+0.012","v":15.012},{"$f":"SUMIF(Einzelwertung7!$A$3:$A$55,$B18,Einzelwertung7!$J$3:$J$55)+0.011","v":10.010999999999999},{"$f":"SUMIF(Einzelwertung8!$A$3:$A$55,$B18,Einzelwertung8!$J$3:$J$55)+0.01","v":5.01},{"$f":"SUMIF(Einzelwertung9!$A$3:$A$55,$B18,Einzelwertung9!$J$3:$J$55)+0.009","v":10.009},{"$f":"SUMIF(Einzelwertung10!$A$3:$A$55,$B18,Einzelwertung10!$J$3:$J$55)+0.008","v":8.0000000000000002E-3},{"$f":"SUMIF(Einzelwertung11!$A$3:$A$55,$B18,Einzelwertung11!$J$3:$J$55)+0.007","v":5.0069999999999997},{"$f":"SUMIF(Einzelwertung12!$A$3:$A$55,$B18,Einzelwertung12!$J$3:$J$55)+0.006","v":3.0059999999999998},{"$f":"SUMIF(Einzelwertung13!$A$3:$A$55,$B18,Einzelwertung13!$J$3:$J$55)+0.005","v":10.005000000000001},{"$f":"SUMIF(Einzelwertung14!$A$3:$A$55,$B18,Einzelwertung14!$J$3:$J$55)+0.004","v":5.0039999999999996},{"$f":"SUMIF(Einzelwertung15!$A$3:$A$67,$B18,Einzelwertung15!$J$3:$J$67)+0.003","v":10.003},{"$f":"SUMIF(Einzelwertung16!$A$3:$A$55,$B18,Einzelwertung16!$J$3:$J$55)+0.002","v":3.0019999999999998},{"$f":"SUMIF(Einzelwertung17!$A$3:$A$55,$B18,Einzelwertung17!$J$3:$J$55)+0.001","v":5.0010000000000003},{"$f":"SUMIF(Einzelwertung18!$A$3:$A$55,$B18,Einzelwertung18!$J$3:$J$55)+0","v":5},{"$f":"INT(IF(COUNTIF(F18:W18,CONCATENATE(\">\",1/10))<=Hilfe!$A$1,SUM(F18:W18),SUMIF(F18:W18,CONCATENATE(\">=\",LARGE(F18:W18,Hilfe!$A$1)),F18:W18)))","v":98},16,48]
[17,"Börgmann, Brigitte",{"$f":"VLOOKUP($B19,Teilnehmer!$A$3:$E$126,2,FALSE)","v":"Hobby"},{"$f":"VLOOKUP($B19,Teilnehmer!$A$3:$E$126,3,FALSE)","v":"Hobby6"},{"$f":"VLOOKUP($B19,Teilnehmer!$A$3:$E$126,4,FALSE)","v":"SW1"},{"$f":"SUMIF(Einzelwertung1!$A$3:$A$55,$B19,Einzelwertung1!$J$3:$J$55)+0.017","v":1.7000000000000001E-2},{"$f":"SUMIF(Einzelwertung2!$A$3:$A$55,$B19,Einzelwertung2!$J$3:$J$55)+0.016","v":1.6E-2},{"$f":"SUMIF(Einzelwertung3!$A$3:$A$55,$B19,Einzelwertung3!$J$3:$J$55)+0.015","v":5.0149999999999997},{"$f":"SUMIF(Einzelwertung4!$A$3:$A$55,$B19,Einzelwertung4!$J$3:$J$55)+0.014","v":10.013999999999999},{"$f":"SUMIF(Einzelwertung5!$A$3:$A$55,$B19,Einzelwertung5!$J$3:$J$55)+0.013","v":5.0129999999999999},{"$f":"SUMIF(Einzelwertung6!$A$3:$A$55,$B19,Einzelwertung6!$J$3:$J$55)+0.012","v":15.012},{"$f":"SUMIF(Einzelwertung7!$A$3:$A$55,$B19,Einzelwertung7!$J$3:$J$55)+0.011","v":5.0110000000000001},{"$f":"SUMIF(Einzelwertung8!$A$3:$A$55,$B19,Einzelwertung8!$J$3:$J$55)+0.01","v":15.01},{"$f":"SUMIF(Einzelwertung9!$A$3:$A$55,$B19,Einzelwertung9!$J$3:$J$55)+0.009","v":3.0089999999999999},{"$f":"SUMIF(Einzelwertung10!$A$3:$A$55,$B19,Einzelwertung10!$J$3:$J$55)+0.008","v":8.0000000000000002E-3},{"$f":"SUMIF(Einzelwertung11!$A$3:$A$55,$B19,Einzelwertung11!$J$3:$J$55)+0.007","v":5.0069999999999997},{"$f":"SUMIF(Einzelwertung12!$A$3:$A$55,$B19,Einzelwertung12!$J$3:$J$55)+0.006","v":5.0060000000000002},{"$f":"SUMIF(Einzelwertung13!$A$3:$A$55,$B19,Einzelwertung13!$J$3:$J$55)+0.005","v":10.005000000000001},{"$f":"SUMIF(Einzelwertung14!$A$3:$A$55,$B19,Einzelwertung14!$J$3:$J$55)+0.004","v":10.004},{"$f":"SUMIF(Einzelwertung15!$A$3:$A$67,$B19,Einzelwertung15!$J$3:$J$67)+0.003","v":5.0030000000000001},{"$f":"SUMIF(Einzelwertung16!$A$3:$A$55,$B19,Einzelwertung16!$J$3:$J$55)+0.002","v":1.002},{"$f":"SUMIF(Einzelwertung17!$A$3:$A$55,$B19,Einzelwertung17!$J$3:$J$55)+0.001","v":10.000999999999999},{"$f":"SUMIF(Einzelwertung18!$A$3:$A$55,$B19,Einzelwertung18!$J$3:$J$55)+0","v":10},{"$f":"INT(IF(COUNTIF(F19:W19,CONCATENATE(\">\",1/10))<=Hilfe!$A$1,SUM(F19:W19),SUMIF(F19:W19,CONCATENATE(\">=\",LARGE(F19:W19,Hilfe!$A$1)),F19:W19)))","v":95},15,45]
[18,"Kersch, Uwe",{"$f":"VLOOKUP($B20,Teilnehmer!$A$3:$E$126,2,FALSE)","v":"HEV"},{"$f":"VLOOKUP($B20,Teilnehmer!$A$3:$E$126,3,FALSE)","v":67352},{"$f":"VLOOKUP($B20,Teilnehmer!$A$3:$E$126,4,FALSE)","v":"SM2"},{"$f":"SUMIF(Einzelwertung1!$A$3:$A$55,$B20,Einzelwertung1!$J$3:$J$55)+0.017","v":1.7000000000000001E-2},{"$f":"SUMIF(Einzelwertung2!$A$3:$A$55,$B20,Einzelwertung2!$J$3:$J$55)+0.016","v":15.016},{"$f":"SUMIF(Einzelwertung3!$A$3:$A$55,$B20,Einzelwertung3!$J$3:$J$55)+0.015","v":3.0150000000000001},{"$f":"SUMIF(Einzelwertung4!$A$3:$A$55,$B20,Einzelwertung4!$J$3:$J$55)+0.014","v":1.4E-2},{"$f":"SUMIF(Einzelwertung5!$A$3:$A$55,$B20,Einzelwertung5!$J$3:$J$55)+0.013","v":5.0129999999999999},{"$f":"SUMIF(Einzelwertung6!$A$3:$A$55,$B20,Einzelwertung6!$J$3:$J$55)+0.012","v":1.2E-2},{"$f":"SUMIF(Einzelwertung7!$A$3:$A$55,$B20,Einzelwertung7!$J$3:$J$55)+0.011","v":15.010999999999999},{"$f":"SUMIF(Einzelwertung8!$A$3:$A$55,$B20,Einzelwertung8!$J$3:$J$55)+0.01","v":0.01},{"$f":"SUMIF(Einzelwertung9!$A$3:$A$55,$B20,Einzelwertung9!$J$3:$J$55)+0.009","v":10.009},{"$f":"SUMIF(Einzelwertung10!$A$3:$A$55,$B20,Einzelwertung10!$J$3:$J$55)+0.008","v":8.0000000000000002E-3},{"$f":"SUMIF(Einzelwertung11!$A$3:$A$55,$B20,Einzelwertung11!$J$3:$J$55)+0.007","v":5.0069999999999997},{"$f":"SUMIF(Einzelwertung12!$A$3:$A$55,$B20,Einzelwertung12!$J$3:$J$55)+0.006","v":3.0059999999999998},{"$f":"SUMIF(Einzelwertung13!$A$3:$A$55,$B20,Einzelwertung13!$J$3:$J$55)+0.005","v":10.005000000000001},{"$f":"SUMIF(Einzelwertung14!$A$3:$A$55,$B20,Einzelwertung14!$J$3:$J$55)+0.004","v":5.0039999999999996},{"$f":"SUMIF(Einzelwertung15!$A$3:$A$67,$B20,Einzelwertung15!$J$3:$J$67)+0.003","v":3.0030000000000001},{"$f":"SUMIF(Einzelwertung16!$A$3:$A$55,$B20,Einzelwertung16!$J$3:$J$55)+0.002","v":3.0019999999999998},{"$f":"SUMIF(Einzelwertung17!$A$3:$A$55,$B20,Einzelwertung17!$J$3:$J$55)+0.001","v":10.000999999999999},{"$f":"SUMIF(Einzelwertung18!$A$3:$A$55,$B20,Einzelwertung18!$J$3:$J$55)+0","v":15},{"$f":"INT(IF(COUNTIF(F20:W20,CONCATENATE(\">\",1/10))<=Hilfe!$A$1,SUM(F20:W20),SUMIF(F20:W20,CONCATENATE(\">=\",LARGE(F20:W20,Hilfe!$A$1)),F20:W20)))","v":93},13,39]
[19,"Schmidt, Barbara",{"$f":"VLOOKUP($B21,Teilnehmer!$A$3:$E$126,2,FALSE)","v":"Hobby"},{"$f":"VLOOKUP($B21,Teilnehmer!$A$3:$E$126,3,FALSE)","v":3202768},{"$f":"VLOOKUP($B21,Teilnehmer!$A$3:$E$126,4,FALSE)","v":"SW2"},{"$f":"SUMIF(Einzelwertung1!$A$3:$A$55,$B21,Einzelwertung1!$J$3:$J$55)+0.017","v":1.7000000000000001E-2},{"$f":"SUMIF(Einzelwertung2!$A$3:$A$55,$B21,Einzelwertung2!$J$3:$J$55)+0.016","v":15.016},{"$f":"SUMIF(Einzelwertung3!$A$3:$A$55,$B21,Einzelwertung3!$J$3:$J$55)+0.015","v":10.015000000000001},{"$f":"SUMIF(Einzelwertung4!$A$3:$A$55,$B21,Einzelwertung4!$J$3:$J$55)+0.014","v":10.013999999999999},{"$f":"SUMIF(Einzelwertung5!$A$3:$A$55,$B21,Einzelwertung5!$J$3:$J$55)+0.013","v":3.0129999999999999},{"$f":"SUMIF(Einzelwertung6!$A$3:$A$55,$B21,Einzelwertung6!$J$3:$J$55)+0.012","v":5.0119999999999996},{"$f":"SUMIF(Einzelwertung7!$A$3:$A$55,$B21,Einzelwertung7!$J$3:$J$55)+0.011","v":3.0110000000000001},{"$f":"SUMIF(Einzelwertung8!$A$3:$A$55,$B21,Einzelwertung8!$J$3:$J$55)+0.01","v":5.01},{"$f":"SUMIF(Einzelwertung9!$A$3:$A$55,$B21,Einzelwertung9!$J$3:$J$55)+0.009","v":3.0089999999999999},{"$f":"SUMIF(Einzelwertung10!$A$3:$A$55,$B21,Einzelwertung10!$J$3:$J$55)+0.008","v":8.0000000000000002E-3},{"$f":"SUMIF(Einzelwertung11!$A$3:$A$55,$B21,Einzelwertung11!$J$3:$J$55)+0.007","v":3.0070000000000001},{"$f":"SUMIF(Einzelwertung12!$A$3:$A$55,$B21,Einzelwertung12!$J$3:$J$55)+0.006","v":10.006},{"$f":"SUMIF(Einzelwertung13!$A$3:$A$55,$B21,Einzelwertung13!$J$3:$J$55)+0.005","v":5.0049999999999999},{"$f":"SUMIF(Einzelwertung14!$A$3:$A$55,$B21,Einzelwertung14!$J$3:$J$55)+0.004","v":4.0000000000000001E-3},{"$f":"SUMIF(Einzelwertung15!$A$3:$A$67,$B21,Einzelwertung15!$J$3:$J$67)+0.003","v":3.0000000000000001E-3},{"$f":"SUMIF(Einzelwertung16!$A$3:$A$55,$B21,Einzelwertung16!$J$3:$J$55)+0.002","v":5.0019999999999998},{"$f":"SUMIF(Einzelwertung17!$A$3:$A$55,$B21,Einzelwertung17!$J$3:$J$55)+0.001","v":3.0009999999999999},{"$f":"SUMIF(Einzelwertung18!$A$3:$A$55,$B21,Einzelwertung18!$J$3:$J$55)+0","v":3},{"$f":"INT(IF(COUNTIF(F21:W21,CONCATENATE(\">\",1/10))<=Hilfe!$A$1,SUM(F21:W21),SUMIF(F21:W21,CONCATENATE(\">=\",LARGE(F21:W21,Hilfe!$A$1)),F21:W21)))","v":71},14,42]
[20,"Battig, Wolfgang",{"$f":"VLOOKUP($B22,Teilnehmer!$A$3:$E$126,2,FALSE)","v":"Lüd."},{"$f":"VLOOKUP($B22,Teilnehmer!$A$3:$E$126,3,FALSE)","v":23741},{"$f":"VLOOKUP($B22,Teilnehmer!$A$3:$E$126,4,FALSE)","v":"SM1"},{"$f":"SUMIF(Einzelwertung1!$A$3:$A$55,$B22,Einzelwertung1!$J$3:$J$55)+0.017","v":1.7000000000000001E-2},{"$f":"SUMIF(Einzelwertung2!$A$3:$A$55,$B22,Einzelwertung2!$J$3:$J$55)+0.016","v":1.6E-2},{"$f":"SUMIF(Einzelwertung3!$A$3:$A$55,$B22,Einzelwertung3!$J$3:$J$55)+0.015","v":1.4999999999999999E-2},{"$f":"SUMIF(Einzelwertung4!$A$3:$A$55,$B22,Einzelwertung4!$J$3:$J$55)+0.014","v":1.4E-2},{"$f":"SUMIF(Einzelwertung5!$A$3:$A$55,$B22,Einzelwertung5!$J$3:$J$55)+0.013","v":1.2999999999999999E-2},{"$f":"SUMIF(Einzelwertung6!$A$3:$A$55,$B22,Einzelwertung6!$J$3:$J$55)+0.012","v":1.2E-2},{"$f":"SUMIF(Einzelwertung7!$A$3:$A$55,$B22,Einzelwertung7!$J$3:$J$55)+0.011","v":1.0999999999999999E-2},{"$f":"SUMIF(Einzelwertung8!$A$3:$A$55,$B22,Einzelwertung8!$J$3:$J$55)+0.01","v":0.01},{"$f":"SUMIF(Einzelwertung9!$A$3:$A$55,$B22,Einzelwertung9!$J$3:$J$55)+0.009","v":8.9999999999999993E-3},{"$f":"SUMIF(Einzelwertung10!$A$3:$A$55,$B22,Einzelwertung10!$J$3:$J$55)+0.008","v":8.0000000000000002E-3},{"$f":"SUMIF(Einzelwertung11!$A$3:$A$55,$B22,Einzelwertung11!$J$3:$J$55)+0.007","v":7.0000000000000001E-3},{"$f":"SUMIF(Einzelwertung12!$A$3:$A$55,$B22,Einzelwertung12!$J$3:$J$55)+0.006","v":18.006},{"$f":"SUMIF(Einzelwertung13!$A$3:$A$55,$B22,Einzelwertung13!$J$3:$J$55)+0.005","v":5.0000000000000001E-3},{"$f":"SUMIF(Einzelwertung14!$A$3:$A$55,$B22,Einzelwertung14!$J$3:$J$55)+0.004","v":25.004000000000001},{"$f":"SUMIF(Einzelwertung15!$A$3:$A$67,$B22,Einzelwertung15!$J$3:$J$67)+0.003","v":25.003},{"$f":"SUMIF(Einzelwertung16!$A$3:$A$55,$B22,Einzelwertung16!$J$3:$J$55)+0.002","v":2E-3},{"$f":"SUMIF(Einzelwertung17!$A$3:$A$55,$B22,Einzelwertung17!$J$3:$J$55)+0.001","v":1E-3},{"$f":"SUMIF(Einzelwertung18!$A$3:$A$55,$B22,Einzelwertung18!$J$3:$J$55)+0","v":0},{"$f":"INT(IF(COUNTIF(F22:W22,CONCATENATE(\">\",1/10))<=Hilfe!$A$1,SUM(F22:W22),SUMIF(F22:W22,CONCATENATE(\">=\",LARGE(F22:W22,Hilfe!$A$1)),F22:W22)))","v":68},3,9]
[21,"Ginschel, Rudolf",{"$f":"VLOOKUP($B23,Teilnehmer!$A$3:$E$126,2,FALSE)","v":"BMC"},{"$f":"VLOOKUP($B23,Teilnehmer!$A$3:$E$126,3,FALSE)","v":66864},{"$f":"VLOOKUP($B23,Teilnehmer!$A$3:$E$126,4,FALSE)","v":"SM2"},{"$f":"SUMIF(Einzelwertung1!$A$3:$A$55,$B23,Einzelwertung1!$J$3:$J$55)+0.017","v":1.7000000000000001E-2},{"$f":"SUMIF(Einzelwertung2!$A$3:$A$55,$B23,Einzelwertung2!$J$3:$J$55)+0.016","v":25.015999999999998},{"$f":"SUMIF(Einzelwertung3!$A$3:$A$55,$B23,Einzelwertung3!$J$3:$J$55)+0.015","v":10.015000000000001},{"$f":"SUMIF(Einzelwertung4!$A$3:$A$55,$B23,Einzelwertung4!$J$3:$J$55)+0.014","v":5.0140000000000002},{"$f":"SUMIF(Einzelwertung5!$A$3:$A$55,$B23,Einzelwertung5!$J$3:$J$55)+0.013","v":1.2999999999999999E-2},{"$f":"SUMIF(Einzelwertung6!$A$3:$A$55,$B23,Einzelwertung6!$J$3:$J$55)+0.012","v":1.2E-2},{"$f":"SUMIF(Einzelwertung7!$A$3:$A$55,$B23,Einzelwertung7!$J$3:$J$55)+0.011","v":1.0999999999999999E-2},{"$f":"SUMIF(Einzelwertung8!$A$3:$A$55,$B23,Einzelwertung8!$J$3:$J$55)+0.01","v":18.010000000000002},{"$f":"SUMIF(Einzelwertung9!$A$3:$A$55,$B23,Einzelwertung9!$J$3:$J$55)+0.009","v":8.9999999999999993E-3},{"$f":"SUMIF(Einzelwertung10!$A$3:$A$55,$B23,Einzelwertung10!$J$3:$J$55)+0.008","v":8.0000000000000002E-3},{"$f":"SUMIF(Einzelwertung11!$A$3:$A$55,$B23,Einzelwertung11!$J$3:$J$55)+0.007","v":7.0000000000000001E-3},{"$f":"SUMIF(Einzelwertung12!$A$3:$A$55,$B23,Einzelwertung12!$J$3:$J$55)+0.006","v":6.0000000000000001E-3},{"$f":"SUMIF(Einzelwertung13!$A$3:$A$55,$B23,Einzelwertung13!$J$3:$J$55)+0.005","v":5.0000000000000001E-3},{"$f":"SUMIF(Einzelwertung14!$A$3:$A$55,$B23,Einzelwertung14!$J$3:$J$55)+0.004","v":4.0000000000000001E-3},{"$f":"SUMIF(Einzelwertung15!$A$3:$A$67,$B23,Einzelwertung15!$J$3:$J$67)+0.003","v":3.0000000000000001E-3},{"$f":"SUMIF(Einzelwertung16!$A$3:$A$55,$B23,Einzelwertung16!$J$3:$J$55)+0.002","v":2E-3},{"$f":"SUMIF(Einzelwertung17!$A$3:$A$55,$B23,Einzelwertung17!$J$3:$J$55)+0.001","v":1E-3},{"$f":"SUMIF(Einzelwertung18!$A$3:$A$55,$B23,Einzelwertung18!$J$3:$J$55)+0","v":0},{"$f":"INT(IF(COUNTIF(F23:W23,CONCATENATE(\">\",1/10))<=Hilfe!$A$1,SUM(F23:W23),SUMIF(F23:W23,CONCATENATE(\">=\",LARGE(F23:W23,Hilfe!$A$1)),F23:W23)))","v":58},4,12]
[22,"Dreischer, Burkhard",{"$f":"VLOOKUP($B24,Teilnehmer!$A$3:$E$126,2,FALSE)","v":"Oly"},{"$f":"VLOOKUP($B24,Teilnehmer!$A$3:$E$126,3,FALSE)","v":23778},{"$f":"VLOOKUP($B24,Teilnehmer!$A$3:$E$126,4,FALSE)","v":"SM2"},{"$f":"SUMIF(Einzelwertung1!$A$3:$A$55,$B24,Einzelwertung1!$J$3:$J$55)+0.017","v":1.7000000000000001E-2},{"$f":"SUMIF(Einzelwertung2!$A$3:$A$55,$B24,Einzelwertung2!$J$3:$J$55)+0.016","v":1.6E-2},{"$f":"SUMIF(Einzelwertung3!$A$3:$A$55,$B24,Einzelwertung3!$J$3:$J$55)+0.015","v":1.4999999999999999E-2},{"$f":"SUMIF(Einzelwertung4!$A$3:$A$55,$B24,Einzelwertung4!$J$3:$J$55)+0.014","v":1.4E-2},{"$f":"SUMIF(Einzelwertung5!$A$3:$A$55,$B24,Einzelwertung5!$J$3:$J$55)+0.013","v":1.2999999999999999E-2},{"$f":"SUMIF(Einzelwertung6!$A$3:$A$55,$B24,Einzelwertung6!$J$3:$J$55)+0.012","v":1.2E-2},{"$f":"SUMIF(Einzelwertung7!$A$3:$A$55,$B24,Einzelwertung7!$J$3:$J$55)+0.011","v":1.0999999999999999E-2},{"$f":"SUMIF(Einzelwertung8!$A$3:$A$55,$B24,Einzelwertung8!$J$3:$J$55)+0.01","v":0.01},{"$f":"SUMIF(Einzelwertung9!$A$3:$A$55,$B24,Einzelwertung9!$J$3:$J$55)+0.009","v":8.9999999999999993E-3},{"$f":"SUMIF(Einzelwertung10!$A$3:$A$55,$B24,Einzelwertung10!$J$3:$J$55)+0.008","v":8.0000000000000002E-3},{"$f":"SUMIF(Einzelwertung11!$A$3:$A$55,$B24,Einzelwertung11!$J$3:$J$55)+0.007","v":7.0000000000000001E-3},{"$f":"SUMIF(Einzelwertung12!$A$3:$A$55,$B24,Einzelwertung12!$J$3:$J$55)+0.006","v":10.006},{"$f":"SUMIF(Einzelwertung13!$A$3:$A$55,$B24,Einzelwertung13!$J$3:$J$55)+0.005","v":5.0000000000000001E-3},{"$f":"SUMIF(Einzelwertung14!$A$3:$A$55,$B24,Einzelwertung14!$J$3:$J$55)+0.004","v":4.0000000000000001E-3},{"$f":"SUMIF(Einzelwertung15!$A$3:$A$67,$B24,Einzelwertung15!$J$3:$J$67)+0.003","v":10.003},{"$f":"SUMIF(Einzelwertung16!$A$3:$A$55,$B24,Einzelwertung16!$J$3:$J$55)+0.002","v":15.002000000000001},{"$f":"SUMIF(Einzelwertung17!$A$3:$A$55,$B24,Einzelwertung17!$J$3:$J$55)+0.001","v":15.000999999999999},{"$f":"SUMIF(Einzelwertung18!$A$3:$A$55,$B24,Einzelwertung18!$J$3:$J$55)+0","v":3},{"$f":"INT(IF(COUNTIF(F24:W24,CONCATENATE(\">\",1/10))<=Hilfe!$A$1,SUM(F24:W24),SUMIF(F24:W24,CONCATENATE(\">=\",LARGE(F24:W24,Hilfe!$A$1)),F24:W24)))","v":53},5,15]
[23,"Schmitt, Jürgen",{"$f":"VLOOKUP($B25,Teilnehmer!$A$3:$E$126,2,FALSE)","v":"ASW"},{"$f":"VLOOKUP($B25,Teilnehmer!$A$3:$E$126,3,FALSE)","v":44955},{"$f":"VLOOKUP($B25,Teilnehmer!$A$3:$E$126,4,FALSE)","v":"SM1"},{"$f":"SUMIF(Einzelwertung1!$A$3:$A$55,$B25,Einzelwertung1!$J$3:$J$55)+0.017","v":1.7000000000000001E-2},{"$f":"SUMIF(Einzelwertung2!$A$3:$A$55,$B25,Einzelwertung2!$J$3:$J$55)+0.016","v":1.6E-2},{"$f":"SUMIF(Einzelwertung3!$A$3:$A$55,$B25,Einzelwertung3!$J$3:$J$55)+0.015","v":1.4999999999999999E-2},{"$f":"SUMIF(Einzelwertung4!$A$3:$A$55,$B25,Einzelwertung4!$J$3:$J$55)+0.014","v":1.4E-2},{"$f":"SUMIF(Einzelwertung5!$A$3:$A$55,$B25,Einzelwertung5!$J$3:$J$55)+0.013","v":1.2999999999999999E-2},{"$f":"SUMIF(Einzelwertung6!$A$3:$A$55,$B25,Einzelwertung6!$J$3:$J$55)+0.012","v":1.2E-2},{"$f":"SUMIF(Einzelwertung7!$A$3:$A$55,$B25,Einzelwertung7!$J$3:$J$55)+0.011","v":1.0999999999999999E-2},{"$f":"SUMIF(Einzelwertung8!$A$3:$A$55,$B25,Einzelwertung8!$J$3:$J$55)+0.01","v":0.01},{"$f":"SUMIF(Einzelwertung9!$A$3:$A$55,$B25,Einzelwertung9!$J$3:$J$55)+0.009","v":8.9999999999999993E-3},{"$f":"SUMIF(Einzelwertung10!$A$3:$A$55,$B25,Einzelwertung10!$J$3:$J$55)+0.008","v":8.0000000000000002E-3},{"$f":"SUMIF(Einzelwertung11!$A$3:$A$55,$B25,Einzelwertung11!$J$3:$J$55)+0.007","v":7.0000000000000001E-3},{"$f":"SUMIF(Einzelwertung12!$A$3:$A$55,$B25,Einzelwertung12!$J$3:$J$55)+0.006","v":6.0000000000000001E-3},{"$f":"SUMIF(Einzelwertung13!$A$3:$A$55,$B25,Einzelwertung13!$J$3:$J$55)+0.005","v":5.0000000000000001E-3},{"$f":"SUMIF(Einzelwertung14!$A$3:$A$55,$B25,Einzelwertung14!$J$3:$J$55)+0.004","v":4.0000000000000001E-3},{"$f":"SUMIF(Einzelwertung15!$A$3:$A$67,$B25,Einzelwertung15!$J$3:$J$67)+0.003","v":10.003},{"$f":"SUMIF(Einzelwertung16!$A$3:$A$55,$B25,Einzelwertung16!$J$3:$J$55)+0.002","v":21.001999999999999},{"$f":"SUMIF(Einzelwertung17!$A$3:$A$55,$B25,Einzelwertung17!$J$3:$J$55)+0.001","v":1E-3},{"$f":"SUMIF(Einzelwertung18!$A$3:$A$55,$B25,Einzelwertung18!$J$3:$J$55)+0","v":21},{"$f":"INT(IF(COUNTIF(F25:W25,CONCATENATE(\">\",1/10))<=Hilfe!$A$1,SUM(F25:W25),SUMIF(F25:W25,CONCATENATE(\">=\",LARGE(F25:W25,Hilfe!$A$1)),F25:W25)))","v":52},3,9]
[24,"Scharpe, Sabine",{"$f":"VLOOKUP($B26,Teilnehmer!$A$3:$E$126,2,FALSE)","v":"BMC"},{"$f":"VLOOKUP($B26,Teilnehmer!$A$3:$E$126,3,FALSE)","v":67147},{"$f":"VLOOKUP($B26,Teilnehmer!$A$3:$E$126,4,FALSE)","v":"SW1"},{"$f":"SUMIF(Einzelwertung1!$A$3:$A$55,$B26,Einzelwertung1!$J$3:$J$55)+0.017","v":1.7000000000000001E-2},{"$f":"SUMIF(Einzelwertung2!$A$3:$A$55,$B26,Einzelwertung2!$J$3:$J$55)+0.016","v":10.016},{"$f":"SUMIF(Einzelwertung3!$A$3:$A$55,$B26,Einzelwertung3!$J$3:$J$55)+0.015","v":15.015000000000001},{"$f":"SUMIF(Einzelwertung4!$A$3:$A$55,$B26,Einzelwertung4!$J$3:$J$55)+0.014","v":15.013999999999999},{"$f":"SUMIF(Einzelwertung5!$A$3:$A$55,$B26,Einzelwertung5!$J$3:$J$55)+0.013","v":5.0129999999999999},{"$f":"SUMIF(Einzelwertung6!$A$3:$A$55,$B26,Einzelwertung6!$J$3:$J$55)+0.012","v":1.2E-2},{"$f":"SUMIF(Einzelwertung7!$A$3:$A$55,$B26,Einzelwertung7!$J$3:$J$55)+0.011","v":1.0999999999999999E-2},{"$f":"SUMIF(Einzelwertung8!$A$3:$A$55,$B26,Einzelwertung8!$J$3:$J$55)+0.01","v":5.01},{"$f":"SUMIF(Einzelwertung9!$A$3:$A$55,$B26,Einzelwertung9!$J$3:$J$55)+0.009","v":8.9999999999999993E-3},{"$f":"SUMIF(Einzelwertung10!$A$3:$A$55,$B26,Einzelwertung10!$J$3:$J$55)+0.008","v":8.0000000000000002E-3},{"$f":"SUMIF(Einzelwertung11!$A$3:$A$55,$B26,Einzelwertung11!$J$3:$J$55)+0.007","v":7.0000000000000001E-3},{"$f":"SUMIF(Einzelwertung12!$A$3:$A$55,$B26,Einzelwertung12!$J$3:$J$55)+0.006","v":6.0000000000000001E-3},{"$f":"SUMIF(Einzelwertung13!$A$3:$A$55,$B26,Einzelwertung13!$J$3:$J$55)+0.005","v":5.0000000000000001E-3},{"$f":"SUMIF(Einzelwertung14!$A$3:$A$55,$B26,Einzelwertung14!$J$3:$J$55)+0.004","v":4.0000000000000001E-3},{"$f":"SUMIF(Einzelwertung15!$A$3:$A$67,$B26,Einzelwertung15!$J$3:$J$67)+0.003","v":3.0000000000000001E-3},{"$f":"SUMIF(Einzelwertung16!$A$3:$A$55,$B26,Einzelwertung16!$J$3:$J$55)+0.002","v":2E-3},{"$f":"SUMIF(Einzelwertung17!$A$3:$A$55,$B26,Einzelwertung17!$J$3:$J$55)+0.001","v":1E-3},{"$f":"SUMIF(Einzelwertung18!$A$3:$A$55,$B26,Einzelwertung18!$J$3:$J$55)+0","v":0},{"$f":"INT(IF(COUNTIF(F26:W26,CONCATENATE(\">\",1/10))<=Hilfe!$A$1,SUM(F26:W26),SUMIF(F26:W26,CONCATENATE(\">=\",LARGE(F26:W26,Hilfe!$A$1)),F26:W26)))","v":50},5,15]
[25,"Dammann, Reinhold",{"$f":"VLOOKUP($B27,Teilnehmer!$A$3:$E$126,2,FALSE)","v":"ASW"},{"$f":"VLOOKUP($B27,Teilnehmer!$A$3:$E$126,3,FALSE)","v":25732},{"$f":"VLOOKUP($B27,Teilnehmer!$A$3:$E$126,4,FALSE)","v":"SM2"},{"$f":"SUMIF(Einzelwertung1!$A$3:$A$55,$B27,Einzelwertung1!$J$3:$J$55)+0.017","v":1.7000000000000001E-2},{"$f":"SUMIF(Einzelwertung2!$A$3:$A$55,$B27,Einzelwertung2!$J$3:$J$55)+0.016","v":1.6E-2},{"$f":"SUMIF(Einzelwertung3!$A$3:$A$55,$B27,Einzelwertung3!$J$3:$J$55)+0.015","v":1.4999999999999999E-2},{"$f":"SUMIF(Einzelwertung4!$A$3:$A$55,$B27,Einzelwertung4!$J$3:$J$55)+0.014","v":1.4E-2},{"$f":"SUMIF(Einzelwertung5!$A$3:$A$55,$B27,Einzelwertung5!$J$3:$J$55)+0.013","v":10.013},{"$f":"SUMIF(Einzelwertung6!$A$3:$A$55,$B27,Einzelwertung6!$J$3:$J$55)+0.012","v":1.2E-2},{"$f":"SUMIF(Einzelwertung7!$A$3:$A$55,$B27,Einzelwertung7!$J$3:$J$55)+0.011","v":15.010999999999999},{"$f":"SUMIF(Einzelwertung8!$A$3:$A$55,$B27,Einzelwertung8!$J$3:$J$55)+0.01","v":0.01},{"$f":"SUMIF(Einzelwertung9!$A$3:$A$55,$B27,Einzelwertung9!$J$3:$J$55)+0.009","v":3.0089999999999999},{"$f":"SUMIF(Einzelwertung10!$A$3:$A$55,$B27,Einzelwertung10!$J$3:$J$55)+0.008","v":8.0000000000000002E-3},{"$f":"SUMIF(Einzelwertung11!$A$3:$A$55,$B27,Einzelwertung11!$J$3:$J$55)+0.007","v":7.0000000000000001E-3},{"$f":"SUMIF(Einzelwertung12!$A$3:$A$55,$B27,Einzelwertung12!$J$3:$J$55)+0.006","v":3.0059999999999998},{"$f":"SUMIF(Einzelwertung13!$A$3:$A$55,$B27,Einzelwertung13!$J$3:$J$55)+0.005","v":5.0000000000000001E-3},{"$f":"SUMIF(Einzelwertung14!$A$3:$A$55,$B27,Einzelwertung14!$J$3:$J$55)+0.004","v":5.0039999999999996},{"$f":"SUMIF(Einzelwertung15!$A$3:$A$67,$B27,Einzelwertung15!$J$3:$J$67)+0.003","v":3.0000000000000001E-3},{"$f":"SUMIF(Einzelwertung16!$A$3:$A$55,$B27,Einzelwertung16!$J$3:$J$55)+0.002","v":2E-3},{"$f":"SUMIF(Einzelwertung17!$A$3:$A$55,$B27,Einzelwertung17!$J$3:$J$55)+0.001","v":1E-3},{"$f":"SUMIF(Einzelwertung18!$A$3:$A$55,$B27,Einzelwertung18!$J$3:$J$55)+0","v":0},{"$f":"INT(IF(COUNTIF(F27:W27,CONCATENATE(\">\",1/10))<=Hilfe!$A$1,SUM(F27:W27),SUMIF(F27:W27,CONCATENATE(\">=\",LARGE(F27:W27,Hilfe!$A$1)),F27:W27)))","v":36},5,15]
[26,"Hein, Hans-Jörg",{"$f":"VLOOKUP($B28,Teilnehmer!$A$3:$E$126,2,FALSE)","v":"ASW"},{"$f":"VLOOKUP($B28,Teilnehmer!$A$3:$E$126,3,FALSE)","v":27863},{"$f":"VLOOKUP($B28,Teilnehmer!$A$3:$E$126,4,FALSE)","v":"SM1"},{"$f":"SUMIF(Einzelwertung1!$A$3:$A$55,$B28,Einzelwertung1!$J$3:$J$55)+0.017","v":1.7000000000000001E-2},{"$f":"SUMIF(Einzelwertung2!$A$3:$A$55,$B28,Einzelwertung2!$J$3:$J$55)+0.016","v":1.6E-2},{"$f":"SUMIF(Einzelwertung3!$A$3:$A$55,$B28,Einzelwertung3!$J$3:$J$55)+0.015","v":1.4999999999999999E-2},{"$f":"SUMIF(Einzelwertung4!$A$3:$A$55,$B28,Einzelwertung4!$J$3:$J$55)+0.014","v":1.4E-2},{"$f":"SUMIF(Einzelwertung5!$A$3:$A$55,$B28,Einzelwertung5!$J$3:$J$55)+0.013","v":1.2999999999999999E-2},{"$f":"SUMIF(Einzelwertung6!$A$3:$A$55,$B28,Einzelwertung6!$J$3:$J$55)+0.012","v":1.2E-2},{"$f":"SUMIF(Einzelwertung7!$A$3:$A$55,$B28,Einzelwertung7!$J$3:$J$55)+0.011","v":1.0999999999999999E-2},{"$f":"SUMIF(Einzelwertung8!$A$3:$A$55,$B28,Einzelwertung8!$J$3:$J$55)+0.01","v":0.01},{"$f":"SUMIF(Einzelwertung9!$A$3:$A$55,$B28,Einzelwertung9!$J$3:$J$55)+0.009","v":8.9999999999999993E-3},{"$f":"SUMIF(Einzelwertung10!$A$3:$A$55,$B28,Einzelwertung10!$J$3:$J$55)+0.008","v":8.0000000000000002E-3},{"$f":"SUMIF(Einzelwertung11!$A$3:$A$55,$B28,Einzelwertung11!$J$3:$J$55)+0.007","v":7.0000000000000001E-3},{"$f":"SUMIF(Einzelwertung12!$A$3:$A$55,$B28,Einzelwertung12!$J$3:$J$55)+0.006","v":6.0000000000000001E-3},{"$f":"SUMIF(Einzelwertung13!$A$3:$A$55,$B28,Einzelwertung13!$J$3:$J$55)+0.005","v":5.0000000000000001E-3},{"$f":"SUMIF(Einzelwertung14!$A$3:$A$55,$B28,Einzelwertung14!$J$3:$J$55)+0.004","v":4.0000000000000001E-3},{"$f":"SUMIF(Einzelwertung15!$A$3:$A$67,$B28,Einzelwertung15!$J$3:$J$67)+0.003","v":3.0000000000000001E-3},{"$f":"SUMIF(Einzelwertung16!$A$3:$A$55,$B28,Einzelwertung16!$J$3:$J$55)+0.002","v":15.002000000000001},{"$f":"SUMIF(Einzelwertung17!$A$3:$A$55,$B28,Einzelwertung17!$J$3:$J$55)+0.001","v":18.001000000000001},{"$f":"SUMIF(Einzelwertung18!$A$3:$A$55,$B28,Einzelwertung18!$J$3:$J$55)+0","v":0},{"$f":"INT(IF(COUNTIF(F28:W28,CONCATENATE(\">\",1/10))<=Hilfe!$A$1,SUM(F28:W28),SUMIF(F28:W28,CONCATENATE(\">=\",LARGE(F28:W28,Hilfe!$A$1)),F28:W28)))","v":33},2,6]
[null,"Lehmann, Niclas",{"$f":"VLOOKUP($B29,Teilnehmer!$A$3:$E$126,2,FALSE)","v":"Oly"},{"$f":"VLOOKUP($B29,Teilnehmer!$A$3:$E$126,3,FALSE)","v":67372},{"$f":"VLOOKUP($B29,Teilnehmer!$A$3:$E$126,4,FALSE)","v":"H"},{"$f":"SUMIF(Einzelwertung1!$A$3:$A$55,$B29,Einzelwertung1!$J$3:$J$55)+0.017","v":1.7000000000000001E-2},{"$f":"SUMIF(Einzelwertung2!$A$3:$A$55,$B29,Einzelwertung2!$J$3:$J$55)+0.016","v":1.6E-2},{"$f":"SUMIF(Einzelwertung3!$A$3:$A$55,$B29,Einzelwertung3!$J$3:$J$55)+0.015","v":1.4999999999999999E-2},{"$f":"SUMIF(Einzelwertung4!$A$3:$A$55,$B29,Einzelwertung4!$J$3:$J$55)+0.014","v":1.4E-2},{"$f":"SUMIF(Einzelwertung5!$A$3:$A$55,$B29,Einzelwertung5!$J$3:$J$55)+0.013","v":1.2999999999999999E-2},{"$f":"SUMIF(Einzelwertung6!$A$3:$A$55,$B29,Einzelwertung6!$J$3:$J$55)+0.012","v":1.2E-2},{"$f":"SUMIF(Einzelwertung7!$A$3:$A$55,$B29,Einzelwertung7!$J$3:$J$55)+0.011","v":1.0999999999999999E-2},{"$f":"SUMIF(Einzelwertung8!$A$3:$A$55,$B29,Einzelwertung8!$J$3:$J$55)+0.01","v":0.01},{"$f":"SUMIF(Einzelwertung9!$A$3:$A$55,$B29,Einzelwertung9!$J$3:$J$55)+0.009","v":8.9999999999999993E-3},{"$f":"SUMIF(Einzelwertung10!$A$3:$A$55,$B29,Einzelwertung10!$J$3:$J$55)+0.008","v":8.0000000000000002E-3},{"$f":"SUMIF(Einzelwertung11!$A$3:$A$55,$B29,Einzelwertung11!$J$3:$J$55)+0.007","v":7.0000000000000001E-3},{"$f":"SUMIF(Einzelwertung12!$A$3:$A$55,$B29,Einzelwertung12!$J$3:$J$55)+0.006","v":18.006},{"$f":"SUMIF(Einzelwertung13!$A$3:$A$55,$B29,Einzelwertung13!$J$3:$J$55)+0.005","v":5.0000000000000001E-3},{"$f":"SUMIF(Einzelwertung14!$A$3:$A$55,$B29,Einzelwertung14!$J$3:$J$55)+0.004","v":15.004},{"$f":"SUMIF(Einzelwertung15!$A$3:$A$67,$B29,Einzelwertung15!$J$3:$J$67)+0.003","v":3.0000000000000001E-3},{"$f":"SUMIF(Einzelwertung16!$A$3:$A$55,$B29,Einzelwertung16!$J$3:$J$55)+0.002","v":2E-3},{"$f":"SUMIF(Einzelwertung17!$A$3:$A$55,$B29,Einzelwertung17!$J$3:$J$55)+0.001","v":1E-3},{"$f":"SUMIF(Einzelwertung18!$A$3:$A$55,$B29,Einzelwertung18!$J$3:$J$55)+0","v":0},{"$f":"INT(IF(COUNTIF(F29:W29,CONCATENATE(\">\",1/10))<=Hilfe!$A$1,SUM(F29:W29),SUMIF(F29:W29,CONCATENATE(\">=\",LARGE(F29:W29,Hilfe!$A$1)),F29:W29)))","v":33},2,6]
[28,"Wilhelms, Ralf",{"$f":"VLOOKUP($B30,Teilnehmer!$A$3:$E$126,2,FALSE)","v":"Ennep."},{"$f":"VLOOKUP($B30,Teilnehmer!$A$3:$E$126,3,FALSE)","v":44805},{"$f":"VLOOKUP($B30,Teilnehmer!$A$3:$E$126,4,FALSE)","v":"SM1"},{"$f":"SUMIF(Einzelwertung1!$A$3:$A$55,$B30,Einzelwertung1!$J$3:$J$55)+0.017","v":1.7000000000000001E-2},{"$f":"SUMIF(Einzelwertung2!$A$3:$A$55,$B30,Einzelwertung2!$J$3:$J$55)+0.016","v":1.6E-2},{"$f":"SUMIF(Einzelwertung3!$A$3:$A$55,$B30,Einzelwertung3!$J$3:$J$55)+0.015","v":1.4999999999999999E-2},{"$f":"SUMIF(Einzelwertung4!$A$3:$A$55,$B30,Einzelwertung4!$J$3:$J$55)+0.014","v":1.4E-2},{"$f":"SUMIF(Einzelwertung5!$A$3:$A$55,$B30,Einzelwertung5!$J$3:$J$55)+0.013","v":1.2999999999999999E-2},{"$f":"SUMIF(Einzelwertung6!$A$3:$A$55,$B30,Einzelwertung6!$J$3:$J$55)+0.012","v":1.2E-2},{"$f":"SUMIF(Einzelwertung7!$A$3:$A$55,$B30,Einzelwertung7!$J$3:$J$55)+0.011","v":1.0999999999999999E-2},{"$f":"SUMIF(Einzelwertung8!$A$3:$A$55,$B30,Einzelwertung8!$J$3:$J$55)+0.01","v":0.01},{"$f":"SUMIF(Einzelwertung9!$A$3:$A$55,$B30,Einzelwertung9!$J$3:$J$55)+0.009","v":25.009},{"$f":"SUMIF(Einzelwertung10!$A$3:$A$55,$B30,Einzelwertung10!$J$3:$J$55)+0.008","v":8.0000000000000002E-3},{"$f":"SUMIF(Einzelwertung11!$A$3:$A$55,$B30,Einzelwertung11!$J$3:$J$55)+0.007","v":7.0000000000000001E-3},{"$f":"SUMIF(Einzelwertung12!$A$3:$A$55,$B30,Einzelwertung12!$J$3:$J$55)+0.006","v":6.0000000000000001E-3},{"$f":"SUMIF(Einzelwertung13!$A$3:$A$55,$B30,Einzelwertung13!$J$3:$J$55)+0.005","v":5.0000000000000001E-3},{"$f":"SUMIF(Einzelwertung14!$A$3:$A$55,$B30,Einzelwertung14!$J$3:$J$55)+0.004","v":4.0000000000000001E-3},{"$f":"SUMIF(Einzelwertung15!$A$3:$A$67,$B30,Einzelwertung15!$J$3:$J$67)+0.003","v":3.0000000000000001E-3},{"$f":"SUMIF(Einzelwertung16!$A$3:$A$55,$B30,Einzelwertung16!$J$3:$J$55)+0.002","v":2E-3},{"$f":"SUMIF(Einzelwertung17!$A$3:$A$55,$B30,Einzelwertung17!$J$3:$J$55)+0.001","v":1E-3},{"$f":"SUMIF(Einzelwertung18!$A$3:$A$55,$B30,Einzelwertung18!$J$3:$J$55)+0","v":0},{"$f":"INT(IF(COUNTIF(F30:W30,CONCATENATE(\">\",1/10))<=Hilfe!$A$1,SUM(F30:W30),SUMIF(F30:W30,CONCATENATE(\">=\",LARGE(F30:W30,Hilfe!$A$1)),F30:W30)))","v":25},1,3]
[29,"Rade, Marcus",{"$f":"VLOOKUP($B31,Teilnehmer!$A$3:$E$126,2,FALSE)","v":"ASW"},{"$f":"VLOOKUP($B31,Teilnehmer!$A$3:$E$126,3,FALSE)","v":38625},{"$f":"VLOOKUP($B31,Teilnehmer!$A$3:$E$126,4,FALSE)","v":"H"},{"$f":"SUMIF(Einzelwertung1!$A$3:$A$55,$B31,Einzelwertung1!$J$3:$J$55)+0.017","v":1.7000000000000001E-2},{"$f":"SUMIF(Einzelwertung2!$A$3:$A$55,$B31,Einzelwertung2!$J$3:$J$55)+0.016","v":1.6E-2},{"$f":"SUMIF(Einzelwertung3!$A$3:$A$55,$B31,Einzelwertung3!$J$3:$J$55)+0.015","v":1.4999999999999999E-2},{"$f":"SUMIF(Einzelwertung4!$A$3:$A$55,$B31,Einzelwertung4!$J$3:$J$55)+0.014","v":1.4E-2},{"$f":"SUMIF(Einzelwertung5!$A$3:$A$55,$B31,Einzelwertung5!$J$3:$J$55)+0.013","v":1.2999999999999999E-2},{"$f":"SUMIF(Einzelwertung6!$A$3:$A$55,$B31,Einzelwertung6!$J$3:$J$55)+0.012","v":1.2E-2},{"$f":"SUMIF(Einzelwertung7!$A$3:$A$55,$B31,Einzelwertung7!$J$3:$J$55)+0.011","v":1.0999999999999999E-2},{"$f":"SUMIF(Einzelwertung8!$A$3:$A$55,$B31,Einzelwertung8!$J$3:$J$55)+0.01","v":0.01},{"$f":"SUMIF(Einzelwertung9!$A$3:$A$55,$B31,Einzelwertung9!$J$3:$J$55)+0.009","v":8.9999999999999993E-3},{"$f":"SUMIF(Einzelwertung10!$A$3:$A$55,$B31,Einzelwertung10!$J$3:$J$55)+0.008","v":8.0000000000000002E-3},{"$f":"SUMIF(Einzelwertung11!$A$3:$A$55,$B31,Einzelwertung11!$J$3:$J$55)+0.007","v":7.0000000000000001E-3},{"$f":"SUMIF(Einzelwertung12!$A$3:$A$55,$B31,Einzelwertung12!$J$3:$J$55)+0.006","v":6.0000000000000001E-3},{"$f":"SUMIF(Einzelwertung13!$A$3:$A$55,$B31,Einzelwertung13!$J$3:$J$55)+0.005","v":5.0000000000000001E-3},{"$f":"SUMIF(Einzelwertung14!$A$3:$A$55,$B31,Einzelwertung14!$J$3:$J$55)+0.004","v":4.0000000000000001E-3},{"$f":"SUMIF(Einzelwertung15!$A$3:$A$67,$B31,Einzelwertung15!$J$3:$J$67)+0.003","v":18.003},{"$f":"SUMIF(Einzelwertung16!$A$3:$A$55,$B31,Einzelwertung16!$J$3:$J$55)+0.002","v":2E-3},{"$f":"SUMIF(Einzelwertung17!$A$3:$A$55,$B31,Einzelwertung17!$J$3:$J$55)+0.001","v":1E-3},{"$f":"SUMIF(Einzelwertung18!$A$3:$A$55,$B31,Einzelwertung18!$J$3:$J$55)+0","v":0},{"$f":"INT(IF(COUNTIF(F31:W31,CONCATENATE(\">\",1/10))<=Hilfe!$A$1,SUM(F31:W31),SUMIF(F31:W31,CONCATENATE(\">=\",LARGE(F31:W31,Hilfe!$A$1)),F31:W31)))","v":18},1,3]
[30,"Brunnenkant, Frank",{"$f":"VLOOKUP($B32,Teilnehmer!$A$3:$E$126,2,FALSE)","v":"Hobby"},{"$f":"VLOOKUP($B32,Teilnehmer!$A$3:$E$126,3,FALSE)","v":"Hobby38"},{"$f":"VLOOKUP($B32,Teilnehmer!$A$3:$E$126,4,FALSE)","v":"SM1"},{"$f":"SUMIF(Einzelwertung1!$A$3:$A$55,$B32,Einzelwertung1!$J$3:$J$55)+0.017","v":1.7000000000000001E-2},{"$f":"SUMIF(Einzelwertung2!$A$3:$A$55,$B32,Einzelwertung2!$J$3:$J$55)+0.016","v":1.6E-2},{"$f":"SUMIF(Einzelwertung3!$A$3:$A$55,$B32,Einzelwertung3!$J$3:$J$55)+0.015","v":1.4999999999999999E-2},{"$f":"SUMIF(Einzelwertung4!$A$3:$A$55,$B32,Einzelwertung4!$J$3:$J$55)+0.014","v":1.4E-2},{"$f":"SUMIF(Einzelwertung5!$A$3:$A$55,$B32,Einzelwertung5!$J$3:$J$55)+0.013","v":15.013},{"$f":"SUMIF(Einzelwertung6!$A$3:$A$55,$B32,Einzelwertung6!$J$3:$J$55)+0.012","v":1.2E-2},{"$f":"SUMIF(Einzelwertung7!$A$3:$A$55,$B32,Einzelwertung7!$J$3:$J$55)+0.011","v":1.0999999999999999E-2},{"$f":"SUMIF(Einzelwertung8!$A$3:$A$55,$B32,Einzelwertung8!$J$3:$J$55)+0.01","v":0.01},{"$f":"SUMIF(Einzelwertung9!$A$3:$A$55,$B32,Einzelwertung9!$J$3:$J$55)+0.009","v":8.9999999999999993E-3},{"$f":"SUMIF(Einzelwertung10!$A$3:$A$55,$B32,Einzelwertung10!$J$3:$J$55)+0.008","v":8.0000000000000002E-3},{"$f":"SUMIF(Einzelwertung11!$A$3:$A$55,$B32,Einzelwertung11!$J$3:$J$55)+0.007","v":7.0000000000000001E-3},{"$f":"SUMIF(Einzelwertung12!$A$3:$A$55,$B32,Einzelwertung12!$J$3:$J$55)+0.006","v":6.0000000000000001E-3},{"$f":"SUMIF(Einzelwertung13!$A$3:$A$55,$B32,Einzelwertung13!$J$3:$J$55)+0.005","v":5.0000000000000001E-3},{"$f":"SUMIF(Einzelwertung14!$A$3:$A$55,$B32,Einzelwertung14!$J$3:$J$55)+0.004","v":4.0000000000000001E-3},{"$f":"SUMIF(Einzelwertung15!$A$3:$A$67,$B32,Einzelwertung15!$J$3:$J$67)+0.003","v":3.0000000000000001E-3},{"$f":"SUMIF(Einzelwertung16!$A$3:$A$55,$B32,Einzelwertung16!$J$3:$J$55)+0.002","v":2E-3},{"$f":"SUMIF(Einzelwertung17!$A$3:$A$55,$B32,Einzelwertung17!$J$3:$J$55)+0.001","v":1E-3},{"$f":"SUMIF(Einzelwertung18!$A$3:$A$55,$B32,Einzelwertung18!$J$3:$J$55)+0","v":0},{"$f":"INT(IF(COUNTIF(F32:W32,CONCATENATE(\">\",1/10))<=Hilfe!$A$1,SUM(F32:W32),SUMIF(F32:W32,CONCATENATE(\">=\",LARGE(F32:W32,Hilfe!$A$1)),F32:W32)))","v":15},1,3]
[null,"Petersen, Robin",{"$f":"VLOOKUP($B33,Teilnehmer!$A$3:$E$126,2,FALSE)","v":"Oly"},{"$f":"VLOOKUP($B33,Teilnehmer!$A$3:$E$126,3,FALSE)","v":67371},{"$f":"VLOOKUP($B33,Teilnehmer!$A$3:$E$126,4,FALSE)","v":"H"},{"$f":"SUMIF(Einzelwertung1!$A$3:$A$55,$B33,Einzelwertung1!$J$3:$J$55)+0.017","v":1.7000000000000001E-2},{"$f":"SUMIF(Einzelwertung2!$A$3:$A$55,$B33,Einzelwertung2!$J$3:$J$55)+0.016","v":1.6E-2},{"$f":"SUMIF(Einzelwertung3!$A$3:$A$55,$B33,Einzelwertung3!$J$3:$J$55)+0.015","v":1.4999999999999999E-2},{"$f":"SUMIF(Einzelwertung4!$A$3:$A$55,$B33,Einzelwertung4!$J$3:$J$55)+0.014","v":1.4E-2},{"$f":"SUMIF(Einzelwertung5!$A$3:$A$55,$B33,Einzelwertung5!$J$3:$J$55)+0.013","v":1.2999999999999999E-2},{"$f":"SUMIF(Einzelwertung6!$A$3:$A$55,$B33,Einzelwertung6!$J$3:$J$55)+0.012","v":1.2E-2},{"$f":"SUMIF(Einzelwertung7!$A$3:$A$55,$B33,Einzelwertung7!$J$3:$J$55)+0.011","v":1.0999999999999999E-2},{"$f":"SUMIF(Einzelwertung8!$A$3:$A$55,$B33,Einzelwertung8!$J$3:$J$55)+0.01","v":0.01},{"$f":"SUMIF(Einzelwertung9!$A$3:$A$55,$B33,Einzelwertung9!$J$3:$J$55)+0.009","v":8.9999999999999993E-3},{"$f":"SUMIF(Einzelwertung10!$A$3:$A$55,$B33,Einzelwertung10!$J$3:$J$55)+0.008","v":8.0000000000000002E-3},{"$f":"SUMIF(Einzelwertung11!$A$3:$A$55,$B33,Einzelwertung11!$J$3:$J$55)+0.007","v":7.0000000000000001E-3},{"$f":"SUMIF(Einzelwertung12!$A$3:$A$55,$B33,Einzelwertung12!$J$3:$J$55)+0.006","v":6.0000000000000001E-3},{"$f":"SUMIF(Einzelwertung13!$A$3:$A$55,$B33,Einzelwertung13!$J$3:$J$55)+0.005","v":5.0000000000000001E-3},{"$f":"SUMIF(Einzelwertung14!$A$3:$A$55,$B33,Einzelwertung14!$J$3:$J$55)+0.004","v":15.004},{"$f":"SUMIF(Einzelwertung15!$A$3:$A$67,$B33,Einzelwertung15!$J$3:$J$67)+0.003","v":3.0000000000000001E-3},{"$f":"SUMIF(Einzelwertung16!$A$3:$A$55,$B33,Einzelwertung16!$J$3:$J$55)+0.002","v":2E-3},{"$f":"SUMIF(Einzelwertung17!$A$3:$A$55,$B33,Einzelwertung17!$J$3:$J$55)+0.001","v":1E-3},{"$f":"SUMIF(Einzelwertung18!$A$3:$A$55,$B33,Einzelwertung18!$J$3:$J$55)+0","v":0},{"$f":"INT(IF(COUNTIF(F33:W33,CONCATENATE(\">\",1/10))<=Hilfe!$A$1,SUM(F33:W33),SUMIF(F33:W33,CONCATENATE(\">=\",LARGE(F33:W33,Hilfe!$A$1)),F33:W33)))","v":15},1,3]
[null,"Wickel-Paffrath, Melanie",{"$f":"VLOOKUP($B34,Teilnehmer!$A$3:$E$126,2,FALSE)","v":"HEV"},{"$f":"VLOOKUP($B34,Teilnehmer!$A$3:$E$126,3,FALSE)","v":33510},{"$f":"VLOOKUP($B34,Teilnehmer!$A$3:$E$126,4,FALSE)","v":"D"},{"$f":"SUMIF(Einzelwertung1!$A$3:$A$55,$B34,Einzelwertung1!$J$3:$J$55)+0.017","v":1.7000000000000001E-2},{"$f":"SUMIF(Einzelwertung2!$A$3:$A$55,$B34,Einzelwertung2!$J$3:$J$55)+0.016","v":1.6E-2},{"$f":"SUMIF(Einzelwertung3!$A$3:$A$55,$B34,Einzelwertung3!$J$3:$J$55)+0.015","v":1.4999999999999999E-2},{"$f":"SUMIF(Einzelwertung4!$A$3:$A$55,$B34,Einzelwertung4!$J$3:$J$55)+0.014","v":1.4E-2},{"$f":"SUMIF(Einzelwertung5!$A$3:$A$55,$B34,Einzelwertung5!$J$3:$J$55)+0.013","v":1.2999999999999999E-2},{"$f":"SUMIF(Einzelwertung6!$A$3:$A$55,$B34,Einzelwertung6!$J$3:$J$55)+0.012","v":1.2E-2},{"$f":"SUMIF(Einzelwertung7!$A$3:$A$55,$B34,Einzelwertung7!$J$3:$J$55)+0.011","v":1.0999999999999999E-2},{"$f":"SUMIF(Einzelwertung8!$A$3:$A$55,$B34,Einzelwertung8!$J$3:$J$55)+0.01","v":0.01},{"$f":"SUMIF(Einzelwertung9!$A$3:$A$55,$B34,Einzelwertung9!$J$3:$J$55)+0.009","v":15.009},{"$f":"SUMIF(Einzelwertung10!$A$3:$A$55,$B34,Einzelwertung10!$J$3:$J$55)+0.008","v":8.0000000000000002E-3},{"$f":"SUMIF(Einzelwertung11!$A$3:$A$55,$B34,Einzelwertung11!$J$3:$J$55)+0.007","v":7.0000000000000001E-3},{"$f":"SUMIF(Einzelwertung12!$A$3:$A$55,$B34,Einzelwertung12!$J$3:$J$55)+0.006","v":6.0000000000000001E-3},{"$f":"SUMIF(Einzelwertung13!$A$3:$A$55,$B34,Einzelwertung13!$J$3:$J$55)+0.005","v":5.0000000000000001E-3},{"$f":"SUMIF(Einzelwertung14!$A$3:$A$55,$B34,Einzelwertung14!$J$3:$J$55)+0.004","v":4.0000000000000001E-3},{"$f":"SUMIF(Einzelwertung15!$A$3:$A$67,$B34,Einzelwertung15!$J$3:$J$67)+0.003","v":3.0000000000000001E-3},{"$f":"SUMIF(Einzelwertung16!$A$3:$A$55,$B34,Einzelwertung16!$J$3:$J$55)+0.002","v":2E-3},{"$f":"SUMIF(Einzelwertung17!$A$3:$A$55,$B34,Einzelwertung17!$J$3:$J$55)+0.001","v":1E-3},{"$f":"SUMIF(Einzelwertung18!$A$3:$A$55,$B34,Einzelwertung18!$J$3:$J$55)+0","v":0},{"$f":"INT(IF(COUNTIF(F34:W34,CONCATENATE(\">\",1/10))<=Hilfe!$A$1,SUM(F34:W34),SUMIF(F34:W34,CONCATENATE(\">=\",LARGE(F34:W34,Hilfe!$A$1)),F34:W34)))","v":15},1,3]
[null,"Presser, Wolfgang",{"$f":"VLOOKUP($B35,Teilnehmer!$A$3:$E$126,2,FALSE)","v":"HEV"},{"$f":"VLOOKUP($B35,Teilnehmer!$A$3:$E$126,3,FALSE)","v":67151},{"$f":"VLOOKUP($B35,Teilnehmer!$A$3:$E$126,4,FALSE)","v":"SM1"},{"$f":"SUMIF(Einzelwertung1!$A$3:$A$55,$B35,Einzelwertung1!$J$3:$J$55)+0.017","v":1.7000000000000001E-2},{"$f":"SUMIF(Einzelwertung2!$A$3:$A$55,$B35,Einzelwertung2!$J$3:$J$55)+0.016","v":1.6E-2},{"$f":"SUMIF(Einzelwertung3!$A$3:$A$55,$B35,Einzelwertung3!$J$3:$J$55)+0.015","v":5.0149999999999997},{"$f":"SUMIF(Einzelwertung4!$A$3:$A$55,$B35,Einzelwertung4!$J$3:$J$55)+0.014","v":1.4E-2},{"$f":"SUMIF(Einzelwertung5!$A$3:$A$55,$B35,Einzelwertung5!$J$3:$J$55)+0.013","v":1.2999999999999999E-2},{"$f":"SUMIF(Einzelwertung6!$A$3:$A$55,$B35,Einzelwertung6!$J$3:$J$55)+0.012","v":10.012},{"$f":"SUMIF(Einzelwertung7!$A$3:$A$55,$B35,Einzelwertung7!$J$3:$J$55)+0.011","v":1.0999999999999999E-2},{"$f":"SUMIF(Einzelwertung8!$A$3:$A$55,$B35,Einzelwertung8!$J$3:$J$55)+0.01","v":0.01},{"$f":"SUMIF(Einzelwertung9!$A$3:$A$55,$B35,Einzelwertung9!$J$3:$J$55)+0.009","v":8.9999999999999993E-3},{"$f":"SUMIF(Einzelwertung10!$A$3:$A$55,$B35,Einzelwertung10!$J$3:$J$55)+0.008","v":8.0000000000000002E-3},{"$f":"SUMIF(Einzelwertung11!$A$3:$A$55,$B35,Einzelwertung11!$J$3:$J$55)+0.007","v":7.0000000000000001E-3},{"$f":"SUMIF(Einzelwertung12!$A$3:$A$55,$B35,Einzelwertung12!$J$3:$J$55)+0.006","v":6.0000000000000001E-3},{"$f":"SUMIF(Einzelwertung13!$A$3:$A$55,$B35,Einzelwertung13!$J$3:$J$55)+0.005","v":5.0000000000000001E-3},{"$f":"SUMIF(Einzelwertung14!$A$3:$A$55,$B35,Einzelwertung14!$J$3:$J$55)+0.004","v":4.0000000000000001E-3},{"$f":"SUMIF(Einzelwertung15!$A$3:$A$67,$B35,Einzelwertung15!$J$3:$J$67)+0.003","v":3.0000000000000001E-3},{"$f":"SUMIF(Einzelwertung16!$A$3:$A$55,$B35,Einzelwertung16!$J$3:$J$55)+0.002","v":2E-3},{"$f":"SUMIF(Einzelwertung17!$A$3:$A$55,$B35,Einzelwertung17!$J$3:$J$55)+0.001","v":1E-3},{"$f":"SUMIF(Einzelwertung18!$A$3:$A$55,$B35,Einzelwertung18!$J$3:$J$55)+0","v":0},{"$f":"INT(IF(COUNTIF(F35:W35,CONCATENATE(\">\",1/10))<=Hilfe!$A$1,SUM(F35:W35),SUMIF(F35:W35,CONCATENATE(\">=\",LARGE(F35:W35,Hilfe!$A$1)),F35:W35)))","v":15},2,6]
[34,"Wilke, Andreas",{"$f":"VLOOKUP($B36,Teilnehmer!$A$3:$E$126,2,FALSE)","v":"Hobby"},{"$f":"VLOOKUP($B36,Teilnehmer!$A$3:$E$126,3,FALSE)","v":"Hobby39"},{"$f":"VLOOKUP($B36,Teilnehmer!$A$3:$E$126,4,FALSE)","v":"SM1"},{"$f":"SUMIF(Einzelwertung1!$A$3:$A$55,$B36,Einzelwertung1!$J$3:$J$55)+0.017","v":1.7000000000000001E-2},{"$f":"SUMIF(Einzelwertung2!$A$3:$A$55,$B36,Einzelwertung2!$J$3:$J$55)+0.016","v":1.6E-2},{"$f":"SUMIF(Einzelwertung3!$A$3:$A$55,$B36,Einzelwertung3!$J$3:$J$55)+0.015","v":1.4999999999999999E-2},{"$f":"SUMIF(Einzelwertung4!$A$3:$A$55,$B36,Einzelwertung4!$J$3:$J$55)+0.014","v":1.4E-2},{"$f":"SUMIF(Einzelwertung5!$A$3:$A$55,$B36,Einzelwertung5!$J$3:$J$55)+0.013","v":1.2999999999999999E-2},{"$f":"SUMIF(Einzelwertung6!$A$3:$A$55,$B36,Einzelwertung6!$J$3:$J$55)+0.012","v":1.2E-2},{"$f":"SUMIF(Einzelwertung7!$A$3:$A$55,$B36,Einzelwertung7!$J$3:$J$55)+0.011","v":1.0999999999999999E-2},{"$f":"SUMIF(Einzelwertung8!$A$3:$A$55,$B36,Einzelwertung8!$J$3:$J$55)+0.01","v":0.01},{"$f":"SUMIF(Einzelwertung9!$A$3:$A$55,$B36,Einzelwertung9!$J$3:$J$55)+0.009","v":8.9999999999999993E-3},{"$f":"SUMIF(Einzelwertung10!$A$3:$A$55,$B36,Einzelwertung10!$J$3:$J$55)+0.008","v":8.0000000000000002E-3},{"$f":"SUMIF(Einzelwertung11!$A$3:$A$55,$B36,Einzelwertung11!$J$3:$J$55)+0.007","v":7.0000000000000001E-3},{"$f":"SUMIF(Einzelwertung12!$A$3:$A$55,$B36,Einzelwertung12!$J$3:$J$55)+0.006","v":6.0000000000000001E-3},{"$f":"SUMIF(Einzelwertung13!$A$3:$A$55,$B36,Einzelwertung13!$J$3:$J$55)+0.005","v":5.0000000000000001E-3},{"$f":"SUMIF(Einzelwertung14!$A$3:$A$55,$B36,Einzelwertung14!$J$3:$J$55)+0.004","v":10.004},{"$f":"SUMIF(Einzelwertung15!$A$3:$A$67,$B36,Einzelwertung15!$J$3:$J$67)+0.003","v":3.0000000000000001E-3},{"$f":"SUMIF(Einzelwertung16!$A$3:$A$55,$B36,Einzelwertung16!$J$3:$J$55)+0.002","v":2E-3},{"$f":"SUMIF(Einzelwertung17!$A$3:$A$55,$B36,Einzelwertung17!$J$3:$J$55)+0.001","v":1E-3},{"$f":"SUMIF(Einzelwertung18!$A$3:$A$55,$B36,Einzelwertung18!$J$3:$J$55)+0","v":0},{"$f":"INT(IF(COUNTIF(F36:W36,CONCATENATE(\">\",1/10))<=Hilfe!$A$1,SUM(F36:W36),SUMIF(F36:W36,CONCATENATE(\">=\",LARGE(F36:W36,Hilfe!$A$1)),F36:W36)))","v":10},1,3]
[35,"Petersmann, Chris",{"$f":"VLOOKUP($B37,Teilnehmer!$A$3:$E$126,2,FALSE)","v":0},{"$f":"VLOOKUP($B37,Teilnehmer!$A$3:$E$126,3,FALSE)","v":"Hobby41"},{"$f":"VLOOKUP($B37,Teilnehmer!$A$3:$E$126,4,FALSE)","v":"H"},{"$f":"SUMIF(Einzelwertung1!$A$3:$A$55,$B37,Einzelwertung1!$J$3:$J$55)+0.017","v":1.7000000000000001E-2},{"$f":"SUMIF(Einzelwertung2!$A$3:$A$55,$B37,Einzelwertung2!$J$3:$J$55)+0.016","v":1.6E-2},{"$f":"SUMIF(Einzelwertung3!$A$3:$A$55,$B37,Einzelwertung3!$J$3:$J$55)+0.015","v":1.4999999999999999E-2},{"$f":"SUMIF(Einzelwertung4!$A$3:$A$55,$B37,Einzelwertung4!$J$3:$J$55)+0.014","v":1.4E-2},{"$f":"SUMIF(Einzelwertung5!$A$3:$A$55,$B37,Einzelwertung5!$J$3:$J$55)+0.013","v":1.2999999999999999E-2},{"$f":"SUMIF(Einzelwertung6!$A$3:$A$55,$B37,Einzelwertung6!$J$3:$J$55)+0.012","v":1.2E-2},{"$f":"SUMIF(Einzelwertung7!$A$3:$A$55,$B37,Einzelwertung7!$J$3:$J$55)+0.011","v":1.0999999999999999E-2},{"$f":"SUMIF(Einzelwertung8!$A$3:$A$55,$B37,Einzelwertung8!$J$3:$J$55)+0.01","v":0.01},{"$f":"SUMIF(Einzelwertung9!$A$3:$A$55,$B37,Einzelwertung9!$J$3:$J$55)+0.009","v":8.9999999999999993E-3},{"$f":"SUMIF(Einzelwertung10!$A$3:$A$55,$B37,Einzelwertung10!$J$3:$J$55)+0.008","v":8.0000000000000002E-3},{"$f":"SUMIF(Einzelwertung11!$A$3:$A$55,$B37,Einzelwertung11!$J$3:$J$55)+0.007","v":7.0000000000000001E-3},{"$f":"SUMIF(Einzelwertung12!$A$3:$A$55,$B37,Einzelwertung12!$J$3:$J$55)+0.006","v":6.0000000000000001E-3},{"$f":"SUMIF(Einzelwertung13!$A$3:$A$55,$B37,Einzelwertung13!$J$3:$J$55)+0.005","v":5.0000000000000001E-3},{"$f":"SUMIF(Einzelwertung14!$A$3:$A$55,$B37,Einzelwertung14!$J$3:$J$55)+0.004","v":5.0039999999999996},{"$f":"SUMIF(Einzelwertung15!$A$3:$A$67,$B37,Einzelwertung15!$J$3:$J$67)+0.003","v":3.0000000000000001E-3},{"$f":"SUMIF(Einzelwertung16!$A$3:$A$55,$B37,Einzelwertung16!$J$3:$J$55)+0.002","v":2E-3},{"$f":"SUMIF(Einzelwertung17!$A$3:$A$55,$B37,Einzelwertung17!$J$3:$J$55)+0.001","v":1E-3},{"$f":"SUMIF(Einzelwertung18!$A$3:$A$55,$B37,Einzelwertung18!$J$3:$J$55)+0","v":0},{"$f":"INT(IF(COUNTIF(F37:W37,CONCATENATE(\">\",1/10))<=Hilfe!$A$1,SUM(F37:W37),SUMIF(F37:W37,CONCATENATE(\">=\",LARGE(F37:W37,Hilfe!$A$1)),F37:W37)))","v":5},1,3]
[null,"Schmitz, Ingeborg",{"$f":"VLOOKUP($B38,Teilnehmer!$A$3:$E$126,2,FALSE)","v":"ASS"},{"$f":"VLOOKUP($B38,Teilnehmer!$A$3:$E$126,3,FALSE)","v":37171},{"$f":"VLOOKUP($B38,Teilnehmer!$A$3:$E$126,4,FALSE)","v":"SW2"},{"$f":"SUMIF(Einzelwertung1!$A$3:$A$55,$B38,Einzelwertung1!$J$3:$J$55)+0.017","v":1.7000000000000001E-2},{"$f":"SUMIF(Einzelwertung2!$A$3:$A$55,$B38,Einzelwertung2!$J$3:$J$55)+0.016","v":5.016},{"$f":"SUMIF(Einzelwertung3!$A$3:$A$55,$B38,Einzelwertung3!$J$3:$J$55)+0.015","v":1.4999999999999999E-2},{"$f":"SUMIF(Einzelwertung4!$A$3:$A$55,$B38,Einzelwertung4!$J$3:$J$55)+0.014","v":1.4E-2},{"$f":"SUMIF(Einzelwertung5!$A$3:$A$55,$B38,Einzelwertung5!$J$3:$J$55)+0.013","v":1.2999999999999999E-2},{"$f":"SUMIF(Einzelwertung6!$A$3:$A$55,$B38,Einzelwertung6!$J$3:$J$55)+0.012","v":1.2E-2},{"$f":"SUMIF(Einzelwertung7!$A$3:$A$55,$B38,Einzelwertung7!$J$3:$J$55)+0.011","v":1.0999999999999999E-2},{"$f":"SUMIF(Einzelwertung8!$A$3:$A$55,$B38,Einzelwertung8!$J$3:$J$55)+0.01","v":0.01},{"$f":"SUMIF(Einzelwertung9!$A$3:$A$55,$B38,Einzelwertung9!$J$3:$J$55)+0.009","v":8.9999999999999993E-3},{"$f":"SUMIF(Einzelwertung10!$A$3:$A$55,$B38,Einzelwertung10!$J$3:$J$55)+0.008","v":8.0000000000000002E-3},{"$f":"SUMIF(Einzelwertung11!$A$3:$A$55,$B38,Einzelwertung11!$J$3:$J$55)+0.007","v":7.0000000000000001E-3},{"$f":"SUMIF(Einzelwertung12!$A$3:$A$55,$B38,Einzelwertung12!$J$3:$J$55)+0.006","v":6.0000000000000001E-3},{"$f":"SUMIF(Einzelwertung13!$A$3:$A$55,$B38,Einzelwertung13!$J$3:$J$55)+0.005","v":5.0000000000000001E-3},{"$f":"SUMIF(Einzelwertung14!$A$3:$A$55,$B38,Einzelwertung14!$J$3:$J$55)+0.004","v":4.0000000000000001E-3},{"$f":"SUMIF(Einzelwertung15!$A$3:$A$67,$B38,Einzelwertung15!$J$3:$J$67)+0.003","v":3.0000000000000001E-3},{"$f":"SUMIF(Einzelwertung16!$A$3:$A$55,$B38,Einzelwertung16!$J$3:$J$55)+0.002","v":2E-3},{"$f":"SUMIF(Einzelwertung17!$A$3:$A$55,$B38,Einzelwertung17!$J$3:$J$55)+0.001","v":1E-3},{"$f":"SUMIF(Einzelwertung18!$A$3:$A$55,$B38,Einzelwertung18!$J$3:$J$55)+0","v":0},{"$f":"INT(IF(COUNTIF(F38:W38,CONCATENATE(\">\",1/10))<=Hilfe!$A$1,SUM(F38:W38),SUMIF(F38:W38,CONCATENATE(\">=\",LARGE(F38:W38,Hilfe!$A$1)),F38:W38)))","v":5},1,3]
[37,"Wortmann, Torben",{"$f":"VLOOKUP($B39,Teilnehmer!$A$3:$E$126,2,FALSE)","v":"Hobby"},{"$f":"VLOOKUP($B39,Teilnehmer!$A$3:$E$126,3,FALSE)","v":"Hobby42"},{"$f":"VLOOKUP($B39,Teilnehmer!$A$3:$E$126,4,FALSE)","v":"H"},{"$f":"SUMIF(Einzelwertung1!$A$3:$A$55,$B39,Einzelwertung1!$J$3:$J$55)+0.017","v":1.7000000000000001E-2},{"$f":"SUMIF(Einzelwertung2!$A$3:$A$55,$B39,Einzelwertung2!$J$3:$J$55)+0.016","v":1.6E-2},{"$f":"SUMIF(Einzelwertung3!$A$3:$A$55,$B39,Einzelwertung3!$J$3:$J$55)+0.015","v":1.4999999999999999E-2},{"$f":"SUMIF(Einzelwertung4!$A$3:$A$55,$B39,Einzelwertung4!$J$3:$J$55)+0.014","v":1.4E-2},{"$f":"SUMIF(Einzelwertung5!$A$3:$A$55,$B39,Einzelwertung5!$J$3:$J$55)+0.013","v":1.2999999999999999E-2},{"$f":"SUMIF(Einzelwertung6!$A$3:$A$55,$B39,Einzelwertung6!$J$3:$J$55)+0.012","v":1.2E-2},{"$f":"SUMIF(Einzelwertung7!$A$3:$A$55,$B39,Einzelwertung7!$J$3:$J$55)+0.011","v":1.0999999999999999E-2},{"$f":"SUMIF(Einzelwertung8!$A$3:$A$55,$B39,Einzelwertung8!$J$3:$J$55)+0.01","v":0.01},{"$f":"SUMIF(Einzelwertung9!$A$3:$A$55,$B39,Einzelwertung9!$J$3:$J$55)+0.009","v":8.9999999999999993E-3},{"$f":"SUMIF(Einzelwertung10!$A$3:$A$55,$B39,Einzelwertung10!$J$3:$J$55)+0.008","v":8.0000000000000002E-3},{"$f":"SUMIF(Einzelwertung11!$A$3:$A$55,$B39,Einzelwertung11!$J$3:$J$55)+0.007","v":7.0000000000000001E-3},{"$f":"SUMIF(Einzelwertung12!$A$3:$A$55,$B39,Einzelwertung12!$J$3:$J$55)+0.006","v":6.0000000000000001E-3},{"$f":"SUMIF(Einzelwertung13!$A$3:$A$55,$B39,Einzelwertung13!$J$3:$J$55)+0.005","v":5.0000000000000001E-3},{"$f":"SUMIF(Einzelwertung14!$A$3:$A$55,$B39,Einzelwertung14!$J$3:$J$55)+0.004","v":4.0000000000000001E-3},{"$f":"SUMIF(Einzelwertung15!$A$3:$A$67,$B39,Einzelwertung15!$J$3:$J$67)+0.003","v":3.0000000000000001E-3},{"$f":"SUMIF(Einzelwertung16!$A$3:$A$55,$B39,Einzelwertung16!$J$3:$J$55)+0.002","v":2E-3},{"$f":"SUMIF(Einzelwertung17!$A$3:$A$55,$B39,Einzelwertung17!$J$3:$J$55)+0.001","v":1E-3},{"$f":"SUMIF(Einzelwertung18!$A$3:$A$55,$B39,Einzelwertung18!$J$3:$J$55)+0","v":3},{"$f":"INT(IF(COUNTIF(F39:W39,CONCATENATE(\">\",1/10))<=Hilfe!$A$1,SUM(F39:W39),SUMIF(F39:W39,CONCATENATE(\">=\",LARGE(F39:W39,Hilfe!$A$1)),F39:W39)))","v":3},1,3]
[38,"Hoffmann, Thomas",{"$f":"VLOOKUP($B40,Teilnehmer!$A$3:$E$126,2,FALSE)","v":"Hobby"},{"$f":"VLOOKUP($B40,Teilnehmer!$A$3:$E$126,3,FALSE)","v":"Hobby29"},{"$f":"VLOOKUP($B40,Teilnehmer!$A$3:$E$126,4,FALSE)","v":"SM2"},{"$f":"SUMIF(Einzelwertung1!$A$3:$A$55,$B40,Einzelwertung1!$J$3:$J$55)+0.017","v":1.7000000000000001E-2},{"$f":"SUMIF(Einzelwertung2!$A$3:$A$55,$B40,Einzelwertung2!$J$3:$J$55)+0.016","v":1.6E-2},{"$f":"SUMIF(Einzelwertung3!$A$3:$A$55,$B40,Einzelwertung3!$J$3:$J$55)+0.015","v":1.4999999999999999E-2},{"$f":"SUMIF(Einzelwertung4!$A$3:$A$55,$B40,Einzelwertung4!$J$3:$J$55)+0.014","v":1.4E-2},{"$f":"SUMIF(Einzelwertung5!$A$3:$A$55,$B40,Einzelwertung5!$J$3:$J$55)+0.013","v":1.2999999999999999E-2},{"$f":"SUMIF(Einzelwertung6!$A$3:$A$55,$B40,Einzelwertung6!$J$3:$J$55)+0.012","v":1.2E-2},{"$f":"SUMIF(Einzelwertung7!$A$3:$A$55,$B40,Einzelwertung7!$J$3:$J$55)+0.011","v":1.0999999999999999E-2},{"$f":"SUMIF(Einzelwertung8!$A$3:$A$55,$B40,Einzelwertung8!$J$3:$J$55)+0.01","v":0.01},{"$f":"SUMIF(Einzelwertung9!$A$3:$A$55,$B40,Einzelwertung9!$J$3:$J$55)+0.009","v":8.9999999999999993E-3},{"$f":"SUMIF(Einzelwertung10!$A$3:$A$55,$B40,Einzelwertung10!$J$3:$J$55)+0.008","v":8.0000000000000002E-3},{"$f":"SUMIF(Einzelwertung11!$A$3:$A$55,$B40,Einzelwertung11!$J$3:$J$55)+0.007","v":7.0000000000000001E-3},{"$f":"SUMIF(Einzelwertung12!$A$3:$A$55,$B40,Einzelwertung12!$J$3:$J$55)+0.006","v":6.0000000000000001E-3},{"$f":"SUMIF(Einzelwertung13!$A$3:$A$55,$B40,Einzelwertung13!$J$3:$J$55)+0.005","v":5.0000000000000001E-3},{"$f":"SUMIF(Einzelwertung14!$A$3:$A$55,$B40,Einzelwertung14!$J$3:$J$55)+0.004","v":4.0000000000000001E-3},{"$f":"SUMIF(Einzelwertung15!$A$3:$A$67,$B40,Einzelwertung15!$J$3:$J$67)+0.003","v":3.0000000000000001E-3},{"$f":"SUMIF(Einzelwertung16!$A$3:$A$55,$B40,Einzelwertung16!$J$3:$J$55)+0.002","v":2E-3},{"$f":"SUMIF(Einzelwertung17!$A$3:$A$55,$B40,Einzelwertung17!$J$3:$J$55)+0.001","v":1.0009999999999999},{"$f":"SUMIF(Einzelwertung18!$A$3:$A$55,$B40,Einzelwertung18!$J$3:$J$55)+0","v":0},{"$f":"INT(IF(COUNTIF(F40:W40,CONCATENATE(\">\",1/10))<=Hilfe!$A$1,SUM(F40:W40),SUMIF(F40:W40,CONCATENATE(\">=\",LARGE(F40:W40,Hilfe!$A$1)),F40:W40)))","v":1},1,3]
[]
[null,"Teilnehmer pro Spieltag und im Mittel",null,null,null,{"$f":"COUNTIF(F3:F40,\">0.1\")","v":0},15,18,16,20,15,17,15,20,0,19,21,17,20,20,21,21,20,{"$f":"IF(SUM(F42:W42)>0,SUM(F42:W42)/COUNTIF(F42:W42,\">0\"),0)","v":18.4375},{"$f":"SUM(Y3:Y40)","v":295},{"$f":"SUM(Z3:Z40)","v":867}]

{"sheet":"Verlosungen","index":2,"n_rows":49,"n_cols":3,"rows_kept":49,"cut":false,"hidden":false,"merged":[[0,0,0,2],[1,0,1,2]]}
["Sommer-Cup 2019 im Freizeittreff Herbede - verloste Preise"]
[]
["Teilnehmer","Gewinn","Spieltag"]
["Dominic Urban","1 Winzervesper",2]
["Barbara Schmidt","1 Kühltasche",2]
["Michael Puschner","Verzehrgutschein 10 Euro",3]
["Günter Schmidtbauer","Trinkflaschenset",3]
["Sabine Scharpe","1 Mini-Kühltasche",3]
["Günter Schmidtbauer","1 Flasche Amaretto",4]
["Ulrich Börgmann","1 Großpackung Color-Rado",4]
["Brigitte Börgmann","1 Set Biergläser",4]
["Ulrich Börgmann","1 Messer-Set",5]
["Sabine Kortmann","1 Kühltasche",5]
["Marie-Luise Jezierski","1 Windlicht",5]
["Ansgar Buchholz","1 Großpackung Color-Rado",6]
["Barbara Schmidt","Windlicht mit Kakteen",6]
["Barbara Schmidt","1 LED-Windlicht",7]
["Hellmut Greiffendorf","1 Thermosbecher",7]
["Peter Tabor","1 Flasche Sekt",7]
["Nicole Lieber","1 Solarlampe",8]
["Michael Puschner","1 Pflanzgefäß aus Glas",8]
["Günter Schmidtbauer","1 Trinkglas mit Deckel",8]
["Volker Urban","1 Flasche Wein mit Glas",9]
["Ansgar Buchholz","1 Verzehrgutschein",9]
["Ulrich Börgmann","1 Kühltasche",9]
["Angela Urban","1 Flasche Grappa",11]
["Michael Puschner","1 Verzehrgutschein",11]
["Volker Urban","1 Glaskrug mit Zapfhahn",11]
["Ansgar Buchholz","1 Trinkflasche",12]
["Michael Puschner","1 Flasche Kräuterlikör",12]
["Brigitte Börgmann","1 Solarlaterne",12]
["Dominic Urban","1 Winzervesper",13]
["Peter Tabor","1 Flasche Holunderwein",13]
["Dirk Mühling","1 Gasfeuerzeugset",13]
["Ulrich Börgmann","1 Flasche Erdbeerlikör",14]
["Peter Tabor","1 grosse Dose Haribo",14]
["Brigitte Börgmann","1 Wanduhr",14]
["Volker Urban","1 Flasche Wein + 1 Glas",15]
["Ulrich Börgmann","1 Verzehrgutschein",15]
["Nicole Lieber","1 Bonbonglas mit Süßigkeiten",15]
["Günter Schmidtbauer","Rucksack",16]
["Brigitte Börgmann","1 Flasche Martini",16]
["Nicole Lieber","1 Deko-Glas",16]
["Volker Urban","1 Flasche Erdbeerlikör",17]
["Peter Tabor","1 Bonbonglas mit Inhalt",17]
["Sabine Kortmann","1 Pflanzglas mit Inhalt",17]
["Martin Kunz","1 Pflanzkorb, bepflanzt",18]
["Brigitte Börgmann","1 Flasche Sekt",18]
["Jürgen Schmitt","1 Schachtel Pralinen",18]

{"sheet":"Einzelwertung1","index":3,"n_rows":61,"n_cols":10,"rows_kept":61,"cut":false,"hidden":false,"merged":[[0,0,0,9]]}
[{"$f":"CONCATENATE(\"5. Sommer-Cup - Freizeittreff Herbede - \",TEXT(Gesamtstand!$F$2,\"TT.MM.JJ\"))","v":"5. Sommer-Cup - Freizeittreff Herbede - 02.05.19"}]
["Spieler","Runde 1","Runde 2","Gesamt","bessere?","Pl. R1","Pl. R2","Pl. Ges.","gewertet","Punkte"]
["Urban, Volker",null,null,{"$f":"IF(B3>0,C3+B3,\"\")","v":""},true,{"$f":"IF(B3>0,COUNTIF(B$3:B$55,\"<\"&B3)+1,\"\")","v":""},{"$f":"IF(C3>0,COUNTIF(C$3:C$55,\"<\"&C3)+1,\"\")","v":""},{"$f":"IF(AND(B3>0,C3>0),COUNTIF(D$3:D$55,\"<\"&D3)+1,\"\")","v":""},{"$f":"IF(B3>0,IF(E3,MIN(F3:H3),MAX(F3:H3)),\"\")","v":""},{"$f":"IF(B3>0,VLOOKUP(I3,Punkteschema!$A$2:$B$101,2,FALSE),\"\")","v":""}]
["Schmitt, Jürgen",null,null,"",true,"","","","",{"$f":"IF(B4>0,VLOOKUP(I4,Punkteschema!$A$2:$B$101,2,FALSE),\"\")","v":""}]
["Puschner, Michael",null,null,"",true,"","","","",{"$f":"IF(B5>0,VLOOKUP(I5,Punkteschema!$A$2:$B$101,2,FALSE),\"\")","v":""}]
["Scharpe, Sabine",null,null,"",true,"","","","",{"$f":"IF(B6>0,VLOOKUP(I6,Punkteschema!$A$2:$B$101,2,FALSE),\"\")","v":""}]
["Urban, Angela",null,null,"",true,"","","","",{"$f":"IF(B7>0,VLOOKUP(I7,Punkteschema!$A$2:$B$101,2,FALSE),\"\")","v":""}]
["Kottek, Sabine",null,null,"",true,"","","","",{"$f":"IF(B8>0,VLOOKUP(I8,Punkteschema!$A$2:$B$101,2,FALSE),\"\")","v":""}]
["Kortmann, Sabine",null,null,"",true,"","","","",{"$f":"IF(B9>0,VLOOKUP(I9,Punkteschema!$A$2:$B$101,2,FALSE),\"\")","v":""}]
["Greiffendorf, Hellmut",null,null,"",true,"","","","",{"$f":"IF(B10>0,VLOOKUP(I10,Punkteschema!$A$2:$B$101,2,FALSE),\"\")","v":""}]
["Kortmann, Uwe",null,null,"",true,"","","","",{"$f":"IF(B11>0,VLOOKUP(I11,Punkteschema!$A$2:$B$101,2,FALSE),\"\")","v":""}]
["Schmidtbauer, Günter",null,null,"",true,"","","","",{"$f":"IF(B12>0,VLOOKUP(I12,Punkteschema!$A$2:$B$101,2,FALSE),\"\")","v":""}]
["Schmidt, Barbara",null,null,"",true,"","","","",{"$f":"IF(B13>0,VLOOKUP(I13,Punkteschema!$A$2:$B$101,2,FALSE),\"\")","v":""}]
["Presser, Wolfgang",null,null,"",true,"","","","",{"$f":"IF(B14>0,VLOOKUP(I14,Punkteschema!$A$2:$B$101,2,FALSE),\"\")","v":""}]
["Urban, Dominic",null,null,"",true,"","","","",{"$f":"IF(B15>0,VLOOKUP(I15,Punkteschema!$A$2:$B$101,2,FALSE),\"\")","v":""}]
["Ginschel, Rudolf",null,null,"",true,"","","","",{"$f":"IF(B16>0,VLOOKUP(I16,Punkteschema!$A$2:$B$101,2,FALSE),\"\")","v":""}]
["Lenk, Rolf",null,null,"",true,"","","","",{"$f":"IF(B17>0,VLOOKUP(I17,Punkteschema!$A$2:$B$101,2,FALSE),\"\")","v":""}]
[null,null,null,"",true,"","","","",{"$f":"IF(B18>0,VLOOKUP(I18,Punkteschema!$A$2:$B$101,2,FALSE),\"\")","v":""}]
[null,null,null,{"$f":"IF(B19>0,C19+B19,\"\")","v":""},true,{"$f":"IF(B19>0,COUNTIF(B$3:B$55,\"<\"&B19)+1,\"\")","v":""},"",{"$f":"IF(AND(B19>0,C19>0),COUNTIF(D$3:D$55,\"<\"&D19)+1,\"\")","v":""},{"$f":"IF(B19>0,IF(E19,MIN(F19:H19),MAX(F19:H19)),\"\")","v":""},{"$f":"IF(B19>0,VLOOKUP(I19,Punkteschema!$A$2:$B$101,2,FALSE),\"\")","v":""}]
[null,null,null,"",true,"","","","",{"$f":"IF(B20>0,VLOOKUP(I20,Punkteschema!$A$2:$B$101,2,FALSE),\"\")","v":""}]
[null,null,null,"",true,"","","","",{"$f":"IF(B21>0,VLOOKUP(I21,Punkteschema!$A$2:$B$101,2,FALSE),\"\")","v":""}]
[null,null,null,"",true,"","","","",{"$f":"IF(B22>0,VLOOKUP(I22,Punkteschema!$A$2:$B$101,2,FALSE),\"\")","v":""}]
[null,null,null,"",true,"","","","",{"$f":"IF(B23>0,VLOOKUP(I23,Punkteschema!$A$2:$B$101,2,FALSE),\"\")","v":""}]
[null,null,null,"",true,"","","","",{"$f":"IF(B24>0,VLOOKUP(I24,Punkteschema!$A$2:$B$101,2,FALSE),\"\")","v":""}]
[null,null,null,"",true,"","","","",{"$f":"IF(B25>0,VLOOKUP(I25,Punkteschema!$A$2:$B$101,2,FALSE),\"\")","v":""}]
[null,null,null,"",true,"","","","",{"$f":"IF(B26>0,VLOOKUP(I26,Punkteschema!$A$2:$B$101,2,FALSE),\"\")","v":""}]
[null,null,null,"",true,"","","","",{"$f":"IF(B27>0,VLOOKUP(I27,Punkteschema!$A$2:$B$101,2,FALSE),\"\")","v":""}]
[null,null,null,"",true,"","","","",{"$f":"IF(B28>0,VLOOKUP(I28,Punkteschema!$A$2:$B$101,2,FALSE),\"\")","v":""}]
[null,null,null,"",true,"","","","",{"$f":"IF(B29>0,VLOOKUP(I29,Punkteschema!$A$2:$B$101,2,FALSE),\"\")","v":""}]
[null,null,null,"",true,"","","","",{"$f":"IF(B30>0,VLOOKUP(I30,Punkteschema!$A$2:$B$101,2,FALSE),\"\")","v":""}]
[null,null,null,"",true,"","","","",{"$f":"IF(B31>0,VLOOKUP(I31,Punkteschema!$A$2:$B$101,2,FALSE),\"\")","v":""}]
[null,null,null,"",true,"","","","",{"$f":"IF(B32>0,VLOOKUP(I32,Punkteschema!$A$2:$B$101,2,FALSE),\"\")","v":""}]
[null,null,null,"",true,"","","","",{"$f":"IF(B33>0,VLOOKUP(I33,Punkteschema!$A$2:$B$101,2,FALSE),\"\")","v":""}]
[null,null,null,"",true,"","","","",{"$f":"IF(B34>0,VLOOKUP(I34,Punkteschema!$A$2:$B$101,2,FALSE),\"\")","v":""}]
[null,null,null,"",true,"","","","",{"$f":"IF(B35>0,VLOOKUP(I35,Punkteschema!$A$2:$B$101,2,FALSE),\"\")","v":""}]
[null,null,null,"",true,"","","","",{"$f":"IF(B36>0,VLOOKUP(I36,Punkteschema!$A$2:$B$101,2,FALSE),\"\")","v":""}]
[null,null,null,"",true,"","","","",{"$f":"IF(B37>0,VLOOKUP(I37,Punkteschema!$A$2:$B$101,2,FALSE),\"\")","v":""}]
[null,null,null,"",true,"","","","",{"$f":"IF(B38>0,VLOOKUP(I38,Punkteschema!$A$2:$B$101,2,FALSE),\"\")","v":""}]
[null,null,null,"",true,"","","","",{"$f":"IF(B39>0,VLOOKUP(I39,Punkteschema!$A$2:$B$101,2,FALSE),\"\")","v":""}]
[null,null,null,"",true,"","","","",{"$f":"IF(B40>0,VLOOKUP(I40,Punkteschema!$A$2:$B$101,2,FALSE),\"\")","v":""}]
[null,null,null,"",true,"","","","",{"$f":"IF(B41>0,VLOOKUP(I41,Punkteschema!$A$2:$B$101,2,FALSE),\"\")","v":""}]
[null,null,null,"",true,"","","","",{"$f":"IF(B42>0,VLOOKUP(I42,Punkteschema!$A$2:$B$101,2,FALSE),\"\")","v":""}]
[null,null,null,"",true,"","","","",{"$f":"IF(B43>0,VLOOKUP(I43,Punkteschema!$A$2:$B$101,2,FALSE),\"\")","v":""}]
[null,null,null,"",true,"","","","",{"$f":"IF(B44>0,VLOOKUP(I44,Punkteschema!$A$2:$B$101,2,FALSE),\"\")","v":""}]
[null,null,null,"",true,"","","","",{"$f":"IF(B45>0,VLOOKUP(I45,Punkteschema!$A$2:$B$101,2,FALSE),\"\")","v":""}]
[null,null,null,"",true,"","","","",{"$f":"IF(B46>0,VLOOKUP(I46,Punkteschema!$A$2:$B$101,2,FALSE),\"\")","v":""}]
[null,null,null,"",true,"","","","",{"$f":"IF(B47>0,VLOOKUP(I47,Punkteschema!$A$2:$B$101,2,FALSE),\"\")","v":""}]
[null,null,null,"",true,"","","","",{"$f":"IF(B48>0,VLOOKUP(I48,Punkteschema!$A$2:$B$101,2,FALSE),\"\")","v":""}]
[null,null,null,"",true,"","","","",{"$f":"IF(B49>0,VLOOKUP(I49,Punkteschema!$A$2:$B$101,2,FALSE),\"\")","v":""}]
[null,null,null,"",true,"","","","",{"$f":"IF(B50>0,VLOOKUP(I50,Punkteschema!$A$2:$B$101,2,FALSE),\"\")","v":""}]
[null,null,null,"",true,"","","","",{"$f":"IF(B51>0,VLOOKUP(I51,Punkteschema!$A$2:$B$101,2,FALSE),\"\")","v":""}]
[null,null,null,"",true,"","","","",{"$f":"IF(B52>0,VLOOKUP(I52,Punkteschema!$A$2:$B$101,2,FALSE),\"\")","v":""}]
[null,null,null,"",true,{"$f":"IF(B53>0,COUNTIF(B$3:B$55,\"<\"&B53)+1,\"\")","v":""},"",{"$f":"IF(AND(B53>0,C53>0),COUNTIF(D$3:D$55,\"<\"&D53)+1,\"\")","v":""},{"$f":"IF(B53>0,IF(E53,MIN(F53:H53),MAX(F53:H53)),\"\")","v":""},{"$f":"IF(B53>0,VLOOKUP(I53,Punkteschema!$A$2:$B$101,2,FALSE),\"\")","v":""}]
[null,null,null,"",true,"","",{"$f":"IF(AND(B54>0,C54>0),COUNTIF(D$3:D$55,\"<\"&D54)+1,\"\")","v":""},{"$f":"IF(B54>0,IF(E54,MIN(F54:H54),MAX(F54:H54)),\"\")","v":""},{"$f":"IF(B54>0,VLOOKUP(I54,Punkteschema!$A$2:$B$101,2,FALSE),\"\")","v":""}]
[null,null,null,"",true,"","",{"$f":"IF(AND(B55>0,C55>0),COUNTIF(D$3:D$55,\"<\"&D55)+1,\"\")","v":""},{"$f":"IF(B55>0,IF(E55,MIN(F55:H55),MAX(F55:H55)),\"\")","v":""},{"$f":"IF(B55>0,VLOOKUP(I55,Punkteschema!$A$2:$B$101,2,FALSE),\"\")","v":""}]
[]
["OS: Greiffendorf, Hellmut",null,null,null,"Runde 1:","B","<- E/B"]
["S: Puschner, Michael",null,null,null,"Runde 2:","E","<- E/B"]
["S: Urban, Volker"]
[]
["Verloste Preise:"]

{"sheet":"Einzelwertung2","index":4,"n_rows":62,"n_cols":10,"rows_kept":62,"cut":false,"hidden":false,"merged":[[0,0,0,9]]}
[{"$f":"CONCATENATE(\"5. Sommer-Cup - Freizeittreff Herbede - \",TEXT(Gesamtstand!$G$2,\"TT.MM.JJ\"))","v":"5. Sommer-Cup - Freizeittreff Herbede - 09.05.19"}]
["Spieler","Runde 1","Runde 2","Gesamt","bessere?","Pl. R1","Pl. R2","Pl. Ges.","gewertet","Punkte"]
["Ginschel, Rudolf",30,30,{"$f":"IF(B3>0,C3+B3,\"\")","v":60},true,{"$f":"IF(B3>0,COUNTIF(B$3:B$55,\"<\"&B3)+1,\"\")","v":2},{"$f":"IF(C3>0,COUNTIF(C$3:C$55,\"<\"&C3)+1,\"\")","v":2},{"$f":"IF(AND(B3>0,C3>0),COUNTIF(D$3:D$55,\"<\"&D3)+1,\"\")","v":1},{"$f":"IF(B3>0,IF(E3,MIN(F3:H3),MAX(F3:H3)),\"\")","v":1},{"$f":"IF(B3>0,VLOOKUP(I3,Punkteschema!$A$2:$B$101,2,FALSE),\"\")","v":25}]
["Urban, Volker",28,33,61,true,1,3,2,1,{"$f":"IF(B4>0,VLOOKUP(I4,Punkteschema!$A$2:$B$101,2,FALSE),\"\")","v":25}]
["Puschner, Michael",38,29,67,true,10,1,4,1,{"$f":"IF(B5>0,VLOOKUP(I5,Punkteschema!$A$2:$B$101,2,FALSE),\"\")","v":25}]
["Mühling, Dirk",31,34,65,true,3,6,3,3,{"$f":"IF(B6>0,VLOOKUP(I6,Punkteschema!$A$2:$B$101,2,FALSE),\"\")","v":18}]
["Tabor, Peter",35,33,68,true,4,3,5,3,{"$f":"IF(B7>0,VLOOKUP(I7,Punkteschema!$A$2:$B$101,2,FALSE),\"\")","v":18}]
["Börgmann, Ulrich",39,33,72,true,12,3,6,3,{"$f":"IF(B8>0,VLOOKUP(I8,Punkteschema!$A$2:$B$101,2,FALSE),\"\")","v":18}]
["Lenk, Rolf",36,38,74,true,5,11,7,5,{"$f":"IF(B9>0,VLOOKUP(I9,Punkteschema!$A$2:$B$101,2,FALSE),\"\")","v":15}]
["Schmidt, Barbara",37,37,74,true,6,10,7,6,{"$f":"IF(B10>0,VLOOKUP(I10,Punkteschema!$A$2:$B$101,2,FALSE),\"\")","v":15}]
["Kortmann, Sabine",40,34,74,true,14,6,7,6,{"$f":"IF(B11>0,VLOOKUP(I11,Punkteschema!$A$2:$B$101,2,FALSE),\"\")","v":15}]
["Kortmann, Uwe",37,44,81,true,6,13,13,6,{"$f":"IF(B12>0,VLOOKUP(I12,Punkteschema!$A$2:$B$101,2,FALSE),\"\")","v":15}]
["Hünnebeck, Petra",37,44,81,true,6,13,13,6,{"$f":"IF(B13>0,VLOOKUP(I13,Punkteschema!$A$2:$B$101,2,FALSE),\"\")","v":15}]
["Kersch, Uwe",37,126,163,true,6,16,16,6,{"$f":"IF(B14>0,VLOOKUP(I14,Punkteschema!$A$2:$B$101,2,FALSE),\"\")","v":15}]
["Urban, Dominic",38,36,74,true,10,8,7,7,{"$f":"IF(B15>0,VLOOKUP(I15,Punkteschema!$A$2:$B$101,2,FALSE),\"\")","v":10}]
["Scharpe, Sabine",40,36,76,true,14,8,11,8,{"$f":"IF(B16>0,VLOOKUP(I16,Punkteschema!$A$2:$B$101,2,FALSE),\"\")","v":10}]
["Jezierski, Marie-Luise",39,39,78,true,12,12,12,12,{"$f":"IF(B17>0,VLOOKUP(I17,Punkteschema!$A$2:$B$101,2,FALSE),\"\")","v":5}]
["Schmitz, Ingeborg",48,53,101,true,16,15,15,15,{"$f":"IF(B18>0,VLOOKUP(I18,Punkteschema!$A$2:$B$101,2,FALSE),\"\")","v":5}]
[null,null,null,{"$f":"IF(B19>0,C19+B19,\"\")","v":""},true,{"$f":"IF(B19>0,COUNTIF(B$3:B$55,\"<\"&B19)+1,\"\")","v":""},{"$f":"IF(C19>0,COUNTIF(C$3:C$55,\"<\"&C19)+1,\"\")","v":""},{"$f":"IF(AND(B19>0,C19>0),COUNTIF(D$3:D$55,\"<\"&D19)+1,\"\")","v":""},{"$f":"IF(B19>0,IF(E19,MIN(F19:H19),MAX(F19:H19)),\"\")","v":""},{"$f":"IF(B19>0,VLOOKUP(I19,Punkteschema!$A$2:$B$101,2,FALSE),\"\")","v":""}]
[null,null,null,"",true,"","","","",{"$f":"IF(B20>0,VLOOKUP(I20,Punkteschema!$A$2:$B$101,2,FALSE),\"\")","v":""}]
[null,null,null,"",true,"","","","",{"$f":"IF(B21>0,VLOOKUP(I21,Punkteschema!$A$2:$B$101,2,FALSE),\"\")","v":""}]
[null,null,null,"",true,"","","","",{"$f":"IF(B22>0,VLOOKUP(I22,Punkteschema!$A$2:$B$101,2,FALSE),\"\")","v":""}]
[null,null,null,"",true,"","","","",{"$f":"IF(B23>0,VLOOKUP(I23,Punkteschema!$A$2:$B$101,2,FALSE),\"\")","v":""}]
[null,null,null,{"$f":"IF(B24>0,C24+B24,\"\")","v":""},true,{"$f":"IF(B24>0,COUNTIF(B$3:B$55,\"<\"&B24)+1,\"\")","v":""},"",{"$f":"IF(AND(B24>0,C24>0),COUNTIF(D$3:D$55,\"<\"&D24)+1,\"\")","v":""},{"$f":"IF(B24>0,IF(E24,MIN(F24:H24),MAX(F24:H24)),\"\")","v":""},{"$f":"IF(B24>0,VLOOKUP(I24,Punkteschema!$A$2:$B$101,2,FALSE),\"\")","v":""}]
[null,null,null,"",true,"","","","",{"$f":"IF(B25>0,VLOOKUP(I25,Punkteschema!$A$2:$B$101,2,FALSE),\"\")","v":""}]
[null,null,null,"",true,"","","","",{"$f":"IF(B26>0,VLOOKUP(I26,Punkteschema!$A$2:$B$101,2,FALSE),\"\")","v":""}]
[null,null,null,"",true,"","","","",{"$f":"IF(B27>0,VLOOKUP(I27,Punkteschema!$A$2:$B$101,2,FALSE),\"\")","v":""}]
[null,null,null,"",true,"","","","",{"$f":"IF(B28>0,VLOOKUP(I28,Punkteschema!$A$2:$B$101,2,FALSE),\"\")","v":""}]
[null,null,null,"",true,"","","","",{"$f":"IF(B29>0,VLOOKUP(I29,Punkteschema!$A$2:$B$101,2,FALSE),\"\")","v":""}]
[null,null,null,"",true,"","","","",{"$f":"IF(B30>0,VLOOKUP(I30,Punkteschema!$A$2:$B$101,2,FALSE),\"\")","v":""}]
[null,null,null,"",true,"","","","",{"$f":"IF(B31>0,VLOOKUP(I31,Punkteschema!$A$2:$B$101,2,FALSE),\"\")","v":""}]
[null,null,null,"",true,"","","","",{"$f":"IF(B32>0,VLOOKUP(I32,Punkteschema!$A$2:$B$101,2,FALSE),\"\")","v":""}]
[null,null,null,"",true,"","","","",{"$f":"IF(B33>0,VLOOKUP(I33,Punkteschema!$A$2:$B$101,2,FALSE),\"\")","v":""}]
[null,null,null,"",true,"","","","",{"$f":"IF(B34>0,VLOOKUP(I34,Punkteschema!$A$2:$B$101,2,FALSE),\"\")","v":""}]
[null,null,null,"",true,"","","","",{"$f":"IF(B35>0,VLOOKUP(I35,Punkteschema!$A$2:$B$101,2,FALSE),\"\")","v":""}]
[null,null,null,"",true,"","","","",{"$f":"IF(B36>0,VLOOKUP(I36,Punkteschema!$A$2:$B$101,2,FALSE),\"\")","v":""}]
[null,null,null,"",true,"","","","",{"$f":"IF(B37>0,VLOOKUP(I37,Punkteschema!$A$2:$B$101,2,FALSE),\"\")","v":""}]
[null,null,null,"",true,"","","","",{"$f":"IF(B38>0,VLOOKUP(I38,Punkteschema!$A$2:$B$101,2,FALSE),\"\")","v":""}]
[null,null,null,"",true,"","","","",{"$f":"IF(B39>0,VLOOKUP(I39,Punkteschema!$A$2:$B$101,2,FALSE),\"\")","v":""}]
[null,null,null,"",true,"","","","",{"$f":"IF(B40>0,VLOOKUP(I40,Punkteschema!$A$2:$B$101,2,FALSE),\"\")","v":""}]
[null,null,null,"",true,"","","","",{"$f":"IF(B41>0,VLOOKUP(I41,Punkteschema!$A$2:$B$101,2,FALSE),\"\")","v":""}]
[null,null,null,"",true,"","","","",{"$f":"IF(B42>0,VLOOKUP(I42,Punkteschema!$A$2:$B$101,2,FALSE),\"\")","v":""}]
[null,null,null,"",true,"","","","",{"$f":"IF(B43>0,VLOOKUP(I43,Punkteschema!$A$2:$B$101,2,FALSE),\"\")","v":""}]
[null,null,null,"",true,"","","","",{"$f":"IF(B44>0,VLOOKUP(I44,Punkteschema!$A$2:$B$101,2,FALSE),\"\")","v":""}]
[null,null,null,"",true,"","","","",{"$f":"IF(B45>0,VLOOKUP(I45,Punkteschema!$A$2:$B$101,2,FALSE),\"\")","v":""}]
[null,null,null,"",true,"","","","",{"$f":"IF(B46>0,VLOOKUP(I46,Punkteschema!$A$2:$B$101,2,FALSE),\"\")","v":""}]
[null,null,null,"",true,"","","","",{"$f":"IF(B47>0,VLOOKUP(I47,Punkteschema!$A$2:$B$101,2,FALSE),\"\")","v":""}]
[null,null,null,"",true,"","","","",{"$f":"IF(B48>0,VLOOKUP(I48,Punkteschema!$A$2:$B$101,2,FALSE),\"\")","v":""}]
[null,null,null,"",true,"","","","",{"$f":"IF(B49>0,VLOOKUP(I49,Punkteschema!$A$2:$B$101,2,FALSE),\"\")","v":""}]
[null,null,null,"",true,"","","","",{"$f":"IF(B50>0,VLOOKUP(I50,Punkteschema!$A$2:$B$101,2,FALSE),\"\")","v":""}]
[null,null,null,"",true,"","","","",{"$f":"IF(B51>0,VLOOKUP(I51,Punkteschema!$A$2:$B$101,2,FALSE),\"\")","v":""}]
[null,null,null,"",true,"","","","",{"$f":"IF(B52>0,VLOOKUP(I52,Punkteschema!$A$2:$B$101,2,FALSE),\"\")","v":""}]
[null,null,null,"",true,{"$f":"IF(B53>0,COUNTIF(B$3:B$55,\"<\"&B53)+1,\"\")","v":""},"",{"$f":"IF(AND(B53>0,C53>0),COUNTIF(D$3:D$55,\"<\"&D53)+1,\"\")","v":""},{"$f":"IF(B53>0,IF(E53,MIN(F53:H53),MAX(F53:H53)),\"\")","v":""},{"$f":"IF(B53>0,VLOOKUP(I53,Punkteschema!$A$2:$B$101,2,FALSE),\"\")","v":""}]
[null,null,null,"",true,"","",{"$f":"IF(AND(B54>0,C54>0),COUNTIF(D$3:D$55,\"<\"&D54)+1,\"\")","v":""},{"$f":"IF(B54>0,IF(E54,MIN(F54:H54),MAX(F54:H54)),\"\")","v":""},{"$f":"IF(B54>0,VLOOKUP(I54,Punkteschema!$A$2:$B$101,2,FALSE),\"\")","v":""}]
[null,null,null,"",true,"","",{"$f":"IF(AND(B55>0,C55>0),COUNTIF(D$3:D$55,\"<\"&D55)+1,\"\")","v":""},{"$f":"IF(B55>0,IF(E55,MIN(F55:H55),MAX(F55:H55)),\"\")","v":""},{"$f":"IF(B55>0,VLOOKUP(I55,Punkteschema!$A$2:$B$101,2,FALSE),\"\")","v":""}]
[]
["OS: Mühling, Dirk (HEV)",null,null,null,"Runde 1:","B","<- E/B"]
["S: Urban, Volker (ASW)",null,null,null,"Runde 2:","B","<- E/B"]
["S: Ginschel, Rudolf (BMC)"]
[]
["Verloste Preise:","Dominic Urban (1 Winzervesper)"]
[null,"Barbara Schmidt (1 Kühltasche)"]

{"sheet":"Einzelwertung3","index":5,"n_rows":63,"n_cols":10,"rows_kept":63,"cut":false,"hidden":false,"merged":[[0,0,0,9]]}
[{"$f":"CONCATENATE(\"5. Sommer-Cup - Freizeittreff Herbede - \",TEXT(Gesamtstand!$H$2,\"TT.MM.JJ\"))","v":"5. Sommer-Cup - Freizeittreff Herbede - 16.05.19"}]
["Spieler","Runde 1","Runde 2","Gesamt","bessere?","Pl. R1","Pl. R2","Pl. Ges.","gewertet","Punkte"]
["Lenk, Rolf",25,39,{"$f":"IF(B3>0,C3+B3,\"\")","v":64},true,{"$f":"IF(B3>0,COUNTIF(B$3:B$55,\"<\"&B3)+1,\"\")","v":1},{"$f":"IF(C3>0,COUNTIF(C$3:C$55,\"<\"&C3)+1,\"\")","v":14},{"$f":"IF(AND(B3>0,C3>0),COUNTIF(D$3:D$55,\"<\"&D3)+1,\"\")","v":4},{"$f":"IF(B3>0,IF(E3,MIN(F3:H3),MAX(F3:H3)),\"\")","v":1},{"$f":"IF(B3>0,VLOOKUP(I3,Punkteschema!$A$2:$B$101,2,FALSE),\"\")","v":25}]
["Schmidtbauer, Günter",35,31,66,true,12,1,6,1,{"$f":"IF(B4>0,VLOOKUP(I4,Punkteschema!$A$2:$B$101,2,FALSE),\"\")","v":25}]
["Urban, Volker",25,32,57,false,1,3,1,3,{"$f":"IF(B5>0,VLOOKUP(I5,Punkteschema!$A$2:$B$101,2,FALSE),\"\")","v":18}]
["Urban, Angela",28,35,63,true,3,7,3,3,{"$f":"IF(B6>0,VLOOKUP(I6,Punkteschema!$A$2:$B$101,2,FALSE),\"\")","v":18}]
["Kunz, Martin",28,42,70,true,3,18,10,3,{"$f":"IF(B7>0,VLOOKUP(I7,Punkteschema!$A$2:$B$101,2,FALSE),\"\")","v":18}]
["Kortmann, Sabine",30,34,64,true,5,6,4,4,{"$f":"IF(B8>0,VLOOKUP(I8,Punkteschema!$A$2:$B$101,2,FALSE),\"\")","v":15}]
["Scharpe, Sabine",33,33,66,true,9,4,6,4,{"$f":"IF(B9>0,VLOOKUP(I9,Punkteschema!$A$2:$B$101,2,FALSE),\"\")","v":15}]
["Mühling, Dirk",30,36,66,true,5,9,6,5,{"$f":"IF(B10>0,VLOOKUP(I10,Punkteschema!$A$2:$B$101,2,FALSE),\"\")","v":15}]
["Ginschel, Rudolf",31,31,62,false,7,1,2,7,{"$f":"IF(B11>0,VLOOKUP(I11,Punkteschema!$A$2:$B$101,2,FALSE),\"\")","v":10}]
["Jezierski, Marie-Luise",31,37,68,true,7,11,9,7,{"$f":"IF(B12>0,VLOOKUP(I12,Punkteschema!$A$2:$B$101,2,FALSE),\"\")","v":10}]
["Schmidt, Barbara",40,35,75,true,15,7,14,7,{"$f":"IF(B13>0,VLOOKUP(I13,Punkteschema!$A$2:$B$101,2,FALSE),\"\")","v":10}]
["Kortmann, Uwe",34,36,70,true,10,9,10,9,{"$f":"IF(B14>0,VLOOKUP(I14,Punkteschema!$A$2:$B$101,2,FALSE),\"\")","v":10}]
["Tabor, Peter",34,38,72,true,10,13,13,10,{"$f":"IF(B15>0,VLOOKUP(I15,Punkteschema!$A$2:$B$101,2,FALSE),\"\")","v":10}]
["Börgmann, Brigitte",41,37,78,true,16,11,16,11,{"$f":"IF(B16>0,VLOOKUP(I16,Punkteschema!$A$2:$B$101,2,FALSE),\"\")","v":5}]
["Presser, Wolfgang",36,39,75,true,13,14,14,13,{"$f":"IF(B17>0,VLOOKUP(I17,Punkteschema!$A$2:$B$101,2,FALSE),\"\")","v":5}]
["Puschner, Michael",37,33,70,false,14,4,10,14,{"$f":"IF(B18>0,VLOOKUP(I18,Punkteschema!$A$2:$B$101,2,FALSE),\"\")","v":5}]
["Börgmann, Ulrich",55,39,94,true,18,14,18,14,{"$f":"IF(B19>0,VLOOKUP(I19,Punkteschema!$A$2:$B$101,2,FALSE),\"\")","v":5}]
["Kersch, Uwe",43,41,84,true,17,17,17,17,{"$f":"IF(B20>0,VLOOKUP(I20,Punkteschema!$A$2:$B$101,2,FALSE),\"\")","v":3}]
[null,null,null,{"$f":"IF(B21>0,C21+B21,\"\")","v":""},true,{"$f":"IF(B21>0,COUNTIF(B$3:B$55,\"<\"&B21)+1,\"\")","v":""},{"$f":"IF(C21>0,COUNTIF(C$3:C$55,\"<\"&C21)+1,\"\")","v":""},{"$f":"IF(AND(B21>0,C21>0),COUNTIF(D$3:D$55,\"<\"&D21)+1,\"\")","v":""},{"$f":"IF(B21>0,IF(E21,MIN(F21:H21),MAX(F21:H21)),\"\")","v":""},{"$f":"IF(B21>0,VLOOKUP(I21,Punkteschema!$A$2:$B$101,2,FALSE),\"\")","v":""}]
[null,null,null,"",true,"","","","",{"$f":"IF(B22>0,VLOOKUP(I22,Punkteschema!$A$2:$B$101,2,FALSE),\"\")","v":""}]
[null,null,null,"",false,"","","","",{"$f":"IF(B23>0,VLOOKUP(I23,Punkteschema!$A$2:$B$101,2,FALSE),\"\")","v":""}]
[null,null,null,{"$f":"IF(B24>0,C24+B24,\"\")","v":""},true,{"$f":"IF(B24>0,COUNTIF(B$3:B$55,\"<\"&B24)+1,\"\")","v":""},"",{"$f":"IF(AND(B24>0,C24>0),COUNTIF(D$3:D$55,\"<\"&D24)+1,\"\")","v":""},{"$f":"IF(B24>0,IF(E24,MIN(F24:H24),MAX(F24:H24)),\"\")","v":""},{"$f":"IF(B24>0,VLOOKUP(I24,Punkteschema!$A$2:$B$101,2,FALSE),\"\")","v":""}]
[null,null,null,"",true,"","","","",{"$f":"IF(B25>0,VLOOKUP(I25,Punkteschema!$A$2:$B$101,2,FALSE),\"\")","v":""}]
[null,null,null,"",true,"","","","",{"$f":"IF(B26>0,VLOOKUP(I26,Punkteschema!$A$2:$B$101,2,FALSE),\"\")","v":""}]
[null,null,null,"",true,"","","","",{"$f":"IF(B27>0,VLOOKUP(I27,Punkteschema!$A$2:$B$101,2,FALSE),\"\")","v":""}]
[null,null,null,"",true,"","","","",{"$f":"IF(B28>0,VLOOKUP(I28,Punkteschema!$A$2:$B$101,2,FALSE),\"\")","v":""}]
[null,null,null,"",true,"","","","",{"$f":"IF(B29>0,VLOOKUP(I29,Punkteschema!$A$2:$B$101,2,FALSE),\"\")","v":""}]
[null,null,null,"",true,"","","","",{"$f":"IF(B30>0,VLOOKUP(I30,Punkteschema!$A$2:$B$101,2,FALSE),\"\")","v":""}]
[null,null,null,"",true,"","","","",{"$f":"IF(B31>0,VLOOKUP(I31,Punkteschema!$A$2:$B$101,2,FALSE),\"\")","v":""}]
[null,null,null,"",true,"","","","",{"$f":"IF(B32>0,VLOOKUP(I32,Punkteschema!$A$2:$B$101,2,FALSE),\"\")","v":""}]
[null,null,null,"",true,"","","","",{"$f":"IF(B33>0,VLOOKUP(I33,Punkteschema!$A$2:$B$101,2,FALSE),\"\")","v":""}]
[null,null,null,"",true,"","","","",{"$f":"IF(B34>0,VLOOKUP(I34,Punkteschema!$A$2:$B$101,2,FALSE),\"\")","v":""}]
[null,null,null,"",true,"","","","",{"$f":"IF(B35>0,VLOOKUP(I35,Punkteschema!$A$2:$B$101,2,FALSE),\"\")","v":""}]
[null,null,null,"",true,"","","","",{"$f":"IF(B36>0,VLOOKUP(I36,Punkteschema!$A$2:$B$101,2,FALSE),\"\")","v":""}]
[null,null,null,"",true,"","","","",{"$f":"IF(B37>0,VLOOKUP(I37,Punkteschema!$A$2:$B$101,2,FALSE),\"\")","v":""}]
[null,null,null,"",true,"","","","",{"$f":"IF(B38>0,VLOOKUP(I38,Punkteschema!$A$2:$B$101,2,FALSE),\"\")","v":""}]
[null,null,null,"",true,"","","","",{"$f":"IF(B39>0,VLOOKUP(I39,Punkteschema!$A$2:$B$101,2,FALSE),\"\")","v":""}]
[null,null,null,"",true,"","","","",{"$f":"IF(B40>0,VLOOKUP(I40,Punkteschema!$A$2:$B$101,2,FALSE),\"\")","v":""}]
[null,null,null,"",true,"","","","",{"$f":"IF(B41>0,VLOOKUP(I41,Punkteschema!$A$2:$B$101,2,FALSE),\"\")","v":""}]
[null,null,null,"",true,"","","","",{"$f":"IF(B42>0,VLOOKUP(I42,Punkteschema!$A$2:$B$101,2,FALSE),\"\")","v":""}]
[null,null,null,"",true,"","","","",{"$f":"IF(B43>0,VLOOKUP(I43,Punkteschema!$A$2:$B$101,2,FALSE),\"\")","v":""}]
[null,null,null,"",true,"","","","",{"$f":"IF(B44>0,VLOOKUP(I44,Punkteschema!$A$2:$B$101,2,FALSE),\"\")","v":""}]
[null,null,null,"",true,"","","","",{"$f":"IF(B45>0,VLOOKUP(I45,Punkteschema!$A$2:$B$101,2,FALSE),\"\")","v":""}]
[null,null,null,"",true,"","","","",{"$f":"IF(B46>0,VLOOKUP(I46,Punkteschema!$A$2:$B$101,2,FALSE),\"\")","v":""}]
[null,null,null,"",true,"","","","",{"$f":"IF(B47>0,VLOOKUP(I47,Punkteschema!$A$2:$B$101,2,FALSE),\"\")","v":""}]
[null,null,null,"",true,"","","","",{"$f":"IF(B48>0,VLOOKUP(I48,Punkteschema!$A$2:$B$101,2,FALSE),\"\")","v":""}]
[null,null,null,"",true,"","","","",{"$f":"IF(B49>0,VLOOKUP(I49,Punkteschema!$A$2:$B$101,2,FALSE),\"\")","v":""}]
[null,null,null,"",true,"","","","",{"$f":"IF(B50>0,VLOOKUP(I50,Punkteschema!$A$2:$B$101,2,FALSE),\"\")","v":""}]
[null,null,null,"",true,"","","","",{"$f":"IF(B51>0,VLOOKUP(I51,Punkteschema!$A$2:$B$101,2,FALSE),\"\")","v":""}]
[null,null,null,"",true,"","","","",{"$f":"IF(B52>0,VLOOKUP(I52,Punkteschema!$A$2:$B$101,2,FALSE),\"\")","v":""}]
[null,null,null,"",true,{"$f":"IF(B53>0,COUNTIF(B$3:B$55,\"<\"&B53)+1,\"\")","v":""},"",{"$f":"IF(AND(B53>0,C53>0),COUNTIF(D$3:D$55,\"<\"&D53)+1,\"\")","v":""},{"$f":"IF(B53>0,IF(E53,MIN(F53:H53),MAX(F53:H53)),\"\")","v":""},{"$f":"IF(B53>0,VLOOKUP(I53,Punkteschema!$A$2:$B$101,2,FALSE),\"\")","v":""}]
[null,null,null,"",true,"","",{"$f":"IF(AND(B54>0,C54>0),COUNTIF(D$3:D$55,\"<\"&D54)+1,\"\")","v":""},{"$f":"IF(B54>0,IF(E54,MIN(F54:H54),MAX(F54:H54)),\"\")","v":""},{"$f":"IF(B54>0,VLOOKUP(I54,Punkteschema!$A$2:$B$101,2,FALSE),\"\")","v":""}]
[null,null,null,"",true,"","",{"$f":"IF(AND(B55>0,C55>0),COUNTIF(D$3:D$55,\"<\"&D55)+1,\"\")","v":""},{"$f":"IF(B55>0,IF(E55,MIN(F55:H55),MAX(F55:H55)),\"\")","v":""},{"$f":"IF(B55>0,VLOOKUP(I55,Punkteschema!$A$2:$B$101,2,FALSE),\"\")","v":""}]
[]
["OS: Mühling, Dirk (HEV)",null,null,null,"Runde 1:","E","<- E/B"]
["S: Urban, Volker (ASW)",null,null,null,"Runde 2:","B","<- E/B"]
["S: Ginschel, Rudolf (BMC)"]
[]
["Verloste Preise: ","Michael Puschner (Verzehrgutschein 10 Euro)"]
[null,"Günter Schmidtbauer (Trinkflaschenset)"]
[null,"Sabine Scharpe (1 Mini-Kühltasche)"]

{"sheet":"Einzelwertung4","index":6,"n_rows":63,"n_cols":10,"rows_kept":63,"cut":false,"hidden":false,"merged":[[0,0,0,9]]}
[{"$f":"CONCATENATE(\"5. Sommer-Cup - Freizeittreff Herbede - \",TEXT(Gesamtstand!$I$2,\"TT.MM.JJ\"))","v":"5. Sommer-Cup - Freizeittreff Herbede - 23.05.19"}]
["Spieler","Runde 1","Runde 2","Gesamt","bessere?","Pl. R1","Pl. R2","Pl. Ges.","gewertet","Punkte"]
["Urban, Dominic",27,30,{"$f":"IF(B3>0,C3+B3,\"\")","v":57},true,{"$f":"IF(B3>0,COUNTIF(B$3:B$55,\"<\"&B3)+1,\"\")","v":2},{"$f":"IF(C3>0,COUNTIF(C$3:C$55,\"<\"&C3)+1,\"\")","v":1},{"$f":"IF(AND(B3>0,C3>0),COUNTIF(D$3:D$55,\"<\"&D3)+1,\"\")","v":1},{"$f":"IF(B3>0,IF(E3,MIN(F3:H3),MAX(F3:H3)),\"\")","v":1},{"$f":"IF(B3>0,VLOOKUP(I3,Punkteschema!$A$2:$B$101,2,FALSE),\"\")","v":25}]
["Mühling, Dirk",35,30,{"$f":"IF(B4>0,C4+B4,\"\")","v":65},true,9,1,6,1,{"$f":"IF(B4>0,VLOOKUP(I4,Punkteschema!$A$2:$B$101,2,FALSE),\"\")","v":25}]
["Greiffendorf, Hellmut",37,30,"<",true,13,1,38,1,{"$f":"IF(B5>0,VLOOKUP(I5,Punkteschema!$A$2:$B$101,2,FALSE),\"\")","v":25}]
["Kortmann, Sabine",28,34,{"$f":"IF(B6>0,C6+B6,\"\")","v":62},true,3,6,4,3,{"$f":"IF(B6>0,VLOOKUP(I6,Punkteschema!$A$2:$B$101,2,FALSE),\"\")","v":18}]
["Urban, Volker",26,32,58,false,1,4,2,4,{"$f":"IF(B7>0,VLOOKUP(I7,Punkteschema!$A$2:$B$101,2,FALSE),\"\")","v":15}]
["Lenk, Rolf",28,32,60,false,3,4,3,4,{"$f":"IF(B8>0,VLOOKUP(I8,Punkteschema!$A$2:$B$101,2,FALSE),\"\")","v":15}]
["Puschner, Michael",29,35,64,true,5,8,5,5,{"$f":"IF(B9>0,VLOOKUP(I9,Punkteschema!$A$2:$B$101,2,FALSE),\"\")","v":15}]
["Scharpe, Sabine",30,42,72,true,6,16,9,6,{"$f":"IF(B10>0,VLOOKUP(I10,Punkteschema!$A$2:$B$101,2,FALSE),\"\")","v":15}]
["Kunz, Martin",31,37,68,true,7,9,7,7,{"$f":"IF(B11>0,VLOOKUP(I11,Punkteschema!$A$2:$B$101,2,FALSE),\"\")","v":10}]
["Schmidt, Barbara",32,41,73,true,8,13,11,8,{"$f":"IF(B12>0,VLOOKUP(I12,Punkteschema!$A$2:$B$101,2,FALSE),\"\")","v":10}]
["Schmidtbauer, Günter",35,37,72,true,9,9,9,9,{"$f":"IF(B13>0,VLOOKUP(I13,Punkteschema!$A$2:$B$101,2,FALSE),\"\")","v":10}]
["Börgmann, Brigitte",36,37,73,true,11,9,11,9,{"$f":"IF(B14>0,VLOOKUP(I14,Punkteschema!$A$2:$B$101,2,FALSE),\"\")","v":10}]
["Jezierski, Marie-Luise",36,40,76,true,11,12,13,11,{"$f":"IF(B15>0,VLOOKUP(I15,Punkteschema!$A$2:$B$101,2,FALSE),\"\")","v":5}]
["Ginschel, Rudolf",37,34,71,false,13,6,8,13,{"$f":"IF(B16>0,VLOOKUP(I16,Punkteschema!$A$2:$B$101,2,FALSE),\"\")","v":5}]
["Börgmann, Ulrich",42,41,83,true,15,13,14,13,{"$f":"IF(B17>0,VLOOKUP(I17,Punkteschema!$A$2:$B$101,2,FALSE),\"\")","v":5}]
["Kortmann, Uwe",46,41,87,true,16,13,15,13,{"$f":"IF(B18>0,VLOOKUP(I18,Punkteschema!$A$2:$B$101,2,FALSE),\"\")","v":5}]
[null,null,null,{"$f":"IF(B19>0,C19+B19,\"\")","v":""},true,{"$f":"IF(B19>0,COUNTIF(B$3:B$55,\"<\"&B19)+1,\"\")","v":""},{"$f":"IF(C19>0,COUNTIF(C$3:C$55,\"<\"&C19)+1,\"\")","v":""},{"$f":"IF(AND(B19>0,C19>0),COUNTIF(D$3:D$55,\"<\"&D19)+1,\"\")","v":""},{"$f":"IF(B19>0,IF(E19,MIN(F19:H19),MAX(F19:H19)),\"\")","v":""},{"$f":"IF(B19>0,VLOOKUP(I19,Punkteschema!$A$2:$B$101,2,FALSE),\"\")","v":""}]
[null,null,null,"",true,"","","","",{"$f":"IF(B20>0,VLOOKUP(I20,Punkteschema!$A$2:$B$101,2,FALSE),\"\")","v":""}]
[null,null,null,"",true,"","","","",{"$f":"IF(B21>0,VLOOKUP(I21,Punkteschema!$A$2:$B$101,2,FALSE),\"\")","v":""}]
[null,null,null,"",true,"","","","",{"$f":"IF(B22>0,VLOOKUP(I22,Punkteschema!$A$2:$B$101,2,FALSE),\"\")","v":""}]
[null,null,null,"",true,"","","","",{"$f":"IF(B23>0,VLOOKUP(I23,Punkteschema!$A$2:$B$101,2,FALSE),\"\")","v":""}]
[null,null,null,{"$f":"IF(B24>0,C24+B24,\"\")","v":""},true,{"$f":"IF(B24>0,COUNTIF(B$3:B$55,\"<\"&B24)+1,\"\")","v":""},"",{"$f":"IF(AND(B24>0,C24>0),COUNTIF(D$3:D$55,\"<\"&D24)+1,\"\")","v":""},{"$f":"IF(B24>0,IF(E24,MIN(F24:H24),MAX(F24:H24)),\"\")","v":""},{"$f":"IF(B24>0,VLOOKUP(I24,Punkteschema!$A$2:$B$101,2,FALSE),\"\")","v":""}]
[null,null,null,"",true,"","","","",{"$f":"IF(B25>0,VLOOKUP(I25,Punkteschema!$A$2:$B$101,2,FALSE),\"\")","v":""}]
[null,null,null,"",true,"","","","",{"$f":"IF(B26>0,VLOOKUP(I26,Punkteschema!$A$2:$B$101,2,FALSE),\"\")","v":""}]
[null,null,null,"",true,"","","","",{"$f":"IF(B27>0,VLOOKUP(I27,Punkteschema!$A$2:$B$101,2,FALSE),\"\")","v":""}]
[null,null,null,"",true,"","","","",{"$f":"IF(B28>0,VLOOKUP(I28,Punkteschema!$A$2:$B$101,2,FALSE),\"\")","v":""}]
[null,null,null,"",true,"","","","",{"$f":"IF(B29>0,VLOOKUP(I29,Punkteschema!$A$2:$B$101,2,FALSE),\"\")","v":""}]
[null,null,null,"",true,"","","","",{"$f":"IF(B30>0,VLOOKUP(I30,Punkteschema!$A$2:$B$101,2,FALSE),\"\")","v":""}]
[null,null,null,"",true,"","","","",{"$f":"IF(B31>0,VLOOKUP(I31,Punkteschema!$A$2:$B$101,2,FALSE),\"\")","v":""}]
[null,null,null,"",true,"","","","",{"$f":"IF(B32>0,VLOOKUP(I32,Punkteschema!$A$2:$B$101,2,FALSE),\"\")","v":""}]
[null,null,null,"",true,"","","","",{"$f":"IF(B33>0,VLOOKUP(I33,Punkteschema!$A$2:$B$101,2,FALSE),\"\")","v":""}]
[null,null,null,"",true,"","","","",{"$f":"IF(B34>0,VLOOKUP(I34,Punkteschema!$A$2:$B$101,2,FALSE),\"\")","v":""}]
[null,null,null,"",true,"","","","",{"$f":"IF(B35>0,VLOOKUP(I35,Punkteschema!$A$2:$B$101,2,FALSE),\"\")","v":""}]
[null,null,null,"",true,"","","","",{"$f":"IF(B36>0,VLOOKUP(I36,Punkteschema!$A$2:$B$101,2,FALSE),\"\")","v":""}]
[null,null,null,"",true,"","","","",{"$f":"IF(B37>0,VLOOKUP(I37,Punkteschema!$A$2:$B$101,2,FALSE),\"\")","v":""}]
[null,null,null,"",true,"","","","",{"$f":"IF(B38>0,VLOOKUP(I38,Punkteschema!$A$2:$B$101,2,FALSE),\"\")","v":""}]
[null,null,null,"",true,"","","","",{"$f":"IF(B39>0,VLOOKUP(I39,Punkteschema!$A$2:$B$101,2,FALSE),\"\")","v":""}]
[null,null,null,"",true,"","","","",{"$f":"IF(B40>0,VLOOKUP(I40,Punkteschema!$A$2:$B$101,2,FALSE),\"\")","v":""}]
[null,null,null,"",true,"","","","",{"$f":"IF(B41>0,VLOOKUP(I41,Punkteschema!$A$2:$B$101,2,FALSE),\"\")","v":""}]
[null,null,null,"",true,"","","","",{"$f":"IF(B42>0,VLOOKUP(I42,Punkteschema!$A$2:$B$101,2,FALSE),\"\")","v":""}]
[null,null,null,"",true,"","","","",{"$f":"IF(B43>0,VLOOKUP(I43,Punkteschema!$A$2:$B$101,2,FALSE),\"\")","v":""}]
[null,null,null,"",true,"","","","",{"$f":"IF(B44>0,VLOOKUP(I44,Punkteschema!$A$2:$B$101,2,FALSE),\"\")","v":""}]
[null,null,null,"",true,"","","","",{"$f":"IF(B45>0,VLOOKUP(I45,Punkteschema!$A$2:$B$101,2,FALSE),\"\")","v":""}]
[null,null,null,"",true,"","","","",{"$f":"IF(B46>0,VLOOKUP(I46,Punkteschema!$A$2:$B$101,2,FALSE),\"\")","v":""}]
[null,null,null,"",true,"","","","",{"$f":"IF(B47>0,VLOOKUP(I47,Punkteschema!$A$2:$B$101,2,FALSE),\"\")","v":""}]
[null,null,null,"",true,"","","","",{"$f":"IF(B48>0,VLOOKUP(I48,Punkteschema!$A$2:$B$101,2,FALSE),\"\")","v":""}]
[null,null,null,"",true,"","","","",{"$f":"IF(B49>0,VLOOKUP(I49,Punkteschema!$A$2:$B$101,2,FALSE),\"\")","v":""}]
[null,null,null,"",true,"","","","",{"$f":"IF(B50>0,VLOOKUP(I50,Punkteschema!$A$2:$B$101,2,FALSE),\"\")","v":""}]
[null,null,null,"",true,"","","","",{"$f":"IF(B51>0,VLOOKUP(I51,Punkteschema!$A$2:$B$101,2,FALSE),\"\")","v":""}]
[null,null,null,"",true,"","","","",{"$f":"IF(B52>0,VLOOKUP(I52,Punkteschema!$A$2:$B$101,2,FALSE),\"\")","v":""}]
[null,null,null,"",true,{"$f":"IF(B53>0,COUNTIF(B$3:B$55,\"<\"&B53)+1,\"\")","v":""},"",{"$f":"IF(AND(B53>0,C53>0),COUNTIF(D$3:D$55,\"<\"&D53)+1,\"\")","v":""},{"$f":"IF(B53>0,IF(E53,MIN(F53:H53),MAX(F53:H53)),\"\")","v":""},{"$f":"IF(B53>0,VLOOKUP(I53,Punkteschema!$A$2:$B$101,2,FALSE),\"\")","v":""}]
[null,null,null,"",true,"","",{"$f":"IF(AND(B54>0,C54>0),COUNTIF(D$3:D$55,\"<\"&D54)+1,\"\")","v":""},{"$f":"IF(B54>0,IF(E54,MIN(F54:H54),MAX(F54:H54)),\"\")","v":""},{"$f":"IF(B54>0,VLOOKUP(I54,Punkteschema!$A$2:$B$101,2,FALSE),\"\")","v":""}]
[null,null,null,"",true,"","",{"$f":"IF(AND(B55>0,C55>0),COUNTIF(D$3:D$55,\"<\"&D55)+1,\"\")","v":""},{"$f":"IF(B55>0,IF(E55,MIN(F55:H55),MAX(F55:H55)),\"\")","v":""},{"$f":"IF(B55>0,VLOOKUP(I55,Punkteschema!$A$2:$B$101,2,FALSE),\"\")","v":""}]
[]
["OS: Mühling, Dirk (HEV)",null,null,null,"Runde 1:","E","<- E/B"]
["S: Urban, Volker (ASW)",null,null,null,"Runde 2:","B","<- E/B"]
["S: Ginschel, Rudolf (BMC)"]
[]
["Verloste Preise: ","Günter Schmidtbauer (1 Flasche Amaretto)"]
[null,"Ulrich Börgmann (1 Großpackung Color-Rado)"]
[null,"Brigitte Börgmann (1 Set Biergläser)"]

{"sheet":"Einzelwertung5","index":7,"n_rows":64,"n_cols":10,"rows_kept":64,"cut":false,"hidden":false,"merged":[[0,0,0,9]]}
[{"$f":"CONCATENATE(\"5. Sommer-Cup - Freizeittreff Herbede - \",TEXT(Gesamtstand!$J$2,\"TT.MM.JJ\"))","v":"5. Sommer-Cup - Freizeittreff Herbede - 29.05.19"}]
["Spieler","Runde 1","Runde 2","Gesamt","bessere?","Pl. R1","Pl. R2","Pl. Ges.","gewertet","Punkte"]
["Greiffendorf, Hellmut",26,32,{"$f":"IF(B3>0,C3+B3,\"\")","v":58},true,{"$f":"IF(B3>0,COUNTIF(B$3:B$55,\"<\"&B3)+1,\"\")","v":1},{"$f":"IF(C3>0,COUNTIF(C$3:C$55,\"<\"&C3)+1,\"\")","v":3},{"$f":"IF(AND(B3>0,C3>0),COUNTIF(D$3:D$55,\"<\"&D3)+1,\"\")","v":1},{"$f":"IF(B3>0,IF(E3,MIN(F3:H3),MAX(F3:H3)),\"\")","v":1},{"$f":"IF(B3>0,VLOOKUP(I3,Punkteschema!$A$2:$B$101,2,FALSE),\"\")","v":25}]
["Kunz, Martin",31,30,61,true,5,1,2,1,{"$f":"IF(B4>0,VLOOKUP(I4,Punkteschema!$A$2:$B$101,2,FALSE),\"\")","v":25}]
["Jezierski, Marie-Luise",29,39,68,true,3,17,8,3,{"$f":"IF(B5>0,VLOOKUP(I5,Punkteschema!$A$2:$B$101,2,FALSE),\"\")","v":18}]
["Urban, Dominic",36,33,69,true,12,4,9,4,{"$f":"IF(B6>0,VLOOKUP(I6,Punkteschema!$A$2:$B$101,2,FALSE),\"\")","v":15}]
["Tabor, Peter",40,33,73,true,15,4,13,4,{"$f":"IF(B7>0,VLOOKUP(I7,Punkteschema!$A$2:$B$101,2,FALSE),\"\")","v":15}]
["Brunnenkant, Frank",31,34,65,true,5,6,5,5,{"$f":"IF(B8>0,VLOOKUP(I8,Punkteschema!$A$2:$B$101,2,FALSE),\"\")","v":15}]
["Puschner, Michael",31,35,66,true,5,8,6,5,{"$f":"IF(B9>0,VLOOKUP(I9,Punkteschema!$A$2:$B$101,2,FALSE),\"\")","v":15}]
["Lieber, Nicole",38,34,72,true,13,6,11,6,{"$f":"IF(B10>0,VLOOKUP(I10,Punkteschema!$A$2:$B$101,2,FALSE),\"\")","v":15}]
["Urban, Volker",32,30,62,false,8,1,3,8,{"$f":"IF(B11>0,VLOOKUP(I11,Punkteschema!$A$2:$B$101,2,FALSE),\"\")","v":10}]
["Lenk, Rolf",28,36,64,false,2,9,4,9,{"$f":"IF(B12>0,VLOOKUP(I12,Punkteschema!$A$2:$B$101,2,FALSE),\"\")","v":10}]
["Dammann, Reinhold",33,126,159,true,9,20,20,9,{"$f":"IF(B13>0,VLOOKUP(I13,Punkteschema!$A$2:$B$101,2,FALSE),\"\")","v":10}]
["Kortmann, Sabine",29,37,66,false,3,10,6,10,{"$f":"IF(B14>0,VLOOKUP(I14,Punkteschema!$A$2:$B$101,2,FALSE),\"\")","v":10}]
["Kortmann, Uwe",34,37,71,true,10,10,10,10,{"$f":"IF(B15>0,VLOOKUP(I15,Punkteschema!$A$2:$B$101,2,FALSE),\"\")","v":10}]
["Urban, Angela",34,38,72,true,10,13,11,10,{"$f":"IF(B16>0,VLOOKUP(I16,Punkteschema!$A$2:$B$101,2,FALSE),\"\")","v":10}]
["Börgmann, Ulrich",40,37,77,true,15,10,14,10,{"$f":"IF(B17>0,VLOOKUP(I17,Punkteschema!$A$2:$B$101,2,FALSE),\"\")","v":10}]
["Börgmann, Brigitte",39,38,77,true,14,13,14,13,{"$f":"IF(B18>0,VLOOKUP(I18,Punkteschema!$A$2:$B$101,2,FALSE),\"\")","v":5}]
["Kersch, Uwe",40,38,78,true,15,13,16,13,{"$f":"IF(B19>0,VLOOKUP(I19,Punkteschema!$A$2:$B$101,2,FALSE),\"\")","v":5}]
["Scharpe, Sabine",44,38,82,true,19,13,17,13,{"$f":"IF(B20>0,VLOOKUP(I20,Punkteschema!$A$2:$B$101,2,FALSE),\"\")","v":5}]
["Schmidt, Barbara",44,40,84,true,19,18,18,18,{"$f":"IF(B21>0,VLOOKUP(I21,Punkteschema!$A$2:$B$101,2,FALSE),\"\")","v":3}]
["Schmidtbauer, Günter",43,44,87,true,18,19,19,18,{"$f":"IF(B22>0,VLOOKUP(I22,Punkteschema!$A$2:$B$101,2,FALSE),\"\")","v":3}]
[null,null,null,{"$f":"IF(B23>0,C23+B23,\"\")","v":""},true,"","","",{"$f":"IF(B23>0,IF(E23,MIN(F23:H23),MAX(F23:H23)),\"\")","v":""},{"$f":"IF(B23>0,VLOOKUP(I23,Punkteschema!$A$2:$B$101,2,FALSE),\"\")","v":""}]
[null,null,null,"",true,"","","","",{"$f":"IF(B24>0,VLOOKUP(I24,Punkteschema!$A$2:$B$101,2,FALSE),\"\")","v":""}]
[null,null,null,"",false,"","","","",{"$f":"IF(B25>0,VLOOKUP(I25,Punkteschema!$A$2:$B$101,2,FALSE),\"\")","v":""}]
[null,null,null,"",true,"","","","",{"$f":"IF(B26>0,VLOOKUP(I26,Punkteschema!$A$2:$B$101,2,FALSE),\"\")","v":""}]
[null,null,null,"",true,"","","","",{"$f":"IF(B27>0,VLOOKUP(I27,Punkteschema!$A$2:$B$101,2,FALSE),\"\")","v":""}]
[null,null,null,"",true,"","","","",{"$f":"IF(B28>0,VLOOKUP(I28,Punkteschema!$A$2:$B$101,2,FALSE),\"\")","v":""}]
[null,null,null,{"$f":"IF(B29>0,C29+B29,\"\")","v":""},true,"","","",{"$f":"IF(B29>0,IF(E29,MIN(F29:H29),MAX(F29:H29)),\"\")","v":""},{"$f":"IF(B29>0,VLOOKUP(I29,Punkteschema!$A$2:$B$101,2,FALSE),\"\")","v":""}]
[null,null,null,"",true,"","","","",{"$f":"IF(B30>0,VLOOKUP(I30,Punkteschema!$A$2:$B$101,2,FALSE),\"\")","v":""}]
[null,null,null,"",true,"","","","",{"$f":"IF(B31>0,VLOOKUP(I31,Punkteschema!$A$2:$B$101,2,FALSE),\"\")","v":""}]
[null,null,null,"",true,"","","","",{"$f":"IF(B32>0,VLOOKUP(I32,Punkteschema!$A$2:$B$101,2,FALSE),\"\")","v":""}]
[null,null,null,"",true,"","","","",{"$f":"IF(B33>0,VLOOKUP(I33,Punkteschema!$A$2:$B$101,2,FALSE),\"\")","v":""}]
[null,null,null,"",true,"","","","",{"$f":"IF(B34>0,VLOOKUP(I34,Punkteschema!$A$2:$B$101,2,FALSE),\"\")","v":""}]
[null,null,null,"",true,{"$f":"IF(B35>0,COUNTIF(B$3:B$55,\"<\"&B35)+1,\"\")","v":""},{"$f":"IF(C35>0,COUNTIF(C$3:C$55,\"<\"&C35)+1,\"\")","v":""},{"$f":"IF(AND(B35>0,C35>0),COUNTIF(D$3:D$55,\"<\"&D35)+1,\"\")","v":""},"",{"$f":"IF(B35>0,VLOOKUP(I35,Punkteschema!$A$2:$B$101,2,FALSE),\"\")","v":""}]
[null,null,null,"",true,"","","","",{"$f":"IF(B36>0,VLOOKUP(I36,Punkteschema!$A$2:$B$101,2,FALSE),\"\")","v":""}]
[null,null,null,"",true,"","","","",{"$f":"IF(B37>0,VLOOKUP(I37,Punkteschema!$A$2:$B$101,2,FALSE),\"\")","v":""}]
[null,null,null,"",true,"","","","",{"$f":"IF(B38>0,VLOOKUP(I38,Punkteschema!$A$2:$B$101,2,FALSE),\"\")","v":""}]
[null,null,null,"",true,"","","","",{"$f":"IF(B39>0,VLOOKUP(I39,Punkteschema!$A$2:$B$101,2,FALSE),\"\")","v":""}]
[null,null,null,"",true,"","","","",{"$f":"IF(B40>0,VLOOKUP(I40,Punkteschema!$A$2:$B$101,2,FALSE),\"\")","v":""}]
[null,null,null,"",true,"","","","",{"$f":"IF(B41>0,VLOOKUP(I41,Punkteschema!$A$2:$B$101,2,FALSE),\"\")","v":""}]
[null,null,null,"",true,"","","","",{"$f":"IF(B42>0,VLOOKUP(I42,Punkteschema!$A$2:$B$101,2,FALSE),\"\")","v":""}]
[null,null,null,"",true,"","","","",{"$f":"IF(B43>0,VLOOKUP(I43,Punkteschema!$A$2:$B$101,2,FALSE),\"\")","v":""}]
[null,null,null,"",true,"","","","",{"$f":"IF(B44>0,VLOOKUP(I44,Punkteschema!$A$2:$B$101,2,FALSE),\"\")","v":""}]
[null,null,null,"",true,"","","","",{"$f":"IF(B45>0,VLOOKUP(I45,Punkteschema!$A$2:$B$101,2,FALSE),\"\")","v":""}]
[null,null,null,"",true,"","","","",{"$f":"IF(B46>0,VLOOKUP(I46,Punkteschema!$A$2:$B$101,2,FALSE),\"\")","v":""}]
[null,null,null,"",true,"","","","",{"$f":"IF(B47>0,VLOOKUP(I47,Punkteschema!$A$2:$B$101,2,FALSE),\"\")","v":""}]
[null,null,null,"",true,"","","","",{"$f":"IF(B48>0,VLOOKUP(I48,Punkteschema!$A$2:$B$101,2,FALSE),\"\")","v":""}]
[null,null,null,"",true,"","","","",{"$f":"IF(B49>0,VLOOKUP(I49,Punkteschema!$A$2:$B$101,2,FALSE),\"\")","v":""}]
[null,null,null,"",true,"","","","",{"$f":"IF(B50>0,VLOOKUP(I50,Punkteschema!$A$2:$B$101,2,FALSE),\"\")","v":""}]
[null,null,null,"",true,"","","","",{"$f":"IF(B51>0,VLOOKUP(I51,Punkteschema!$A$2:$B$101,2,FALSE),\"\")","v":""}]
[null,null,null,"",true,"","","","",{"$f":"IF(B52>0,VLOOKUP(I52,Punkteschema!$A$2:$B$101,2,FALSE),\"\")","v":""}]
[null,null,null,"",true,"","","",{"$f":"IF(B53>0,IF(E53,MIN(F53:H53),MAX(F53:H53)),\"\")","v":""},{"$f":"IF(B53>0,VLOOKUP(I53,Punkteschema!$A$2:$B$101,2,FALSE),\"\")","v":""}]
[null,null,null,"",true,"","","",{"$f":"IF(B54>0,IF(E54,MIN(F54:H54),MAX(F54:H54)),\"\")","v":""},{"$f":"IF(B54>0,VLOOKUP(I54,Punkteschema!$A$2:$B$101,2,FALSE),\"\")","v":""}]
[null,null,null,"",true,"","","",{"$f":"IF(B55>0,IF(E55,MIN(F55:H55),MAX(F55:H55)),\"\")","v":""},{"$f":"IF(B55>0,VLOOKUP(I55,Punkteschema!$A$2:$B$101,2,FALSE),\"\")","v":""}]
[]
["OS: Greiffendorf, Hellmut (ASW)",null,null,null,"Runde 1:","E","<- E/B"]
["S: Urban, Volker (ASW)",null,null,null,"Runde 2:","B","<- E/B"]
["S: Puschner, Michael (HOB)"]
[]
["Verloste Preise: ","Ulrich Börgmann (1 Messer-Set)"]
[null,"Sabine Kortmann (1 Kühltasche)"]
[null,"Marie-Luise Jezierski (1 Windlicht)"]
[null," - verschenkt an Marita Keuth -"]

{"sheet":"Einzelwertung6","index":8,"n_rows":62,"n_cols":10,"rows_kept":62,"cut":false,"hidden":false,"merged":[[0,0,0,9]]}
[{"$f":"CONCATENATE(\"5. Sommer-Cup - Freizeittreff Herbede - \",TEXT(Gesamtstand!$K$2,\"TT.MM.JJ\"))","v":"5. Sommer-Cup - Freizeittreff Herbede - 06.06.19"}]
["Spieler","Runde 1","Runde 2","Gesamt","bessere?","Pl. R1","Pl. R2","Pl. Ges.","gewertet","Punkte"]
["Buchholz, Ansgar",29,30,{"$f":"IF(B3>0,C3+B3,\"\")","v":59},true,{"$f":"IF(B3>0,COUNTIF(B$3:B$55,\"<\"&B3)+1,\"\")","v":2},{"$f":"IF(C3>0,COUNTIF(C$3:C$55,\"<\"&C3)+1,\"\")","v":2},{"$f":"IF(AND(B3>0,C3>0),COUNTIF(D$3:D$55,\"<\"&D3)+1,\"\")","v":1},{"$f":"IF(B3>0,IF(E3,MIN(F3:H3),MAX(F3:H3)),\"\")","v":1},{"$f":"IF(B3>0,VLOOKUP(I3,Punkteschema!$A$2:$B$101,2,FALSE),\"\")","v":25}]
["Tabor, Peter",36,29,65,true,7,1,5,1,{"$f":"IF(B4>0,VLOOKUP(I4,Punkteschema!$A$2:$B$101,2,FALSE),\"\")","v":25}]
["Lenk, Rolf",30,30,60,false,4,2,2,4,{"$f":"IF(B5>0,VLOOKUP(I5,Punkteschema!$A$2:$B$101,2,FALSE),\"\")","v":15}]
["Urban, Volker",29,34,63,false,2,4,3,4,{"$f":"IF(B6>0,VLOOKUP(I6,Punkteschema!$A$2:$B$101,2,FALSE),\"\")","v":15}]
["Urban, Dominic",36,34,70,true,7,4,7,4,{"$f":"IF(B7>0,VLOOKUP(I7,Punkteschema!$A$2:$B$101,2,FALSE),\"\")","v":15}]
["Jezierski, Marie-Luise",32,37,69,true,5,10,6,5,{"$f":"IF(B8>0,VLOOKUP(I8,Punkteschema!$A$2:$B$101,2,FALSE),\"\")","v":15}]
["Börgmann, Brigitte",34,38,72,true,6,13,8,6,{"$f":"IF(B9>0,VLOOKUP(I9,Punkteschema!$A$2:$B$101,2,FALSE),\"\")","v":15}]
["Lieber, Nicole",37,35,72,true,10,6,8,6,{"$f":"IF(B10>0,VLOOKUP(I10,Punkteschema!$A$2:$B$101,2,FALSE),\"\")","v":15}]
["Börgmann, Ulrich",43,35,78,true,13,6,13,6,{"$f":"IF(B11>0,VLOOKUP(I11,Punkteschema!$A$2:$B$101,2,FALSE),\"\")","v":15}]
["Mühling, Dirk",36,37,73,true,7,10,10,7,{"$f":"IF(B12>0,VLOOKUP(I12,Punkteschema!$A$2:$B$101,2,FALSE),\"\")","v":10}]
["Greiffendorf, Hellmut",38,36,74,true,12,8,11,8,{"$f":"IF(B13>0,VLOOKUP(I13,Punkteschema!$A$2:$B$101,2,FALSE),\"\")","v":10}]
["Schmidtbauer, Günter",53,36,89,true,15,8,15,8,{"$f":"IF(B14>0,VLOOKUP(I14,Punkteschema!$A$2:$B$101,2,FALSE),\"\")","v":10}]
["Puschner, Michael",26,37,63,false,1,10,3,10,{"$f":"IF(B15>0,VLOOKUP(I15,Punkteschema!$A$2:$B$101,2,FALSE),\"\")","v":10}]
["Presser, Wolfgang",37,39,76,true,10,14,12,10,{"$f":"IF(B16>0,VLOOKUP(I16,Punkteschema!$A$2:$B$101,2,FALSE),\"\")","v":10}]
["Schmidt, Barbara",45,39,84,true,14,14,14,14,{"$f":"IF(B17>0,VLOOKUP(I17,Punkteschema!$A$2:$B$101,2,FALSE),\"\")","v":5}]
[null,null,null,{"$f":"IF(B18>0,C18+B18,\"\")","v":""},true,{"$f":"IF(B18>0,COUNTIF(B$3:B$55,\"<\"&B18)+1,\"\")","v":""},"",{"$f":"IF(AND(B18>0,C18>0),COUNTIF(D$3:D$55,\"<\"&D18)+1,\"\")","v":""},{"$f":"IF(B18>0,IF(E18,MIN(F18:H18),MAX(F18:H18)),\"\")","v":""},{"$f":"IF(B18>0,VLOOKUP(I18,Punkteschema!$A$2:$B$101,2,FALSE),\"\")","v":""}]
[null,null,null,"",true,{"$f":"IF(B19>0,COUNTIF(B$3:B$55,\"<\"&B19)+1,\"\")","v":""},"","","",{"$f":"IF(B19>0,VLOOKUP(I19,Punkteschema!$A$2:$B$101,2,FALSE),\"\")","v":""}]
[null,null,null,"",true,"","","","",{"$f":"IF(B20>0,VLOOKUP(I20,Punkteschema!$A$2:$B$101,2,FALSE),\"\")","v":""}]
[null,null,null,"",true,"","","","",{"$f":"IF(B21>0,VLOOKUP(I21,Punkteschema!$A$2:$B$101,2,FALSE),\"\")","v":""}]
[null,null,null,"",true,"","","","",{"$f":"IF(B22>0,VLOOKUP(I22,Punkteschema!$A$2:$B$101,2,FALSE),\"\")","v":""}]
[null,null,null,"",true,"","","","",{"$f":"IF(B23>0,VLOOKUP(I23,Punkteschema!$A$2:$B$101,2,FALSE),\"\")","v":""}]
[null,null,null,"",true,"","","","",{"$f":"IF(B24>0,VLOOKUP(I24,Punkteschema!$A$2:$B$101,2,FALSE),\"\")","v":""}]
[null,null,null,"",true,"","","","",{"$f":"IF(B25>0,VLOOKUP(I25,Punkteschema!$A$2:$B$101,2,FALSE),\"\")","v":""}]
[null,null,null,"",true,"","","","",{"$f":"IF(B26>0,VLOOKUP(I26,Punkteschema!$A$2:$B$101,2,FALSE),\"\")","v":""}]
[null,null,null,"",true,"","","","",{"$f":"IF(B27>0,VLOOKUP(I27,Punkteschema!$A$2:$B$101,2,FALSE),\"\")","v":""}]
[null,null,null,"",true,"","","","",{"$f":"IF(B28>0,VLOOKUP(I28,Punkteschema!$A$2:$B$101,2,FALSE),\"\")","v":""}]
[null,null,null,"",true,"","","","",{"$f":"IF(B29>0,VLOOKUP(I29,Punkteschema!$A$2:$B$101,2,FALSE),\"\")","v":""}]
[null,null,null,"",true,"","","","",{"$f":"IF(B30>0,VLOOKUP(I30,Punkteschema!$A$2:$B$101,2,FALSE),\"\")","v":""}]
[null,null,null,"",true,"","","","",{"$f":"IF(B31>0,VLOOKUP(I31,Punkteschema!$A$2:$B$101,2,FALSE),\"\")","v":""}]
[null,null,null,"",true,"","","","",{"$f":"IF(B32>0,VLOOKUP(I32,Punkteschema!$A$2:$B$101,2,FALSE),\"\")","v":""}]
[null,null,null,"",true,"","","","",{"$f":"IF(B33>0,VLOOKUP(I33,Punkteschema!$A$2:$B$101,2,FALSE),\"\")","v":""}]
[null,null,null,"",true,"","","","",{"$f":"IF(B34>0,VLOOKUP(I34,Punkteschema!$A$2:$B$101,2,FALSE),\"\")","v":""}]
[null,null,null,"",true,"","","","",{"$f":"IF(B35>0,VLOOKUP(I35,Punkteschema!$A$2:$B$101,2,FALSE),\"\")","v":""}]
[null,null,null,"",true,"","","","",{"$f":"IF(B36>0,VLOOKUP(I36,Punkteschema!$A$2:$B$101,2,FALSE),\"\")","v":""}]
[null,null,null,"",true,"","","","",{"$f":"IF(B37>0,VLOOKUP(I37,Punkteschema!$A$2:$B$101,2,FALSE),\"\")","v":""}]
[null,null,null,"",true,"","","","",{"$f":"IF(B38>0,VLOOKUP(I38,Punkteschema!$A$2:$B$101,2,FALSE),\"\")","v":""}]
[null,null,null,"",true,"","","","",{"$f":"IF(B39>0,VLOOKUP(I39,Punkteschema!$A$2:$B$101,2,FALSE),\"\")","v":""}]
[null,null,null,"",true,"","","","",{"$f":"IF(B40>0,VLOOKUP(I40,Punkteschema!$A$2:$B$101,2,FALSE),\"\")","v":""}]
[null,null,null,"",true,"","","","",{"$f":"IF(B41>0,VLOOKUP(I41,Punkteschema!$A$2:$B$101,2,FALSE),\"\")","v":""}]
[null,null,null,"",true,"","","","",{"$f":"IF(B42>0,VLOOKUP(I42,Punkteschema!$A$2:$B$101,2,FALSE),\"\")","v":""}]
[null,null,null,"",true,"","","","",{"$f":"IF(B43>0,VLOOKUP(I43,Punkteschema!$A$2:$B$101,2,FALSE),\"\")","v":""}]
[null,null,null,"",true,"","","","",{"$f":"IF(B44>0,VLOOKUP(I44,Punkteschema!$A$2:$B$101,2,FALSE),\"\")","v":""}]
[null,null,null,"",true,"","","","",{"$f":"IF(B45>0,VLOOKUP(I45,Punkteschema!$A$2:$B$101,2,FALSE),\"\")","v":""}]
[null,null,null,"",true,"","","","",{"$f":"IF(B46>0,VLOOKUP(I46,Punkteschema!$A$2:$B$101,2,FALSE),\"\")","v":""}]
[null,null,null,"",true,"","","","",{"$f":"IF(B47>0,VLOOKUP(I47,Punkteschema!$A$2:$B$101,2,FALSE),\"\")","v":""}]
[null,null,null,"",true,"","","","",{"$f":"IF(B48>0,VLOOKUP(I48,Punkteschema!$A$2:$B$101,2,FALSE),\"\")","v":""}]
[null,null,null,"",true,"","","","",{"$f":"IF(B49>0,VLOOKUP(I49,Punkteschema!$A$2:$B$101,2,FALSE),\"\")","v":""}]
[null,null,null,"",true,"","","","",{"$f":"IF(B50>0,VLOOKUP(I50,Punkteschema!$A$2:$B$101,2,FALSE),\"\")","v":""}]
[null,null,null,"",true,"","","","",{"$f":"IF(B51>0,VLOOKUP(I51,Punkteschema!$A$2:$B$101,2,FALSE),\"\")","v":""}]
[null,null,null,"",true,"","","","",{"$f":"IF(B52>0,VLOOKUP(I52,Punkteschema!$A$2:$B$101,2,FALSE),\"\")","v":""}]
[null,null,null,"",true,{"$f":"IF(B53>0,COUNTIF(B$3:B$55,\"<\"&B53)+1,\"\")","v":""},"",{"$f":"IF(AND(B53>0,C53>0),COUNTIF(D$3:D$55,\"<\"&D53)+1,\"\")","v":""},{"$f":"IF(B53>0,IF(E53,MIN(F53:H53),MAX(F53:H53)),\"\")","v":""},{"$f":"IF(B53>0,VLOOKUP(I53,Punkteschema!$A$2:$B$101,2,FALSE),\"\")","v":""}]
[null,null,null,"",true,"","",{"$f":"IF(AND(B54>0,C54>0),COUNTIF(D$3:D$55,\"<\"&D54)+1,\"\")","v":""},{"$f":"IF(B54>0,IF(E54,MIN(F54:H54),MAX(F54:H54)),\"\")","v":""},{"$f":"IF(B54>0,VLOOKUP(I54,Punkteschema!$A$2:$B$101,2,FALSE),\"\")","v":""}]
[null,null,null,"",true,"","",{"$f":"IF(AND(B55>0,C55>0),COUNTIF(D$3:D$55,\"<\"&D55)+1,\"\")","v":""},{"$f":"IF(B55>0,IF(E55,MIN(F55:H55),MAX(F55:H55)),\"\")","v":""},{"$f":"IF(B55>0,VLOOKUP(I55,Punkteschema!$A$2:$B$101,2,FALSE),\"\")","v":""}]
[]
["OS: Mühling, Dirk (HEV)",null,null,null,"Runde 1:","E","<- E/B"]
["S: Buchholz, Ansgar (ASW)",null,null,null,"Runde 2:","B","<- E/B"]
["S: Puschner, Michael (HOB)"]
[]
["Verloste Preise: ","Ansgar Buchholz (1 Großpackung Color-Rado)"]
[null,"Barbara Schmidt (Windlicht mit Kakteen)"]

{"sheet":"Einzelwertung7","index":9,"n_rows":63,"n_cols":10,"rows_kept":63,"cut":false,"hidden":false,"merged":[[0,0,0,9]]}
[{"$f":"CONCATENATE(\"5. Sommer-Cup - Freizeittreff Herbede - \",TEXT(Gesamtstand!$L$2,\"TT.MM.JJ\"))","v":"5. Sommer-Cup - Freizeittreff Herbede - 13.06.19"}]
["Spieler","Runde 1","Runde 2","Gesamt","bessere?","Pl. R1","Pl. R2","Pl. Ges.","gewertet","Punkte"]
["Tabor, Peter",26,31,{"$f":"IF(B3>0,C3+B3,\"\")","v":57},true,{"$f":"IF(B3>0,COUNTIF(B$3:B$55,\"<\"&B3)+1,\"\")","v":1},{"$f":"IF(C3>0,COUNTIF(C$3:C$55,\"<\"&C3)+1,\"\")","v":1},{"$f":"IF(AND(B3>0,C3>0),COUNTIF(D$3:D$55,\"<\"&D3)+1,\"\")","v":1},{"$f":"IF(B3>0,IF(E3,MIN(F3:H3),MAX(F3:H3)),\"\")","v":1},{"$f":"IF(B3>0,VLOOKUP(I3,Punkteschema!$A$2:$B$101,2,FALSE),\"\")","v":25}]
["Greiffendorf, Hellmut",27,34,61,true,2,3,2,2,{"$f":"IF(B4>0,VLOOKUP(I4,Punkteschema!$A$2:$B$101,2,FALSE),\"\")","v":21}]
["Mühling, Dirk",27,37,64,true,2,8,4,2,{"$f":"IF(B5>0,VLOOKUP(I5,Punkteschema!$A$2:$B$101,2,FALSE),\"\")","v":21}]
["Buchholz, Ansgar",28,34,62,true,4,3,3,3,{"$f":"IF(B6>0,VLOOKUP(I6,Punkteschema!$A$2:$B$101,2,FALSE),\"\")","v":18}]
["Börgmann, Ulrich",36,35,71,true,11,5,7,5,{"$f":"IF(B7>0,VLOOKUP(I7,Punkteschema!$A$2:$B$101,2,FALSE),\"\")","v":15}]
["Dammann, Reinhold",30,126,156,true,5,17,17,5,{"$f":"IF(B8>0,VLOOKUP(I8,Punkteschema!$A$2:$B$101,2,FALSE),\"\")","v":15}]
["Puschner, Michael",32,32,64,false,6,2,4,6,{"$f":"IF(B9>0,VLOOKUP(I9,Punkteschema!$A$2:$B$101,2,FALSE),\"\")","v":15}]
["Urban, Volker",32,36,68,false,6,6,6,6,{"$f":"IF(B10>0,VLOOKUP(I10,Punkteschema!$A$2:$B$101,2,FALSE),\"\")","v":15}]
["Kersch, Uwe",35,36,71,true,10,6,7,6,{"$f":"IF(B11>0,VLOOKUP(I11,Punkteschema!$A$2:$B$101,2,FALSE),\"\")","v":15}]
["Jezierski, Marie-Luise",34,45,79,true,8,15,12,8,{"$f":"IF(B12>0,VLOOKUP(I12,Punkteschema!$A$2:$B$101,2,FALSE),\"\")","v":10}]
["Schmidtbauer, Günter",44,37,81,true,16,8,13,8,{"$f":"IF(B13>0,VLOOKUP(I13,Punkteschema!$A$2:$B$101,2,FALSE),\"\")","v":10}]
["Lieber, Nicole",36,39,75,true,11,10,10,10,{"$f":"IF(B14>0,VLOOKUP(I14,Punkteschema!$A$2:$B$101,2,FALSE),\"\")","v":10}]
["Urban, Angela",39,39,78,true,13,10,11,10,{"$f":"IF(B15>0,VLOOKUP(I15,Punkteschema!$A$2:$B$101,2,FALSE),\"\")","v":10}]
["Lenk, Rolf",34,40,74,false,8,12,9,12,{"$f":"IF(B16>0,VLOOKUP(I16,Punkteschema!$A$2:$B$101,2,FALSE),\"\")","v":5}]
["Urban, Dominic",39,43,82,true,13,14,14,13,{"$f":"IF(B17>0,VLOOKUP(I17,Punkteschema!$A$2:$B$101,2,FALSE),\"\")","v":5}]
["Börgmann, Brigitte",40,42,82,true,15,13,14,13,{"$f":"IF(B18>0,VLOOKUP(I18,Punkteschema!$A$2:$B$101,2,FALSE),\"\")","v":5}]
["Schmidt, Barbara",45,50,95,true,17,16,16,16,{"$f":"IF(B19>0,VLOOKUP(I19,Punkteschema!$A$2:$B$101,2,FALSE),\"\")","v":3}]
[null,null,null,{"$f":"IF(B20>0,C20+B20,\"\")","v":""},true,{"$f":"IF(B20>0,COUNTIF(B$3:B$55,\"<\"&B20)+1,\"\")","v":""},"",{"$f":"IF(AND(B20>0,C20>0),COUNTIF(D$3:D$55,\"<\"&D20)+1,\"\")","v":""},{"$f":"IF(B20>0,IF(E20,MIN(F20:H20),MAX(F20:H20)),\"\")","v":""},{"$f":"IF(B20>0,VLOOKUP(I20,Punkteschema!$A$2:$B$101,2,FALSE),\"\")","v":""}]
[null,null,null,"",true,"","","","",{"$f":"IF(B21>0,VLOOKUP(I21,Punkteschema!$A$2:$B$101,2,FALSE),\"\")","v":""}]
[null,null,null,"",true,"","","","",{"$f":"IF(B22>0,VLOOKUP(I22,Punkteschema!$A$2:$B$101,2,FALSE),\"\")","v":""}]
[null,null,null,"",true,"","","","",{"$f":"IF(B23>0,VLOOKUP(I23,Punkteschema!$A$2:$B$101,2,FALSE),\"\")","v":""}]
[null,null,null,"",true,"","","","",{"$f":"IF(B24>0,VLOOKUP(I24,Punkteschema!$A$2:$B$101,2,FALSE),\"\")","v":""}]
[null,null,null,"",true,"","","","",{"$f":"IF(B25>0,VLOOKUP(I25,Punkteschema!$A$2:$B$101,2,FALSE),\"\")","v":""}]
[null,null,null,"",true,"","","","",{"$f":"IF(B26>0,VLOOKUP(I26,Punkteschema!$A$2:$B$101,2,FALSE),\"\")","v":""}]
[null,null,null,"",true,"","","","",{"$f":"IF(B27>0,VLOOKUP(I27,Punkteschema!$A$2:$B$101,2,FALSE),\"\")","v":""}]
[null,null,null,"",true,"","","","",{"$f":"IF(B28>0,VLOOKUP(I28,Punkteschema!$A$2:$B$101,2,FALSE),\"\")","v":""}]
[null,null,null,"",true,"","","","",{"$f":"IF(B29>0,VLOOKUP(I29,Punkteschema!$A$2:$B$101,2,FALSE),\"\")","v":""}]
[null,null,null,"",true,"","","","",{"$f":"IF(B30>0,VLOOKUP(I30,Punkteschema!$A$2:$B$101,2,FALSE),\"\")","v":""}]
[null,null,null,"",true,"","","","",{"$f":"IF(B31>0,VLOOKUP(I31,Punkteschema!$A$2:$B$101,2,FALSE),\"\")","v":""}]
[null,null,null,"",true,"","","","",{"$f":"IF(B32>0,VLOOKUP(I32,Punkteschema!$A$2:$B$101,2,FALSE),\"\")","v":""}]
[null,null,null,"",true,"","","","",{"$f":"IF(B33>0,VLOOKUP(I33,Punkteschema!$A$2:$B$101,2,FALSE),\"\")","v":""}]
[null,null,null,"",true,"","","","",{"$f":"IF(B34>0,VLOOKUP(I34,Punkteschema!$A$2:$B$101,2,FALSE),\"\")","v":""}]
[null,null,null,"",true,"","","","",{"$f":"IF(B35>0,VLOOKUP(I35,Punkteschema!$A$2:$B$101,2,FALSE),\"\")","v":""}]
[null,null,null,"",true,"","","","",{"$f":"IF(B36>0,VLOOKUP(I36,Punkteschema!$A$2:$B$101,2,FALSE),\"\")","v":""}]
[null,null,null,"",true,"","","","",{"$f":"IF(B37>0,VLOOKUP(I37,Punkteschema!$A$2:$B$101,2,FALSE),\"\")","v":""}]
[null,null,null,"",true,"","","","",{"$f":"IF(B38>0,VLOOKUP(I38,Punkteschema!$A$2:$B$101,2,FALSE),\"\")","v":""}]
[null,null,null,"",true,"","","","",{"$f":"IF(B39>0,VLOOKUP(I39,Punkteschema!$A$2:$B$101,2,FALSE),\"\")","v":""}]
[null,null,null,"",true,"","","","",{"$f":"IF(B40>0,VLOOKUP(I40,Punkteschema!$A$2:$B$101,2,FALSE),\"\")","v":""}]
[null,null,null,"",true,"","","","",{"$f":"IF(B41>0,VLOOKUP(I41,Punkteschema!$A$2:$B$101,2,FALSE),\"\")","v":""}]
[null,null,null,"",true,"","","","",{"$f":"IF(B42>0,VLOOKUP(I42,Punkteschema!$A$2:$B$101,2,FALSE),\"\")","v":""}]
[null,null,null,"",true,"","","","",{"$f":"IF(B43>0,VLOOKUP(I43,Punkteschema!$A$2:$B$101,2,FALSE),\"\")","v":""}]
[null,null,null,"",true,"","","","",{"$f":"IF(B44>0,VLOOKUP(I44,Punkteschema!$A$2:$B$101,2,FALSE),\"\")","v":""}]
[null,null,null,"",true,"","","","",{"$f":"IF(B45>0,VLOOKUP(I45,Punkteschema!$A$2:$B$101,2,FALSE),\"\")","v":""}]
[null,null,null,"",true,"","","","",{"$f":"IF(B46>0,VLOOKUP(I46,Punkteschema!$A$2:$B$101,2,FALSE),\"\")","v":""}]
[null,null,null,"",true,"","","","",{"$f":"IF(B47>0,VLOOKUP(I47,Punkteschema!$A$2:$B$101,2,FALSE),\"\")","v":""}]
[null,null,null,"",true,"","","","",{"$f":"IF(B48>0,VLOOKUP(I48,Punkteschema!$A$2:$B$101,2,FALSE),\"\")","v":""}]
[null,null,null,"",true,"","","","",{"$f":"IF(B49>0,VLOOKUP(I49,Punkteschema!$A$2:$B$101,2,FALSE),\"\")","v":""}]
[null,null,null,"",true,"","","","",{"$f":"IF(B50>0,VLOOKUP(I50,Punkteschema!$A$2:$B$101,2,FALSE),\"\")","v":""}]
[null,null,null,"",true,"","","","",{"$f":"IF(B51>0,VLOOKUP(I51,Punkteschema!$A$2:$B$101,2,FALSE),\"\")","v":""}]
[null,null,null,"",true,"","","","",{"$f":"IF(B52>0,VLOOKUP(I52,Punkteschema!$A$2:$B$101,2,FALSE),\"\")","v":""}]
[null,null,null,"",true,{"$f":"IF(B53>0,COUNTIF(B$3:B$55,\"<\"&B53)+1,\"\")","v":""},"",{"$f":"IF(AND(B53>0,C53>0),COUNTIF(D$3:D$55,\"<\"&D53)+1,\"\")","v":""},{"$f":"IF(B53>0,IF(E53,MIN(F53:H53),MAX(F53:H53)),\"\")","v":""},{"$f":"IF(B53>0,VLOOKUP(I53,Punkteschema!$A$2:$B$101,2,FALSE),\"\")","v":""}]
[null,null,null,"",true,"","",{"$f":"IF(AND(B54>0,C54>0),COUNTIF(D$3:D$55,\"<\"&D54)+1,\"\")","v":""},{"$f":"IF(B54>0,IF(E54,MIN(F54:H54),MAX(F54:H54)),\"\")","v":""},{"$f":"IF(B54>0,VLOOKUP(I54,Punkteschema!$A$2:$B$101,2,FALSE),\"\")","v":""}]
[null,null,null,"",true,"","",{"$f":"IF(AND(B55>0,C55>0),COUNTIF(D$3:D$55,\"<\"&D55)+1,\"\")","v":""},{"$f":"IF(B55>0,IF(E55,MIN(F55:H55),MAX(F55:H55)),\"\")","v":""},{"$f":"IF(B55>0,VLOOKUP(I55,Punkteschema!$A$2:$B$101,2,FALSE),\"\")","v":""}]
[]
["OS: Mühling, Dirk (HEV)",null,null,null,"Runde 1:","E","<- E/B"]
["S: Buchholz, Ansgar (ASW)",null,null,null,"Runde 2:","B","<- E/B"]
["S: Puschner, Michael (HOB)"]
[]
["Verloste Preise: ","Barbara Schmidt (1 LED-Windlicht)"]
[null,"Hellmut Greiffendorf (1 Thermosbecher)"]
[null,"Peter Tabor (1 Flasche Sekt)"]

{"sheet":"Einzelwertung8","index":10,"n_rows":63,"n_cols":10,"rows_kept":63,"cut":false,"hidden":false,"merged":[[0,0,0,9]]}
[{"$f":"CONCATENATE(\"5. Sommer-Cup - Freizeittreff Herbede - \",TEXT(Gesamtstand!$M$2,\"TT.MM.JJ\"))","v":"5. Sommer-Cup - Freizeittreff Herbede - 19.06.19"}]
["Spieler","Runde 1","Runde 2","Gesamt","bessere?","Pl. R1","Pl. R2","Pl. Ges.","gewertet","Punkte"]
["Buchholz, Ansgar",28,26,{"$f":"IF(B3>0,C3+B3,\"\")","v":54},true,{"$f":"IF(B3>0,COUNTIF(B$3:B$55,\"<\"&B3)+1,\"\")","v":4},{"$f":"IF(C3>0,COUNTIF(C$3:C$55,\"<\"&C3)+1,\"\")","v":1},{"$f":"IF(AND(B3>0,C3>0),COUNTIF(D$3:D$55,\"<\"&D3)+1,\"\")","v":1},{"$f":"IF(B3>0,IF(E3,MIN(F3:H3),MAX(F3:H3)),\"\")","v":1},{"$f":"IF(B3>0,VLOOKUP(I3,Punkteschema!$A$2:$B$101,2,FALSE),\"\")","v":25}]
["Lenk, Rolf",26,33,59,true,2,3,2,2,{"$f":"IF(B4>0,VLOOKUP(I4,Punkteschema!$A$2:$B$101,2,FALSE),\"\")","v":21}]
["Puschner, Michael",32,32,64,true,7,2,7,2,{"$f":"IF(B5>0,VLOOKUP(I5,Punkteschema!$A$2:$B$101,2,FALSE),\"\")","v":21}]
["Ginschel, Rudolf",27,36,63,true,3,9,5,3,{"$f":"IF(B6>0,VLOOKUP(I6,Punkteschema!$A$2:$B$101,2,FALSE),\"\")","v":18}]
["Urban, Volker",28,33,61,false,4,3,3,4,{"$f":"IF(B7>0,VLOOKUP(I7,Punkteschema!$A$2:$B$101,2,FALSE),\"\")","v":15}]
["Mühling, Dirk",28,34,62,false,4,5,4,5,{"$f":"IF(B8>0,VLOOKUP(I8,Punkteschema!$A$2:$B$101,2,FALSE),\"\")","v":15}]
["Börgmann, Brigitte",34,34,68,true,10,5,8,5,{"$f":"IF(B9>0,VLOOKUP(I9,Punkteschema!$A$2:$B$101,2,FALSE),\"\")","v":15}]
["Börgmann, Ulrich",45,34,79,true,15,5,13,5,{"$f":"IF(B10>0,VLOOKUP(I10,Punkteschema!$A$2:$B$101,2,FALSE),\"\")","v":15}]
["Kunz, Martin",32,38,70,true,7,10,10,7,{"$f":"IF(B11>0,VLOOKUP(I11,Punkteschema!$A$2:$B$101,2,FALSE),\"\")","v":10}]
["Lieber, Nicole",33,35,68,true,9,8,8,8,{"$f":"IF(B12>0,VLOOKUP(I12,Punkteschema!$A$2:$B$101,2,FALSE),\"\")","v":10}]
["Tabor, Peter",25,38,63,false,1,10,5,10,{"$f":"IF(B13>0,VLOOKUP(I13,Punkteschema!$A$2:$B$101,2,FALSE),\"\")","v":10}]
["Schmidtbauer, Günter",36,38,74,true,12,10,11,10,{"$f":"IF(B14>0,VLOOKUP(I14,Punkteschema!$A$2:$B$101,2,FALSE),\"\")","v":10}]
["Jezierski, Marie-Luise",35,39,74,true,11,13,11,11,{"$f":"IF(B15>0,VLOOKUP(I15,Punkteschema!$A$2:$B$101,2,FALSE),\"\")","v":5}]
["Schmidt, Barbara",39,43,82,true,13,15,14,13,{"$f":"IF(B16>0,VLOOKUP(I16,Punkteschema!$A$2:$B$101,2,FALSE),\"\")","v":5}]
["Scharpe, Sabine",40,42,82,true,14,14,14,14,{"$f":"IF(B17>0,VLOOKUP(I17,Punkteschema!$A$2:$B$101,2,FALSE),\"\")","v":5}]
[null,null,null,{"$f":"IF(B18>0,C18+B18,\"\")","v":""},true,{"$f":"IF(B18>0,COUNTIF(B$3:B$55,\"<\"&B18)+1,\"\")","v":""},{"$f":"IF(C18>0,COUNTIF(C$3:C$55,\"<\"&C18)+1,\"\")","v":""},{"$f":"IF(AND(B18>0,C18>0),COUNTIF(D$3:D$55,\"<\"&D18)+1,\"\")","v":""},{"$f":"IF(B18>0,IF(E18,MIN(F18:H18),MAX(F18:H18)),\"\")","v":""},{"$f":"IF(B18>0,VLOOKUP(I18,Punkteschema!$A$2:$B$101,2,FALSE),\"\")","v":""}]
[null,null,null,"",true,"","","","",{"$f":"IF(B19>0,VLOOKUP(I19,Punkteschema!$A$2:$B$101,2,FALSE),\"\")","v":""}]
[null,null,null,"",true,"","","","",{"$f":"IF(B20>0,VLOOKUP(I20,Punkteschema!$A$2:$B$101,2,FALSE),\"\")","v":""}]
[null,null,null,"",true,"","","","",{"$f":"IF(B21>0,VLOOKUP(I21,Punkteschema!$A$2:$B$101,2,FALSE),\"\")","v":""}]
[null,null,null,{"$f":"IF(B22>0,C22+B22,\"\")","v":""},true,{"$f":"IF(B22>0,COUNTIF(B$3:B$55,\"<\"&B22)+1,\"\")","v":""},"",{"$f":"IF(AND(B22>0,C22>0),COUNTIF(D$3:D$55,\"<\"&D22)+1,\"\")","v":""},{"$f":"IF(B22>0,IF(E22,MIN(F22:H22),MAX(F22:H22)),\"\")","v":""},{"$f":"IF(B22>0,VLOOKUP(I22,Punkteschema!$A$2:$B$101,2,FALSE),\"\")","v":""}]
[null,null,null,"",true,"","","","",{"$f":"IF(B23>0,VLOOKUP(I23,Punkteschema!$A$2:$B$101,2,FALSE),\"\")","v":""}]
[null,null,null,"",true,"","","","",{"$f":"IF(B24>0,VLOOKUP(I24,Punkteschema!$A$2:$B$101,2,FALSE),\"\")","v":""}]
[null,null,null,"",true,"","","","",{"$f":"IF(B25>0,VLOOKUP(I25,Punkteschema!$A$2:$B$101,2,FALSE),\"\")","v":""}]
[null,null,null,"",true,"","","","",{"$f":"IF(B26>0,VLOOKUP(I26,Punkteschema!$A$2:$B$101,2,FALSE),\"\")","v":""}]
[null,null,null,"",true,"","","","",{"$f":"IF(B27>0,VLOOKUP(I27,Punkteschema!$A$2:$B$101,2,FALSE),\"\")","v":""}]
[null,null,null,"",true,"","","","",{"$f":"IF(B28>0,VLOOKUP(I28,Punkteschema!$A$2:$B$101,2,FALSE),\"\")","v":""}]
[null,null,null,"",true,"","","","",{"$f":"IF(B29>0,VLOOKUP(I29,Punkteschema!$A$2:$B$101,2,FALSE),\"\")","v":""}]
[null,null,null,"",true,"","","","",{"$f":"IF(B30>0,VLOOKUP(I30,Punkteschema!$A$2:$B$101,2,FALSE),\"\")","v":""}]
[null,null,null,"",true,"","","","",{"$f":"IF(B31>0,VLOOKUP(I31,Punkteschema!$A$2:$B$101,2,FALSE),\"\")","v":""}]
[null,null,null,"",true,"","","","",{"$f":"IF(B32>0,VLOOKUP(I32,Punkteschema!$A$2:$B$101,2,FALSE),\"\")","v":""}]
[null,null,null,"",true,"","","","",{"$f":"IF(B33>0,VLOOKUP(I33,Punkteschema!$A$2:$B$101,2,FALSE),\"\")","v":""}]
[null,null,null,"",true,"","","","",{"$f":"IF(B34>0,VLOOKUP(I34,Punkteschema!$A$2:$B$101,2,FALSE),\"\")","v":""}]
[null,null,null,"",true,"","","","",{"$f":"IF(B35>0,VLOOKUP(I35,Punkteschema!$A$2:$B$101,2,FALSE),\"\")","v":""}]
[null,null,null,"",true,"","","","",{"$f":"IF(B36>0,VLOOKUP(I36,Punkteschema!$A$2:$B$101,2,FALSE),\"\")","v":""}]
[null,null,null,"",true,"","","","",{"$f":"IF(B37>0,VLOOKUP(I37,Punkteschema!$A$2:$B$101,2,FALSE),\"\")","v":""}]
[null,null,null,"",true,"","","","",{"$f":"IF(B38>0,VLOOKUP(I38,Punkteschema!$A$2:$B$101,2,FALSE),\"\")","v":""}]
[null,null,null,"",true,"","","","",{"$f":"IF(B39>0,VLOOKUP(I39,Punkteschema!$A$2:$B$101,2,FALSE),\"\")","v":""}]
[null,null,null,"",true,"","","","",{"$f":"IF(B40>0,VLOOKUP(I40,Punkteschema!$A$2:$B$101,2,FALSE),\"\")","v":""}]
[null,null,null,"",true,"","","","",{"$f":"IF(B41>0,VLOOKUP(I41,Punkteschema!$A$2:$B$101,2,FALSE),\"\")","v":""}]
[null,null,null,"",true,"","","","",{"$f":"IF(B42>0,VLOOKUP(I42,Punkteschema!$A$2:$B$101,2,FALSE),\"\")","v":""}]
[null,null,null,"",true,"","","","",{"$f":"IF(B43>0,VLOOKUP(I43,Punkteschema!$A$2:$B$101,2,FALSE),\"\")","v":""}]
[null,null,null,"",true,"","","","",{"$f":"IF(B44>0,VLOOKUP(I44,Punkteschema!$A$2:$B$101,2,FALSE),\"\")","v":""}]
[null,null,null,"",true,"","","","",{"$f":"IF(B45>0,VLOOKUP(I45,Punkteschema!$A$2:$B$101,2,FALSE),\"\")","v":""}]
[null,null,null,"",true,"","","","",{"$f":"IF(B46>0,VLOOKUP(I46,Punkteschema!$A$2:$B$101,2,FALSE),\"\")","v":""}]
[null,null,null,"",true,"","","","",{"$f":"IF(B47>0,VLOOKUP(I47,Punkteschema!$A$2:$B$101,2,FALSE),\"\")","v":""}]
[null,null,null,"",true,"","","","",{"$f":"IF(B48>0,VLOOKUP(I48,Punkteschema!$A$2:$B$101,2,FALSE),\"\")","v":""}]
[null,null,null,"",true,"","","","",{"$f":"IF(B49>0,VLOOKUP(I49,Punkteschema!$A$2:$B$101,2,FALSE),\"\")","v":""}]
[null,null,null,"",true,"","","","",{"$f":"IF(B50>0,VLOOKUP(I50,Punkteschema!$A$2:$B$101,2,FALSE),\"\")","v":""}]
[null,null,null,"",true,"","","","",{"$f":"IF(B51>0,VLOOKUP(I51,Punkteschema!$A$2:$B$101,2,FALSE),\"\")","v":""}]
[null,null,null,"",true,"","","","",{"$f":"IF(B52>0,VLOOKUP(I52,Punkteschema!$A$2:$B$101,2,FALSE),\"\")","v":""}]
[null,null,null,"",true,{"$f":"IF(B53>0,COUNTIF(B$3:B$55,\"<\"&B53)+1,\"\")","v":""},"",{"$f":"IF(AND(B53>0,C53>0),COUNTIF(D$3:D$55,\"<\"&D53)+1,\"\")","v":""},{"$f":"IF(B53>0,IF(E53,MIN(F53:H53),MAX(F53:H53)),\"\")","v":""},{"$f":"IF(B53>0,VLOOKUP(I53,Punkteschema!$A$2:$B$101,2,FALSE),\"\")","v":""}]
[null,null,null,"",true,"","",{"$f":"IF(AND(B54>0,C54>0),COUNTIF(D$3:D$55,\"<\"&D54)+1,\"\")","v":""},{"$f":"IF(B54>0,IF(E54,MIN(F54:H54),MAX(F54:H54)),\"\")","v":""},{"$f":"IF(B54>0,VLOOKUP(I54,Punkteschema!$A$2:$B$101,2,FALSE),\"\")","v":""}]
[null,null,null,"",true,"","",{"$f":"IF(AND(B55>0,C55>0),COUNTIF(D$3:D$55,\"<\"&D55)+1,\"\")","v":""},{"$f":"IF(B55>0,IF(E55,MIN(F55:H55),MAX(F55:H55)),\"\")","v":""},{"$f":"IF(B55>0,VLOOKUP(I55,Punkteschema!$A$2:$B$101,2,FALSE),\"\")","v":""}]
[]
["OS: Mühling, Dirk (HEV)",null,null,null,"Runde 1:","E","<- E/B"]
["S: Buchholz, Ansgar (ASW)",null,null,null,"Runde 2:","B","<- E/B"]
["S: Ginschel, Rudolf (BMC)"]
[]
["Verloste Preise: ","Nicole Lieber (1 Solarlampe)"]
[null,"Michael Puschner (1 Pflanzgefäß aus Glas)"]
[null,"Günter Schmidtbauer (1 Trinkglas mit Deckel)"]

{"sheet":"Einzelwertung9","index":11,"n_rows":63,"n_cols":10,"rows_kept":63,"cut":false,"hidden":false,"merged":[[0,0,0,9]]}
[{"$f":"CONCATENATE(\"5. Sommer-Cup - Freizeittreff Herbede - \",TEXT(Gesamtstand!$N$2,\"TT.MM.JJ\"))","v":"5. Sommer-Cup - Freizeittreff Herbede - 27.06.19"}]
["Spieler","Runde 1","Runde 2","Gesamt","bessere?","Pl. R1","Pl. R2","Pl. Ges.","gewertet","Punkte"]
["Wilhelms, Ralf",22,33,{"$f":"IF(B3>0,C3+B3,\"\")","v":55},true,{"$f":"IF(B3>0,COUNTIF(B$3:B$55,\"<\"&B3)+1,\"\")","v":1},{"$f":"IF(C3>0,COUNTIF(C$3:C$55,\"<\"&C3)+1,\"\")","v":4},{"$f":"IF(AND(B3>0,C3>0),COUNTIF(D$3:D$55,\"<\"&D3)+1,\"\")","v":1},{"$f":"IF(B3>0,IF(E3,MIN(F3:H3),MAX(F3:H3)),\"\")","v":1},{"$f":"IF(B3>0,VLOOKUP(I3,Punkteschema!$A$2:$B$101,2,FALSE),\"\")","v":25}]
["Buchholz, Ansgar",26,31,57,true,2,3,2,2,{"$f":"IF(B4>0,VLOOKUP(I4,Punkteschema!$A$2:$B$101,2,FALSE),\"\")","v":21}]
["Tabor, Peter",35,30,65,true,13,2,5,2,{"$f":"IF(B5>0,VLOOKUP(I5,Punkteschema!$A$2:$B$101,2,FALSE),\"\")","v":21}]
["Lieber, Nicole",27,35,62,true,3,7,4,3,{"$f":"IF(B6>0,VLOOKUP(I6,Punkteschema!$A$2:$B$101,2,FALSE),\"\")","v":18}]
["Kortmann, Sabine",28,40,68,true,4,15,9,4,{"$f":"IF(B7>0,VLOOKUP(I7,Punkteschema!$A$2:$B$101,2,FALSE),\"\")","v":15}]
["Urban, Volker",29,29,58,false,5,1,3,5,{"$f":"IF(B8>0,VLOOKUP(I8,Punkteschema!$A$2:$B$101,2,FALSE),\"\")","v":15}]
["Wickel-Paffrath, Melanie",29,36,65,true,5,10,5,5,{"$f":"IF(B9>0,VLOOKUP(I9,Punkteschema!$A$2:$B$101,2,FALSE),\"\")","v":15}]
["Mühling, Dirk",33,34,67,true,12,6,8,6,{"$f":"IF(B10>0,VLOOKUP(I10,Punkteschema!$A$2:$B$101,2,FALSE),\"\")","v":15}]
["Kortmann, Uwe",31,39,70,true,7,13,10,7,{"$f":"IF(B11>0,VLOOKUP(I11,Punkteschema!$A$2:$B$101,2,FALSE),\"\")","v":10}]
["Börgmann, Ulrich",36,35,71,true,14,7,12,7,{"$f":"IF(B12>0,VLOOKUP(I12,Punkteschema!$A$2:$B$101,2,FALSE),\"\")","v":10}]
["Kersch, Uwe",37,35,72,true,15,7,14,7,{"$f":"IF(B13>0,VLOOKUP(I13,Punkteschema!$A$2:$B$101,2,FALSE),\"\")","v":10}]
["Lenk, Rolf",32,33,65,false,8,4,5,8,{"$f":"IF(B14>0,VLOOKUP(I14,Punkteschema!$A$2:$B$101,2,FALSE),\"\")","v":10}]
["Urban, Angela",32,39,71,true,8,13,12,8,{"$f":"IF(B15>0,VLOOKUP(I15,Punkteschema!$A$2:$B$101,2,FALSE),\"\")","v":10}]
["Jezierski, Marie-Luise",32,40,72,true,8,15,14,8,{"$f":"IF(B16>0,VLOOKUP(I16,Punkteschema!$A$2:$B$101,2,FALSE),\"\")","v":10}]
["Urban, Dominic",43,37,80,true,20,11,16,11,{"$f":"IF(B17>0,VLOOKUP(I17,Punkteschema!$A$2:$B$101,2,FALSE),\"\")","v":5}]
["Puschner, Michael",32,38,70,false,8,12,10,12,{"$f":"IF(B18>0,VLOOKUP(I18,Punkteschema!$A$2:$B$101,2,FALSE),\"\")","v":5}]
["Schmidtbauer, Günter",40,40,80,true,17,15,16,15,{"$f":"IF(B19>0,VLOOKUP(I19,Punkteschema!$A$2:$B$101,2,FALSE),\"\")","v":5}]
["Schmidt, Barbara",38,45,83,true,16,19,18,16,{"$f":"IF(B20>0,VLOOKUP(I20,Punkteschema!$A$2:$B$101,2,FALSE),\"\")","v":3}]
["Börgmann, Brigitte",41,43,84,true,18,18,19,18,{"$f":"IF(B21>0,VLOOKUP(I21,Punkteschema!$A$2:$B$101,2,FALSE),\"\")","v":3}]
["Dammann, Reinhold",41,126,167,true,18,20,20,18,{"$f":"IF(B22>0,VLOOKUP(I22,Punkteschema!$A$2:$B$101,2,FALSE),\"\")","v":3}]
[null,null,null,{"$f":"IF(B23>0,C23+B23,\"\")","v":""},true,{"$f":"IF(B23>0,COUNTIF(B$3:B$55,\"<\"&B23)+1,\"\")","v":""},{"$f":"IF(C23>0,COUNTIF(C$3:C$55,\"<\"&C23)+1,\"\")","v":""},{"$f":"IF(AND(B23>0,C23>0),COUNTIF(D$3:D$55,\"<\"&D23)+1,\"\")","v":""},{"$f":"IF(B23>0,IF(E23,MIN(F23:H23),MAX(F23:H23)),\"\")","v":""},{"$f":"IF(B23>0,VLOOKUP(I23,Punkteschema!$A$2:$B$101,2,FALSE),\"\")","v":""}]
[null,null,null,{"$f":"IF(B24>0,C24+B24,\"\")","v":""},true,{"$f":"IF(B24>0,COUNTIF(B$3:B$55,\"<\"&B24)+1,\"\")","v":""},"",{"$f":"IF(AND(B24>0,C24>0),COUNTIF(D$3:D$55,\"<\"&D24)+1,\"\")","v":""},{"$f":"IF(B24>0,IF(E24,MIN(F24:H24),MAX(F24:H24)),\"\")","v":""},{"$f":"IF(B24>0,VLOOKUP(I24,Punkteschema!$A$2:$B$101,2,FALSE),\"\")","v":""}]
[null,null,null,"",true,"","","","",{"$f":"IF(B25>0,VLOOKUP(I25,Punkteschema!$A$2:$B$101,2,FALSE),\"\")","v":""}]
[null,null,null,"",true,"","","","",{"$f":"IF(B26>0,VLOOKUP(I26,Punkteschema!$A$2:$B$101,2,FALSE),\"\")","v":""}]
[null,null,null,"",true,"","","","",{"$f":"IF(B27>0,VLOOKUP(I27,Punkteschema!$A$2:$B$101,2,FALSE),\"\")","v":""}]
[null,null,null,"",true,"","","","",{"$f":"IF(B28>0,VLOOKUP(I28,Punkteschema!$A$2:$B$101,2,FALSE),\"\")","v":""}]
[null,null,null,"",true,"","","","",{"$f":"IF(B29>0,VLOOKUP(I29,Punkteschema!$A$2:$B$101,2,FALSE),\"\")","v":""}]
[null,null,null,"",true,"","","","",{"$f":"IF(B30>0,VLOOKUP(I30,Punkteschema!$A$2:$B$101,2,FALSE),\"\")","v":""}]
[null,null,null,"",true,"","","","",{"$f":"IF(B31>0,VLOOKUP(I31,Punkteschema!$A$2:$B$101,2,FALSE),\"\")","v":""}]
[null,null,null,"",true,"","","","",{"$f":"IF(B32>0,VLOOKUP(I32,Punkteschema!$A$2:$B$101,2,FALSE),\"\")","v":""}]
[null,null,null,"",true,"","","","",{"$f":"IF(B33>0,VLOOKUP(I33,Punkteschema!$A$2:$B$101,2,FALSE),\"\")","v":""}]
[null,null,null,"",true,"","","","",{"$f":"IF(B34>0,VLOOKUP(I34,Punkteschema!$A$2:$B$101,2,FALSE),\"\")","v":""}]
[null,null,null,"",true,"","","","",{"$f":"IF(B35>0,VLOOKUP(I35,Punkteschema!$A$2:$B$101,2,FALSE),\"\")","v":""}]
[null,null,null,"",true,"","","","",{"$f":"IF(B36>0,VLOOKUP(I36,Punkteschema!$A$2:$B$101,2,FALSE),\"\")","v":""}]
[null,null,null,"",true,"","","","",{"$f":"IF(B37>0,VLOOKUP(I37,Punkteschema!$A$2:$B$101,2,FALSE),\"\")","v":""}]
[null,null,null,"",true,"","","","",{"$f":"IF(B38>0,VLOOKUP(I38,Punkteschema!$A$2:$B$101,2,FALSE),\"\")","v":""}]
[null,null,null,"",true,"","","","",{"$f":"IF(B39>0,VLOOKUP(I39,Punkteschema!$A$2:$B$101,2,FALSE),\"\")","v":""}]
[null,null,null,"",true,"","","","",{"$f":"IF(B40>0,VLOOKUP(I40,Punkteschema!$A$2:$B$101,2,FALSE),\"\")","v":""}]
[null,null,null,"",true,"","","","",{"$f":"IF(B41>0,VLOOKUP(I41,Punkteschema!$A$2:$B$101,2,FALSE),\"\")","v":""}]
[null,null,null,"",true,"","","","",{"$f":"IF(B42>0,VLOOKUP(I42,Punkteschema!$A$2:$B$101,2,FALSE),\"\")","v":""}]
[null,null,null,"",true,"","","","",{"$f":"IF(B43>0,VLOOKUP(I43,Punkteschema!$A$2:$B$101,2,FALSE),\"\")","v":""}]
[null,null,null,"",true,"","","","",{"$f":"IF(B44>0,VLOOKUP(I44,Punkteschema!$A$2:$B$101,2,FALSE),\"\")","v":""}]
[null,null,null,"",true,"","","","",{"$f":"IF(B45>0,VLOOKUP(I45,Punkteschema!$A$2:$B$101,2,FALSE),\"\")","v":""}]
[null,null,null,"",true,"","","","",{"$f":"IF(B46>0,VLOOKUP(I46,Punkteschema!$A$2:$B$101,2,FALSE),\"\")","v":""}]
[null,null,null,"",true,"","","","",{"$f":"IF(B47>0,VLOOKUP(I47,Punkteschema!$A$2:$B$101,2,FALSE),\"\")","v":""}]
[null,null,null,"",true,"","","","",{"$f":"IF(B48>0,VLOOKUP(I48,Punkteschema!$A$2:$B$101,2,FALSE),\"\")","v":""}]
[null,null,null,"",true,"","","","",{"$f":"IF(B49>0,VLOOKUP(I49,Punkteschema!$A$2:$B$101,2,FALSE),\"\")","v":""}]
[null,null,null,"",true,"","","","",{"$f":"IF(B50>0,VLOOKUP(I50,Punkteschema!$A$2:$B$101,2,FALSE),\"\")","v":""}]
[null,null,null,"",true,"","","","",{"$f":"IF(B51>0,VLOOKUP(I51,Punkteschema!$A$2:$B$101,2,FALSE),\"\")","v":""}]
[null,null,null,"",true,"","","","",{"$f":"IF(B52>0,VLOOKUP(I52,Punkteschema!$A$2:$B$101,2,FALSE),\"\")","v":""}]
[null,null,null,"",true,{"$f":"IF(B53>0,COUNTIF(B$3:B$55,\"<\"&B53)+1,\"\")","v":""},"",{"$f":"IF(AND(B53>0,C53>0),COUNTIF(D$3:D$55,\"<\"&D53)+1,\"\")","v":""},{"$f":"IF(B53>0,IF(E53,MIN(F53:H53),MAX(F53:H53)),\"\")","v":""},{"$f":"IF(B53>0,VLOOKUP(I53,Punkteschema!$A$2:$B$101,2,FALSE),\"\")","v":""}]
[null,null,null,"",true,"","",{"$f":"IF(AND(B54>0,C54>0),COUNTIF(D$3:D$55,\"<\"&D54)+1,\"\")","v":""},{"$f":"IF(B54>0,IF(E54,MIN(F54:H54),MAX(F54:H54)),\"\")","v":""},{"$f":"IF(B54>0,VLOOKUP(I54,Punkteschema!$A$2:$B$101,2,FALSE),\"\")","v":""}]
[null,null,null,"",true,"","",{"$f":"IF(AND(B55>0,C55>0),COUNTIF(D$3:D$55,\"<\"&D55)+1,\"\")","v":""},{"$f":"IF(B55>0,IF(E55,MIN(F55:H55),MAX(F55:H55)),\"\")","v":""},{"$f":"IF(B55>0,VLOOKUP(I55,Punkteschema!$A$2:$B$101,2,FALSE),\"\")","v":""}]
[]
["OS: Mühling, Dirk (HEV)",null,null,null,"Runde 1:","E","<- E/B"]
["S: Buchholz, Ansgar (ASW)",null,null,null,"Runde 2:","B","<- E/B"]
["S: Wickel-Paffrath, Melanie (HEV)"]
[]
["Verloste Preise: ","Volker Urban (1 Flasche Wein mit Glas)"]
[null,"Ansgar Buchholz (1 Verzehrgutschein)"]
[null,"Ulrich Börgmann (1 Kühltasche)"]

{"sheet":"Einzelwertung10","index":12,"n_rows":63,"n_cols":10,"rows_kept":63,"cut":false,"hidden":false,"merged":[[0,0,0,9]]}
[{"$f":"CONCATENATE(\"5. Sommer-Cup - Freizeittreff Herbede - \",TEXT(Gesamtstand!$O$2,\"TT.MM.JJ\"))","v":"5. Sommer-Cup - Freizeittreff Herbede - 04.07.19"}]
["Spieler","Runde 1","Runde 2","Gesamt","bessere?","Pl. R1","Pl. R2","Pl. Ges.","gewertet","Punkte"]
[null,null,null,{"$f":"IF(B3>0,C3+B3,\"\")","v":""},true,{"$f":"IF(B3>0,COUNTIF(B$3:B$55,\"<\"&B3)+1,\"\")","v":""},{"$f":"IF(C3>0,COUNTIF(C$3:C$55,\"<\"&C3)+1,\"\")","v":""},{"$f":"IF(AND(B3>0,C3>0),COUNTIF(D$3:D$55,\"<\"&D3)+1,\"\")","v":""},{"$f":"IF(B3>0,IF(E3,MIN(F3:H3),MAX(F3:H3)),\"\")","v":""},{"$f":"IF(B3>0,VLOOKUP(I3,Punkteschema!$A$2:$B$101,2,FALSE),\"\")","v":""}]
[null,null,null,"",true,"","","","",{"$f":"IF(B4>0,VLOOKUP(I4,Punkteschema!$A$2:$B$101,2,FALSE),\"\")","v":""}]
[null,null,null,"",false,"","","","",{"$f":"IF(B5>0,VLOOKUP(I5,Punkteschema!$A$2:$B$101,2,FALSE),\"\")","v":""}]
[null,null,null,"",true,"","","","",{"$f":"IF(B6>0,VLOOKUP(I6,Punkteschema!$A$2:$B$101,2,FALSE),\"\")","v":""}]
[null,null,null,"",true,"","","","",{"$f":"IF(B7>0,VLOOKUP(I7,Punkteschema!$A$2:$B$101,2,FALSE),\"\")","v":""}]
[null,null,null,"",false,"","","","",{"$f":"IF(B8>0,VLOOKUP(I8,Punkteschema!$A$2:$B$101,2,FALSE),\"\")","v":""}]
[null,null,null,"",true,"","","","",{"$f":"IF(B9>0,VLOOKUP(I9,Punkteschema!$A$2:$B$101,2,FALSE),\"\")","v":""}]
[null,null,null,"",true,"","","","",{"$f":"IF(B10>0,VLOOKUP(I10,Punkteschema!$A$2:$B$101,2,FALSE),\"\")","v":""}]
[null,null,null,"",true,"","","","",{"$f":"IF(B11>0,VLOOKUP(I11,Punkteschema!$A$2:$B$101,2,FALSE),\"\")","v":""}]
[null,null,null,"",true,"","","","",{"$f":"IF(B12>0,VLOOKUP(I12,Punkteschema!$A$2:$B$101,2,FALSE),\"\")","v":""}]
[null,null,null,"",true,"","","","",{"$f":"IF(B13>0,VLOOKUP(I13,Punkteschema!$A$2:$B$101,2,FALSE),\"\")","v":""}]
[null,null,null,"",false,"","","","",{"$f":"IF(B14>0,VLOOKUP(I14,Punkteschema!$A$2:$B$101,2,FALSE),\"\")","v":""}]
[null,null,null,"",true,"","","","",{"$f":"IF(B15>0,VLOOKUP(I15,Punkteschema!$A$2:$B$101,2,FALSE),\"\")","v":""}]
[null,null,null,"",true,"","","","",{"$f":"IF(B16>0,VLOOKUP(I16,Punkteschema!$A$2:$B$101,2,FALSE),\"\")","v":""}]
[null,null,null,"",true,"","","","",{"$f":"IF(B17>0,VLOOKUP(I17,Punkteschema!$A$2:$B$101,2,FALSE),\"\")","v":""}]
[null,null,null,"",true,"","","","",{"$f":"IF(B18>0,VLOOKUP(I18,Punkteschema!$A$2:$B$101,2,FALSE),\"\")","v":""}]
[null,null,null,"",true,"","","","",{"$f":"IF(B19>0,VLOOKUP(I19,Punkteschema!$A$2:$B$101,2,FALSE),\"\")","v":""}]
[null,null,null,"",true,"","","","",{"$f":"IF(B20>0,VLOOKUP(I20,Punkteschema!$A$2:$B$101,2,FALSE),\"\")","v":""}]
[null,null,null,"",true,"","","","",{"$f":"IF(B21>0,VLOOKUP(I21,Punkteschema!$A$2:$B$101,2,FALSE),\"\")","v":""}]
[null,null,null,{"$f":"IF(B22>0,C22+B22,\"\")","v":""},true,{"$f":"IF(B22>0,COUNTIF(B$3:B$55,\"<\"&B22)+1,\"\")","v":""},{"$f":"IF(C22>0,COUNTIF(C$3:C$55,\"<\"&C22)+1,\"\")","v":""},{"$f":"IF(AND(B22>0,C22>0),COUNTIF(D$3:D$55,\"<\"&D22)+1,\"\")","v":""},{"$f":"IF(B22>0,IF(E22,MIN(F22:H22),MAX(F22:H22)),\"\")","v":""},{"$f":"IF(B22>0,VLOOKUP(I22,Punkteschema!$A$2:$B$101,2,FALSE),\"\")","v":""}]
[null,null,null,"",true,"","","","",{"$f":"IF(B23>0,VLOOKUP(I23,Punkteschema!$A$2:$B$101,2,FALSE),\"\")","v":""}]
[null,null,null,"",true,"","","","",{"$f":"IF(B24>0,VLOOKUP(I24,Punkteschema!$A$2:$B$101,2,FALSE),\"\")","v":""}]
[null,null,null,"",true,"","","","",{"$f":"IF(B25>0,VLOOKUP(I25,Punkteschema!$A$2:$B$101,2,FALSE),\"\")","v":""}]
[null,null,null,{"$f":"IF(B26>0,C26+B26,\"\")","v":""},true,{"$f":"IF(B26>0,COUNTIF(B$3:B$55,\"<\"&B26)+1,\"\")","v":""},"",{"$f":"IF(AND(B26>0,C26>0),COUNTIF(D$3:D$55,\"<\"&D26)+1,\"\")","v":""},{"$f":"IF(B26>0,IF(E26,MIN(F26:H26),MAX(F26:H26)),\"\")","v":""},{"$f":"IF(B26>0,VLOOKUP(I26,Punkteschema!$A$2:$B$101,2,FALSE),\"\")","v":""}]
[null,null,null,"",true,"","","","",{"$f":"IF(B27>0,VLOOKUP(I27,Punkteschema!$A$2:$B$101,2,FALSE),\"\")","v":""}]
[null,null,null,"",true,"","","","",{"$f":"IF(B28>0,VLOOKUP(I28,Punkteschema!$A$2:$B$101,2,FALSE),\"\")","v":""}]
[null,null,null,"",true,"","","","",{"$f":"IF(B29>0,VLOOKUP(I29,Punkteschema!$A$2:$B$101,2,FALSE),\"\")","v":""}]
[null,null,null,"",true,"","","","",{"$f":"IF(B30>0,VLOOKUP(I30,Punkteschema!$A$2:$B$101,2,FALSE),\"\")","v":""}]
[null,null,null,"",true,"","","","",{"$f":"IF(B31>0,VLOOKUP(I31,Punkteschema!$A$2:$B$101,2,FALSE),\"\")","v":""}]
[null,null,null,"",true,"","","","",{"$f":"IF(B32>0,VLOOKUP(I32,Punkteschema!$A$2:$B$101,2,FALSE),\"\")","v":""}]
[null,null,null,"",true,"","","","",{"$f":"IF(B33>0,VLOOKUP(I33,Punkteschema!$A$2:$B$101,2,FALSE),\"\")","v":""}]
[null,null,null,"",true,"","","","",{"$f":"IF(B34>0,VLOOKUP(I34,Punkteschema!$A$2:$B$101,2,FALSE),\"\")","v":""}]
[null,null,null,"",true,"","","","",{"$f":"IF(B35>0,VLOOKUP(I35,Punkteschema!$A$2:$B$101,2,FALSE),\"\")","v":""}]
[null,null,null,"",true,"","","","",{"$f":"IF(B36>0,VLOOKUP(I36,Punkteschema!$A$2:$B$101,2,FALSE),\"\")","v":""}]
[null,null,null,"",true,"","","","",{"$f":"IF(B37>0,VLOOKUP(I37,Punkteschema!$A$2:$B$101,2,FALSE),\"\")","v":""}]
[null,null,null,"",true,"","","","",{"$f":"IF(B38>0,VLOOKUP(I38,Punkteschema!$A$2:$B$101,2,FALSE),\"\")","v":""}]
[null,null,null,"",true,"","","","",{"$f":"IF(B39>0,VLOOKUP(I39,Punkteschema!$A$2:$B$101,2,FALSE),\"\")","v":""}]
[null,null,null,"",true,"","","","",{"$f":"IF(B40>0,VLOOKUP(I40,Punkteschema!$A$2:$B$101,2,FALSE),\"\")","v":""}]
[null,null,null,"",true,"","","","",{"$f":"IF(B41>0,VLOOKUP(I41,Punkteschema!$A$2:$B$101,2,FALSE),\"\")","v":""}]
[null,null,null,"",true,"","","","",{"$f":"IF(B42>0,VLOOKUP(I42,Punkteschema!$A$2:$B$101,2,FALSE),\"\")","v":""}]
[null,null,null,"",true,"","","","",{"$f":"IF(B43>0,VLOOKUP(I43,Punkteschema!$A$2:$B$101,2,FALSE),\"\")","v":""}]
[null,null,null,"",true,"","","","",{"$f":"IF(B44>0,VLOOKUP(I44,Punkteschema!$A$2:$B$101,2,FALSE),\"\")","v":""}]
[null,null,null,"",true,"","","","",{"$f":"IF(B45>0,VLOOKUP(I45,Punkteschema!$A$2:$B$101,2,FALSE),\"\")","v":""}]
[null,null,null,"",true,"","","","",{"$f":"IF(B46>0,VLOOKUP(I46,Punkteschema!$A$2:$B$101,2,FALSE),\"\")","v":""}]
[null,null,null,"",true,"","","","",{"$f":"IF(B47>0,VLOOKUP(I47,Punkteschema!$A$2:$B$101,2,FALSE),\"\")","v":""}]
[null,null,null,"",true,"","","","",{"$f":"IF(B48>0,VLOOKUP(I48,Punkteschema!$A$2:$B$101,2,FALSE),\"\")","v":""}]
[null,null,null,"",true,"","","","",{"$f":"IF(B49>0,VLOOKUP(I49,Punkteschema!$A$2:$B$101,2,FALSE),\"\")","v":""}]
[null,null,null,"",true,"","","","",{"$f":"IF(B50>0,VLOOKUP(I50,Punkteschema!$A$2:$B$101,2,FALSE),\"\")","v":""}]
[null,null,null,"",true,"","","","",{"$f":"IF(B51>0,VLOOKUP(I51,Punkteschema!$A$2:$B$101,2,FALSE),\"\")","v":""}]
[null,null,null,"",true,"","","","",{"$f":"IF(B52>0,VLOOKUP(I52,Punkteschema!$A$2:$B$101,2,FALSE),\"\")","v":""}]
[null,null,null,"",true,{"$f":"IF(B53>0,COUNTIF(B$3:B$55,\"<\"&B53)+1,\"\")","v":""},"",{"$f":"IF(AND(B53>0,C53>0),COUNTIF(D$3:D$55,\"<\"&D53)+1,\"\")","v":""},{"$f":"IF(B53>0,IF(E53,MIN(F53:H53),MAX(F53:H53)),\"\")","v":""},{"$f":"IF(B53>0,VLOOKUP(I53,Punkteschema!$A$2:$B$101,2,FALSE),\"\")","v":""}]
[null,null,null,"",true,"","",{"$f":"IF(AND(B54>0,C54>0),COUNTIF(D$3:D$55,\"<\"&D54)+1,\"\")","v":""},{"$f":"IF(B54>0,IF(E54,MIN(F54:H54),MAX(F54:H54)),\"\")","v":""},{"$f":"IF(B54>0,VLOOKUP(I54,Punkteschema!$A$2:$B$101,2,FALSE),\"\")","v":""}]
[null,null,null,"",true,"","",{"$f":"IF(AND(B55>0,C55>0),COUNTIF(D$3:D$55,\"<\"&D55)+1,\"\")","v":""},{"$f":"IF(B55>0,IF(E55,MIN(F55:H55),MAX(F55:H55)),\"\")","v":""},{"$f":"IF(B55>0,VLOOKUP(I55,Punkteschema!$A$2:$B$101,2,FALSE),\"\")","v":""}]
[]
["OS:",null,null,null,"Runde 1:","E","<- E/B"]
["S:",null,null,null,"Runde 2:","B","<- E/B"]
["S:"]
[]
["Verloste Preise: "]
[]
["Spieltag wg. der DM ausgefallen !"]

{"sheet":"Einzelwertung11","index":13,"n_rows":63,"n_cols":10,"rows_kept":63,"cut":false,"hidden":false,"merged":[[0,0,0,9]]}
[{"$f":"CONCATENATE(\"5. Sommer-Cup - Freizeittreff Herbede - \",TEXT(Gesamtstand!$P$2,\"TT.MM.JJ\"))","v":"5. Sommer-Cup - Freizeittreff Herbede - 11.07.19"}]
["Spieler","Runde 1","Runde 2","Gesamt","bessere?","Pl. R1","Pl. R2","Pl. Ges.","gewertet","Punkte"]
["Buchholz, Ansgar",25,31,{"$f":"IF(B3>0,C3+B3,\"\")","v":56},true,{"$f":"IF(B3>0,COUNTIF(B$3:B$55,\"<\"&B3)+1,\"\")","v":1},{"$f":"IF(C3>0,COUNTIF(C$3:C$55,\"<\"&C3)+1,\"\")","v":3},{"$f":"IF(AND(B3>0,C3>0),COUNTIF(D$3:D$55,\"<\"&D3)+1,\"\")","v":1},{"$f":"IF(B3>0,IF(E3,MIN(F3:H3),MAX(F3:H3)),\"\")","v":1},{"$f":"IF(B3>0,VLOOKUP(I3,Punkteschema!$A$2:$B$101,2,FALSE),\"\")","v":25}]
["Schmidtbauer, Günter",39,29,68,true,17,1,9,1,{"$f":"IF(B4>0,VLOOKUP(I4,Punkteschema!$A$2:$B$101,2,FALSE),\"\")","v":25}]
["Urban, Volker",28,30,58,false,2,2,2,2,{"$f":"IF(B5>0,VLOOKUP(I5,Punkteschema!$A$2:$B$101,2,FALSE),\"\")","v":21}]
["Puschner, Michael",32,31,63,true,7,3,4,3,{"$f":"IF(B6>0,VLOOKUP(I6,Punkteschema!$A$2:$B$101,2,FALSE),\"\")","v":18}]
["Börgmann, Ulrich",30,39,69,true,4,15,10,4,{"$f":"IF(B7>0,VLOOKUP(I7,Punkteschema!$A$2:$B$101,2,FALSE),\"\")","v":15}]
["Mühling, Dirk",29,32,61,false,3,5,3,5,{"$f":"IF(B8>0,VLOOKUP(I8,Punkteschema!$A$2:$B$101,2,FALSE),\"\")","v":15}]
["Urban, Angela",31,35,66,true,5,11,6,5,{"$f":"IF(B9>0,VLOOKUP(I9,Punkteschema!$A$2:$B$101,2,FALSE),\"\")","v":15}]
["Lieber, Nicole",38,32,70,true,16,5,11,5,{"$f":"IF(B10>0,VLOOKUP(I10,Punkteschema!$A$2:$B$101,2,FALSE),\"\")","v":15}]
["Kortmann, Uwe",31,43,74,true,5,19,16,5,{"$f":"IF(B11>0,VLOOKUP(I11,Punkteschema!$A$2:$B$101,2,FALSE),\"\")","v":15}]
["Greiffendorf, Hellmut",33,34,67,true,8,9,7,7,{"$f":"IF(B12>0,VLOOKUP(I12,Punkteschema!$A$2:$B$101,2,FALSE),\"\")","v":10}]
["Urban, Dominic",33,34,67,true,8,9,7,7,{"$f":"IF(B13>0,VLOOKUP(I13,Punkteschema!$A$2:$B$101,2,FALSE),\"\")","v":10}]
["Tabor, Peter",33,32,65,false,8,5,5,8,{"$f":"IF(B14>0,VLOOKUP(I14,Punkteschema!$A$2:$B$101,2,FALSE),\"\")","v":10}]
["Kunz, Martin",39,33,72,true,17,8,13,8,{"$f":"IF(B15>0,VLOOKUP(I15,Punkteschema!$A$2:$B$101,2,FALSE),\"\")","v":10}]
["Kortmann, Sabine",34,39,73,true,11,15,15,11,{"$f":"IF(B16>0,VLOOKUP(I16,Punkteschema!$A$2:$B$101,2,FALSE),\"\")","v":5}]
["Börgmann, Brigitte",35,36,71,true,12,12,12,12,{"$f":"IF(B17>0,VLOOKUP(I17,Punkteschema!$A$2:$B$101,2,FALSE),\"\")","v":5}]
["Lenk, Rolf",35,37,72,true,12,13,13,12,{"$f":"IF(B18>0,VLOOKUP(I18,Punkteschema!$A$2:$B$101,2,FALSE),\"\")","v":5}]
["Jezierski, Marie-Luise",37,38,75,true,14,14,17,14,{"$f":"IF(B19>0,VLOOKUP(I19,Punkteschema!$A$2:$B$101,2,FALSE),\"\")","v":5}]
["Kersch, Uwe",37,39,76,true,14,15,18,14,{"$f":"IF(B20>0,VLOOKUP(I20,Punkteschema!$A$2:$B$101,2,FALSE),\"\")","v":5}]
["Schmidt, Barbara",42,42,84,true,19,18,19,18,{"$f":"IF(B21>0,VLOOKUP(I21,Punkteschema!$A$2:$B$101,2,FALSE),\"\")","v":3}]
[null,null,null,{"$f":"IF(B22>0,C22+B22,\"\")","v":""},false,{"$f":"IF(B22>0,COUNTIF(B$3:B$55,\"<\"&B22)+1,\"\")","v":""},{"$f":"IF(C22>0,COUNTIF(C$3:C$55,\"<\"&C22)+1,\"\")","v":""},{"$f":"IF(AND(B22>0,C22>0),COUNTIF(D$3:D$55,\"<\"&D22)+1,\"\")","v":""},{"$f":"IF(B22>0,IF(E22,MIN(F22:H22),MAX(F22:H22)),\"\")","v":""},{"$f":"IF(B22>0,VLOOKUP(I22,Punkteschema!$A$2:$B$101,2,FALSE),\"\")","v":""}]
[null,null,null,{"$f":"IF(B23>0,C23+B23,\"\")","v":""},true,{"$f":"IF(B23>0,COUNTIF(B$3:B$55,\"<\"&B23)+1,\"\")","v":""},"",{"$f":"IF(AND(B23>0,C23>0),COUNTIF(D$3:D$55,\"<\"&D23)+1,\"\")","v":""},{"$f":"IF(B23>0,IF(E23,MIN(F23:H23),MAX(F23:H23)),\"\")","v":""},{"$f":"IF(B23>0,VLOOKUP(I23,Punkteschema!$A$2:$B$101,2,FALSE),\"\")","v":""}]
[null,null,null,"",true,"","","","",{"$f":"IF(B24>0,VLOOKUP(I24,Punkteschema!$A$2:$B$101,2,FALSE),\"\")","v":""}]
[null,null,null,"",true,"","","","",{"$f":"IF(B25>0,VLOOKUP(I25,Punkteschema!$A$2:$B$101,2,FALSE),\"\")","v":""}]
[null,null,null,"",true,"","","","",{"$f":"IF(B26>0,VLOOKUP(I26,Punkteschema!$A$2:$B$101,2,FALSE),\"\")","v":""}]
[null,null,null,"",true,"","","","",{"$f":"IF(B27>0,VLOOKUP(I27,Punkteschema!$A$2:$B$101,2,FALSE),\"\")","v":""}]
[null,null,null,"",true,"","","","",{"$f":"IF(B28>0,VLOOKUP(I28,Punkteschema!$A$2:$B$101,2,FALSE),\"\")","v":""}]
[null,null,null,"",true,"","","","",{"$f":"IF(B29>0,VLOOKUP(I29,Punkteschema!$A$2:$B$101,2,FALSE),\"\")","v":""}]
[null,null,null,"",true,"","","","",{"$f":"IF(B30>0,VLOOKUP(I30,Punkteschema!$A$2:$B$101,2,FALSE),\"\")","v":""}]
[null,null,null,"",true,"","","","",{"$f":"IF(B31>0,VLOOKUP(I31,Punkteschema!$A$2:$B$101,2,FALSE),\"\")","v":""}]
[null,null,null,"",true,"","","","",{"$f":"IF(B32>0,VLOOKUP(I32,Punkteschema!$A$2:$B$101,2,FALSE),\"\")","v":""}]
[null,null,null,"",true,"","","","",{"$f":"IF(B33>0,VLOOKUP(I33,Punkteschema!$A$2:$B$101,2,FALSE),\"\")","v":""}]
[null,null,null,"",true,"","","","",{"$f":"IF(B34>0,VLOOKUP(I34,Punkteschema!$A$2:$B$101,2,FALSE),\"\")","v":""}]
[null,null,null,"",true,"","","","",{"$f":"IF(B35>0,VLOOKUP(I35,Punkteschema!$A$2:$B$101,2,FALSE),\"\")","v":""}]
[null,null,null,"",true,"","","","",{"$f":"IF(B36>0,VLOOKUP(I36,Punkteschema!$A$2:$B$101,2,FALSE),\"\")","v":""}]
[null,null,null,"",true,"","","","",{"$f":"IF(B37>0,VLOOKUP(I37,Punkteschema!$A$2:$B$101,2,FALSE),\"\")","v":""}]
[null,null,null,"",true,"","","","",{"$f":"IF(B38>0,VLOOKUP(I38,Punkteschema!$A$2:$B$101,2,FALSE),\"\")","v":""}]
[null,null,null,"",true,"","","","",{"$f":"IF(B39>0,VLOOKUP(I39,Punkteschema!$A$2:$B$101,2,FALSE),\"\")","v":""}]
[null,null,null,"",true,"","","","",{"$f":"IF(B40>0,VLOOKUP(I40,Punkteschema!$A$2:$B$101,2,FALSE),\"\")","v":""}]
[null,null,null,"",true,"","","","",{"$f":"IF(B41>0,VLOOKUP(I41,Punkteschema!$A$2:$B$101,2,FALSE),\"\")","v":""}]
[null,null,null,"",true,"","","","",{"$f":"IF(B42>0,VLOOKUP(I42,Punkteschema!$A$2:$B$101,2,FALSE),\"\")","v":""}]
[null,null,null,"",true,"","","","",{"$f":"IF(B43>0,VLOOKUP(I43,Punkteschema!$A$2:$B$101,2,FALSE),\"\")","v":""}]
[null,null,null,"",true,"","","","",{"$f":"IF(B44>0,VLOOKUP(I44,Punkteschema!$A$2:$B$101,2,FALSE),\"\")","v":""}]
[null,null,null,"",true,"","","","",{"$f":"IF(B45>0,VLOOKUP(I45,Punkteschema!$A$2:$B$101,2,FALSE),\"\")","v":""}]
[null,null,null,"",true,"","","","",{"$f":"IF(B46>0,VLOOKUP(I46,Punkteschema!$A$2:$B$101,2,FALSE),\"\")","v":""}]
[null,null,null,"",true,"","","","",{"$f":"IF(B47>0,VLOOKUP(I47,Punkteschema!$A$2:$B$101,2,FALSE),\"\")","v":""}]
[null,null,null,"",true,"","","","",{"$f":"IF(B48>0,VLOOKUP(I48,Punkteschema!$A$2:$B$101,2,FALSE),\"\")","v":""}]
[null,null,null,"",true,"","","","",{"$f":"IF(B49>0,VLOOKUP(I49,Punkteschema!$A$2:$B$101,2,FALSE),\"\")","v":""}]
[null,null,null,"",true,"","","","",{"$f":"IF(B50>0,VLOOKUP(I50,Punkteschema!$A$2:$B$101,2,FALSE),\"\")","v":""}]
[null,null,null,"",true,"","","","",{"$f":"IF(B51>0,VLOOKUP(I51,Punkteschema!$A$2:$B$101,2,FALSE),\"\")","v":""}]
[null,null,null,"",true,"","","","",{"$f":"IF(B52>0,VLOOKUP(I52,Punkteschema!$A$2:$B$101,2,FALSE),\"\")","v":""}]
[null,null,null,"",true,{"$f":"IF(B53>0,COUNTIF(B$3:B$55,\"<\"&B53)+1,\"\")","v":""},"",{"$f":"IF(AND(B53>0,C53>0),COUNTIF(D$3:D$55,\"<\"&D53)+1,\"\")","v":""},{"$f":"IF(B53>0,IF(E53,MIN(F53:H53),MAX(F53:H53)),\"\")","v":""},{"$f":"IF(B53>0,VLOOKUP(I53,Punkteschema!$A$2:$B$101,2,FALSE),\"\")","v":""}]
[null,null,null,"",true,"","",{"$f":"IF(AND(B54>0,C54>0),COUNTIF(D$3:D$55,\"<\"&D54)+1,\"\")","v":""},{"$f":"IF(B54>0,IF(E54,MIN(F54:H54),MAX(F54:H54)),\"\")","v":""},{"$f":"IF(B54>0,VLOOKUP(I54,Punkteschema!$A$2:$B$101,2,FALSE),\"\")","v":""}]
[null,null,null,"",true,"","",{"$f":"IF(AND(B55>0,C55>0),COUNTIF(D$3:D$55,\"<\"&D55)+1,\"\")","v":""},{"$f":"IF(B55>0,IF(E55,MIN(F55:H55),MAX(F55:H55)),\"\")","v":""},{"$f":"IF(B55>0,VLOOKUP(I55,Punkteschema!$A$2:$B$101,2,FALSE),\"\")","v":""}]
[]
["OS: Mühling, Dirk (HEV)",null,null,null,"Runde 1:","E","<- E/B"]
["S: Buchholz, Ansgar (ASW)",null,null,null,"Runde 2:","B","<- E/B"]
["S: Puschner, Michael (HOB)"]
[]
["Verloste Preise: ","Angela Urban (1 Flasche Grappa)"]
[null,"Michael Puschner (1 Verzehrgutschein)"]
[null,"Volker Urban (1 Glaskrug mit Zapfhahn)"]

{"sheet":"Einzelwertung12","index":14,"n_rows":63,"n_cols":10,"rows_kept":63,"cut":false,"hidden":false,"merged":[[0,0,0,9]]}
[{"$f":"CONCATENATE(\"5. Sommer-Cup - Freizeittreff Herbede - \",TEXT(Gesamtstand!$Q$2,\"TT.MM.JJ\"))","v":"5. Sommer-Cup - Freizeittreff Herbede - 18.07.19"}]
["Spieler","Runde 1","Runde 2","Gesamt","bessere?","Pl. R1","Pl. R2","Pl. Ges.","gewertet","Punkte"]
["Buchholz, Ansgar",24,30,{"$f":"IF(B3>0,C3+B3,\"\")","v":54},true,{"$f":"IF(B3>0,COUNTIF(B$3:B$55,\"<\"&B3)+1,\"\")","v":2},{"$f":"IF(C3>0,COUNTIF(C$3:C$55,\"<\"&C3)+1,\"\")","v":2},{"$f":"IF(AND(B3>0,C3>0),COUNTIF(D$3:D$55,\"<\"&D3)+1,\"\")","v":1},{"$f":"IF(B3>0,IF(E3,MIN(F3:H3),MAX(F3:H3)),\"\")","v":1},{"$f":"IF(B3>0,VLOOKUP(I3,Punkteschema!$A$2:$B$101,2,FALSE),\"\")","v":25}]
["Greiffendorf, Hellmut",23,32,55,true,1,6,2,1,{"$f":"IF(B4>0,VLOOKUP(I4,Punkteschema!$A$2:$B$101,2,FALSE),\"\")","v":25}]
["Urban, Volker",25,30,55,false,3,2,2,3,{"$f":"IF(B5>0,VLOOKUP(I5,Punkteschema!$A$2:$B$101,2,FALSE),\"\")","v":18}]
["Battig, Wolfgang",25,31,56,true,3,4,4,3,{"$f":"IF(B6>0,VLOOKUP(I6,Punkteschema!$A$2:$B$101,2,FALSE),\"\")","v":18}]
["Lehmann, Niclas",25,33,58,true,3,7,6,3,{"$f":"IF(B7>0,VLOOKUP(I7,Punkteschema!$A$2:$B$101,2,FALSE),\"\")","v":18}]
["Kortmann, Uwe",26,33,59,true,6,7,7,6,{"$f":"IF(B8>0,VLOOKUP(I8,Punkteschema!$A$2:$B$101,2,FALSE),\"\")","v":15}]
["Puschner, Michael",26,38,64,true,6,15,8,6,{"$f":"IF(B9>0,VLOOKUP(I9,Punkteschema!$A$2:$B$101,2,FALSE),\"\")","v":15}]
["Kortmann, Sabine",39,33,72,true,18,7,15,7,{"$f":"IF(B10>0,VLOOKUP(I10,Punkteschema!$A$2:$B$101,2,FALSE),\"\")","v":10}]
["Mühling, Dirk",29,27,56,false,8,1,4,8,{"$f":"IF(B11>0,VLOOKUP(I11,Punkteschema!$A$2:$B$101,2,FALSE),\"\")","v":10}]
["Lieber, Nicole",31,36,67,true,9,11,10,9,{"$f":"IF(B12>0,VLOOKUP(I12,Punkteschema!$A$2:$B$101,2,FALSE),\"\")","v":10}]
["Schmidtbauer, Günter",31,38,69,true,9,15,12,9,{"$f":"IF(B13>0,VLOOKUP(I13,Punkteschema!$A$2:$B$101,2,FALSE),\"\")","v":10}]
["Börgmann, Ulrich",31,40,71,true,9,17,14,9,{"$f":"IF(B14>0,VLOOKUP(I14,Punkteschema!$A$2:$B$101,2,FALSE),\"\")","v":10}]
["Dreischer, Burkhard",31,47,78,true,9,20,18,9,{"$f":"IF(B15>0,VLOOKUP(I15,Punkteschema!$A$2:$B$101,2,FALSE),\"\")","v":10}]
["Schmidt, Barbara",32,35,67,true,13,10,10,10,{"$f":"IF(B16>0,VLOOKUP(I16,Punkteschema!$A$2:$B$101,2,FALSE),\"\")","v":10}]
["Urban, Angela",37,36,73,true,16,11,16,11,{"$f":"IF(B17>0,VLOOKUP(I17,Punkteschema!$A$2:$B$101,2,FALSE),\"\")","v":5}]
["Börgmann, Brigitte",41,36,77,true,21,11,17,11,{"$f":"IF(B18>0,VLOOKUP(I18,Punkteschema!$A$2:$B$101,2,FALSE),\"\")","v":5}]
["Lenk, Rolf",32,37,69,true,13,14,12,12,{"$f":"IF(B19>0,VLOOKUP(I19,Punkteschema!$A$2:$B$101,2,FALSE),\"\")","v":5}]
["Tabor, Peter",33,31,64,false,15,4,8,15,{"$f":"IF(B20>0,VLOOKUP(I20,Punkteschema!$A$2:$B$101,2,FALSE),\"\")","v":5}]
["Dammann, Reinhold",38,126,164,true,17,21,21,17,{"$f":"IF(B21>0,VLOOKUP(I21,Punkteschema!$A$2:$B$101,2,FALSE),\"\")","v":3}]
["Kersch, Uwe",40,43,83,true,20,18,19,18,{"$f":"IF(B22>0,VLOOKUP(I22,Punkteschema!$A$2:$B$101,2,FALSE),\"\")","v":3}]
["Jezierski, Marie-Luise",39,45,84,true,18,19,20,18,{"$f":"IF(B23>0,VLOOKUP(I23,Punkteschema!$A$2:$B$101,2,FALSE),\"\")","v":3}]
[null,null,null,{"$f":"IF(B24>0,C24+B24,\"\")","v":""},true,{"$f":"IF(B24>0,COUNTIF(B$3:B$55,\"<\"&B24)+1,\"\")","v":""},{"$f":"IF(C24>0,COUNTIF(C$3:C$55,\"<\"&C24)+1,\"\")","v":""},{"$f":"IF(AND(B24>0,C24>0),COUNTIF(D$3:D$55,\"<\"&D24)+1,\"\")","v":""},{"$f":"IF(B24>0,IF(E24,MIN(F24:H24),MAX(F24:H24)),\"\")","v":""},{"$f":"IF(B24>0,VLOOKUP(I24,Punkteschema!$A$2:$B$101,2,FALSE),\"\")","v":""}]
[null,null,null,"",true,"","","","",{"$f":"IF(B25>0,VLOOKUP(I25,Punkteschema!$A$2:$B$101,2,FALSE),\"\")","v":""}]
[null,null,null,"",true,"","","","",{"$f":"IF(B26>0,VLOOKUP(I26,Punkteschema!$A$2:$B$101,2,FALSE),\"\")","v":""}]
[null,null,null,"",true,"","","","",{"$f":"IF(B27>0,VLOOKUP(I27,Punkteschema!$A$2:$B$101,2,FALSE),\"\")","v":""}]
[null,null,null,{"$f":"IF(B28>0,C28+B28,\"\")","v":""},true,"","","",{"$f":"IF(B28>0,IF(E28,MIN(F28:H28),MAX(F28:H28)),\"\")","v":""},{"$f":"IF(B28>0,VLOOKUP(I28,Punkteschema!$A$2:$B$101,2,FALSE),\"\")","v":""}]
[null,null,null,"",true,"","","","",{"$f":"IF(B29>0,VLOOKUP(I29,Punkteschema!$A$2:$B$101,2,FALSE),\"\")","v":""}]
[null,null,null,"",true,"","","","",{"$f":"IF(B30>0,VLOOKUP(I30,Punkteschema!$A$2:$B$101,2,FALSE),\"\")","v":""}]
[null,null,null,"",true,"","","","",{"$f":"IF(B31>0,VLOOKUP(I31,Punkteschema!$A$2:$B$101,2,FALSE),\"\")","v":""}]
[null,null,null,"",true,"","","","",{"$f":"IF(B32>0,VLOOKUP(I32,Punkteschema!$A$2:$B$101,2,FALSE),\"\")","v":""}]
[null,null,null,"",true,"","","","",{"$f":"IF(B33>0,VLOOKUP(I33,Punkteschema!$A$2:$B$101,2,FALSE),\"\")","v":""}]
[null,null,null,"",true,"","","","",{"$f":"IF(B34>0,VLOOKUP(I34,Punkteschema!$A$2:$B$101,2,FALSE),\"\")","v":""}]
[null,null,null,"",true,{"$f":"IF(B35>0,COUNTIF(B$3:B$55,\"<\"&B35)+1,\"\")","v":""},{"$f":"IF(C35>0,COUNTIF(C$3:C$55,\"<\"&C35)+1,\"\")","v":""},{"$f":"IF(AND(B35>0,C35>0),COUNTIF(D$3:D$55,\"<\"&D35)+1,\"\")","v":""},"",{"$f":"IF(B35>0,VLOOKUP(I35,Punkteschema!$A$2:$B$101,2,FALSE),\"\")","v":""}]
[null,null,null,"",true,"","","","",{"$f":"IF(B36>0,VLOOKUP(I36,Punkteschema!$A$2:$B$101,2,FALSE),\"\")","v":""}]
[null,null,null,"",true,"","","","",{"$f":"IF(B37>0,VLOOKUP(I37,Punkteschema!$A$2:$B$101,2,FALSE),\"\")","v":""}]
[null,null,null,"",true,"","","","",{"$f":"IF(B38>0,VLOOKUP(I38,Punkteschema!$A$2:$B$101,2,FALSE),\"\")","v":""}]
[null,null,null,"",true,"","","","",{"$f":"IF(B39>0,VLOOKUP(I39,Punkteschema!$A$2:$B$101,2,FALSE),\"\")","v":""}]
[null,null,null,"",true,"","","","",{"$f":"IF(B40>0,VLOOKUP(I40,Punkteschema!$A$2:$B$101,2,FALSE),\"\")","v":""}]
[null,null,null,"",true,"","","","",{"$f":"IF(B41>0,VLOOKUP(I41,Punkteschema!$A$2:$B$101,2,FALSE),\"\")","v":""}]
[null,null,null,"",true,"","","","",{"$f":"IF(B42>0,VLOOKUP(I42,Punkteschema!$A$2:$B$101,2,FALSE),\"\")","v":""}]
[null,null,null,"",true,"","","","",{"$f":"IF(B43>0,VLOOKUP(I43,Punkteschema!$A$2:$B$101,2,FALSE),\"\")","v":""}]
[null,null,null,"",true,"","","","",{"$f":"IF(B44>0,VLOOKUP(I44,Punkteschema!$A$2:$B$101,2,FALSE),\"\")","v":""}]
[null,null,null,"",true,"","","","",{"$f":"IF(B45>0,VLOOKUP(I45,Punkteschema!$A$2:$B$101,2,FALSE),\"\")","v":""}]
[null,null,null,"",true,"","","","",{"$f":"IF(B46>0,VLOOKUP(I46,Punkteschema!$A$2:$B$101,2,FALSE),\"\")","v":""}]
[null,null,null,"",true,"","","","",{"$f":"IF(B47>0,VLOOKUP(I47,Punkteschema!$A$2:$B$101,2,FALSE),\"\")","v":""}]
[null,null,null,"",true,"","","","",{"$f":"IF(B48>0,VLOOKUP(I48,Punkteschema!$A$2:$B$101,2,FALSE),\"\")","v":""}]
[null,null,null,"",true,"","","","",{"$f":"IF(B49>0,VLOOKUP(I49,Punkteschema!$A$2:$B$101,2,FALSE),\"\")","v":""}]
[null,null,null,"",true,"","","","",{"$f":"IF(B50>0,VLOOKUP(I50,Punkteschema!$A$2:$B$101,2,FALSE),\"\")","v":""}]
[null,null,null,"",true,"","","","",{"$f":"IF(B51>0,VLOOKUP(I51,Punkteschema!$A$2:$B$101,2,FALSE),\"\")","v":""}]
[null,null,null,"",true,"","","","",{"$f":"IF(B52>0,VLOOKUP(I52,Punkteschema!$A$2:$B$101,2,FALSE),\"\")","v":""}]
[null,null,null,"",true,"","","",{"$f":"IF(B53>0,IF(E53,MIN(F53:H53),MAX(F53:H53)),\"\")","v":""},{"$f":"IF(B53>0,VLOOKUP(I53,Punkteschema!$A$2:$B$101,2,FALSE),\"\")","v":""}]
[null,null,null,"",true,"","","",{"$f":"IF(B54>0,IF(E54,MIN(F54:H54),MAX(F54:H54)),\"\")","v":""},{"$f":"IF(B54>0,VLOOKUP(I54,Punkteschema!$A$2:$B$101,2,FALSE),\"\")","v":""}]
[null,null,null,"",true,"","","",{"$f":"IF(B55>0,IF(E55,MIN(F55:H55),MAX(F55:H55)),\"\")","v":""},{"$f":"IF(B55>0,VLOOKUP(I55,Punkteschema!$A$2:$B$101,2,FALSE),\"\")","v":""}]
[]
["OS: Mühling, Dirk (HEV)",null,null,null,"Runde 1:","E","<- E/B"]
["S: Buchholz, Ansgar (ASW)",null,null,null,"Runde 2:","B","<- E/B"]
["S: Puschner, Michael (HOB)"]
[]
["Verloste Preise: ","Ansgar Buchholz (1 Trinkflasche)"]
[null,"Michael Puschner (1 Flasche Kräuterlikör)"]
[null,"Brigitte Börgmann (1 Solarlaterne)"]

{"sheet":"Einzelwertung13","index":15,"n_rows":63,"n_cols":10,"rows_kept":63,"cut":false,"hidden":false,"merged":[[0,0,0,9]]}
[{"$f":"CONCATENATE(\"5. Sommer-Cup - Freizeittreff Herbede - \",TEXT(Gesamtstand!$R$2,\"TT.MM.JJ\"))","v":"5. Sommer-Cup - Freizeittreff Herbede - 25.07.19"}]
["Spieler","Runde 1","Runde 2","Gesamt","bessere?","Pl. R1","Pl. R2","Pl. Ges.","gewertet","Punkte"]
["Urban, Volker",26,28,{"$f":"IF(B3>0,C3+B3,\"\")","v":54},false,{"$f":"IF(B3>0,COUNTIF(B$3:B$55,\"<\"&B3)+1,\"\")","v":1},{"$f":"IF(C3>0,COUNTIF(C$3:C$55,\"<\"&C3)+1,\"\")","v":1},{"$f":"IF(AND(B3>0,C3>0),COUNTIF(D$3:D$55,\"<\"&D3)+1,\"\")","v":1},{"$f":"IF(B3>0,IF(E3,MIN(F3:H3),MAX(F3:H3)),\"\")","v":1},{"$f":"IF(B3>0,VLOOKUP(I3,Punkteschema!$A$2:$B$101,2,FALSE),\"\")","v":25}]
["Mühling, Dirk",27,32,59,false,2,2,2,2,{"$f":"IF(B4>0,VLOOKUP(I4,Punkteschema!$A$2:$B$101,2,FALSE),\"\")","v":21}]
["Greiffendorf, Hellmut",28,32,60,true,3,2,3,2,{"$f":"IF(B5>0,VLOOKUP(I5,Punkteschema!$A$2:$B$101,2,FALSE),\"\")","v":21}]
["Tabor, Peter",126,32,158,true,15,2,15,2,{"$f":"IF(B6>0,VLOOKUP(I6,Punkteschema!$A$2:$B$101,2,FALSE),\"\")","v":21}]
["Lenk, Rolf",28,40,68,true,3,14,6,3,{"$f":"IF(B7>0,VLOOKUP(I7,Punkteschema!$A$2:$B$101,2,FALSE),\"\")","v":18}]
["Buchholz, Ansgar",29,34,63,true,5,5,4,4,{"$f":"IF(B8>0,VLOOKUP(I8,Punkteschema!$A$2:$B$101,2,FALSE),\"\")","v":15}]
["Kortmann, Uwe",40,34,74,true,12,5,8,5,{"$f":"IF(B9>0,VLOOKUP(I9,Punkteschema!$A$2:$B$101,2,FALSE),\"\")","v":15}]
["Puschner, Michael",31,36,67,false,6,7,5,7,{"$f":"IF(B10>0,VLOOKUP(I10,Punkteschema!$A$2:$B$101,2,FALSE),\"\")","v":10}]
["Urban, Dominic",32,37,69,true,7,9,7,7,{"$f":"IF(B11>0,VLOOKUP(I11,Punkteschema!$A$2:$B$101,2,FALSE),\"\")","v":10}]
["Börgmann, Brigitte",42,36,78,true,13,7,12,7,{"$f":"IF(B12>0,VLOOKUP(I12,Punkteschema!$A$2:$B$101,2,FALSE),\"\")","v":10}]
["Börgmann, Ulrich",36,38,74,true,9,12,8,8,{"$f":"IF(B13>0,VLOOKUP(I13,Punkteschema!$A$2:$B$101,2,FALSE),\"\")","v":10}]
["Urban, Angela",35,40,75,true,8,14,10,8,{"$f":"IF(B14>0,VLOOKUP(I14,Punkteschema!$A$2:$B$101,2,FALSE),\"\")","v":10}]
["Kersch, Uwe",36,39,75,true,9,13,10,9,{"$f":"IF(B15>0,VLOOKUP(I15,Punkteschema!$A$2:$B$101,2,FALSE),\"\")","v":10}]
["Jezierski, Marie-Luise",46,37,83,true,14,9,14,9,{"$f":"IF(B16>0,VLOOKUP(I16,Punkteschema!$A$2:$B$101,2,FALSE),\"\")","v":10}]
["Lieber, Nicole",126,37,163,true,15,9,16,9,{"$f":"IF(B17>0,VLOOKUP(I17,Punkteschema!$A$2:$B$101,2,FALSE),\"\")","v":10}]
["Kortmann, Sabine",37,43,80,true,11,17,13,11,{"$f":"IF(B18>0,VLOOKUP(I18,Punkteschema!$A$2:$B$101,2,FALSE),\"\")","v":5}]
["Schmidt, Barbara",126,40,166,true,15,14,17,14,{"$f":"IF(B19>0,VLOOKUP(I19,Punkteschema!$A$2:$B$101,2,FALSE),\"\")","v":5}]
[null,null,null,{"$f":"IF(B20>0,C20+B20,\"\")","v":""},true,{"$f":"IF(B20>0,COUNTIF(B$3:B$55,\"<\"&B20)+1,\"\")","v":""},"",{"$f":"IF(AND(B20>0,C20>0),COUNTIF(D$3:D$55,\"<\"&D20)+1,\"\")","v":""},{"$f":"IF(B20>0,IF(E20,MIN(F20:H20),MAX(F20:H20)),\"\")","v":""},{"$f":"IF(B20>0,VLOOKUP(I20,Punkteschema!$A$2:$B$101,2,FALSE),\"\")","v":""}]
[null,null,null,"",true,"","","","",{"$f":"IF(B21>0,VLOOKUP(I21,Punkteschema!$A$2:$B$101,2,FALSE),\"\")","v":""}]
[null,null,null,"",true,"","","","",{"$f":"IF(B22>0,VLOOKUP(I22,Punkteschema!$A$2:$B$101,2,FALSE),\"\")","v":""}]
[null,null,null,"",true,"","","","",{"$f":"IF(B23>0,VLOOKUP(I23,Punkteschema!$A$2:$B$101,2,FALSE),\"\")","v":""}]
[null,null,null,"",true,"","","","",{"$f":"IF(B24>0,VLOOKUP(I24,Punkteschema!$A$2:$B$101,2,FALSE),\"\")","v":""}]
[null,null,null,"",true,"","","","",{"$f":"IF(B25>0,VLOOKUP(I25,Punkteschema!$A$2:$B$101,2,FALSE),\"\")","v":""}]
[null,null,null,"",true,"","","","",{"$f":"IF(B26>0,VLOOKUP(I26,Punkteschema!$A$2:$B$101,2,FALSE),\"\")","v":""}]
[null,null,null,"",true,"","","","",{"$f":"IF(B27>0,VLOOKUP(I27,Punkteschema!$A$2:$B$101,2,FALSE),\"\")","v":""}]
[null,null,null,"",true,"","","","",{"$f":"IF(B28>0,VLOOKUP(I28,Punkteschema!$A$2:$B$101,2,FALSE),\"\")","v":""}]
[null,null,null,"",true,"","","","",{"$f":"IF(B29>0,VLOOKUP(I29,Punkteschema!$A$2:$B$101,2,FALSE),\"\")","v":""}]
[null,null,null,"",true,"","","","",{"$f":"IF(B30>0,VLOOKUP(I30,Punkteschema!$A$2:$B$101,2,FALSE),\"\")","v":""}]
[null,null,null,"",true,"","","","",{"$f":"IF(B31>0,VLOOKUP(I31,Punkteschema!$A$2:$B$101,2,FALSE),\"\")","v":""}]
[null,null,null,"",true,"","","","",{"$f":"IF(B32>0,VLOOKUP(I32,Punkteschema!$A$2:$B$101,2,FALSE),\"\")","v":""}]
[null,null,null,"",true,"","","","",{"$f":"IF(B33>0,VLOOKUP(I33,Punkteschema!$A$2:$B$101,2,FALSE),\"\")","v":""}]
[null,null,null,"",true,"","","","",{"$f":"IF(B34>0,VLOOKUP(I34,Punkteschema!$A$2:$B$101,2,FALSE),\"\")","v":""}]
[null,null,null,"",true,"","","","",{"$f":"IF(B35>0,VLOOKUP(I35,Punkteschema!$A$2:$B$101,2,FALSE),\"\")","v":""}]
[null,null,null,"",true,"","","","",{"$f":"IF(B36>0,VLOOKUP(I36,Punkteschema!$A$2:$B$101,2,FALSE),\"\")","v":""}]
[null,null,null,"",true,"","","","",{"$f":"IF(B37>0,VLOOKUP(I37,Punkteschema!$A$2:$B$101,2,FALSE),\"\")","v":""}]
[null,null,null,"",true,"","","","",{"$f":"IF(B38>0,VLOOKUP(I38,Punkteschema!$A$2:$B$101,2,FALSE),\"\")","v":""}]
[null,null,null,"",true,"","","","",{"$f":"IF(B39>0,VLOOKUP(I39,Punkteschema!$A$2:$B$101,2,FALSE),\"\")","v":""}]
[null,null,null,"",true,"","","","",{"$f":"IF(B40>0,VLOOKUP(I40,Punkteschema!$A$2:$B$101,2,FALSE),\"\")","v":""}]
[null,null,null,"",true,"","","","",{"$f":"IF(B41>0,VLOOKUP(I41,Punkteschema!$A$2:$B$101,2,FALSE),\"\")","v":""}]
[null,null,null,"",true,"","","","",{"$f":"IF(B42>0,VLOOKUP(I42,Punkteschema!$A$2:$B$101,2,FALSE),\"\")","v":""}]
[null,null,null,"",true,"","","","",{"$f":"IF(B43>0,VLOOKUP(I43,Punkteschema!$A$2:$B$101,2,FALSE),\"\")","v":""}]
[null,null,null,"",true,"","","","",{"$f":"IF(B44>0,VLOOKUP(I44,Punkteschema!$A$2:$B$101,2,FALSE),\"\")","v":""}]
[null,null,null,"",true,"","","","",{"$f":"IF(B45>0,VLOOKUP(I45,Punkteschema!$A$2:$B$101,2,FALSE),\"\")","v":""}]
[null,null,null,"",true,"","","","",{"$f":"IF(B46>0,VLOOKUP(I46,Punkteschema!$A$2:$B$101,2,FALSE),\"\")","v":""}]
[null,null,null,"",true,"","","","",{"$f":"IF(B47>0,VLOOKUP(I47,Punkteschema!$A$2:$B$101,2,FALSE),\"\")","v":""}]
[null,null,null,"",true,"","","","",{"$f":"IF(B48>0,VLOOKUP(I48,Punkteschema!$A$2:$B$101,2,FALSE),\"\")","v":""}]
[null,null,null,"",true,"","","","",{"$f":"IF(B49>0,VLOOKUP(I49,Punkteschema!$A$2:$B$101,2,FALSE),\"\")","v":""}]
[null,null,null,"",true,"","","","",{"$f":"IF(B50>0,VLOOKUP(I50,Punkteschema!$A$2:$B$101,2,FALSE),\"\")","v":""}]
[null,null,null,"",true,"","","","",{"$f":"IF(B51>0,VLOOKUP(I51,Punkteschema!$A$2:$B$101,2,FALSE),\"\")","v":""}]
[null,null,null,"",true,"","","","",{"$f":"IF(B52>0,VLOOKUP(I52,Punkteschema!$A$2:$B$101,2,FALSE),\"\")","v":""}]
[null,null,null,"",true,{"$f":"IF(B53>0,COUNTIF(B$3:B$55,\"<\"&B53)+1,\"\")","v":""},"",{"$f":"IF(AND(B53>0,C53>0),COUNTIF(D$3:D$55,\"<\"&D53)+1,\"\")","v":""},{"$f":"IF(B53>0,IF(E53,MIN(F53:H53),MAX(F53:H53)),\"\")","v":""},{"$f":"IF(B53>0,VLOOKUP(I53,Punkteschema!$A$2:$B$101,2,FALSE),\"\")","v":""}]
[null,null,null,"",true,"","",{"$f":"IF(AND(B54>0,C54>0),COUNTIF(D$3:D$55,\"<\"&D54)+1,\"\")","v":""},{"$f":"IF(B54>0,IF(E54,MIN(F54:H54),MAX(F54:H54)),\"\")","v":""},{"$f":"IF(B54>0,VLOOKUP(I54,Punkteschema!$A$2:$B$101,2,FALSE),\"\")","v":""}]
[null,null,null,"",true,"","",{"$f":"IF(AND(B55>0,C55>0),COUNTIF(D$3:D$55,\"<\"&D55)+1,\"\")","v":""},{"$f":"IF(B55>0,IF(E55,MIN(F55:H55),MAX(F55:H55)),\"\")","v":""},{"$f":"IF(B55>0,VLOOKUP(I55,Punkteschema!$A$2:$B$101,2,FALSE),\"\")","v":""}]
[]
["OS: Mühling, Dirk (HEV)",null,null,null,"Runde 1:","E","<- E/B"]
["S: Urban, Volker (ASW)",null,null,null,"Runde 2:","B","<- E/B"]
["S: Puschner, Michael (HOB)"]
[]
["Verloste Preise: ","Dominic Urban (1 Winzervesper)"]
[null,"Peter Tabor (1 Flasche Holunderwein)"]
[null,"Dirk Mühling (1 Gasfeuerzeugset)"]

{"sheet":"Einzelwertung14","index":16,"n_rows":63,"n_cols":10,"rows_kept":63,"cut":false,"hidden":false,"merged":[[0,0,0,9]]}
[{"$f":"CONCATENATE(\"5. Sommer-Cup - Freizeittreff Herbede - \",TEXT(Gesamtstand!$S$2,\"TT.MM.JJ\"))","v":"5. Sommer-Cup - Freizeittreff Herbede - 01.08.19"}]
["Spieler","Runde 1","Runde 2","Gesamt","bessere?","Pl. R1","Pl. R2","Pl. Ges.","gewertet","Punkte"]
["Lieber, Nicole",31,28,{"$f":"IF(B3>0,C3+B3,\"\")","v":59},true,{"$f":"IF(B3>0,COUNTIF(B$3:B$55,\"<\"&B3)+1,\"\")","v":6},{"$f":"IF(C3>0,COUNTIF(C$3:C$55,\"<\"&C3)+1,\"\")","v":1},{"$f":"IF(AND(B3>0,C3>0),COUNTIF(D$3:D$55,\"<\"&D3)+1,\"\")","v":1},{"$f":"IF(B3>0,IF(E3,MIN(F3:H3),MAX(F3:H3)),\"\")","v":1},{"$f":"IF(B3>0,VLOOKUP(I3,Punkteschema!$A$2:$B$101,2,FALSE),\"\")","v":25}]
["Battig, Wolfgang",25,36,61,true,1,11,3,1,{"$f":"IF(B4>0,VLOOKUP(I4,Punkteschema!$A$2:$B$101,2,FALSE),\"\")","v":25}]
["Lenk, Rolf",28,34,62,true,3,4,4,3,{"$f":"IF(B5>0,VLOOKUP(I5,Punkteschema!$A$2:$B$101,2,FALSE),\"\")","v":18}]
["Mühling, Dirk",26,34,60,false,2,4,2,4,{"$f":"IF(B6>0,VLOOKUP(I6,Punkteschema!$A$2:$B$101,2,FALSE),\"\")","v":15}]
["Lehmann, Niclas",30,35,65,true,4,9,5,4,{"$f":"IF(B7>0,VLOOKUP(I7,Punkteschema!$A$2:$B$101,2,FALSE),\"\")","v":15}]
["Kunz, Martin",30,38,68,true,4,13,8,4,{"$f":"IF(B8>0,VLOOKUP(I8,Punkteschema!$A$2:$B$101,2,FALSE),\"\")","v":15}]
["Greiffendorf, Hellmut",34,34,68,true,8,4,8,4,{"$f":"IF(B9>0,VLOOKUP(I9,Punkteschema!$A$2:$B$101,2,FALSE),\"\")","v":15}]
["Börgmann, Ulrich",34,34,68,true,8,4,8,4,{"$f":"IF(B10>0,VLOOKUP(I10,Punkteschema!$A$2:$B$101,2,FALSE),\"\")","v":15}]
["Petersen, Robin",36,34,70,true,16,4,11,4,{"$f":"IF(B11>0,VLOOKUP(I11,Punkteschema!$A$2:$B$101,2,FALSE),\"\")","v":15}]
["Wilke, Andreas",33,44,77,true,7,18,14,7,{"$f":"IF(B12>0,VLOOKUP(I12,Punkteschema!$A$2:$B$101,2,FALSE),\"\")","v":10}]
["Kortmann, Uwe",34,46,80,true,8,19,18,8,{"$f":"IF(B13>0,VLOOKUP(I13,Punkteschema!$A$2:$B$101,2,FALSE),\"\")","v":10}]
["Börgmann, Brigitte",43,35,78,true,19,9,16,9,{"$f":"IF(B14>0,VLOOKUP(I14,Punkteschema!$A$2:$B$101,2,FALSE),\"\")","v":10}]
["Puschner, Michael",35,32,67,false,11,3,6,11,{"$f":"IF(B15>0,VLOOKUP(I15,Punkteschema!$A$2:$B$101,2,FALSE),\"\")","v":5}]
["Jezierski, Marie-Luise",35,37,72,true,11,12,12,11,{"$f":"IF(B16>0,VLOOKUP(I16,Punkteschema!$A$2:$B$101,2,FALSE),\"\")","v":5}]
["Kersch, Uwe",35,39,74,true,11,14,13,11,{"$f":"IF(B17>0,VLOOKUP(I17,Punkteschema!$A$2:$B$101,2,FALSE),\"\")","v":5}]
["Kortmann, Sabine",35,42,77,true,11,17,14,11,{"$f":"IF(B18>0,VLOOKUP(I18,Punkteschema!$A$2:$B$101,2,FALSE),\"\")","v":5}]
["Dammann, Reinhold",35,126,161,true,11,20,20,11,{"$f":"IF(B19>0,VLOOKUP(I19,Punkteschema!$A$2:$B$101,2,FALSE),\"\")","v":5}]
["Petersmann, Chris",40,39,79,true,18,14,17,14,{"$f":"IF(B20>0,VLOOKUP(I20,Punkteschema!$A$2:$B$101,2,FALSE),\"\")","v":5}]
["Schmidtbauer, Günter",47,39,86,true,20,14,19,14,{"$f":"IF(B21>0,VLOOKUP(I21,Punkteschema!$A$2:$B$101,2,FALSE),\"\")","v":5}]
["Tabor, Peter",37,30,67,false,17,2,6,17,{"$f":"IF(B22>0,VLOOKUP(I22,Punkteschema!$A$2:$B$101,2,FALSE),\"\")","v":3}]
[null,null,null,{"$f":"IF(B23>0,C23+B23,\"\")","v":""},true,{"$f":"IF(B23>0,COUNTIF(B$3:B$55,\"<\"&B23)+1,\"\")","v":""},{"$f":"IF(C23>0,COUNTIF(C$3:C$55,\"<\"&C23)+1,\"\")","v":""},{"$f":"IF(AND(B23>0,C23>0),COUNTIF(D$3:D$55,\"<\"&D23)+1,\"\")","v":""},{"$f":"IF(B23>0,IF(E23,MIN(F23:H23),MAX(F23:H23)),\"\")","v":""},{"$f":"IF(B23>0,VLOOKUP(I23,Punkteschema!$A$2:$B$101,2,FALSE),\"\")","v":""}]
[null,null,null,{"$f":"IF(B24>0,C24+B24,\"\")","v":""},true,{"$f":"IF(B24>0,COUNTIF(B$3:B$55,\"<\"&B24)+1,\"\")","v":""},"",{"$f":"IF(AND(B24>0,C24>0),COUNTIF(D$3:D$55,\"<\"&D24)+1,\"\")","v":""},{"$f":"IF(B24>0,IF(E24,MIN(F24:H24),MAX(F24:H24)),\"\")","v":""},{"$f":"IF(B24>0,VLOOKUP(I24,Punkteschema!$A$2:$B$101,2,FALSE),\"\")","v":""}]
[null,null,null,"",true,"","","","",{"$f":"IF(B25>0,VLOOKUP(I25,Punkteschema!$A$2:$B$101,2,FALSE),\"\")","v":""}]
[null,null,null,"",true,"","","","",{"$f":"IF(B26>0,VLOOKUP(I26,Punkteschema!$A$2:$B$101,2,FALSE),\"\")","v":""}]
[null,null,null,"",true,"","","","",{"$f":"IF(B27>0,VLOOKUP(I27,Punkteschema!$A$2:$B$101,2,FALSE),\"\")","v":""}]
[null,null,null,"",true,"","","","",{"$f":"IF(B28>0,VLOOKUP(I28,Punkteschema!$A$2:$B$101,2,FALSE),\"\")","v":""}]
[null,null,null,"",true,"","","","",{"$f":"IF(B29>0,VLOOKUP(I29,Punkteschema!$A$2:$B$101,2,FALSE),\"\")","v":""}]
[null,null,null,"",true,"","","","",{"$f":"IF(B30>0,VLOOKUP(I30,Punkteschema!$A$2:$B$101,2,FALSE),\"\")","v":""}]
[null,null,null,"",true,"","","","",{"$f":"IF(B31>0,VLOOKUP(I31,Punkteschema!$A$2:$B$101,2,FALSE),\"\")","v":""}]
[null,null,null,"",true,"","","","",{"$f":"IF(B32>0,VLOOKUP(I32,Punkteschema!$A$2:$B$101,2,FALSE),\"\")","v":""}]
[null,null,null,"",true,"","","","",{"$f":"IF(B33>0,VLOOKUP(I33,Punkteschema!$A$2:$B$101,2,FALSE),\"\")","v":""}]
[null,null,null,"",true,"","","","",{"$f":"IF(B34>0,VLOOKUP(I34,Punkteschema!$A$2:$B$101,2,FALSE),\"\")","v":""}]
[null,null,null,"",true,"","","","",{"$f":"IF(B35>0,VLOOKUP(I35,Punkteschema!$A$2:$B$101,2,FALSE),\"\")","v":""}]
[null,null,null,"",true,"","","","",{"$f":"IF(B36>0,VLOOKUP(I36,Punkteschema!$A$2:$B$101,2,FALSE),\"\")","v":""}]
[null,null,null,"",true,"","","","",{"$f":"IF(B37>0,VLOOKUP(I37,Punkteschema!$A$2:$B$101,2,FALSE),\"\")","v":""}]
[null,null,null,"",true,"","","","",{"$f":"IF(B38>0,VLOOKUP(I38,Punkteschema!$A$2:$B$101,2,FALSE),\"\")","v":""}]
[null,null,null,"",true,"","","","",{"$f":"IF(B39>0,VLOOKUP(I39,Punkteschema!$A$2:$B$101,2,FALSE),\"\")","v":""}]
[null,null,null,"",true,"","","","",{"$f":"IF(B40>0,VLOOKUP(I40,Punkteschema!$A$2:$B$101,2,FALSE),\"\")","v":""}]
[null,null,null,"",true,"","","","",{"$f":"IF(B41>0,VLOOKUP(I41,Punkteschema!$A$2:$B$101,2,FALSE),\"\")","v":""}]
[null,null,null,"",true,"","","","",{"$f":"IF(B42>0,VLOOKUP(I42,Punkteschema!$A$2:$B$101,2,FALSE),\"\")","v":""}]
[null,null,null,"",true,"","","","",{"$f":"IF(B43>0,VLOOKUP(I43,Punkteschema!$A$2:$B$101,2,FALSE),\"\")","v":""}]
[null,null,null,"",true,"","","","",{"$f":"IF(B44>0,VLOOKUP(I44,Punkteschema!$A$2:$B$101,2,FALSE),\"\")","v":""}]
[null,null,null,"",true,"","","","",{"$f":"IF(B45>0,VLOOKUP(I45,Punkteschema!$A$2:$B$101,2,FALSE),\"\")","v":""}]
[null,null,null,"",true,"","","","",{"$f":"IF(B46>0,VLOOKUP(I46,Punkteschema!$A$2:$B$101,2,FALSE),\"\")","v":""}]
[null,null,null,"",true,"","","","",{"$f":"IF(B47>0,VLOOKUP(I47,Punkteschema!$A$2:$B$101,2,FALSE),\"\")","v":""}]
[null,null,null,"",true,"","","","",{"$f":"IF(B48>0,VLOOKUP(I48,Punkteschema!$A$2:$B$101,2,FALSE),\"\")","v":""}]
[null,null,null,"",true,"","","","",{"$f":"IF(B49>0,VLOOKUP(I49,Punkteschema!$A$2:$B$101,2,FALSE),\"\")","v":""}]
[null,null,null,"",true,"","","","",{"$f":"IF(B50>0,VLOOKUP(I50,Punkteschema!$A$2:$B$101,2,FALSE),\"\")","v":""}]
[null,null,null,"",true,"","","","",{"$f":"IF(B51>0,VLOOKUP(I51,Punkteschema!$A$2:$B$101,2,FALSE),\"\")","v":""}]
[null,null,null,"",true,"","","","",{"$f":"IF(B52>0,VLOOKUP(I52,Punkteschema!$A$2:$B$101,2,FALSE),\"\")","v":""}]
[null,null,null,"",true,{"$f":"IF(B53>0,COUNTIF(B$3:B$55,\"<\"&B53)+1,\"\")","v":""},"",{"$f":"IF(AND(B53>0,C53>0),COUNTIF(D$3:D$55,\"<\"&D53)+1,\"\")","v":""},{"$f":"IF(B53>0,IF(E53,MIN(F53:H53),MAX(F53:H53)),\"\")","v":""},{"$f":"IF(B53>0,VLOOKUP(I53,Punkteschema!$A$2:$B$101,2,FALSE),\"\")","v":""}]
[null,null,null,"",true,"","",{"$f":"IF(AND(B54>0,C54>0),COUNTIF(D$3:D$55,\"<\"&D54)+1,\"\")","v":""},{"$f":"IF(B54>0,IF(E54,MIN(F54:H54),MAX(F54:H54)),\"\")","v":""},{"$f":"IF(B54>0,VLOOKUP(I54,Punkteschema!$A$2:$B$101,2,FALSE),\"\")","v":""}]
[null,null,null,"",true,"","",{"$f":"IF(AND(B55>0,C55>0),COUNTIF(D$3:D$55,\"<\"&D55)+1,\"\")","v":""},{"$f":"IF(B55>0,IF(E55,MIN(F55:H55),MAX(F55:H55)),\"\")","v":""},{"$f":"IF(B55>0,VLOOKUP(I55,Punkteschema!$A$2:$B$101,2,FALSE),\"\")","v":""}]
[]
["OS: Mühling, Dirk (HEV)",null,null,null,"Runde 1:","E","<- E/B"]
["S: Tabor, Peter (ASW)",null,null,null,"Runde 2:","B","<- E/B"]
["S: Puschner, Michael (HOB)"]
[]
["Verloste Preise: ","Ulrich Börgmann (1 Flasche Erdbeerlikör)"]
[null,"Peter Tabor (1 grosse Dose Haribo)"]
[null,"Brigitte Börgmann (1 Wanduhr)"]

{"sheet":"Einzelwertung15","index":17,"n_rows":63,"n_cols":10,"rows_kept":63,"cut":false,"hidden":false,"merged":[[0,0,0,9]]}
[{"$f":"CONCATENATE(\"5. Sommer-Cup - Freizeittreff Herbede - \",TEXT(Gesamtstand!$T$2,\"TT.MM.JJ\"))","v":"5. Sommer-Cup - Freizeittreff Herbede - 08.08.19"}]
["Spieler","Runde 1","Runde 2","Gesamt","bessere?","Pl. R1","Pl. R2","Pl. Ges.","gewertet","Punkte"]
["Battig, Wolfgang",24,27,{"$f":"IF(B3>0,C3+B3,\"\")","v":51},true,{"$f":"IF(B3>0,COUNTIF(B$3:B$55,\"<\"&B3)+1,\"\")","v":2},{"$f":"IF(C3>0,COUNTIF(C$3:C$55,\"<\"&C3)+1,\"\")","v":1},{"$f":"IF(AND(B3>0,C3>0),COUNTIF(D$3:D$55,\"<\"&D3)+1,\"\")","v":1},{"$f":"IF(B3>0,IF(E3,MIN(F3:H3),MAX(F3:H3)),\"\")","v":1},{"$f":"IF(B3>0,VLOOKUP(I3,Punkteschema!$A$2:$B$101,2,FALSE),\"\")","v":25}]
["Buchholz, Ansgar",22,29,51,true,1,3,1,1,{"$f":"IF(B4>0,VLOOKUP(I4,Punkteschema!$A$2:$B$101,2,FALSE),\"\")","v":25}]
["Lieber, Nicole",37,28,65,true,16,2,8,2,{"$f":"IF(B5>0,VLOOKUP(I5,Punkteschema!$A$2:$B$101,2,FALSE),\"\")","v":21}]
["Rade, Marcus",27,30,57,true,4,4,3,3,{"$f":"IF(B6>0,VLOOKUP(I6,Punkteschema!$A$2:$B$101,2,FALSE),\"\")","v":18}]
["Greiffendorf, Hellmut",27,33,60,true,4,6,5,4,{"$f":"IF(B7>0,VLOOKUP(I7,Punkteschema!$A$2:$B$101,2,FALSE),\"\")","v":15}]
["Lenk, Rolf",30,31,61,true,8,5,6,5,{"$f":"IF(B8>0,VLOOKUP(I8,Punkteschema!$A$2:$B$101,2,FALSE),\"\")","v":15}]
["Kortmann, Uwe",36,33,69,true,15,6,11,6,{"$f":"IF(B9>0,VLOOKUP(I9,Punkteschema!$A$2:$B$101,2,FALSE),\"\")","v":15}]
["Mühling, Dirk",26,33,59,false,3,6,4,6,{"$f":"IF(B10>0,VLOOKUP(I10,Punkteschema!$A$2:$B$101,2,FALSE),\"\")","v":15}]
["Schmitt, Jürgen",29,36,65,true,7,15,8,7,{"$f":"IF(B11>0,VLOOKUP(I11,Punkteschema!$A$2:$B$101,2,FALSE),\"\")","v":10}]
["Dreischer, Burkhard",32,42,74,true,9,19,16,9,{"$f":"IF(B12>0,VLOOKUP(I12,Punkteschema!$A$2:$B$101,2,FALSE),\"\")","v":10}]
["Jezierski, Marie-Luise",33,34,67,true,10,9,10,9,{"$f":"IF(B13>0,VLOOKUP(I13,Punkteschema!$A$2:$B$101,2,FALSE),\"\")","v":10}]
["Börgmann, Brigitte",43,35,78,true,20,11,18,11,{"$f":"IF(B14>0,VLOOKUP(I14,Punkteschema!$A$2:$B$101,2,FALSE),\"\")","v":5}]
["Börgmann, Ulrich",34,35,69,true,11,11,11,11,{"$f":"IF(B15>0,VLOOKUP(I15,Punkteschema!$A$2:$B$101,2,FALSE),\"\")","v":5}]
["Kortmann, Sabine",34,35,69,true,11,11,11,11,{"$f":"IF(B16>0,VLOOKUP(I16,Punkteschema!$A$2:$B$101,2,FALSE),\"\")","v":5}]
["Schmidtbauer, Günter",34,37,71,true,11,16,15,11,{"$f":"IF(B17>0,VLOOKUP(I17,Punkteschema!$A$2:$B$101,2,FALSE),\"\")","v":5}]
["Urban, Volker",27,35,62,false,4,11,7,11,{"$f":"IF(B18>0,VLOOKUP(I18,Punkteschema!$A$2:$B$101,2,FALSE),\"\")","v":5}]
["Tabor, Peter",35,34,69,false,14,9,11,14,{"$f":"IF(B19>0,VLOOKUP(I19,Punkteschema!$A$2:$B$101,2,FALSE),\"\")","v":5}]
["Urban, Dominic",37,37,74,true,16,16,16,16,{"$f":"IF(B20>0,VLOOKUP(I20,Punkteschema!$A$2:$B$101,2,FALSE),\"\")","v":3}]
["Kersch, Uwe",38,40,78,true,18,18,18,18,{"$f":"IF(B21>0,VLOOKUP(I21,Punkteschema!$A$2:$B$101,2,FALSE),\"\")","v":3}]
["Urban, Angela",39,49,88,true,19,20,20,19,{"$f":"IF(B22>0,VLOOKUP(I22,Punkteschema!$A$2:$B$101,2,FALSE),\"\")","v":3}]
[null,null,null,{"$f":"IF(B23>0,C23+B23,\"\")","v":""},true,{"$f":"IF(B23>0,COUNTIF(B$3:B$55,\"<\"&B23)+1,\"\")","v":""},"",{"$f":"IF(AND(B23>0,C23>0),COUNTIF(D$3:D$55,\"<\"&D23)+1,\"\")","v":""},{"$f":"IF(B23>0,IF(E23,MIN(F23:H23),MAX(F23:H23)),\"\")","v":""},{"$f":"IF(B23>0,VLOOKUP(I23,Punkteschema!$A$2:$B$101,2,FALSE),\"\")","v":""}]
[null,null,null,"",true,"","","","",{"$f":"IF(B24>0,VLOOKUP(I24,Punkteschema!$A$2:$B$101,2,FALSE),\"\")","v":""}]
[null,null,null,"",true,"","","","",{"$f":"IF(B25>0,VLOOKUP(I25,Punkteschema!$A$2:$B$101,2,FALSE),\"\")","v":""}]
[null,null,null,"",true,"","","","",{"$f":"IF(B26>0,VLOOKUP(I26,Punkteschema!$A$2:$B$101,2,FALSE),\"\")","v":""}]
[null,null,null,"",true,"","","","",{"$f":"IF(B27>0,VLOOKUP(I27,Punkteschema!$A$2:$B$101,2,FALSE),\"\")","v":""}]
[null,null,null,"",true,"","","","",{"$f":"IF(B28>0,VLOOKUP(I28,Punkteschema!$A$2:$B$101,2,FALSE),\"\")","v":""}]
[null,null,null,"",true,"","","","",{"$f":"IF(B29>0,VLOOKUP(I29,Punkteschema!$A$2:$B$101,2,FALSE),\"\")","v":""}]
[null,null,null,"",true,"","","","",{"$f":"IF(B30>0,VLOOKUP(I30,Punkteschema!$A$2:$B$101,2,FALSE),\"\")","v":""}]
[null,null,null,"",true,"","","","",{"$f":"IF(B31>0,VLOOKUP(I31,Punkteschema!$A$2:$B$101,2,FALSE),\"\")","v":""}]
[null,null,null,"",true,"","","","",{"$f":"IF(B32>0,VLOOKUP(I32,Punkteschema!$A$2:$B$101,2,FALSE),\"\")","v":""}]
[null,null,null,"",true,"","","","",{"$f":"IF(B33>0,VLOOKUP(I33,Punkteschema!$A$2:$B$101,2,FALSE),\"\")","v":""}]
[null,null,null,"",true,"","","","",{"$f":"IF(B34>0,VLOOKUP(I34,Punkteschema!$A$2:$B$101,2,FALSE),\"\")","v":""}]
[null,null,null,"",true,"","","","",{"$f":"IF(B35>0,VLOOKUP(I35,Punkteschema!$A$2:$B$101,2,FALSE),\"\")","v":""}]
[null,null,null,"",true,"","","","",{"$f":"IF(B36>0,VLOOKUP(I36,Punkteschema!$A$2:$B$101,2,FALSE),\"\")","v":""}]
[null,null,null,"",true,"","","","",{"$f":"IF(B37>0,VLOOKUP(I37,Punkteschema!$A$2:$B$101,2,FALSE),\"\")","v":""}]
[null,null,null,"",true,"","","","",{"$f":"IF(B38>0,VLOOKUP(I38,Punkteschema!$A$2:$B$101,2,FALSE),\"\")","v":""}]
[null,null,null,"",true,"","","","",{"$f":"IF(B39>0,VLOOKUP(I39,Punkteschema!$A$2:$B$101,2,FALSE),\"\")","v":""}]
[null,null,null,"",true,"","","","",{"$f":"IF(B40>0,VLOOKUP(I40,Punkteschema!$A$2:$B$101,2,FALSE),\"\")","v":""}]
[null,null,null,"",true,"","","","",{"$f":"IF(B41>0,VLOOKUP(I41,Punkteschema!$A$2:$B$101,2,FALSE),\"\")","v":""}]
[null,null,null,"",true,"","","","",{"$f":"IF(B42>0,VLOOKUP(I42,Punkteschema!$A$2:$B$101,2,FALSE),\"\")","v":""}]
[null,null,null,"",true,"","","","",{"$f":"IF(B43>0,VLOOKUP(I43,Punkteschema!$A$2:$B$101,2,FALSE),\"\")","v":""}]
[null,null,null,"",true,"","","","",{"$f":"IF(B44>0,VLOOKUP(I44,Punkteschema!$A$2:$B$101,2,FALSE),\"\")","v":""}]
[null,null,null,"",true,"","","","",{"$f":"IF(B45>0,VLOOKUP(I45,Punkteschema!$A$2:$B$101,2,FALSE),\"\")","v":""}]
[null,null,null,"",true,"","","","",{"$f":"IF(B46>0,VLOOKUP(I46,Punkteschema!$A$2:$B$101,2,FALSE),\"\")","v":""}]
[null,null,null,"",true,"","","","",{"$f":"IF(B47>0,VLOOKUP(I47,Punkteschema!$A$2:$B$101,2,FALSE),\"\")","v":""}]
[null,null,null,"",true,"","","","",{"$f":"IF(B48>0,VLOOKUP(I48,Punkteschema!$A$2:$B$101,2,FALSE),\"\")","v":""}]
[null,null,null,"",true,"","","","",{"$f":"IF(B49>0,VLOOKUP(I49,Punkteschema!$A$2:$B$101,2,FALSE),\"\")","v":""}]
[null,null,null,"",true,"","","","",{"$f":"IF(B50>0,VLOOKUP(I50,Punkteschema!$A$2:$B$101,2,FALSE),\"\")","v":""}]
[null,null,null,"",true,"","","","",{"$f":"IF(B51>0,VLOOKUP(I51,Punkteschema!$A$2:$B$101,2,FALSE),\"\")","v":""}]
[null,null,null,"",true,"","","","",{"$f":"IF(B52>0,VLOOKUP(I52,Punkteschema!$A$2:$B$101,2,FALSE),\"\")","v":""}]
[null,null,null,"",true,{"$f":"IF(B53>0,COUNTIF(B$3:B$55,\"<\"&B53)+1,\"\")","v":""},"",{"$f":"IF(AND(B53>0,C53>0),COUNTIF(D$3:D$55,\"<\"&D53)+1,\"\")","v":""},{"$f":"IF(B53>0,IF(E53,MIN(F53:H53),MAX(F53:H53)),\"\")","v":""},{"$f":"IF(B53>0,VLOOKUP(I53,Punkteschema!$A$2:$B$101,2,FALSE),\"\")","v":""}]
[null,null,null,"",true,"","",{"$f":"IF(AND(B54>0,C54>0),COUNTIF(D$3:D$55,\"<\"&D54)+1,\"\")","v":""},{"$f":"IF(B54>0,IF(E54,MIN(F54:H54),MAX(F54:H54)),\"\")","v":""},{"$f":"IF(B54>0,VLOOKUP(I54,Punkteschema!$A$2:$B$101,2,FALSE),\"\")","v":""}]
[null,null,null,"",true,"","",{"$f":"IF(AND(B55>0,C55>0),COUNTIF(D$3:D$55,\"<\"&D55)+1,\"\")","v":""},{"$f":"IF(B55>0,IF(E55,MIN(F55:H55),MAX(F55:H55)),\"\")","v":""},{"$f":"IF(B55>0,VLOOKUP(I55,Punkteschema!$A$2:$B$101,2,FALSE),\"\")","v":""}]
[]
["OS: Mühling, Dirk (HEV)",null,null,null,"Runde 1:","E","<- E/B"]
["S: Urban, Volker (ASW)",null,null,null,"Runde 2:","B","<- E/B"]
["S: Battig, Wolfgang (LÜD)"]
[]
["Verloste Preise: ","Volker Urban (1 Flasche Wein + 1 Glas)"]
[null,"Ulrich Börgmann (1 Verzehrgutschein)"]
[null,"Nicole Lieber (1 Bonbonglas mit Süßigkeiten)"]

{"sheet":"Einzelwertung16","index":18,"n_rows":66,"n_cols":10,"rows_kept":66,"cut":false,"hidden":false,"merged":[[0,0,0,9]]}
[{"$f":"CONCATENATE(\"5. Sommer-Cup - Freizeittreff Herbede - \",TEXT(Gesamtstand!$U$2,\"TT.MM.JJ\"))","v":"5. Sommer-Cup - Freizeittreff Herbede - 15.08.19"}]
["Spieler","Runde 1","Runde 2","Gesamt","bessere?","Pl. R1","Pl. R2","Pl. Ges.","gewertet","Punkte"]
["Buchholz, Ansgar",23,null,{"$f":"IF(B3>0,C3+B3,\"\")","v":23},false,{"$f":"IF(B3>0,COUNTIF(B$3:B$55,\"<\"&B3)+1,\"\")","v":1},{"$f":"IF(C3>0,COUNTIF(C$3:C$55,\"<\"&C3)+1,\"\")","v":""},{"$f":"IF(AND(B3>0,C3>0),COUNTIF(D$3:D$55,\"<\"&D3)+1,\"\")","v":""},{"$f":"IF(B3>0,IF(E3,MIN(F3:H3),MAX(F3:H3)),\"\")","v":1},{"$f":"IF(B3>0,VLOOKUP(I3,Punkteschema!$A$2:$B$101,2,FALSE),\"\")","v":25}]
["Schmitt, Jürgen",24,null,24,true,2,"","",2,{"$f":"IF(B4>0,VLOOKUP(I4,Punkteschema!$A$2:$B$101,2,FALSE),\"\")","v":21}]
["Urban, Volker",27,null,27,false,3,"","",3,{"$f":"IF(B5>0,VLOOKUP(I5,Punkteschema!$A$2:$B$101,2,FALSE),\"\")","v":18}]
["Tabor, Peter",27,null,27,true,3,"","",3,{"$f":"IF(B6>0,VLOOKUP(I6,Punkteschema!$A$2:$B$101,2,FALSE),\"\")","v":18}]
["Hein, Hans-Jörg",29,null,29,true,5,"","",5,{"$f":"IF(B7>0,VLOOKUP(I7,Punkteschema!$A$2:$B$101,2,FALSE),\"\")","v":15}]
["Dreischer, Burkhard",29,null,29,true,5,"","",5,{"$f":"IF(B8>0,VLOOKUP(I8,Punkteschema!$A$2:$B$101,2,FALSE),\"\")","v":15}]
["Greiffendorf, Hellmut",30,null,30,true,7,"","",7,{"$f":"IF(B9>0,VLOOKUP(I9,Punkteschema!$A$2:$B$101,2,FALSE),\"\")","v":10}]
["Lenk, Rolf",30,null,30,true,7,"","",7,{"$f":"IF(B10>0,VLOOKUP(I10,Punkteschema!$A$2:$B$101,2,FALSE),\"\")","v":10}]
["Mühling, Dirk",32,null,32,false,9,"","",9,{"$f":"IF(B11>0,VLOOKUP(I11,Punkteschema!$A$2:$B$101,2,FALSE),\"\")","v":10}]
["Börgmann, Ulrich",33,null,33,true,10,"","",10,{"$f":"IF(B12>0,VLOOKUP(I12,Punkteschema!$A$2:$B$101,2,FALSE),\"\")","v":10}]
["Kunz, Martin",34,null,34,true,11,"","",11,{"$f":"IF(B13>0,VLOOKUP(I13,Punkteschema!$A$2:$B$101,2,FALSE),\"\")","v":5}]
["Kortmann, Sabine",35,null,35,true,12,"","",12,{"$f":"IF(B14>0,VLOOKUP(I14,Punkteschema!$A$2:$B$101,2,FALSE),\"\")","v":5}]
["Lieber, Nicole",37,null,37,true,13,"","",13,{"$f":"IF(B15>0,VLOOKUP(I15,Punkteschema!$A$2:$B$101,2,FALSE),\"\")","v":5}]
["Schmidt, Barbara",40,null,40,true,14,"","",14,{"$f":"IF(B16>0,VLOOKUP(I16,Punkteschema!$A$2:$B$101,2,FALSE),\"\")","v":5}]
["Urban, Angela",40,null,40,true,14,"","",14,{"$f":"IF(B17>0,VLOOKUP(I17,Punkteschema!$A$2:$B$101,2,FALSE),\"\")","v":5}]
["Schmidtbauer, Günter",40,null,40,true,14,"","",14,{"$f":"IF(B18>0,VLOOKUP(I18,Punkteschema!$A$2:$B$101,2,FALSE),\"\")","v":5}]
["Kortmann, Uwe",41,null,41,true,17,"","",17,{"$f":"IF(B19>0,VLOOKUP(I19,Punkteschema!$A$2:$B$101,2,FALSE),\"\")","v":3}]
["Urban, Dominic",42,null,42,true,18,"","",18,{"$f":"IF(B20>0,VLOOKUP(I20,Punkteschema!$A$2:$B$101,2,FALSE),\"\")","v":3}]
["Jezierski, Marie-Luise",43,null,43,true,19,"","",19,{"$f":"IF(B21>0,VLOOKUP(I21,Punkteschema!$A$2:$B$101,2,FALSE),\"\")","v":3}]
["Kersch, Uwe",44,null,44,true,20,"","",20,{"$f":"IF(B22>0,VLOOKUP(I22,Punkteschema!$A$2:$B$101,2,FALSE),\"\")","v":3}]
["Börgmann, Brigitte",47,null,47,true,21,"","",21,{"$f":"IF(B23>0,VLOOKUP(I23,Punkteschema!$A$2:$B$101,2,FALSE),\"\")","v":1}]
[null,null,null,{"$f":"IF(B24>0,C24+B24,\"\")","v":""},true,{"$f":"IF(B24>0,COUNTIF(B$3:B$55,\"<\"&B24)+1,\"\")","v":""},{"$f":"IF(C24>0,COUNTIF(C$3:C$55,\"<\"&C24)+1,\"\")","v":""},{"$f":"IF(AND(B24>0,C24>0),COUNTIF(D$3:D$55,\"<\"&D24)+1,\"\")","v":""},{"$f":"IF(B24>0,IF(E24,MIN(F24:H24),MAX(F24:H24)),\"\")","v":""},{"$f":"IF(B24>0,VLOOKUP(I24,Punkteschema!$A$2:$B$101,2,FALSE),\"\")","v":""}]
[null,null,null,{"$f":"IF(B25>0,C25+B25,\"\")","v":""},true,{"$f":"IF(B25>0,COUNTIF(B$3:B$55,\"<\"&B25)+1,\"\")","v":""},"",{"$f":"IF(AND(B25>0,C25>0),COUNTIF(D$3:D$55,\"<\"&D25)+1,\"\")","v":""},{"$f":"IF(B25>0,IF(E25,MIN(F25:H25),MAX(F25:H25)),\"\")","v":""},{"$f":"IF(B25>0,VLOOKUP(I25,Punkteschema!$A$2:$B$101,2,FALSE),\"\")","v":""}]
[null,null,null,"",true,"","","","",{"$f":"IF(B26>0,VLOOKUP(I26,Punkteschema!$A$2:$B$101,2,FALSE),\"\")","v":""}]
[null,null,null,"",true,"","","","",{"$f":"IF(B27>0,VLOOKUP(I27,Punkteschema!$A$2:$B$101,2,FALSE),\"\")","v":""}]
[null,null,null,"",true,"","","","",{"$f":"IF(B28>0,VLOOKUP(I28,Punkteschema!$A$2:$B$101,2,FALSE),\"\")","v":""}]
[null,null,null,"",true,"","","","",{"$f":"IF(B29>0,VLOOKUP(I29,Punkteschema!$A$2:$B$101,2,FALSE),\"\")","v":""}]
[null,null,null,"",true,"","","","",{"$f":"IF(B30>0,VLOOKUP(I30,Punkteschema!$A$2:$B$101,2,FALSE),\"\")","v":""}]
[null,null,null,"",true,"","","","",{"$f":"IF(B31>0,VLOOKUP(I31,Punkteschema!$A$2:$B$101,2,FALSE),\"\")","v":""}]
[null,null,null,"",true,"","","","",{"$f":"IF(B32>0,VLOOKUP(I32,Punkteschema!$A$2:$B$101,2,FALSE),\"\")","v":""}]
[null,null,null,"",true,"","","","",{"$f":"IF(B33>0,VLOOKUP(I33,Punkteschema!$A$2:$B$101,2,FALSE),\"\")","v":""}]
[null,null,null,"",true,"","","","",{"$f":"IF(B34>0,VLOOKUP(I34,Punkteschema!$A$2:$B$101,2,FALSE),\"\")","v":""}]
[null,null,null,"",true,"","","","",{"$f":"IF(B35>0,VLOOKUP(I35,Punkteschema!$A$2:$B$101,2,FALSE),\"\")","v":""}]
[null,null,null,"",true,"","","","",{"$f":"IF(B36>0,VLOOKUP(I36,Punkteschema!$A$2:$B$101,2,FALSE),\"\")","v":""}]
[null,null,null,"",true,"","","","",{"$f":"IF(B37>0,VLOOKUP(I37,Punkteschema!$A$2:$B$101,2,FALSE),\"\")","v":""}]
[null,null,null,"",true,"","","","",{"$f":"IF(B38>0,VLOOKUP(I38,Punkteschema!$A$2:$B$101,2,FALSE),\"\")","v":""}]
[null,null,null,"",true,"","","","",{"$f":"IF(B39>0,VLOOKUP(I39,Punkteschema!$A$2:$B$101,2,FALSE),\"\")","v":""}]
[null,null,null,"",true,"","","","",{"$f":"IF(B40>0,VLOOKUP(I40,Punkteschema!$A$2:$B$101,2,FALSE),\"\")","v":""}]
[null,null,null,"",true,"","","","",{"$f":"IF(B41>0,VLOOKUP(I41,Punkteschema!$A$2:$B$101,2,FALSE),\"\")","v":""}]
[null,null,null,"",true,"","","","",{"$f":"IF(B42>0,VLOOKUP(I42,Punkteschema!$A$2:$B$101,2,FALSE),\"\")","v":""}]
[null,null,null,"",true,"","","","",{"$f":"IF(B43>0,VLOOKUP(I43,Punkteschema!$A$2:$B$101,2,FALSE),\"\")","v":""}]
[null,null,null,"",true,"","","","",{"$f":"IF(B44>0,VLOOKUP(I44,Punkteschema!$A$2:$B$101,2,FALSE),\"\")","v":""}]
[null,null,null,"",true,"","","","",{"$f":"IF(B45>0,VLOOKUP(I45,Punkteschema!$A$2:$B$101,2,FALSE),\"\")","v":""}]
[null,null,null,"",true,"","","","",{"$f":"IF(B46>0,VLOOKUP(I46,Punkteschema!$A$2:$B$101,2,FALSE),\"\")","v":""}]
[null,null,null,"",true,"","","","",{"$f":"IF(B47>0,VLOOKUP(I47,Punkteschema!$A$2:$B$101,2,FALSE),\"\")","v":""}]
[null,null,null,"",true,"","","","",{"$f":"IF(B48>0,VLOOKUP(I48,Punkteschema!$A$2:$B$101,2,FALSE),\"\")","v":""}]
[null,null,null,"",true,"","","","",{"$f":"IF(B49>0,VLOOKUP(I49,Punkteschema!$A$2:$B$101,2,FALSE),\"\")","v":""}]
[null,null,null,"",true,"","","","",{"$f":"IF(B50>0,VLOOKUP(I50,Punkteschema!$A$2:$B$101,2,FALSE),\"\")","v":""}]
[null,null,null,"",true,"","","","",{"$f":"IF(B51>0,VLOOKUP(I51,Punkteschema!$A$2:$B$101,2,FALSE),\"\")","v":""}]
[null,null,null,"",true,"","","","",{"$f":"IF(B52>0,VLOOKUP(I52,Punkteschema!$A$2:$B$101,2,FALSE),\"\")","v":""}]
[null,null,null,"",true,{"$f":"IF(B53>0,COUNTIF(B$3:B$55,\"<\"&B53)+1,\"\")","v":""},"",{"$f":"IF(AND(B53>0,C53>0),COUNTIF(D$3:D$55,\"<\"&D53)+1,\"\")","v":""},{"$f":"IF(B53>0,IF(E53,MIN(F53:H53),MAX(F53:H53)),\"\")","v":""},{"$f":"IF(B53>0,VLOOKUP(I53,Punkteschema!$A$2:$B$101,2,FALSE),\"\")","v":""}]
[null,null,null,"",true,"","",{"$f":"IF(AND(B54>0,C54>0),COUNTIF(D$3:D$55,\"<\"&D54)+1,\"\")","v":""},{"$f":"IF(B54>0,IF(E54,MIN(F54:H54),MAX(F54:H54)),\"\")","v":""},{"$f":"IF(B54>0,VLOOKUP(I54,Punkteschema!$A$2:$B$101,2,FALSE),\"\")","v":""}]
[null,null,null,"",true,"","",{"$f":"IF(AND(B55>0,C55>0),COUNTIF(D$3:D$55,\"<\"&D55)+1,\"\")","v":""},{"$f":"IF(B55>0,IF(E55,MIN(F55:H55),MAX(F55:H55)),\"\")","v":""},{"$f":"IF(B55>0,VLOOKUP(I55,Punkteschema!$A$2:$B$101,2,FALSE),\"\")","v":""}]
[]
["OS: Mühling, Dirk (HEV)",null,null,null,"Runde 1:","E","<- E/B"]
["S: Urban, Volker (ASW)",null,null,null,"Runde 2:","B","<- E/B"]
["S: Tabor, Peter (ASW)"]
[]
["Verloste Preise: ","Günter Schmidtbauer (Rucksack)"]
[null,"Brigitte Börgmann (1 Flasche Martini)"]
[null,"Nicole Lieber (1 Deko-Glas)"]
[]
["Wegen Regens wurde in der zweiten Runde abgebrochen."]
["Daher wird nur das Ergebnis der 1. Runde gewertet."]

{"sheet":"Einzelwertung17","index":19,"n_rows":63,"n_cols":10,"rows_kept":63,"cut":false,"hidden":false,"merged":[[0,0,0,9]]}
[{"$f":"CONCATENATE(\"5. Sommer-Cup - Freizeittreff Herbede - \",TEXT(Gesamtstand!$V$2,\"TT.MM.JJ\"))","v":"5. Sommer-Cup - Freizeittreff Herbede - 22.08.19"}]
["Spieler","Runde 1","Runde 2","Gesamt","bessere?","Pl. R1","Pl. R2","Pl. Ges.","gewertet","Punkte"]
["Lieber, Nicole",36,30,{"$f":"IF(B3>0,C3+B3,\"\")","v":66},true,{"$f":"IF(B3>0,COUNTIF(B$3:B$55,\"<\"&B3)+1,\"\")","v":14},{"$f":"IF(C3>0,COUNTIF(C$3:C$55,\"<\"&C3)+1,\"\")","v":1},{"$f":"IF(AND(B3>0,C3>0),COUNTIF(D$3:D$55,\"<\"&D3)+1,\"\")","v":5},{"$f":"IF(B3>0,IF(E3,MIN(F3:H3),MAX(F3:H3)),\"\")","v":1},{"$f":"IF(B3>0,VLOOKUP(I3,Punkteschema!$A$2:$B$101,2,FALSE),\"\")","v":25}]
["Puschner, Michael",30,31,61,true,4,2,3,2,{"$f":"IF(B4>0,VLOOKUP(I4,Punkteschema!$A$2:$B$101,2,FALSE),\"\")","v":21}]
["Schmidtbauer, Günter",42,31,73,true,19,2,15,2,{"$f":"IF(B5>0,VLOOKUP(I5,Punkteschema!$A$2:$B$101,2,FALSE),\"\")","v":21}]
["Hein, Hans-Jörg",28,40,68,true,3,18,10,3,{"$f":"IF(B6>0,VLOOKUP(I6,Punkteschema!$A$2:$B$101,2,FALSE),\"\")","v":18}]
["Urban, Volker",27,32,59,false,2,4,2,4,{"$f":"IF(B7>0,VLOOKUP(I7,Punkteschema!$A$2:$B$101,2,FALSE),\"\")","v":15}]
["Dreischer, Burkhard",30,45,75,true,4,20,17,4,{"$f":"IF(B8>0,VLOOKUP(I8,Punkteschema!$A$2:$B$101,2,FALSE),\"\")","v":15}]
["Lenk, Rolf",31,33,64,true,6,7,4,4,{"$f":"IF(B9>0,VLOOKUP(I9,Punkteschema!$A$2:$B$101,2,FALSE),\"\")","v":15}]
["Urban, Angela",39,32,71,true,17,4,13,4,{"$f":"IF(B10>0,VLOOKUP(I10,Punkteschema!$A$2:$B$101,2,FALSE),\"\")","v":15}]
["Börgmann, Ulrich",31,35,66,true,6,9,5,5,{"$f":"IF(B11>0,VLOOKUP(I11,Punkteschema!$A$2:$B$101,2,FALSE),\"\")","v":15}]
["Tabor, Peter",31,35,66,true,6,9,5,5,{"$f":"IF(B12>0,VLOOKUP(I12,Punkteschema!$A$2:$B$101,2,FALSE),\"\")","v":15}]
["Kortmann, Sabine",31,36,67,true,6,15,9,6,{"$f":"IF(B13>0,VLOOKUP(I13,Punkteschema!$A$2:$B$101,2,FALSE),\"\")","v":15}]
["Buchholz, Ansgar",24,33,57,false,1,7,1,7,{"$f":"IF(B14>0,VLOOKUP(I14,Punkteschema!$A$2:$B$101,2,FALSE),\"\")","v":10}]
["Kersch, Uwe",33,35,68,true,10,9,10,9,{"$f":"IF(B15>0,VLOOKUP(I15,Punkteschema!$A$2:$B$101,2,FALSE),\"\")","v":10}]
["Kunz, Martin",34,35,69,true,11,9,12,9,{"$f":"IF(B16>0,VLOOKUP(I16,Punkteschema!$A$2:$B$101,2,FALSE),\"\")","v":10}]
["Urban, Dominic",36,35,71,true,14,9,13,9,{"$f":"IF(B17>0,VLOOKUP(I17,Punkteschema!$A$2:$B$101,2,FALSE),\"\")","v":10}]
["Börgmann, Brigitte",43,35,78,true,20,9,19,9,{"$f":"IF(B18>0,VLOOKUP(I18,Punkteschema!$A$2:$B$101,2,FALSE),\"\")","v":10}]
["Greiffendorf, Hellmut",34,32,66,false,11,4,5,11,{"$f":"IF(B19>0,VLOOKUP(I19,Punkteschema!$A$2:$B$101,2,FALSE),\"\")","v":5}]
["Jezierski, Marie-Luise",34,43,77,true,11,19,18,11,{"$f":"IF(B20>0,VLOOKUP(I20,Punkteschema!$A$2:$B$101,2,FALSE),\"\")","v":5}]
["Kortmann, Uwe",38,36,74,true,16,15,16,15,{"$f":"IF(B21>0,VLOOKUP(I21,Punkteschema!$A$2:$B$101,2,FALSE),\"\")","v":5}]
["Schmidt, Barbara",40,38,78,true,18,17,19,17,{"$f":"IF(B22>0,VLOOKUP(I22,Punkteschema!$A$2:$B$101,2,FALSE),\"\")","v":3}]
["Hoffmann, Thomas",53,52,105,true,21,21,21,21,{"$f":"IF(B23>0,VLOOKUP(I23,Punkteschema!$A$2:$B$101,2,FALSE),\"\")","v":1}]
[null,null,null,{"$f":"IF(B24>0,C24+B24,\"\")","v":""},true,{"$f":"IF(B24>0,COUNTIF(B$3:B$55,\"<\"&B24)+1,\"\")","v":""},{"$f":"IF(C24>0,COUNTIF(C$3:C$55,\"<\"&C24)+1,\"\")","v":""},{"$f":"IF(AND(B24>0,C24>0),COUNTIF(D$3:D$55,\"<\"&D24)+1,\"\")","v":""},{"$f":"IF(B24>0,IF(E24,MIN(F24:H24),MAX(F24:H24)),\"\")","v":""},{"$f":"IF(B24>0,VLOOKUP(I24,Punkteschema!$A$2:$B$101,2,FALSE),\"\")","v":""}]
[null,null,null,{"$f":"IF(B25>0,C25+B25,\"\")","v":""},true,{"$f":"IF(B25>0,COUNTIF(B$3:B$55,\"<\"&B25)+1,\"\")","v":""},"",{"$f":"IF(AND(B25>0,C25>0),COUNTIF(D$3:D$55,\"<\"&D25)+1,\"\")","v":""},{"$f":"IF(B25>0,IF(E25,MIN(F25:H25),MAX(F25:H25)),\"\")","v":""},{"$f":"IF(B25>0,VLOOKUP(I25,Punkteschema!$A$2:$B$101,2,FALSE),\"\")","v":""}]
[null,null,null,"",true,"","","","",{"$f":"IF(B26>0,VLOOKUP(I26,Punkteschema!$A$2:$B$101,2,FALSE),\"\")","v":""}]
[null,null,null,"",true,"","","","",{"$f":"IF(B27>0,VLOOKUP(I27,Punkteschema!$A$2:$B$101,2,FALSE),\"\")","v":""}]
[null,null,null,"",true,"","","","",{"$f":"IF(B28>0,VLOOKUP(I28,Punkteschema!$A$2:$B$101,2,FALSE),\"\")","v":""}]
[null,null,null,"",true,"","","","",{"$f":"IF(B29>0,VLOOKUP(I29,Punkteschema!$A$2:$B$101,2,FALSE),\"\")","v":""}]
[null,null,null,"",true,"","","","",{"$f":"IF(B30>0,VLOOKUP(I30,Punkteschema!$A$2:$B$101,2,FALSE),\"\")","v":""}]
[null,null,null,"",true,"","","","",{"$f":"IF(B31>0,VLOOKUP(I31,Punkteschema!$A$2:$B$101,2,FALSE),\"\")","v":""}]
[null,null,null,"",true,"","","","",{"$f":"IF(B32>0,VLOOKUP(I32,Punkteschema!$A$2:$B$101,2,FALSE),\"\")","v":""}]
[null,null,null,"",true,"","","","",{"$f":"IF(B33>0,VLOOKUP(I33,Punkteschema!$A$2:$B$101,2,FALSE),\"\")","v":""}]
[null,null,null,"",true,"","","","",{"$f":"IF(B34>0,VLOOKUP(I34,Punkteschema!$A$2:$B$101,2,FALSE),\"\")","v":""}]
[null,null,null,"",true,"","","","",{"$f":"IF(B35>0,VLOOKUP(I35,Punkteschema!$A$2:$B$101,2,FALSE),\"\")","v":""}]
[null,null,null,"",true,"","","","",{"$f":"IF(B36>0,VLOOKUP(I36,Punkteschema!$A$2:$B$101,2,FALSE),\"\")","v":""}]
[null,null,null,"",true,"","","","",{"$f":"IF(B37>0,VLOOKUP(I37,Punkteschema!$A$2:$B$101,2,FALSE),\"\")","v":""}]
[null,null,null,"",true,"","","","",{"$f":"IF(B38>0,VLOOKUP(I38,Punkteschema!$A$2:$B$101,2,FALSE),\"\")","v":""}]
[null,null,null,"",true,"","","","",{"$f":"IF(B39>0,VLOOKUP(I39,Punkteschema!$A$2:$B$101,2,FALSE),\"\")","v":""}]
[null,null,null,"",true,"","","","",{"$f":"IF(B40>0,VLOOKUP(I40,Punkteschema!$A$2:$B$101,2,FALSE),\"\")","v":""}]
[null,null,null,"",true,"","","","",{"$f":"IF(B41>0,VLOOKUP(I41,Punkteschema!$A$2:$B$101,2,FALSE),\"\")","v":""}]
[null,null,null,"",true,"","","","",{"$f":"IF(B42>0,VLOOKUP(I42,Punkteschema!$A$2:$B$101,2,FALSE),\"\")","v":""}]
[null,null,null,"",true,"","","","",{"$f":"IF(B43>0,VLOOKUP(I43,Punkteschema!$A$2:$B$101,2,FALSE),\"\")","v":""}]
[null,null,null,"",true,"","","","",{"$f":"IF(B44>0,VLOOKUP(I44,Punkteschema!$A$2:$B$101,2,FALSE),\"\")","v":""}]
[null,null,null,"",true,"","","","",{"$f":"IF(B45>0,VLOOKUP(I45,Punkteschema!$A$2:$B$101,2,FALSE),\"\")","v":""}]
[null,null,null,"",true,"","","","",{"$f":"IF(B46>0,VLOOKUP(I46,Punkteschema!$A$2:$B$101,2,FALSE),\"\")","v":""}]
[null,null,null,"",true,"","","","",{"$f":"IF(B47>0,VLOOKUP(I47,Punkteschema!$A$2:$B$101,2,FALSE),\"\")","v":""}]
[null,null,null,"",true,"","","","",{"$f":"IF(B48>0,VLOOKUP(I48,Punkteschema!$A$2:$B$101,2,FALSE),\"\")","v":""}]
[null,null,null,"",true,"","","","",{"$f":"IF(B49>0,VLOOKUP(I49,Punkteschema!$A$2:$B$101,2,FALSE),\"\")","v":""}]
[null,null,null,"",true,"","","","",{"$f":"IF(B50>0,VLOOKUP(I50,Punkteschema!$A$2:$B$101,2,FALSE),\"\")","v":""}]
[null,null,null,"",true,"","","","",{"$f":"IF(B51>0,VLOOKUP(I51,Punkteschema!$A$2:$B$101,2,FALSE),\"\")","v":""}]
[null,null,null,"",true,"","","","",{"$f":"IF(B52>0,VLOOKUP(I52,Punkteschema!$A$2:$B$101,2,FALSE),\"\")","v":""}]
[null,null,null,"",true,{"$f":"IF(B53>0,COUNTIF(B$3:B$55,\"<\"&B53)+1,\"\")","v":""},"",{"$f":"IF(AND(B53>0,C53>0),COUNTIF(D$3:D$55,\"<\"&D53)+1,\"\")","v":""},{"$f":"IF(B53>0,IF(E53,MIN(F53:H53),MAX(F53:H53)),\"\")","v":""},{"$f":"IF(B53>0,VLOOKUP(I53,Punkteschema!$A$2:$B$101,2,FALSE),\"\")","v":""}]
[null,null,null,"",true,"","",{"$f":"IF(AND(B54>0,C54>0),COUNTIF(D$3:D$55,\"<\"&D54)+1,\"\")","v":""},{"$f":"IF(B54>0,IF(E54,MIN(F54:H54),MAX(F54:H54)),\"\")","v":""},{"$f":"IF(B54>0,VLOOKUP(I54,Punkteschema!$A$2:$B$101,2,FALSE),\"\")","v":""}]
[null,null,null,"",true,"","",{"$f":"IF(AND(B55>0,C55>0),COUNTIF(D$3:D$55,\"<\"&D55)+1,\"\")","v":""},{"$f":"IF(B55>0,IF(E55,MIN(F55:H55),MAX(F55:H55)),\"\")","v":""},{"$f":"IF(B55>0,VLOOKUP(I55,Punkteschema!$A$2:$B$101,2,FALSE),\"\")","v":""}]
[]
["OS: Buchholz, Ansgar (ASW)",null,null,null,"Runde 1:","E","<- E/B"]
["S: Puschner, Michael (HOB)",null,null,null,"Runde 2:","B","<- E/B"]
["S: Urban, Volker (ASW)"]
[]
["Verloste Preise: ","Volker Urban (1 Flasche Erdbeerlikör)"]
[null,"Peter Tabor (1 Bonbonglas mit Inhalt)"]
[null,"Sabine Kortmann (1 Pflanzglas mit Inhalt)"]

{"sheet":"Einzelwertung18","index":20,"n_rows":63,"n_cols":10,"rows_kept":63,"cut":false,"hidden":false,"merged":[[0,0,0,9]]}
[{"$f":"CONCATENATE(\"5. Sommer-Cup - Freizeittreff Herbede - \",TEXT(Gesamtstand!$W$2,\"TT.MM.JJ\"))","v":"5. Sommer-Cup - Freizeittreff Herbede - 29.08.19"}]
["Spieler","Runde 1","Runde 2","Gesamt","bessere?","Pl. R1","Pl. R2","Pl. Ges.","gewertet","Punkte"]
["Buchholz, Ansgar",25,29,{"$f":"IF(B3>0,C3+B3,\"\")","v":54},false,{"$f":"IF(B3>0,COUNTIF(B$3:B$55,\"<\"&B3)+1,\"\")","v":1},{"$f":"IF(C3>0,COUNTIF(C$3:C$55,\"<\"&C3)+1,\"\")","v":1},{"$f":"IF(AND(B3>0,C3>0),COUNTIF(D$3:D$55,\"<\"&D3)+1,\"\")","v":1},{"$f":"IF(B3>0,IF(E3,MIN(F3:H3),MAX(F3:H3)),\"\")","v":1},{"$f":"IF(B3>0,VLOOKUP(I3,Punkteschema!$A$2:$B$101,2,FALSE),\"\")","v":25}]
["Schmitt, Jürgen",27,33,60,true,2,4,3,2,{"$f":"IF(B4>0,VLOOKUP(I4,Punkteschema!$A$2:$B$101,2,FALSE),\"\")","v":21}]
["Mühling, Dirk",28,34,62,true,3,8,4,3,{"$f":"IF(B5>0,VLOOKUP(I5,Punkteschema!$A$2:$B$101,2,FALSE),\"\")","v":18}]
["Puschner, Michael",33,32,65,true,10,3,7,3,{"$f":"IF(B6>0,VLOOKUP(I6,Punkteschema!$A$2:$B$101,2,FALSE),\"\")","v":18}]
["Urban, Volker",29,30,59,false,4,2,2,4,{"$f":"IF(B7>0,VLOOKUP(I7,Punkteschema!$A$2:$B$101,2,FALSE),\"\")","v":15}]
["Greiffendorf, Hellmut",30,33,63,true,6,4,5,4,{"$f":"IF(B8>0,VLOOKUP(I8,Punkteschema!$A$2:$B$101,2,FALSE),\"\")","v":15}]
["Kortmann, Sabine",29,35,64,true,4,9,6,4,{"$f":"IF(B9>0,VLOOKUP(I9,Punkteschema!$A$2:$B$101,2,FALSE),\"\")","v":15}]
["Lieber, Nicole",34,33,67,true,12,4,8,4,{"$f":"IF(B10>0,VLOOKUP(I10,Punkteschema!$A$2:$B$101,2,FALSE),\"\")","v":15}]
["Kersch, Uwe",41,33,74,true,18,4,15,4,{"$f":"IF(B11>0,VLOOKUP(I11,Punkteschema!$A$2:$B$101,2,FALSE),\"\")","v":15}]
["Lenk, Rolf",30,40,70,true,6,15,12,6,{"$f":"IF(B12>0,VLOOKUP(I12,Punkteschema!$A$2:$B$101,2,FALSE),\"\")","v":15}]
["Kunz, Martin",31,37,68,true,8,13,10,8,{"$f":"IF(B13>0,VLOOKUP(I13,Punkteschema!$A$2:$B$101,2,FALSE),\"\")","v":10}]
["Tabor, Peter",31,36,67,false,8,10,8,10,{"$f":"IF(B14>0,VLOOKUP(I14,Punkteschema!$A$2:$B$101,2,FALSE),\"\")","v":10}]
["Urban, Dominic",33,36,69,true,10,10,11,10,{"$f":"IF(B15>0,VLOOKUP(I15,Punkteschema!$A$2:$B$101,2,FALSE),\"\")","v":10}]
["Börgmann, Brigitte",37,36,73,true,17,10,14,10,{"$f":"IF(B16>0,VLOOKUP(I16,Punkteschema!$A$2:$B$101,2,FALSE),\"\")","v":10}]
["Jezierski, Marie-Luise",34,38,72,true,12,14,13,12,{"$f":"IF(B17>0,VLOOKUP(I17,Punkteschema!$A$2:$B$101,2,FALSE),\"\")","v":5}]
["Kortmann, Uwe",34,41,75,true,12,16,16,12,{"$f":"IF(B18>0,VLOOKUP(I18,Punkteschema!$A$2:$B$101,2,FALSE),\"\")","v":5}]
["Börgmann, Ulrich",35,41,76,true,15,16,17,15,{"$f":"IF(B19>0,VLOOKUP(I19,Punkteschema!$A$2:$B$101,2,FALSE),\"\")","v":5}]
["Dreischer, Burkhard",36,41,77,true,16,16,18,16,{"$f":"IF(B20>0,VLOOKUP(I20,Punkteschema!$A$2:$B$101,2,FALSE),\"\")","v":3}]
["Wortmann, Torben",42,46,88,true,19,20,19,19,{"$f":"IF(B21>0,VLOOKUP(I21,Punkteschema!$A$2:$B$101,2,FALSE),\"\")","v":3}]
["Schmidt, Barbara",48,42,90,true,20,19,20,19,{"$f":"IF(B22>0,VLOOKUP(I22,Punkteschema!$A$2:$B$101,2,FALSE),\"\")","v":3}]
[null,null,null,{"$f":"IF(B23>0,C23+B23,\"\")","v":""},true,{"$f":"IF(B23>0,COUNTIF(B$3:B$55,\"<\"&B23)+1,\"\")","v":""},{"$f":"IF(C23>0,COUNTIF(C$3:C$55,\"<\"&C23)+1,\"\")","v":""},{"$f":"IF(AND(B23>0,C23>0),COUNTIF(D$3:D$55,\"<\"&D23)+1,\"\")","v":""},{"$f":"IF(B23>0,IF(E23,MIN(F23:H23),MAX(F23:H23)),\"\")","v":""},{"$f":"IF(B23>0,VLOOKUP(I23,Punkteschema!$A$2:$B$101,2,FALSE),\"\")","v":""}]
[null,null,null,"",true,"","","","",{"$f":"IF(B24>0,VLOOKUP(I24,Punkteschema!$A$2:$B$101,2,FALSE),\"\")","v":""}]
[null,null,null,"",true,"","","","",{"$f":"IF(B25>0,VLOOKUP(I25,Punkteschema!$A$2:$B$101,2,FALSE),\"\")","v":""}]
[null,null,null,"",true,"","","","",{"$f":"IF(B26>0,VLOOKUP(I26,Punkteschema!$A$2:$B$101,2,FALSE),\"\")","v":""}]
[null,null,null,"",true,"","","","",{"$f":"IF(B27>0,VLOOKUP(I27,Punkteschema!$A$2:$B$101,2,FALSE),\"\")","v":""}]
[null,null,null,"",true,"","","","",{"$f":"IF(B28>0,VLOOKUP(I28,Punkteschema!$A$2:$B$101,2,FALSE),\"\")","v":""}]
[null,null,null,"",true,"","","","",{"$f":"IF(B29>0,VLOOKUP(I29,Punkteschema!$A$2:$B$101,2,FALSE),\"\")","v":""}]
[null,null,null,"",true,"","","","",{"$f":"IF(B30>0,VLOOKUP(I30,Punkteschema!$A$2:$B$101,2,FALSE),\"\")","v":""}]
[null,null,null,"",true,"","","","",{"$f":"IF(B31>0,VLOOKUP(I31,Punkteschema!$A$2:$B$101,2,FALSE),\"\")","v":""}]
[null,null,null,"",true,"","","","",{"$f":"IF(B32>0,VLOOKUP(I32,Punkteschema!$A$2:$B$101,2,FALSE),\"\")","v":""}]
[null,null,null,"",true,"","","","",{"$f":"IF(B33>0,VLOOKUP(I33,Punkteschema!$A$2:$B$101,2,FALSE),\"\")","v":""}]
[null,null,null,"",true,"","","","",{"$f":"IF(B34>0,VLOOKUP(I34,Punkteschema!$A$2:$B$101,2,FALSE),\"\")","v":""}]
[null,null,null,"",true,"","","","",{"$f":"IF(B35>0,VLOOKUP(I35,Punkteschema!$A$2:$B$101,2,FALSE),\"\")","v":""}]
[null,null,null,"",true,"","","","",{"$f":"IF(B36>0,VLOOKUP(I36,Punkteschema!$A$2:$B$101,2,FALSE),\"\")","v":""}]
[null,null,null,"",true,"","","","",{"$f":"IF(B37>0,VLOOKUP(I37,Punkteschema!$A$2:$B$101,2,FALSE),\"\")","v":""}]
[null,null,null,"",true,"","","","",{"$f":"IF(B38>0,VLOOKUP(I38,Punkteschema!$A$2:$B$101,2,FALSE),\"\")","v":""}]
[null,null,null,"",true,"","","","",{"$f":"IF(B39>0,VLOOKUP(I39,Punkteschema!$A$2:$B$101,2,FALSE),\"\")","v":""}]
[null,null,null,"",true,"","","","",{"$f":"IF(B40>0,VLOOKUP(I40,Punkteschema!$A$2:$B$101,2,FALSE),\"\")","v":""}]
[null,null,null,"",true,"","","","",{"$f":"IF(B41>0,VLOOKUP(I41,Punkteschema!$A$2:$B$101,2,FALSE),\"\")","v":""}]
[null,null,null,"",true,"","","","",{"$f":"IF(B42>0,VLOOKUP(I42,Punkteschema!$A$2:$B$101,2,FALSE),\"\")","v":""}]
[null,null,null,"",true,"","","","",{"$f":"IF(B43>0,VLOOKUP(I43,Punkteschema!$A$2:$B$101,2,FALSE),\"\")","v":""}]
[null,null,null,"",true,"","","","",{"$f":"IF(B44>0,VLOOKUP(I44,Punkteschema!$A$2:$B$101,2,FALSE),\"\")","v":""}]
[null,null,null,"",true,"","","","",{"$f":"IF(B45>0,VLOOKUP(I45,Punkteschema!$A$2:$B$101,2,FALSE),\"\")","v":""}]
[null,null,null,"",true,"","","","",{"$f":"IF(B46>0,VLOOKUP(I46,Punkteschema!$A$2:$B$101,2,FALSE),\"\")","v":""}]
[null,null,null,"",true,"","","","",{"$f":"IF(B47>0,VLOOKUP(I47,Punkteschema!$A$2:$B$101,2,FALSE),\"\")","v":""}]
[null,null,null,"",true,"","","","",{"$f":"IF(B48>0,VLOOKUP(I48,Punkteschema!$A$2:$B$101,2,FALSE),\"\")","v":""}]
[null,null,null,"",true,"","","","",{"$f":"IF(B49>0,VLOOKUP(I49,Punkteschema!$A$2:$B$101,2,FALSE),\"\")","v":""}]
[null,null,null,"",true,"","","","",{"$f":"IF(B50>0,VLOOKUP(I50,Punkteschema!$A$2:$B$101,2,FALSE),\"\")","v":""}]
[null,null,null,"",true,"","","","",{"$f":"IF(B51>0,VLOOKUP(I51,Punkteschema!$A$2:$B$101,2,FALSE),\"\")","v":""}]
[null,null,null,"",true,"","","","",{"$f":"IF(B52>0,VLOOKUP(I52,Punkteschema!$A$2:$B$101,2,FALSE),\"\")","v":""}]
[null,null,null,"",true,{"$f":"IF(B53>0,COUNTIF(B$3:B$55,\"<\"&B53)+1,\"\")","v":""},"",{"$f":"IF(AND(B53>0,C53>0),COUNTIF(D$3:D$55,\"<\"&D53)+1,\"\")","v":""},{"$f":"IF(B53>0,IF(E53,MIN(F53:H53),MAX(F53:H53)),\"\")","v":""},{"$f":"IF(B53>0,VLOOKUP(I53,Punkteschema!$A$2:$B$101,2,FALSE),\"\")","v":""}]
[null,null,null,"",true,"","",{"$f":"IF(AND(B54>0,C54>0),COUNTIF(D$3:D$55,\"<\"&D54)+1,\"\")","v":""},{"$f":"IF(B54>0,IF(E54,MIN(F54:H54),MAX(F54:H54)),\"\")","v":""},{"$f":"IF(B54>0,VLOOKUP(I54,Punkteschema!$A$2:$B$101,2,FALSE),\"\")","v":""}]
[null,null,null,"",true,"","",{"$f":"IF(AND(B55>0,C55>0),COUNTIF(D$3:D$55,\"<\"&D55)+1,\"\")","v":""},{"$f":"IF(B55>0,IF(E55,MIN(F55:H55),MAX(F55:H55)),\"\")","v":""},{"$f":"IF(B55>0,VLOOKUP(I55,Punkteschema!$A$2:$B$101,2,FALSE),\"\")","v":""}]
[]
["OS: Mühling, Dirk (HEV)",null,null,null,"Runde 1:","E","<- E/B"]
["S: Buchholz, Ansgar (ASW)",null,null,null,"Runde 2:","B","<- E/B"]
["S: Puschner, Michael (HOB)"]
[]
["Verloste Preise: ","Martin Kunz (1 Pflanzkorb, bepflanzt)"]
[null,"Brigitte Börgmann (1 Flasche Sekt)"]
[null,"Jürgen Schmitt (1 Schachtel Pralinen)"]

{"sheet":"Statistik","index":21,"n_rows":25,"n_cols":13,"rows_kept":25,"cut":false,"hidden":false,"merged":[[0,0,0,5],[0,7,0,12]]}
["Buchholz, Ansgar",null,null,null,null,null,null,"Urban, Volker"]
[]
[null,null,null,null,"Eternit","Beton",null,null,null,null,null,"Eternit","Beton"]
[null,"Runden",null,null,{"$f":"COUNTIF(E8:E25,\">0\")","v":11},{"$f":"COUNTIF(F8:F25,\">0\")","v":10},null,null,"Runden",null,null,{"$f":"COUNTIF(L8:L25,\">0\")","v":15},{"$f":"COUNTIF(M8:M25,\">0\")","v":14}]
[null,"Schnitt",null,null,{"$f":"IF(E4>0,SUM(E8:E25)/E4,\"\")","v":25.727272727272727},{"$f":"IF(E4>0,SUM(F8:F25)/F4,\"\")","v":30.7},null,null,"Schnitt",null,null,{"$f":"IF(L4>0,SUM(L8:L25)/L4,\"\")","v":28.2},{"$f":"IF(L4>0,SUM(M8:M25)/M4,\"\")","v":31.357142857142858}]
[]
["Spieltag","Datum","R1","R2","Eternit","Beton",null,"Spieltag","Datum","R1","R2","Eternit","Beton"]
[1,"2018-05-03",{"$f":"Einzelwertung1!F57","v":"B"},{"$f":"Einzelwertung1!F58","v":"E"},{"$f":"SUMIF(Einzelwertung1!$A$3:$A$99,$A$1,IF($C8=\"E\",Einzelwertung1!$B$3:$B$99,Einzelwertung1!$C$3:$C$99))","v":0},{"$f":"SUMIF(Einzelwertung1!$A$3:$A$99,$A$1,IF($C8=\"B\",Einzelwertung1!$B$3:$B$99,Einzelwertung1!$C$3:$C$99))","v":0},null,1,"2018-05-03",{"$f":"Einzelwertung1!F57","v":"B"},{"$f":"Einzelwertung1!F58","v":"E"},{"$f":"SUMIF(Einzelwertung1!$A$3:$A$99,$H$1,IF($J8=\"E\",Einzelwertung1!$B$3:$B$99,Einzelwertung1!$C$3:$C$99))","v":0},{"$f":"SUMIF(Einzelwertung1!$A$3:$A$99,$H$1,IF($J8=\"B\",Einzelwertung1!$B$3:$B$99,Einzelwertung1!$C$3:$C$99))","v":0}]
[{"$f":"+A8+1","v":2},{"$f":"B8+6","v":"2018-05-09"},{"$f":"Einzelwertung2!F57","v":"B"},{"$f":"Einzelwertung2!F58","v":"B"},{"$f":"SUMIF(Einzelwertung2!$A$3:$A$99,$A$1,IF($C9=\"E\",Einzelwertung2!$B$3:$B$99,Einzelwertung2!$C$3:$C$99))","v":0},{"$f":"SUMIF(Einzelwertung2!$A$3:$A$99,$A$1,IF($C9=\"B\",Einzelwertung2!$B$3:$B$99,Einzelwertung2!$C$3:$C$99))","v":0},null,{"$f":"+H8+1","v":2},{"$f":"I8+6","v":"2018-05-09"},{"$f":"Einzelwertung2!F57","v":"B"},{"$f":"Einzelwertung2!F58","v":"B"},{"$f":"SUMIF(Einzelwertung2!$A$3:$A$99,$H$1,IF($J9=\"E\",Einzelwertung2!$B$3:$B$99,Einzelwertung2!$C$3:$C$99))","v":33},{"$f":"SUMIF(Einzelwertung2!$A$3:$A$99,$H$1,IF($J9=\"B\",Einzelwertung2!$B$3:$B$99,Einzelwertung2!$C$3:$C$99))","v":28}]
[{"$f":"+A9+1","v":3},{"$f":"B9+8","v":"2018-05-17"},{"$f":"Einzelwertung3!F57","v":"E"},{"$f":"Einzelwertung3!F58","v":"B"},{"$f":"SUMIF(Einzelwertung3!$A$3:$A$99,$A$1,IF($C10=\"E\",Einzelwertung3!$B$3:$B$99,Einzelwertung3!$C$3:$C$99))","v":0},{"$f":"SUMIF(Einzelwertung3!$A$3:$A$99,$A$1,IF($C10=\"B\",Einzelwertung3!$B$3:$B$99,Einzelwertung3!$C$3:$C$99))","v":0},null,3,{"$f":"I9+8","v":"2018-05-17"},{"$f":"Einzelwertung3!F57","v":"E"},{"$f":"Einzelwertung3!F58","v":"B"},{"$f":"SUMIF(Einzelwertung3!$A$3:$A$99,$H$1,IF($J10=\"E\",Einzelwertung3!$B$3:$B$99,Einzelwertung3!$C$3:$C$99))","v":25},{"$f":"SUMIF(Einzelwertung3!$A$3:$A$99,$H$1,IF($J10=\"B\",Einzelwertung3!$B$3:$B$99,Einzelwertung3!$C$3:$C$99))","v":32}]
[4,{"$f":"B10+7","v":"2018-05-24"},{"$f":"Einzelwertung4!F57","v":"E"},{"$f":"Einzelwertung4!F58","v":"B"},{"$f":"SUMIF(Einzelwertung4!$A$3:$A$99,$A$1,IF($C11=\"E\",Einzelwertung4!$B$3:$B$99,Einzelwertung4!$C$3:$C$99))","v":0},{"$f":"SUMIF(Einzelwertung4!$A$3:$A$99,$A$1,IF($C11=\"B\",Einzelwertung4!$B$3:$B$99,Einzelwertung4!$C$3:$C$99))","v":0},null,4,{"$f":"I10+7","v":"2018-05-24"},{"$f":"Einzelwertung4!F57","v":"E"},{"$f":"Einzelwertung4!F58","v":"B"},{"$f":"SUMIF(Einzelwertung4!$A$3:$A$99,$H$1,IF($J11=\"E\",Einzelwertung4!$B$3:$B$99,Einzelwertung4!$C$3:$C$99))","v":26},{"$f":"SUMIF(Einzelwertung4!$A$3:$A$99,$H$1,IF($J11=\"B\",Einzelwertung4!$B$3:$B$99,Einzelwertung4!$C$3:$C$99))","v":32}]
[5,{"$f":"B11+6","v":"2018-05-30"},{"$f":"Einzelwertung5!F57","v":"E"},{"$f":"Einzelwertung5!F58","v":"B"},{"$f":"SUMIF(Einzelwertung5!$A$3:$A$99,$A$1,IF($C12=\"E\",Einzelwertung5!$B$3:$B$99,Einzelwertung5!$C$3:$C$99))","v":0},{"$f":"SUMIF(Einzelwertung5!$A$3:$A$99,$A$1,IF($C12=\"B\",Einzelwertung5!$B$3:$B$99,Einzelwertung5!$C$3:$C$99))","v":0},null,5,{"$f":"I11+6","v":"2018-05-30"},{"$f":"Einzelwertung5!F57","v":"E"},{"$f":"Einzelwertung5!F58","v":"B"},{"$f":"SUMIF(Einzelwertung5!$A$3:$A$99,$H$1,IF($J12=\"E\",Einzelwertung5!$B$3:$B$99,Einzelwertung5!$C$3:$C$99))","v":32},{"$f":"SUMIF(Einzelwertung5!$A$3:$A$99,$H$1,IF($J12=\"B\",Einzelwertung5!$B$3:$B$99,Einzelwertung5!$C$3:$C$99))","v":30}]
[6,{"$f":"B12+8","v":"2018-06-07"},{"$f":"Einzelwertung6!F57","v":"E"},{"$f":"Einzelwertung6!F58","v":"B"},{"$f":"SUMIF(Einzelwertung6!$A$3:$A$99,$A$1,IF($C13=\"E\",Einzelwertung6!$B$3:$B$99,Einzelwertung6!$C$3:$C$99))","v":29},{"$f":"SUMIF(Einzelwertung6!$A$3:$A$99,$A$1,IF($C13=\"B\",Einzelwertung6!$B$3:$B$99,Einzelwertung6!$C$3:$C$99))","v":30},null,6,{"$f":"I12+8","v":"2018-06-07"},{"$f":"Einzelwertung6!F57","v":"E"},{"$f":"Einzelwertung6!F58","v":"B"},{"$f":"SUMIF(Einzelwertung6!$A$3:$A$99,$H$1,IF($J13=\"E\",Einzelwertung6!$B$3:$B$99,Einzelwertung6!$C$3:$C$99))","v":29},{"$f":"SUMIF(Einzelwertung6!$A$3:$A$99,$H$1,IF($J13=\"B\",Einzelwertung6!$B$3:$B$99,Einzelwertung6!$C$3:$C$99))","v":34}]
[7,{"$f":"B13+7","v":"2018-06-14"},{"$f":"Einzelwertung7!F57","v":"E"},{"$f":"Einzelwertung7!F58","v":"B"},{"$f":"SUMIF(Einzelwertung7!$A$3:$A$99,$A$1,IF($C14=\"E\",Einzelwertung7!$B$3:$B$99,Einzelwertung7!$C$3:$C$99))","v":28},{"$f":"SUMIF(Einzelwertung7!$A$3:$A$99,$A$1,IF($C14=\"B\",Einzelwertung7!$B$3:$B$99,Einzelwertung7!$C$3:$C$99))","v":34},null,7,{"$f":"I13+7","v":"2018-06-14"},{"$f":"Einzelwertung7!F57","v":"E"},{"$f":"Einzelwertung7!F58","v":"B"},{"$f":"SUMIF(Einzelwertung7!$A$3:$A$99,$H$1,IF($J14=\"E\",Einzelwertung7!$B$3:$B$99,Einzelwertung7!$C$3:$C$99))","v":32},{"$f":"SUMIF(Einzelwertung7!$A$3:$A$99,$H$1,IF($J14=\"B\",Einzelwertung7!$B$3:$B$99,Einzelwertung7!$C$3:$C$99))","v":36}]
[8,"2018-06-21",{"$f":"Einzelwertung8!F57","v":"E"},{"$f":"Einzelwertung8!F58","v":"B"},{"$f":"SUMIF(Einzelwertung8!$A$3:$A$99,$A$1,IF($C15=\"E\",Einzelwertung8!$B$3:$B$99,Einzelwertung8!$C$3:$C$99))","v":28},{"$f":"SUMIF(Einzelwertung8!$A$3:$A$99,$A$1,IF($C15=\"B\",Einzelwertung8!$B$3:$B$99,Einzelwertung8!$C$3:$C$99))","v":26},null,8,"2018-06-21",{"$f":"Einzelwertung8!F57","v":"E"},{"$f":"Einzelwertung8!F58","v":"B"},{"$f":"SUMIF(Einzelwertung8!$A$3:$A$99,$H$1,IF($J15=\"E\",Einzelwertung8!$B$3:$B$99,Einzelwertung8!$C$3:$C$99))","v":28},{"$f":"SUMIF(Einzelwertung8!$A$3:$A$99,$H$1,IF($J15=\"B\",Einzelwertung8!$B$3:$B$99,Einzelwertung8!$C$3:$C$99))","v":33}]
[9,"2018-06-28",{"$f":"Einzelwertung9!F57","v":"E"},{"$f":"Einzelwertung9!F58","v":"B"},{"$f":"SUMIF(Einzelwertung9!$A$3:$A$99,$A$1,IF($C16=\"E\",Einzelwertung9!$B$3:$B$99,Einzelwertung9!$C$3:$C$99))","v":26},{"$f":"SUMIF(Einzelwertung9!$A$3:$A$99,$A$1,IF($C16=\"B\",Einzelwertung9!$B$3:$B$99,Einzelwertung9!$C$3:$C$99))","v":31},null,9,"2018-06-28",{"$f":"Einzelwertung9!F57","v":"E"},{"$f":"Einzelwertung9!F58","v":"B"},{"$f":"SUMIF(Einzelwertung9!$A$3:$A$99,$H$1,IF($J16=\"E\",Einzelwertung9!$B$3:$B$99,Einzelwertung9!$C$3:$C$99))","v":29},{"$f":"SUMIF(Einzelwertung9!$A$3:$A$99,$H$1,IF($J16=\"B\",Einzelwertung9!$B$3:$B$99,Einzelwertung9!$C$3:$C$99))","v":29}]
[10,"2018-07-05",{"$f":"Einzelwertung10!F57","v":"E"},{"$f":"Einzelwertung10!F58","v":"B"},{"$f":"SUMIF(Einzelwertung10!$A$3:$A$99,$A$1,IF($C17=\"E\",Einzelwertung10!$B$3:$B$99,Einzelwertung10!$C$3:$C$99))","v":0},{"$f":"SUMIF(Einzelwertung10!$A$3:$A$99,$A$1,IF($C17=\"B\",Einzelwertung10!$B$3:$B$99,Einzelwertung10!$C$3:$C$99))","v":0},null,10,"2018-07-05",{"$f":"Einzelwertung10!F57","v":"E"},{"$f":"Einzelwertung10!F58","v":"B"},{"$f":"SUMIF(Einzelwertung10!$A$3:$A$99,$H$1,IF($J17=\"E\",Einzelwertung10!$B$3:$B$99,Einzelwertung10!$C$3:$C$99))","v":0},{"$f":"SUMIF(Einzelwertung10!$A$3:$A$99,$H$1,IF($J17=\"B\",Einzelwertung10!$B$3:$B$99,Einzelwertung10!$C$3:$C$99))","v":0}]
[11,"2018-07-12",{"$f":"Einzelwertung11!F57","v":"E"},{"$f":"Einzelwertung11!F58","v":"B"},{"$f":"SUMIF(Einzelwertung11!$A$3:$A$99,$A$1,IF($C18=\"E\",Einzelwertung11!$B$3:$B$99,Einzelwertung11!$C$3:$C$99))","v":25},{"$f":"SUMIF(Einzelwertung11!$A$3:$A$99,$A$1,IF($C18=\"B\",Einzelwertung11!$B$3:$B$99,Einzelwertung11!$C$3:$C$99))","v":31},null,11,"2018-07-12",{"$f":"Einzelwertung11!F57","v":"E"},{"$f":"Einzelwertung11!F58","v":"B"},{"$f":"SUMIF(Einzelwertung11!$A$3:$A$99,$H$1,IF($J18=\"E\",Einzelwertung11!$B$3:$B$99,Einzelwertung11!$C$3:$C$99))","v":28},{"$f":"SUMIF(Einzelwertung11!$A$3:$A$99,$H$1,IF($J18=\"B\",Einzelwertung11!$B$3:$B$99,Einzelwertung11!$C$3:$C$99))","v":30}]
[12,"2018-07-19",{"$f":"Einzelwertung12!F57","v":"E"},{"$f":"Einzelwertung12!F58","v":"B"},{"$f":"SUMIF(Einzelwertung12!$A$3:$A$99,$A$1,IF($C19=\"E\",Einzelwertung12!$B$3:$B$99,Einzelwertung12!$C$3:$C$99))","v":24},{"$f":"SUMIF(Einzelwertung12!$A$3:$A$99,$A$1,IF($C19=\"B\",Einzelwertung12!$B$3:$B$99,Einzelwertung12!$C$3:$C$99))","v":30},null,12,"2018-07-19",{"$f":"Einzelwertung12!F57","v":"E"},{"$f":"Einzelwertung12!F58","v":"B"},{"$f":"SUMIF(Einzelwertung12!$A$3:$A$99,$H$1,IF($J19=\"E\",Einzelwertung12!$B$3:$B$99,Einzelwertung12!$C$3:$C$99))","v":25},{"$f":"SUMIF(Einzelwertung12!$A$3:$A$99,$H$1,IF($J19=\"B\",Einzelwertung12!$B$3:$B$99,Einzelwertung12!$C$3:$C$99))","v":30}]
[13,"2018-07-26",{"$f":"Einzelwertung13!F57","v":"E"},{"$f":"Einzelwertung13!F58","v":"B"},{"$f":"SUMIF(Einzelwertung13!$A$3:$A$99,$A$1,IF($C20=\"E\",Einzelwertung13!$B$3:$B$99,Einzelwertung13!$C$3:$C$99))","v":29},{"$f":"SUMIF(Einzelwertung13!$A$3:$A$99,$A$1,IF($C20=\"B\",Einzelwertung13!$B$3:$B$99,Einzelwertung13!$C$3:$C$99))","v":34},null,13,"2018-07-26",{"$f":"Einzelwertung13!F57","v":"E"},{"$f":"Einzelwertung13!F58","v":"B"},{"$f":"SUMIF(Einzelwertung13!$A$3:$A$99,$H$1,IF($J20=\"E\",Einzelwertung13!$B$3:$B$99,Einzelwertung13!$C$3:$C$99))","v":26},{"$f":"SUMIF(Einzelwertung13!$A$3:$A$99,$H$1,IF($J20=\"B\",Einzelwertung13!$B$3:$B$99,Einzelwertung13!$C$3:$C$99))","v":28}]
[14,"2018-08-02",{"$f":"Einzelwertung14!F57","v":"E"},{"$f":"Einzelwertung14!F58","v":"B"},{"$f":"SUMIF(Einzelwertung14!$A$3:$A$99,$A$1,IF($C21=\"E\",Einzelwertung14!$B$3:$B$99,Einzelwertung14!$C$3:$C$99))","v":0},{"$f":"SUMIF(Einzelwertung14!$A$3:$A$99,$A$1,IF($C21=\"B\",Einzelwertung14!$B$3:$B$99,Einzelwertung14!$C$3:$C$99))","v":0},null,14,"2018-08-02",{"$f":"Einzelwertung14!F57","v":"E"},{"$f":"Einzelwertung14!F58","v":"B"},{"$f":"SUMIF(Einzelwertung14!$A$3:$A$99,$H$1,IF($J21=\"E\",Einzelwertung14!$B$3:$B$99,Einzelwertung14!$C$3:$C$99))","v":0},{"$f":"SUMIF(Einzelwertung14!$A$3:$A$99,$H$1,IF($J21=\"B\",Einzelwertung14!$B$3:$B$99,Einzelwertung14!$C$3:$C$99))","v":0}]
[15,"2018-08-09",{"$f":"Einzelwertung15!F57","v":"E"},{"$f":"Einzelwertung15!F58","v":"B"},{"$f":"SUMIF(Einzelwertung15!$A$3:$A$99,$A$1,IF($C22=\"E\",Einzelwertung15!$B$3:$B$99,Einzelwertung15!$C$3:$C$99))","v":22},{"$f":"SUMIF(Einzelwertung15!$A$3:$A$99,$A$1,IF($C22=\"B\",Einzelwertung15!$B$3:$B$99,Einzelwertung15!$C$3:$C$99))","v":29},null,15,"2018-08-09",{"$f":"Einzelwertung15!F57","v":"E"},{"$f":"Einzelwertung15!F58","v":"B"},{"$f":"SUMIF(Einzelwertung15!$A$3:$A$99,$H$1,IF($J22=\"E\",Einzelwertung15!$B$3:$B$99,Einzelwertung15!$C$3:$C$99))","v":27},{"$f":"SUMIF(Einzelwertung15!$A$3:$A$99,$H$1,IF($J22=\"B\",Einzelwertung15!$B$3:$B$99,Einzelwertung15!$C$3:$C$99))","v":35}]
[16,"2018-08-16",{"$f":"Einzelwertung16!F57","v":"E"},{"$f":"Einzelwertung16!F58","v":"B"},{"$f":"SUMIF(Einzelwertung16!$A$3:$A$99,$A$1,IF($C23=\"E\",Einzelwertung16!$B$3:$B$99,Einzelwertung16!$C$3:$C$99))","v":23},{"$f":"SUMIF(Einzelwertung16!$A$3:$A$99,$A$1,IF($C23=\"B\",Einzelwertung16!$B$3:$B$99,Einzelwertung16!$C$3:$C$99))","v":0},null,16,"2018-08-16",{"$f":"Einzelwertung16!F57","v":"E"},{"$f":"Einzelwertung16!F58","v":"B"},{"$f":"SUMIF(Einzelwertung16!$A$3:$A$99,$H$1,IF($J23=\"E\",Einzelwertung16!$B$3:$B$99,Einzelwertung16!$C$3:$C$99))","v":27},{"$f":"SUMIF(Einzelwertung16!$A$3:$A$99,$H$1,IF($J23=\"B\",Einzelwertung16!$B$3:$B$99,Einzelwertung16!$C$3:$C$99))","v":0}]
[17,"2018-08-23",{"$f":"Einzelwertung17!F57","v":"E"},{"$f":"Einzelwertung17!F58","v":"B"},{"$f":"SUMIF(Einzelwertung17!$A$3:$A$99,$A$1,IF($C24=\"E\",Einzelwertung17!$B$3:$B$99,Einzelwertung17!$C$3:$C$99))","v":24},{"$f":"SUMIF(Einzelwertung17!$A$3:$A$99,$A$1,IF($C24=\"B\",Einzelwertung17!$B$3:$B$99,Einzelwertung17!$C$3:$C$99))","v":33},null,17,"2018-08-23",{"$f":"Einzelwertung17!F57","v":"E"},{"$f":"Einzelwertung17!F58","v":"B"},{"$f":"SUMIF(Einzelwertung17!$A$3:$A$99,$H$1,IF($J24=\"E\",Einzelwertung17!$B$3:$B$99,Einzelwertung17!$C$3:$C$99))","v":27},{"$f":"SUMIF(Einzelwertung17!$A$3:$A$99,$H$1,IF($J24=\"B\",Einzelwertung17!$B$3:$B$99,Einzelwertung17!$C$3:$C$99))","v":32}]
[18,"2018-08-30",{"$f":"Einzelwertung18!F57","v":"E"},{"$f":"Einzelwertung18!F58","v":"B"},{"$f":"SUMIF(Einzelwertung18!$A$3:$A$99,$A$1,IF($C25=\"E\",Einzelwertung18!$B$3:$B$99,Einzelwertung18!$C$3:$C$99))","v":25},{"$f":"SUMIF(Einzelwertung18!$A$3:$A$99,$A$1,IF($C25=\"B\",Einzelwertung18!$B$3:$B$99,Einzelwertung18!$C$3:$C$99))","v":29},null,18,"2018-08-30",{"$f":"Einzelwertung18!F57","v":"E"},{"$f":"Einzelwertung18!F58","v":"B"},{"$f":"SUMIF(Einzelwertung18!$A$3:$A$99,$H$1,IF($J25=\"E\",Einzelwertung18!$B$3:$B$99,Einzelwertung18!$C$3:$C$99))","v":29},{"$f":"SUMIF(Einzelwertung18!$A$3:$A$99,$H$1,IF($J25=\"B\",Einzelwertung18!$B$3:$B$99,Einzelwertung18!$C$3:$C$99))","v":30}]

{"sheet":"bangolf_players","index":22,"n_rows":4231,"n_cols":7,"rows_kept":4231,"cut":false,"hidden":true,"merged":[]}
["Kat","PassNr","Vorname","Nachname","VereinName","Kennung","Kat"]
["hv",25891,"Lothar","Abele","1. MGC Metzingen e.V.",{"$f":"CONCATENATE(G2,\": \",D2,\", \",C2)","v":"SM2: Abele, Lothar"},{"$f":"VLOOKUP(A2,bangolf_kategorien!$A$2:$B$11,2,FALSE)","v":"SM2"}]
["dv",869,"Birgit","Abeling-Betzien","BGC Diepholz e.V.",{"$f":"CONCATENATE(G3,\": \",D3,\", \",C3)","v":"SW2: Abeling-Betzien, Birgit"},{"$f":"VLOOKUP(A3,bangolf_kategorien!$A$2:$B$11,2,FALSE)","v":"SW2"}]
["hv",33312,"Edgar","Abelmann","1. BGC Hannover e.V.","SM2: Abelmann, Edgar",{"$f":"VLOOKUP(A4,bangolf_kategorien!$A$2:$B$11,2,FALSE)","v":"SM2"}]
["ob",27712,"Thomas","Abendroth","Reinickendorfer MGC e.V.","SM1: Abendroth, Thomas",{"$f":"VLOOKUP(A5,bangolf_kategorien!$A$2:$B$11,2,FALSE)","v":"SM1"}]
["hs",43272,"Hendrik","Ackermann","1. MGC Ludwigshafen e.V.","H: Ackermann, Hendrik",{"$f":"VLOOKUP(A6,bangolf_kategorien!$A$2:$B$11,2,FALSE)","v":"H"}]
["dv",36901,"Gabriele","Adam","MGC Felderbachtal 1964 e.V.","SW2: Adam, Gabriele",{"$f":"VLOOKUP(A7,bangolf_kategorien!$A$2:$B$11,2,FALSE)","v":"SW2"}]
["hv",36366,"Herbert","Adam","MGC Felderbachtal 1964 e.V.","SM2: Adam, Herbert",{"$f":"VLOOKUP(A8,bangolf_kategorien!$A$2:$B$11,2,FALSE)","v":"SM2"}]
["hs",34631,"Jan Sebastian","Adam","VfL Lüneburg Abt. Bahnengolf","H: Adam, Jan Sebastian",{"$f":"VLOOKUP(A9,bangolf_kategorien!$A$2:$B$11,2,FALSE)","v":"H"}]
["ds",67154,"Jessica","Adam","VfL Lüneburg Abt. Bahnengolf","D: Adam, Jessica",{"$f":"VLOOKUP(A10,bangolf_kategorien!$A$2:$B$11,2,FALSE)","v":"D"}]
["dv",37108,"Astrid","Adamczyk","MGC Bad Homburg vdH e.V.","SW2: Adamczyk, Astrid",{"$f":"VLOOKUP(A11,bangolf_kategorien!$A$2:$B$11,2,FALSE)","v":"SW2"}]
["ds",35408,"Jasmin","Adamczyk","MGC Bad Homburg vdH e.V.","D: Adamczyk, Jasmin",{"$f":"VLOOKUP(A12,bangolf_kategorien!$A$2:$B$11,2,FALSE)","v":"D"}]
["hv",35377,"Michael","Adamczyk","MGC Bad Homburg vdH e.V.","SM2: Adamczyk, Michael",{"$f":"VLOOKUP(A13,bangolf_kategorien!$A$2:$B$11,2,FALSE)","v":"SM2"}]
["hs",37193,"Tim","Adamczyk","SG Arheilgen Abt. Bahnengolf","H: Adamczyk, Tim",{"$f":"VLOOKUP(A14,bangolf_kategorien!$A$2:$B$11,2,FALSE)","v":"H"}]
["hv",35715,"Bernd","Adamski","MGC Rot-Weiß Wanne-Eickel e.V.","SM2: Adamski, Bernd",{"$f":"VLOOKUP(A15,bangolf_kategorien!$A$2:$B$11,2,FALSE)","v":"SM2"}]
["ob",46986,"Jürgen","Adenau","1.KGC Mönchengladbach e.V.","SM1: Adenau, Jürgen",{"$f":"VLOOKUP(A16,bangolf_kategorien!$A$2:$B$11,2,FALSE)","v":"SM1"}]
["hs",29794,"Markus","Affeld","MSC Herscheid 1963 e.V.","H: Affeld, Markus",{"$f":"VLOOKUP(A17,bangolf_kategorien!$A$2:$B$11,2,FALSE)","v":"H"}]
["hs",24649,"Alan","Ahmed","MGC Bad Oldesloe e.V.","H: Ahmed, Alan",{"$f":"VLOOKUP(A18,bangolf_kategorien!$A$2:$B$11,2,FALSE)","v":"H"}]
["hs",36151,"Pasi","Aho","BGC Neutraubling e.V.","H: Aho, Pasi",{"$f":"VLOOKUP(A19,bangolf_kategorien!$A$2:$B$11,2,FALSE)","v":"H"}]
["hs",66361,"Marcel","Ahrens","1. MGC Peine von 1965 e.V.","H: Ahrens, Marcel",{"$f":"VLOOKUP(A20,bangolf_kategorien!$A$2:$B$11,2,FALSE)","v":"H"}]
["og",37046,"Mabel","Ahrentropp","HMC Büttgen e.V.","SW1: Ahrentropp, Mabel",{"$f":"VLOOKUP(A21,bangolf_kategorien!$A$2:$B$11,2,FALSE)","v":"SW1"}]
["dj",66842,"Catharina","Aichele","MGC Monrepos e.V.","JW: Aichele, Catharina",{"$f":"VLOOKUP(A22,bangolf_kategorien!$A$2:$B$11,2,FALSE)","v":"JW"}]
["hs",27728,"Sascha","Albrecht","1. MGC 1970 Göttingen e.V.","H: Albrecht, Sascha",{"$f":"VLOOKUP(A23,bangolf_kategorien!$A$2:$B$11,2,FALSE)","v":"H"}]
["ds",66650,"Nassim","Alizadeh","Miniaturgolf Sportclub Schriesheim e.V","D: Alizadeh, Nassim",{"$f":"VLOOKUP(A24,bangolf_kategorien!$A$2:$B$11,2,FALSE)","v":"D"}]
["ob",67317,"Jürgen","Allmacher","MGC Traben-Trarbach","SM1: Allmacher, Jürgen",{"$f":"VLOOKUP(A25,bangolf_kategorien!$A$2:$B$11,2,FALSE)","v":"SM1"}]
["pa",67318,"Leon","Allmacher","MGC Traben-Trarbach","SCHM: Allmacher, Leon",{"$f":"VLOOKUP(A26,bangolf_kategorien!$A$2:$B$11,2,FALSE)","v":"SCHM"}]
["ds",33902,"Bianca","Allmüller","BGV Backumer Tal Herten e.V.","D: Allmüller, Bianca",{"$f":"VLOOKUP(A27,bangolf_kategorien!$A$2:$B$11,2,FALSE)","v":"D"}]
["ob",33903,"Markus","Allmüller","BGV Backumer Tal Herten e.V.","SM1: Allmüller, Markus",{"$f":"VLOOKUP(A28,bangolf_kategorien!$A$2:$B$11,2,FALSE)","v":"SM1"}]
["ob",29237,"Peter","Amberger","BGC Neutraubling e.V.","SM1: Amberger, Peter",{"$f":"VLOOKUP(A29,bangolf_kategorien!$A$2:$B$11,2,FALSE)","v":"SM1"}]
["ob",67242,"Tobias","Amely","MSC Bad Godesberg e.V.","SM1: Amely, Tobias",{"$f":"VLOOKUP(A30,bangolf_kategorien!$A$2:$B$11,2,FALSE)","v":"SM1"}]
["hv",5720,"Wolfgang","Ament","SV 1890 e.V. Dreieichenhain, Abt. Bahnengolf","SM2: Ament, Wolfgang",{"$f":"VLOOKUP(A31,bangolf_kategorien!$A$2:$B$11,2,FALSE)","v":"SM2"}]
["hv",3216558,"Johannes","Amting","Hobby","SM2: Amting, Johannes",{"$f":"VLOOKUP(A32,bangolf_kategorien!$A$2:$B$11,2,FALSE)","v":"SM2"}]
["ob",44990,"Alexander","Anders","BGSV Castrop e.V. 1961","SM1: Anders, Alexander",{"$f":"VLOOKUP(A33,bangolf_kategorien!$A$2:$B$11,2,FALSE)","v":"SM1"}]
["hs",50612,"Oliver","Anders","MGC Dortmund Syburg e.V.","H: Anders, Oliver",{"$f":"VLOOKUP(A34,bangolf_kategorien!$A$2:$B$11,2,FALSE)","v":"H"}]
["ob",66492,"Uwe","Andrejewski","1. MGC Gelsenkirchen e.V.","SM1: Andrejewski, Uwe",{"$f":"VLOOKUP(A35,bangolf_kategorien!$A$2:$B$11,2,FALSE)","v":"SM1"}]
["ob",66109,"Andre","Andresen","BGC Kiel West e.V.","SM1: Andresen, Andre",{"$f":"VLOOKUP(A36,bangolf_kategorien!$A$2:$B$11,2,FALSE)","v":"SM1"}]
["hv",37496,"Klaus-Dieter","Andresen","MGC Harrislee-Wassersleben","SM2: Andresen, Klaus-Dieter",{"$f":"VLOOKUP(A37,bangolf_kategorien!$A$2:$B$11,2,FALSE)","v":"SM2"}]
["hv",66201,"Bernd","Andrzejak","MGC Rot-Weiß Wanne-Eickel e.V.","SM2: Andrzejak, Bernd",{"$f":"VLOOKUP(A38,bangolf_kategorien!$A$2:$B$11,2,FALSE)","v":"SM2"}]
["hv",67210,"Karl-Heinz","Angabreit","BGC Uerdingen e.V.","SM2: Angabreit, Karl-Heinz",{"$f":"VLOOKUP(A39,bangolf_kategorien!$A$2:$B$11,2,FALSE)","v":"SM2"}]
["hs",66678,"Florian","Angermaier","MGC Bad Feilnbach e.V.","H: Angermaier, Florian",{"$f":"VLOOKUP(A40,bangolf_kategorien!$A$2:$B$11,2,FALSE)","v":"H"}]
["hv",4969,"Manfred","Anlauff","1. MC Weinheim e.V.","SM2: Anlauff, Manfred",{"$f":"VLOOKUP(A41,bangolf_kategorien!$A$2:$B$11,2,FALSE)","v":"SM2"}]
["pa",67183,"Robin","Antholz","MSG Kempten e.V.","SCHM: Antholz, Robin",{"$f":"VLOOKUP(A42,bangolf_kategorien!$A$2:$B$11,2,FALSE)","v":"SCHM"}]
["pa",66879,"Sean","Anton","1. BGC Rodalben 1977 e.V.","SCHM: Anton, Sean",{"$f":"VLOOKUP(A43,bangolf_kategorien!$A$2:$B$11,2,FALSE)","v":"SCHM"}]
["ds",66920,"Stephanie","Anton","1. BGC Rodalben 1977 e.V.","D: Anton, Stephanie",{"$f":"VLOOKUP(A44,bangolf_kategorien!$A$2:$B$11,2,FALSE)","v":"D"}]
["dv",3202728,"Renate","Apel","Hobby","SW2: Apel, Renate",{"$f":"VLOOKUP(A45,bangolf_kategorien!$A$2:$B$11,2,FALSE)","v":"SW2"}]
["ob",27278,"Udo","Apelmeier","BV Sennestadt","SM1: Apelmeier, Udo",{"$f":"VLOOKUP(A46,bangolf_kategorien!$A$2:$B$11,2,FALSE)","v":"SM1"}]
["ob",45054,"Willi","Appel","Miniaturgolf Sportclub Schriesheim e.V","SM1: Appel, Willi",{"$f":"VLOOKUP(A47,bangolf_kategorien!$A$2:$B$11,2,FALSE)","v":"SM1"}]
["hv",32949,"Dieter","Appelhans","BV Sennestadt","SM2: Appelhans, Dieter",{"$f":"VLOOKUP(A48,bangolf_kategorien!$A$2:$B$11,2,FALSE)","v":"SM2"}]
["hs",29034,"André","Appelmann","VfM Bottrop e.V.","H: Appelmann, André",{"$f":"VLOOKUP(A49,bangolf_kategorien!$A$2:$B$11,2,FALSE)","v":"H"}]
["ds",36479,"Laura","Appelmann","VfM Bottrop e.V.","D: Appelmann, Laura",{"$f":"VLOOKUP(A50,bangolf_kategorien!$A$2:$B$11,2,FALSE)","v":"D"}]
["og",67250,"Angelina","Arendt","BGSV Castrop e.V. 1961","SW1: Arendt, Angelina",{"$f":"VLOOKUP(A51,bangolf_kategorien!$A$2:$B$11,2,FALSE)","v":"SW1"}]
["hs",47183,"Sascha","Arendt","BGSV Castrop e.V. 1961","H: Arendt, Sascha",{"$f":"VLOOKUP(A52,bangolf_kategorien!$A$2:$B$11,2,FALSE)","v":"H"}]
["ob",27450,"Ingo","Arens","BSC Ennepetal e.V.","SM1: Arens, Ingo",{"$f":"VLOOKUP(A53,bangolf_kategorien!$A$2:$B$11,2,FALSE)","v":"SM1"}]
["hs",26327,"Christoph","Arenz","MSC Bad Godesberg e.V.","H: Arenz, Christoph",{"$f":"VLOOKUP(A54,bangolf_kategorien!$A$2:$B$11,2,FALSE)","v":"H"}]
["hv",4769,"Heinz Josef","Arenz","MSC Bad Godesberg e.V.","SM2: Arenz, Heinz Josef",{"$f":"VLOOKUP(A55,bangolf_kategorien!$A$2:$B$11,2,FALSE)","v":"SM2"}]
["hv",37811,"Helmut","Arlt","SV Glückauf 1901 Gebhardshagen e.V.","SM2: Arlt, Helmut",{"$f":"VLOOKUP(A56,bangolf_kategorien!$A$2:$B$11,2,FALSE)","v":"SM2"}]
["hv",60227,"Gerhard","Arndt","VfL Lohbrügge Abt. Bahnengolf","SM2: Arndt, Gerhard",{"$f":"VLOOKUP(A57,bangolf_kategorien!$A$2:$B$11,2,FALSE)","v":"SM2"}]
["dv",35778,"Franziska","Arnold","BGSV Aßlar 1987 e.V.","SW2: Arnold, Franziska",{"$f":"VLOOKUP(A58,bangolf_kategorien!$A$2:$B$11,2,FALSE)","v":"SW2"}]
["hv",35779,"Günter","Arnold","BGSV Aßlar 1987 e.V.","SM2: Arnold, Günter",{"$f":"VLOOKUP(A59,bangolf_kategorien!$A$2:$B$11,2,FALSE)","v":"SM2"}]
["hv",18435,"Klaus","Arnold","HMC Büttgen e.V.","SM2: Arnold, Klaus",{"$f":"VLOOKUP(A60,bangolf_kategorien!$A$2:$B$11,2,FALSE)","v":"SM2"}]
["hv",60125,"Kurt","Arnold","MGC Murnau am Staffelsee e.V.","SM2: Arnold, Kurt",{"$f":"VLOOKUP(A61,bangolf_kategorien!$A$2:$B$11,2,FALSE)","v":"SM2"}]
["hs",35780,"Mark","Arnold","SG Arheilgen Abt. Bahnengolf","H: Arnold, Mark",{"$f":"VLOOKUP(A62,bangolf_kategorien!$A$2:$B$11,2,FALSE)","v":"H"}]
["ob",36179,"Marco","Arnsberg","MV Lankwitzer Dragons e.V.","SM1: Arnsberg, Marco",{"$f":"VLOOKUP(A63,bangolf_kategorien!$A$2:$B$11,2,FALSE)","v":"SM1"}]
["hv",66447,"Stefan","Arweiler","Freizeit Club Bliesen e.V.","SM2: Arweiler, Stefan",{"$f":"VLOOKUP(A64,bangolf_kategorien!$A$2:$B$11,2,FALSE)","v":"SM2"}]
["ob",33616,"Jörg","Asmuß","MGC Brunsbüttel e.V.","SM1: Asmuß, Jörg",{"$f":"VLOOKUP(A65,bangolf_kategorien!$A$2:$B$11,2,FALSE)","v":"SM1"}]
["ob",23975,"Bernd","Aßmuth","Bochumer Minigolf-Club 1960 e.V.","SM1: Aßmuth, Bernd",{"$f":"VLOOKUP(A66,bangolf_kategorien!$A$2:$B$11,2,FALSE)","v":"SM1"}]
["hv",32897,"Manfred","Außerwinkler","1. BGC Hannover e.V.",{"$f":"CONCATENATE(G67,\": \",D67,\", \",C67)","v":"SM2: Außerwinkler, Manfred"},{"$f":"VLOOKUP(A67,bangolf_kategorien!$A$2:$B$11,2,FALSE)","v":"SM2"}]
["ob",29208,"Thomas","Aussieker","BGSV Castrop e.V. 1961","SM1: Aussieker, Thomas",{"$f":"VLOOKUP(A68,bangolf_kategorien!$A$2:$B$11,2,FALSE)","v":"SM1"}]
["ob",67205,"Jürgen","Aust","VfM Bottrop e.V.","SM1: Aust, Jürgen",{"$f":"VLOOKUP(A69,bangolf_kategorien!$A$2:$B$11,2,FALSE)","v":"SM1"}]
["og",66405,"Manuela","Aust","BSC Ennepetal e.V.","SW1: Aust, Manuela",{"$f":"VLOOKUP(A70,bangolf_kategorien!$A$2:$B$11,2,FALSE)","v":"SW1"}]
["dv",67206,"Petra","Aust","VfM Bottrop e.V.","SW2: Aust, Petra",{"$f":"VLOOKUP(A71,bangolf_kategorien!$A$2:$B$11,2,FALSE)","v":"SW2"}]
["ds",66749,"Anna","Averbakh","1. BGC Hannover e.V.","D: Averbakh, Anna",{"$f":"VLOOKUP(A72,bangolf_kategorien!$A$2:$B$11,2,FALSE)","v":"D"}]
["dv",49267,"Claudia","Axer","Kölner Miniatur Golf Club e.V.","SW2: Axer, Claudia",{"$f":"VLOOKUP(A73,bangolf_kategorien!$A$2:$B$11,2,FALSE)","v":"SW2"}]
["hv",49266,"Reiner","Axer","Kölner Miniatur Golf Club e.V.","SM2: Axer, Reiner",{"$f":"VLOOKUP(A74,bangolf_kategorien!$A$2:$B$11,2,FALSE)","v":"SM2"}]
["hs",15754,"Sascha","Axer","Kölner Miniatur Golf Club e.V.","H: Axer, Sascha",{"$f":"VLOOKUP(A75,bangolf_kategorien!$A$2:$B$11,2,FALSE)","v":"H"}]
["ob",29229,"Manfred","Axtner","CGC Illertal Kellmünz","SM1: Axtner, Manfred",{"$f":"VLOOKUP(A76,bangolf_kategorien!$A$2:$B$11,2,FALSE)","v":"SM1"}]
["hv",19768,"Stjepan","Babic","BIG ASPERG e.V.","SM2: Babic, Stjepan",{"$f":"VLOOKUP(A77,bangolf_kategorien!$A$2:$B$11,2,FALSE)","v":"SM2"}]
["hv",4444,"Peter","Bach","MGC Oberkochen e.V.","SM2: Bach, Peter",{"$f":"VLOOKUP(A78,bangolf_kategorien!$A$2:$B$11,2,FALSE)","v":"SM2"}]
["ob",29939,"Peter","Bachmann","1. MGC 1970 Göttingen e.V.","SM1: Bachmann, Peter",{"$f":"VLOOKUP(A79,bangolf_kategorien!$A$2:$B$11,2,FALSE)","v":"SM1"}]
["og",43674,"Sabine","Bachmann","1. MGC 1970 Göttingen e.V.","SW1: Bachmann, Sabine",{"$f":"VLOOKUP(A80,bangolf_kategorien!$A$2:$B$11,2,FALSE)","v":"SW1"}]
["dv",35587,"Elfriede","Bader","MGC Murnau am Staffelsee e.V.","SW2: Bader, Elfriede",{"$f":"VLOOKUP(A81,bangolf_kategorien!$A$2:$B$11,2,FALSE)","v":"SW2"}]
["hv",35588,"Robert","Bader","MGC Murnau am Staffelsee e.V.","SM2: Bader, Robert",{"$f":"VLOOKUP(A82,bangolf_kategorien!$A$2:$B$11,2,FALSE)","v":"SM2"}]
["hv",43414,"Gerhard","Badtke","BGC Bad Nenndorf e.V.","SM2: Badtke, Gerhard",{"$f":"VLOOKUP(A83,bangolf_kategorien!$A$2:$B$11,2,FALSE)","v":"SM2"}]
["dv",46800,"Monika","Badtke","BGC Bad Nenndorf e.V.","SW2: Badtke, Monika",{"$f":"VLOOKUP(A84,bangolf_kategorien!$A$2:$B$11,2,FALSE)","v":"SW2"}]
["ob",37761,"Torsten","Badziong","MGC Freizeitzentrum Biebertal","SM1: Badziong, Torsten",{"$f":"VLOOKUP(A85,bangolf_kategorien!$A$2:$B$11,2,FALSE)","v":"SM1"}]
["hv",37355,"Uwe","Baer","1. BGC Wesseling 1975 e.V.","SM2: Baer, Uwe",{"$f":"VLOOKUP(A86,bangolf_kategorien!$A$2:$B$11,2,FALSE)","v":"SM2"}]
["ob",44139,"Thomas","Bahr","BGSV Castrop e.V. 1961","SM1: Bahr, Thomas",{"$f":"VLOOKUP(A87,bangolf_kategorien!$A$2:$B$11,2,FALSE)","v":"SM1"}]
["hs",46033,"Sascha","Bähr","Niendorfer MC v. 1963 e.V.","H: Bähr, Sascha",{"$f":"VLOOKUP(A88,bangolf_kategorien!$A$2:$B$11,2,FALSE)","v":"H"}]
["hv",29699,"Hans","Baier","MGC Oberkochen e.V.","SM2: Baier, Hans",{"$f":"VLOOKUP(A89,bangolf_kategorien!$A$2:$B$11,2,FALSE)","v":"SM2"}]
["og",37653,"Andrea","Baierl","MGC Ingolstadt e.V.","SW1: Baierl, Andrea",{"$f":"VLOOKUP(A90,bangolf_kategorien!$A$2:$B$11,2,FALSE)","v":"SW1"}]
["ob",37654,"Dieter","Baierl","MGC Ingolstadt e.V.","SM1: Baierl, Dieter",{"$f":"VLOOKUP(A91,bangolf_kategorien!$A$2:$B$11,2,FALSE)","v":"SM1"}]
["ob",48505,"Varyam-Mirza","Baig","MGC Wetzlar e.V.","SM1: Baig, Varyam-Mirza",{"$f":"VLOOKUP(A92,bangolf_kategorien!$A$2:$B$11,2,FALSE)","v":"SM1"}]
["hv",4489,"Karl-Heinz","Bailer","MGC 85 Bönnigheim","SM2: Bailer, Karl-Heinz",{"$f":"VLOOKUP(A93,bangolf_kategorien!$A$2:$B$11,2,FALSE)","v":"SM2"}]
["hv",33109,"Heinz","Balbach","MGC Unterschneidheim e.V.","SM2: Balbach, Heinz",{"$f":"VLOOKUP(A94,bangolf_kategorien!$A$2:$B$11,2,FALSE)","v":"SM2"}]
["hv",67268,"Thomas","Baldauf","BSG Pneumant Fürstenwalde e.V., Abt. Minigolf","SM2: Baldauf, Thomas",{"$f":"VLOOKUP(A95,bangolf_kategorien!$A$2:$B$11,2,FALSE)","v":"SM2"}]
["og",3106833,"Susanne","Balewski","Hobby","SW1: Balewski, Susanne",{"$f":"VLOOKUP(A96,bangolf_kategorien!$A$2:$B$11,2,FALSE)","v":"SW1"}]
["ob",66669,"Thomas","Balf","BGC Uerdingen e.V.","SM1: Balf, Thomas",{"$f":"VLOOKUP(A97,bangolf_kategorien!$A$2:$B$11,2,FALSE)","v":"SM1"}]
["hj",67281,"Kreon","Balis","1. Münchener MGC e.V.","JM: Balis, Kreon",{"$f":"VLOOKUP(A98,bangolf_kategorien!$A$2:$B$11,2,FALSE)","v":"JM"}]
["hs",33514,"Christian","Balleininger","1. MGC Bamberg e.V.","H: Balleininger, Christian",{"$f":"VLOOKUP(A99,bangolf_kategorien!$A$2:$B$11,2,FALSE)","v":"H"}]
["hv",5910,"Lyo","Balleininger","1. MGC Bamberg e.V.","SM2: Balleininger, Lyo",{"$f":"VLOOKUP(A100,bangolf_kategorien!$A$2:$B$11,2,FALSE)","v":"SM2"}]
["ds",40906,"Yvonne","Baltes","MSC Bad Godesberg e.V.","D: Baltes, Yvonne",{"$f":"VLOOKUP(A101,bangolf_kategorien!$A$2:$B$11,2,FALSE)","v":"D"}]
["hv",3194199,"Andreas","Baltruschat","Hobby","SM2: Baltruschat, Andreas",{"$f":"VLOOKUP(A102,bangolf_kategorien!$A$2:$B$11,2,FALSE)","v":"SM2"}]
["hv",3354,"Hans","Balzer","1. Porzer MGC Grün-Weiß 1969 e.V.","SM2: Balzer, Hans",{"$f":"VLOOKUP(A103,bangolf_kategorien!$A$2:$B$11,2,FALSE)","v":"SM2"}]
["og",46565,"Iris","Balzer","1. Porzer MGC Grün-Weiß 1969 e.V.","SW1: Balzer, Iris",{"$f":"VLOOKUP(A104,bangolf_kategorien!$A$2:$B$11,2,FALSE)","v":"SW1"}]
["hv",5073,"Max","Balzereit","BSC Ennepetal e.V.","SM2: Balzereit, Max",{"$f":"VLOOKUP(A105,bangolf_kategorien!$A$2:$B$11,2,FALSE)","v":"SM2"}]
["hs",38190,"Dennis","Bamberg","1. MGC Saar 68 St. Ingbert e.V.","H: Bamberg, Dennis",{"$f":"VLOOKUP(A106,bangolf_kategorien!$A$2:$B$11,2,FALSE)","v":"H"}]
["og",25993,"Gabriele","Bamberg","1. MGC Mainz e.V.","SW1: Bamberg, Gabriele",{"$f":"VLOOKUP(A107,bangolf_kategorien!$A$2:$B$11,2,FALSE)","v":"SW1"}]
["ob",42482,"Michael","Bamberg","1. MGC Mainz e.V.","SM1: Bamberg, Michael",{"$f":"VLOOKUP(A108,bangolf_kategorien!$A$2:$B$11,2,FALSE)","v":"SM1"}]
["hs",48318,"Tobias","Bär","MGC Bad Hersfeld","H: Bär, Tobias",{"$f":"VLOOKUP(A109,bangolf_kategorien!$A$2:$B$11,2,FALSE)","v":"H"}]
["og",38333,"Claudia","Barber","MSV Würzburg-Löwenbrücke e.V.","SW1: Barber, Claudia",{"$f":"VLOOKUP(A110,bangolf_kategorien!$A$2:$B$11,2,FALSE)","v":"SW1"}]
["ob",43841,"Jens","Bardenhagen","MGC Brunsbüttel e.V.","SM1: Bardenhagen, Jens",{"$f":"VLOOKUP(A111,bangolf_kategorien!$A$2:$B$11,2,FALSE)","v":"SM1"}]
["hv",25214,"Stefan","Bärenz","SV 1890 e.V. Dreieichenhain, Abt. Bahnengolf","SM2: Bärenz, Stefan",{"$f":"VLOOKUP(A112,bangolf_kategorien!$A$2:$B$11,2,FALSE)","v":"SM2"}]
["hv",37576,"Bernd","Bargenda","MGC Harrislee-Wassersleben","SM2: Bargenda, Bernd",{"$f":"VLOOKUP(A113,bangolf_kategorien!$A$2:$B$11,2,FALSE)","v":"SM2"}]
["ob",67241,"Heinz","Bark","MGC Dortmund Syburg e.V.","SM1: Bark, Heinz",{"$f":"VLOOKUP(A114,bangolf_kategorien!$A$2:$B$11,2,FALSE)","v":"SM1"}]
["ob",38123,"Mario","Barke","1. Essener CGC \"Blau-Gold\" e.V.","SM1: Barke, Mario",{"$f":"VLOOKUP(A115,bangolf_kategorien!$A$2:$B$11,2,FALSE)","v":"SM1"}]
["ob",36967,"Thomas","Barke","1. Essener CGC \"Blau-Gold\" e.V.","SM1: Barke, Thomas",{"$f":"VLOOKUP(A116,bangolf_kategorien!$A$2:$B$11,2,FALSE)","v":"SM1"}]
["hs",29656,"René","Barlog","Bochumer Minigolf-Club 1960 e.V.","H: Barlog, René",{"$f":"VLOOKUP(A117,bangolf_kategorien!$A$2:$B$11,2,FALSE)","v":"H"}]
["hv",66068,"Hermann","Barnstorf","VfL Lüneburg Abt. Bahnengolf","SM2: Barnstorf, Hermann",{"$f":"VLOOKUP(A118,bangolf_kategorien!$A$2:$B$11,2,FALSE)","v":"SM2"}]
["hs",38086,"Daniel","Bärsch","1. BGC Leipzig e.V.","H: Bärsch, Daniel",{"$f":"VLOOKUP(A119,bangolf_kategorien!$A$2:$B$11,2,FALSE)","v":"H"}]
["hv",67323,"Michael","Bartel","Osnabrücker M.-C. von 1963 e.V.","SM2: Bartel, Michael",{"$f":"VLOOKUP(A120,bangolf_kategorien!$A$2:$B$11,2,FALSE)","v":"SM2"}]
["ob",36395,"Harald","Barth","1. BGC Wesseling 1975 e.V.","SM1: Barth, Harald",{"$f":"VLOOKUP(A121,bangolf_kategorien!$A$2:$B$11,2,FALSE)","v":"SM1"}]
["og",50563,"Susanne","Barth","MSC Bad Godesberg e.V.","SW1: Barth, Susanne",{"$f":"VLOOKUP(A122,bangolf_kategorien!$A$2:$B$11,2,FALSE)","v":"SW1"}]
["hs",66777,"Patrick","Bartholomä","1. MGC Kassel 1964 e.V.","H: Bartholomä, Patrick",{"$f":"VLOOKUP(A123,bangolf_kategorien!$A$2:$B$11,2,FALSE)","v":"H"}]
["hs",66896,"Pierre","Bartholomä","1. MGC Kassel 1964 e.V.","H: Bartholomä, Pierre",{"$f":"VLOOKUP(A124,bangolf_kategorien!$A$2:$B$11,2,FALSE)","v":"H"}]
["ob",41145,"Volker","Bartmann","BGSV Bad Homburg","SM1: Bartmann, Volker",{"$f":"VLOOKUP(A125,bangolf_kategorien!$A$2:$B$11,2,FALSE)","v":"SM1"}]
["hv",67404,"Paul","Bartsch","BV Sennestadt","SM2: Bartsch, Paul",{"$f":"VLOOKUP(A126,bangolf_kategorien!$A$2:$B$11,2,FALSE)","v":"SM2"}]
["hv",46055,"Andreas","Barz","MGC Olympia Kiel e.V.","SM2: Barz, Andreas",{"$f":"VLOOKUP(A127,bangolf_kategorien!$A$2:$B$11,2,FALSE)","v":"SM2"}]
["og",38102,"Birgit","Barz","VfM e.V. Berlin","SW1: Barz, Birgit",{"$f":"VLOOKUP(A128,bangolf_kategorien!$A$2:$B$11,2,FALSE)","v":"SW1"}]
["hs",38103,"Patrick","Barz","1. MGC 1970 Göttingen e.V.","H: Barz, Patrick",{"$f":"VLOOKUP(A129,bangolf_kategorien!$A$2:$B$11,2,FALSE)","v":"H"}]
["ob",38104,"Ralf","Barz","VfM e.V. Berlin","SM1: Barz, Ralf",{"$f":"VLOOKUP(A130,bangolf_kategorien!$A$2:$B$11,2,FALSE)","v":"SM1"}]
["ds",37582,"Ann-Kathrin","Bastian","BGC Bildstock e.V.",{"$f":"CONCATENATE(G131,\": \",D131,\", \",C131)","v":"D: Bastian, Ann-Kathrin"},{"$f":"VLOOKUP(A131,bangolf_kategorien!$A$2:$B$11,2,FALSE)","v":"D"}]
["og",37583,"Claudia","Bastian","BGC Bildstock e.V.","SW1: Bastian, Claudia",{"$f":"VLOOKUP(A132,bangolf_kategorien!$A$2:$B$11,2,FALSE)","v":"SW1"}]
["hv",46910,"Richard","Bätge","SV Glückauf 1901 Gebhardshagen e.V.","SM2: Bätge, Richard",{"$f":"VLOOKUP(A133,bangolf_kategorien!$A$2:$B$11,2,FALSE)","v":"SM2"}]
["hj",65848,"Adrian","Batschkus","1. Münchener MGC e.V.","JM: Batschkus, Adrian",{"$f":"VLOOKUP(A134,bangolf_kategorien!$A$2:$B$11,2,FALSE)","v":"JM"}]
["pa",66273,"Quirin","Batschkus","1. Münchener MGC e.V.","SCHM: Batschkus, Quirin",{"$f":"VLOOKUP(A135,bangolf_kategorien!$A$2:$B$11,2,FALSE)","v":"SCHM"}]
["ob",23741,"Wolfgang","Battig","MC 62 Lüdenscheid e.V.","SM1: Battig, Wolfgang",{"$f":"VLOOKUP(A136,bangolf_kategorien!$A$2:$B$11,2,FALSE)","v":"SM1"}]
["hs",37799,"Jan Hendrik","Battling","MGC \"AS\" Witten 1963 e.V.","H: Battling, Jan Hendrik",{"$f":"VLOOKUP(A137,bangolf_kategorien!$A$2:$B$11,2,FALSE)","v":"H"}]
["ob",34490,"Thomas","Bätz","MSC Bad Godesberg e.V.","SM1: Bätz, Thomas",{"$f":"VLOOKUP(A138,bangolf_kategorien!$A$2:$B$11,2,FALSE)","v":"SM1"}]
["ds",67282,"Daniela","Bauer","MSK Olching e.V.","D: Bauer, Daniela",{"$f":"VLOOKUP(A139,bangolf_kategorien!$A$2:$B$11,2,FALSE)","v":"D"}]
["ob",40471,"Helmut","Bauer","1. MGC München-Feldmoching e.V.","SM1: Bauer, Helmut",{"$f":"VLOOKUP(A140,bangolf_kategorien!$A$2:$B$11,2,FALSE)","v":"SM1"}]
["ob",40864,"Martin","Bauer","BGC Bildstock e.V.","SM1: Bauer, Martin",{"$f":"VLOOKUP(A141,bangolf_kategorien!$A$2:$B$11,2,FALSE)","v":"SM1"}]
["hv",3216770,"Roman","Bauer","Hobby","SM2: Bauer, Roman",{"$f":"VLOOKUP(A142,bangolf_kategorien!$A$2:$B$11,2,FALSE)","v":"SM2"}]
["fa",67283,"Selina","Bauer","MSK Olching e.V.","SCHW: Bauer, Selina",{"$f":"VLOOKUP(A143,bangolf_kategorien!$A$2:$B$11,2,FALSE)","v":"SCHW"}]
["ob",46532,"Siegfried","Bauer","BGC Bad Berneck e.V.","SM1: Bauer, Siegfried",{"$f":"VLOOKUP(A144,bangolf_kategorien!$A$2:$B$11,2,FALSE)","v":"SM1"}]
["hs",67284,"Thorsten","Bauer","MSK Olching e.V.","H: Bauer, Thorsten",{"$f":"VLOOKUP(A145,bangolf_kategorien!$A$2:$B$11,2,FALSE)","v":"H"}]
["hv",5751,"Helmut","Bauerfeld","Freizeit Club Bliesen e.V.","SM2: Bauerfeld, Helmut",{"$f":"VLOOKUP(A146,bangolf_kategorien!$A$2:$B$11,2,FALSE)","v":"SM2"}]
["og",36137,"Barbara","Bauermeister","MGC Murnau am Staffelsee e.V.","SW1: Bauermeister, Barbara",{"$f":"VLOOKUP(A147,bangolf_kategorien!$A$2:$B$11,2,FALSE)","v":"SW1"}]
["ob",28605,"Stephan","Bauermeister","MGC Murnau am Staffelsee e.V.","SM1: Bauermeister, Stephan",{"$f":"VLOOKUP(A148,bangolf_kategorien!$A$2:$B$11,2,FALSE)","v":"SM1"}]
["hs",46616,"Marcus","Bauhofer","BGC Heilbronn e.V.","H: Bauhofer, Marcus",{"$f":"VLOOKUP(A149,bangolf_kategorien!$A$2:$B$11,2,FALSE)","v":"H"}]
["hs",36563,"Oliver","Baum","SV Glückauf 1901 Gebhardshagen e.V.","H: Baum, Oliver",{"$f":"VLOOKUP(A150,bangolf_kategorien!$A$2:$B$11,2,FALSE)","v":"H"}]
["hs",3108930,"Andre","Baumann","Hobby","H: Baumann, Andre",{"$f":"VLOOKUP(A151,bangolf_kategorien!$A$2:$B$11,2,FALSE)","v":"H"}]
["ob",65195,"Harald","Baumann","MGF Waldshut 74 e.V.","SM1: Baumann, Harald",{"$f":"VLOOKUP(A152,bangolf_kategorien!$A$2:$B$11,2,FALSE)","v":"SM1"}]
["hv",37803,"Wolfgang","Baumbach","1. MGC Saar 68 St. Ingbert e.V.","SM2: Baumbach, Wolfgang",{"$f":"VLOOKUP(A153,bangolf_kategorien!$A$2:$B$11,2,FALSE)","v":"SM2"}]
["hs",26398,"Daniel","Baumer","1. MGC München-Feldmoching e.V.","H: Baumer, Daniel",{"$f":"VLOOKUP(A154,bangolf_kategorien!$A$2:$B$11,2,FALSE)","v":"H"}]
["hv",3998,"Klaus","Baumer","BGC Illertissen e.V.","SM2: Baumer, Klaus",{"$f":"VLOOKUP(A155,bangolf_kategorien!$A$2:$B$11,2,FALSE)","v":"SM2"}]
["dv",47033,"Ruth","Baumer","BGC Illertissen e.V.","SW2: Baumer, Ruth",{"$f":"VLOOKUP(A156,bangolf_kategorien!$A$2:$B$11,2,FALSE)","v":"SW2"}]
["ob",29220,"Dirk","Baumgart","MSK Neheim-Hüsten e.V.","SM1: Baumgart, Dirk",{"$f":"VLOOKUP(A157,bangolf_kategorien!$A$2:$B$11,2,FALSE)","v":"SM1"}]
["hs",37760,"Thorben","Baumgart","MSK Neheim-Hüsten e.V.","H: Baumgart, Thorben",{"$f":"VLOOKUP(A158,bangolf_kategorien!$A$2:$B$11,2,FALSE)","v":"H"}]
["hs",38226,"Wolfgang","Bäurle","ASV Pegnitz, Abt. Minigolf","H: Bäurle, Wolfgang",{"$f":"VLOOKUP(A159,bangolf_kategorien!$A$2:$B$11,2,FALSE)","v":"H"}]
["hj",38639,"Fabian","Bayer","MGF Ottobrunn e.V.","JM: Bayer, Fabian",{"$f":"VLOOKUP(A160,bangolf_kategorien!$A$2:$B$11,2,FALSE)","v":"JM"}]
["hv",5942,"Hubert","Bayer","1. BGC Landshut e.V.","SM2: Bayer, Hubert",{"$f":"VLOOKUP(A161,bangolf_kategorien!$A$2:$B$11,2,FALSE)","v":"SM2"}]
["ob",38632,"Jimmy","Bayer","MGC Murnau am Staffelsee e.V.","SM1: Bayer, Jimmy",{"$f":"VLOOKUP(A162,bangolf_kategorien!$A$2:$B$11,2,FALSE)","v":"SM1"}]
["pa",67374,"Tobias","Bayer","BIG ASPERG e.V.","SCHM: Bayer, Tobias",{"$f":"VLOOKUP(A163,bangolf_kategorien!$A$2:$B$11,2,FALSE)","v":"SCHM"}]
["hv",67061,"Willi","Bayer","BIG ASPERG e.V.","SM2: Bayer, Willi",{"$f":"VLOOKUP(A164,bangolf_kategorien!$A$2:$B$11,2,FALSE)","v":"SM2"}]
["ob",66645,"Wolfgang","Bayer","MGC Murnau am Staffelsee e.V.","SM1: Bayer, Wolfgang",{"$f":"VLOOKUP(A165,bangolf_kategorien!$A$2:$B$11,2,FALSE)","v":"SM1"}]
["hv",66112,"Erich","Beausencourt","Minigolf-Club Diessen","SM2: Beausencourt, Erich",{"$f":"VLOOKUP(A166,bangolf_kategorien!$A$2:$B$11,2,FALSE)","v":"SM2"}]
["hj",66712,"Deniz-Benett","Beceriklier","MGC Lippe-Detmold e.V.","JM: Beceriklier, Deniz-Benett",{"$f":"VLOOKUP(A167,bangolf_kategorien!$A$2:$B$11,2,FALSE)","v":"JM"}]
["og",66500,"Andrea","Becher","MSK Olching e.V.","SW1: Becher, Andrea",{"$f":"VLOOKUP(A168,bangolf_kategorien!$A$2:$B$11,2,FALSE)","v":"SW1"}]
["hv",46021,"Bernhard","Beck","1. KC Homburg-Saar 1967 e.V.","SM2: Beck, Bernhard",{"$f":"VLOOKUP(A169,bangolf_kategorien!$A$2:$B$11,2,FALSE)","v":"SM2"}]
["hs",66892,"Christian","Beck","1. BGC Landshut e.V.","H: Beck, Christian",{"$f":"VLOOKUP(A170,bangolf_kategorien!$A$2:$B$11,2,FALSE)","v":"H"}]
["ob",40688,"Oliver","Beck","MSV Bad Kreuznach","SM1: Beck, Oliver",{"$f":"VLOOKUP(A171,bangolf_kategorien!$A$2:$B$11,2,FALSE)","v":"SM1"}]
["hj",67204,"Simon","Beck","1. BGC Leipzig e.V.","JM: Beck, Simon",{"$f":"VLOOKUP(A172,bangolf_kategorien!$A$2:$B$11,2,FALSE)","v":"JM"}]
["ds",38593,"Anna Lisa","Becker","1. MGC Saar 68 St. Ingbert e.V.","D: Becker, Anna Lisa",{"$f":"VLOOKUP(A173,bangolf_kategorien!$A$2:$B$11,2,FALSE)","v":"D"}]
["ds",67092,"Cecina","Becker","SG  Weiterstadt 1886 e.V.","D: Becker, Cecina",{"$f":"VLOOKUP(A174,bangolf_kategorien!$A$2:$B$11,2,FALSE)","v":"D"}]
["ds",35103,"Daniela","Becker","MGC Heven e.V.","D: Becker, Daniela",{"$f":"VLOOKUP(A175,bangolf_kategorien!$A$2:$B$11,2,FALSE)","v":"D"}]
["dv",4101,"Erika","Becker","MGC Dortmund Syburg e.V.","SW2: Becker, Erika",{"$f":"VLOOKUP(A176,bangolf_kategorien!$A$2:$B$11,2,FALSE)","v":"SW2"}]
["hs",37559,"Florian","Becker","MSK Neheim-Hüsten e.V.","H: Becker, Florian",{"$f":"VLOOKUP(A177,bangolf_kategorien!$A$2:$B$11,2,FALSE)","v":"H"}]
["ob",26506,"Gerd","Becker","MGC Dortmund Syburg e.V.","SM1: Becker, Gerd",{"$f":"VLOOKUP(A178,bangolf_kategorien!$A$2:$B$11,2,FALSE)","v":"SM1"}]
["hv",12781,"Hans-Dieter","Becker","MSK Neheim-Hüsten e.V.","SM2: Becker, Hans-Dieter",{"$f":"VLOOKUP(A179,bangolf_kategorien!$A$2:$B$11,2,FALSE)","v":"SM2"}]
["hv",66583,"Heinz","Becker","MGC Bad Soden-Salmünster","SM2: Becker, Heinz",{"$f":"VLOOKUP(A180,bangolf_kategorien!$A$2:$B$11,2,FALSE)","v":"SM2"}]
["hs",38570,"Jan","Becker","SG Arheilgen Abt. Bahnengolf","H: Becker, Jan",{"$f":"VLOOKUP(A181,bangolf_kategorien!$A$2:$B$11,2,FALSE)","v":"H"}]
["ob",3137196,"Jochen","Becker","Hobby","SM1: Becker, Jochen",{"$f":"VLOOKUP(A182,bangolf_kategorien!$A$2:$B$11,2,FALSE)","v":"SM1"}]
["og",44303,"Karin","Becker","SG Arheilgen Abt. Bahnengolf","SW1: Becker, Karin",{"$f":"VLOOKUP(A183,bangolf_kategorien!$A$2:$B$11,2,FALSE)","v":"SW1"}]
["hs",66162,"Lars","Becker","SG Arheilgen Abt. Bahnengolf","H: Becker, Lars",{"$f":"VLOOKUP(A184,bangolf_kategorien!$A$2:$B$11,2,FALSE)","v":"H"}]
["ob",33442,"Martin","Becker","Reinickendorfer MGC e.V.","SM1: Becker, Martin",{"$f":"VLOOKUP(A185,bangolf_kategorien!$A$2:$B$11,2,FALSE)","v":"SM1"}]
["ob",37225,"Michael","Becker","SG  Weiterstadt 1886 e.V.","SM1: Becker, Michael",{"$f":"VLOOKUP(A186,bangolf_kategorien!$A$2:$B$11,2,FALSE)","v":"SM1"}]
["hv",40005,"Michael","Becker","SGC Hagen e.V.","SM2: Becker, Michael",{"$f":"VLOOKUP(A187,bangolf_kategorien!$A$2:$B$11,2,FALSE)","v":"SM2"}]
["ob",44304,"Norbert","Becker","SG Arheilgen Abt. Bahnengolf","SM1: Becker, Norbert",{"$f":"VLOOKUP(A188,bangolf_kategorien!$A$2:$B$11,2,FALSE)","v":"SM1"}]
["dv",66584,"Renate","Becker","MGC Bad Soden-Salmünster","SW2: Becker, Renate",{"$f":"VLOOKUP(A189,bangolf_kategorien!$A$2:$B$11,2,FALSE)","v":"SW2"}]
["hv",3194221,"Rolf","Becker","Hobby","SM2: Becker, Rolf",{"$f":"VLOOKUP(A190,bangolf_kategorien!$A$2:$B$11,2,FALSE)","v":"SM2"}]
["hs",35385,"Timo","Becker","MGC Schwaikheim e.V.","H: Becker, Timo",{"$f":"VLOOKUP(A191,bangolf_kategorien!$A$2:$B$11,2,FALSE)","v":"H"}]
["og",25999,"Ursula","Becker","1. MGC Mannheim 1968 e.V.","SW1: Becker, Ursula",{"$f":"VLOOKUP(A192,bangolf_kategorien!$A$2:$B$11,2,FALSE)","v":"SW1"}]
["hv",35612,"Walter","Becker","1. MGC Ludwigshafen e.V.","SM2: Becker, Walter",{"$f":"VLOOKUP(A193,bangolf_kategorien!$A$2:$B$11,2,FALSE)","v":"SM2"}]
["hv",3591,"Werner","Becker","BSV Inzlingen 1979 e.V.","SM2: Becker, Werner",{"$f":"VLOOKUP(A194,bangolf_kategorien!$A$2:$B$11,2,FALSE)","v":"SM2"}]
["ob",65404,"Martin","Beckert","MSV 05 Bad Münder / Springe e.V.",{"$f":"CONCATENATE(G195,\": \",D195,\", \",C195)","v":"SM1: Beckert, Martin"},{"$f":"VLOOKUP(A195,bangolf_kategorien!$A$2:$B$11,2,FALSE)","v":"SM1"}]
["ob",26620,"Thomas","Beckmann","MSK Neheim-Hüsten e.V.","SM1: Beckmann, Thomas",{"$f":"VLOOKUP(A196,bangolf_kategorien!$A$2:$B$11,2,FALSE)","v":"SM1"}]
["ob",37899,"Joachim","Bednar","1. MGC Mannheim 1968 e.V.","SM1: Bednar, Joachim",{"$f":"VLOOKUP(A197,bangolf_kategorien!$A$2:$B$11,2,FALSE)","v":"SM1"}]
["og",3202284,"Friederike","Behnen","Hobby","SW1: Behnen, Friederike",{"$f":"VLOOKUP(A198,bangolf_kategorien!$A$2:$B$11,2,FALSE)","v":"SW1"}]
["dv",65677,"Christiane","Behrens","BGC Goslar e.V.","SW2: Behrens, Christiane",{"$f":"VLOOKUP(A199,bangolf_kategorien!$A$2:$B$11,2,FALSE)","v":"SW2"}]
["hv",65678,"Friedhelm","Behrens","BGC Goslar e.V.","SM2: Behrens, Friedhelm",{"$f":"VLOOKUP(A200,bangolf_kategorien!$A$2:$B$11,2,FALSE)","v":"SM2"}]
["pa",67123,"Julien","Behrens","BGC Goslar e.V.","SCHM: Behrens, Julien",{"$f":"VLOOKUP(A201,bangolf_kategorien!$A$2:$B$11,2,FALSE)","v":"SCHM"}]
["hs",67107,"Markus","Behrens","BGC Goslar e.V.","H: Behrens, Markus",{"$f":"VLOOKUP(A202,bangolf_kategorien!$A$2:$B$11,2,FALSE)","v":"H"}]
["hs",34186,"Stephan","Behrens","Niendorfer MC v. 1963 e.V.","H: Behrens, Stephan",{"$f":"VLOOKUP(A203,bangolf_kategorien!$A$2:$B$11,2,FALSE)","v":"H"}]
["og",65679,"Susanne","Behrens","BGC Goslar e.V.","SW1: Behrens, Susanne",{"$f":"VLOOKUP(A204,bangolf_kategorien!$A$2:$B$11,2,FALSE)","v":"SW1"}]
["hv",37706,"Wolfgang","Behrens","Minigolfclub Karlshagen e.V.","SM2: Behrens, Wolfgang",{"$f":"VLOOKUP(A205,bangolf_kategorien!$A$2:$B$11,2,FALSE)","v":"SM2"}]
["hv",66569,"Christian","Beier","MC \"Möve\" Cuxhaven-Sahlenburg e.V.","SM2: Beier, Christian",{"$f":"VLOOKUP(A206,bangolf_kategorien!$A$2:$B$11,2,FALSE)","v":"SM2"}]
["ob",42529,"Harald","Beier","1. MGC Mitterteich-Großbüchlberg","SM1: Beier, Harald",{"$f":"VLOOKUP(A207,bangolf_kategorien!$A$2:$B$11,2,FALSE)","v":"SM1"}]
["hv",42528,"Jürgen","Beier","1. MGC Mitterteich-Großbüchlberg","SM2: Beier, Jürgen",{"$f":"VLOOKUP(A208,bangolf_kategorien!$A$2:$B$11,2,FALSE)","v":"SM2"}]
["dv",4750,"Sylvia","Beierle","2. MGC Worms","SW2: Beierle, Sylvia",{"$f":"VLOOKUP(A209,bangolf_kategorien!$A$2:$B$11,2,FALSE)","v":"SW2"}]
["hv",60102,"Helmut","Beißwenger","Hamburger MC von 1965 e.V.","SM2: Beißwenger, Helmut",{"$f":"VLOOKUP(A210,bangolf_kategorien!$A$2:$B$11,2,FALSE)","v":"SM2"}]
["hv",36192,"Hans-Jürgen","Bellanger","1. MGC Mannheim 1968 e.V.","SM2: Bellanger, Hans-Jürgen",{"$f":"VLOOKUP(A211,bangolf_kategorien!$A$2:$B$11,2,FALSE)","v":"SM2"}]
["dv",36191,"Martina","Bellanger","1. MGC Mannheim 1968 e.V.","SW2: Bellanger, Martina",{"$f":"VLOOKUP(A212,bangolf_kategorien!$A$2:$B$11,2,FALSE)","v":"SW2"}]
["hs",37097,"Gerrit","Below","MGC Olympia Kiel e.V.","H: Below, Gerrit",{"$f":"VLOOKUP(A213,bangolf_kategorien!$A$2:$B$11,2,FALSE)","v":"H"}]
["hs",33091,"Marvin","Below","MGC Olympia Kiel e.V.","H: Below, Marvin",{"$f":"VLOOKUP(A214,bangolf_kategorien!$A$2:$B$11,2,FALSE)","v":"H"}]
["ob",42124,"Ralf","Belz","MGC Dormagen-Brechten e.V.","SM1: Belz, Ralf",{"$f":"VLOOKUP(A215,bangolf_kategorien!$A$2:$B$11,2,FALSE)","v":"SM1"}]
["hv",35698,"Wilfried","Bemelmanns","MGC Dormagen-Brechten e.V.","SM2: Bemelmanns, Wilfried",{"$f":"VLOOKUP(A216,bangolf_kategorien!$A$2:$B$11,2,FALSE)","v":"SM2"}]
["hv",6059,"Lutz","Bemmann","BSV AOK Leipzig e.V.","SM2: Bemmann, Lutz",{"$f":"VLOOKUP(A217,bangolf_kategorien!$A$2:$B$11,2,FALSE)","v":"SM2"}]
["hv",183,"Erwin","Beneking","MC Georgsmarienhütte e.V.","SM2: Beneking, Erwin",{"$f":"VLOOKUP(A218,bangolf_kategorien!$A$2:$B$11,2,FALSE)","v":"SM2"}]
["ds",35539,"Jasmin","Beneking","MSK Neheim-Hüsten e.V.","D: Beneking, Jasmin",{"$f":"VLOOKUP(A219,bangolf_kategorien!$A$2:$B$11,2,FALSE)","v":"D"}]
["ds",37425,"Katharina","Benkert","MGC Ostheim / Rhön e.V.","D: Benkert, Katharina",{"$f":"VLOOKUP(A220,bangolf_kategorien!$A$2:$B$11,2,FALSE)","v":"D"}]
["hs",33623,"Marius","Benkert","MGC Ostheim / Rhön e.V.","H: Benkert, Marius",{"$f":"VLOOKUP(A221,bangolf_kategorien!$A$2:$B$11,2,FALSE)","v":"H"}]
["hv",66790,"Holger","Benn","VfL Lohbrügge Abt. Bahnengolf","SM2: Benn, Holger",{"$f":"VLOOKUP(A222,bangolf_kategorien!$A$2:$B$11,2,FALSE)","v":"SM2"}]
["hv",62722,"Friedhelm","Benner","MSC Herscheid 1963 e.V.","SM2: Benner, Friedhelm",{"$f":"VLOOKUP(A223,bangolf_kategorien!$A$2:$B$11,2,FALSE)","v":"SM2"}]
["hv",27563,"Harald","Benner","MSC Herscheid 1963 e.V.","SM2: Benner, Harald",{"$f":"VLOOKUP(A224,bangolf_kategorien!$A$2:$B$11,2,FALSE)","v":"SM2"}]
["hs",37894,"Adam","Ber","Minigolfclub Karlshagen e.V.","H: Ber, Adam",{"$f":"VLOOKUP(A225,bangolf_kategorien!$A$2:$B$11,2,FALSE)","v":"H"}]
["dv",37872,"Elvira","Ber","Minigolfclub Karlshagen e.V.","SW2: Ber, Elvira",{"$f":"VLOOKUP(A226,bangolf_kategorien!$A$2:$B$11,2,FALSE)","v":"SW2"}]
["ds",38210,"Jessica","Ber","Minigolfclub Karlshagen e.V.","D: Ber, Jessica",{"$f":"VLOOKUP(A227,bangolf_kategorien!$A$2:$B$11,2,FALSE)","v":"D"}]
["hv",37630,"Peter","Ber","Minigolfclub Karlshagen e.V.","SM2: Ber, Peter",{"$f":"VLOOKUP(A228,bangolf_kategorien!$A$2:$B$11,2,FALSE)","v":"SM2"}]
["hs",2083,"Peter","Ber Jun.","Minigolfclub Karlshagen e.V.","H: Ber Jun., Peter",{"$f":"VLOOKUP(A229,bangolf_kategorien!$A$2:$B$11,2,FALSE)","v":"H"}]
["ob",37997,"Gerhard","Bergauer","BGSC Bochum 1978 e.V.","SM1: Bergauer, Gerhard",{"$f":"VLOOKUP(A230,bangolf_kategorien!$A$2:$B$11,2,FALSE)","v":"SM1"}]
["hs",46384,"Martin","Berger","VfM e.V. Berlin","H: Berger, Martin",{"$f":"VLOOKUP(A231,bangolf_kategorien!$A$2:$B$11,2,FALSE)","v":"H"}]
["hs",66786,"Dominik","Berghof","SV Lurup Abt. Bahnengolf","H: Berghof, Dominik",{"$f":"VLOOKUP(A232,bangolf_kategorien!$A$2:$B$11,2,FALSE)","v":"H"}]
["hv",38591,"Günter","Bergmaier","MGC Bad Feilnbach e.V.","SM2: Bergmaier, Günter",{"$f":"VLOOKUP(A233,bangolf_kategorien!$A$2:$B$11,2,FALSE)","v":"SM2"}]
["hs",34067,"Lars","Bergmann","SSC Halver e.V.","H: Bergmann, Lars",{"$f":"VLOOKUP(A234,bangolf_kategorien!$A$2:$B$11,2,FALSE)","v":"H"}]
["ob",66013,"Uwe","Bergmann","MGC Millennium Lorsch e.V.","SM1: Bergmann, Uwe",{"$f":"VLOOKUP(A235,bangolf_kategorien!$A$2:$B$11,2,FALSE)","v":"SM1"}]
["dv",5537,"Waltraut","Bergmann","BGC Heilbronn e.V.","SW2: Bergmann, Waltraut",{"$f":"VLOOKUP(A236,bangolf_kategorien!$A$2:$B$11,2,FALSE)","v":"SW2"}]
["ob",40559,"Reiner","Bergsmann","MGC Sulzfeld e.V.","SM1: Bergsmann, Reiner",{"$f":"VLOOKUP(A237,bangolf_kategorien!$A$2:$B$11,2,FALSE)","v":"SM1"}]
["ob",29362,"Patrick","Beringhausen","1. MGC Mainz e.V.","SM1: Beringhausen, Patrick",{"$f":"VLOOKUP(A238,bangolf_kategorien!$A$2:$B$11,2,FALSE)","v":"SM1"}]
["hv",6581,"Franz-Josef","Berkenkopf","MSK Neheim-Hüsten e.V.","SM2: Berkenkopf, Franz-Josef",{"$f":"VLOOKUP(A239,bangolf_kategorien!$A$2:$B$11,2,FALSE)","v":"SM2"}]
["ob",3194219,"Manfred","Bernard","Hobby","SM1: Bernard, Manfred",{"$f":"VLOOKUP(A240,bangolf_kategorien!$A$2:$B$11,2,FALSE)","v":"SM1"}]
["og",48006,"Susanne","Berneit","MSC Bensheim-Auerbach e.V.","SW1: Berneit, Susanne",{"$f":"VLOOKUP(A241,bangolf_kategorien!$A$2:$B$11,2,FALSE)","v":"SW1"}]
["pa",66893,"Raphael","Berner","1. MGC Kassel 1964 e.V.","SCHM: Berner, Raphael",{"$f":"VLOOKUP(A242,bangolf_kategorien!$A$2:$B$11,2,FALSE)","v":"SCHM"}]
["ob",42851,"Frank","Bernhard","SSC Attendorn e.V.","SM1: Bernhard, Frank",{"$f":"VLOOKUP(A243,bangolf_kategorien!$A$2:$B$11,2,FALSE)","v":"SM1"}]
["ds",66512,"Erika","Bernhardt","1. MGC Tuttlingen e.V.","D: Bernhardt, Erika",{"$f":"VLOOKUP(A244,bangolf_kategorien!$A$2:$B$11,2,FALSE)","v":"D"}]
["hv",23895,"Hans-Jürgen","Berschansky","TSV Salzgitter e.V. Abt. Bahnengolf","SM2: Berschansky, Hans-Jürgen",{"$f":"VLOOKUP(A245,bangolf_kategorien!$A$2:$B$11,2,FALSE)","v":"SM2"}]
["ds",52088,"Yvonne","Berthel-Kolbe","1. MGC Kassel 1964 e.V.","D: Berthel-Kolbe, Yvonne",{"$f":"VLOOKUP(A246,bangolf_kategorien!$A$2:$B$11,2,FALSE)","v":"D"}]
["ob",44982,"Christian","Beschorner","MGC Freizeitzentrum Biebertal","SM1: Beschorner, Christian",{"$f":"VLOOKUP(A247,bangolf_kategorien!$A$2:$B$11,2,FALSE)","v":"SM1"}]
["ob",30217,"Roland","Best","1. NMC Kelheim e.V.","SM1: Best, Roland",{"$f":"VLOOKUP(A248,bangolf_kategorien!$A$2:$B$11,2,FALSE)","v":"SM1"}]
["ob",3202280,"Stefan","Best","Hobby","SM1: Best, Stefan",{"$f":"VLOOKUP(A249,bangolf_kategorien!$A$2:$B$11,2,FALSE)","v":"SM1"}]
["og",67391,"Lucie","Betsch","BGS Hardenberg-Pötter e.V.","SW1: Betsch, Lucie",{"$f":"VLOOKUP(A250,bangolf_kategorien!$A$2:$B$11,2,FALSE)","v":"SW1"}]
["ob",3194207,"Thomas","Bettenhäuser","Hobby","SM1: Bettenhäuser, Thomas",{"$f":"VLOOKUP(A251,bangolf_kategorien!$A$2:$B$11,2,FALSE)","v":"SM1"}]
["ob",29631,"Marco","Bettger","1. MSC Wesel 6.6.1966 e.V.","SM1: Bettger, Marco",{"$f":"VLOOKUP(A252,bangolf_kategorien!$A$2:$B$11,2,FALSE)","v":"SM1"}]
["hv",41029,"Norbert","Betz","BGC Bad Berneck e.V.","SM2: Betz, Norbert",{"$f":"VLOOKUP(A253,bangolf_kategorien!$A$2:$B$11,2,FALSE)","v":"SM2"}]
["hv",31966,"Horst","Betzholz","1. CKF Dudweiler e.V.","SM2: Betzholz, Horst",{"$f":"VLOOKUP(A254,bangolf_kategorien!$A$2:$B$11,2,FALSE)","v":"SM2"}]
["ds",25369,"Nicole","Betzholz","1. CKF Dudweiler e.V.","D: Betzholz, Nicole",{"$f":"VLOOKUP(A255,bangolf_kategorien!$A$2:$B$11,2,FALSE)","v":"D"}]
["hs",32105,"André","Betzien","BGC Diepholz e.V.","H: Betzien, André",{"$f":"VLOOKUP(A256,bangolf_kategorien!$A$2:$B$11,2,FALSE)","v":"H"}]
["hv",5612,"Boto von","Beuningen","VfL Lohbrügge Abt. Bahnengolf","SM2: Beuningen, Boto von",{"$f":"VLOOKUP(A257,bangolf_kategorien!$A$2:$B$11,2,FALSE)","v":"SM2"}]
["ob",27202,"Jürgen","Beutin","1. MGC Ludwigshafen e.V.","SM1: Beutin, Jürgen",{"$f":"VLOOKUP(A258,bangolf_kategorien!$A$2:$B$11,2,FALSE)","v":"SM1"}]
["hs",47156,"Bernd","Beutler","BGSC \"Gut Schlag\" Gladbeck e.V.",{"$f":"CONCATENATE(G259,\": \",D259,\", \",C259)","v":"H: Beutler, Bernd"},{"$f":"VLOOKUP(A259,bangolf_kategorien!$A$2:$B$11,2,FALSE)","v":"H"}]
["dv",18418,"Cordula","Beutner","MGF Steinbruch Kempten","SW2: Beutner, Cordula",{"$f":"VLOOKUP(A260,bangolf_kategorien!$A$2:$B$11,2,FALSE)","v":"SW2"}]
["hv",46243,"Hartmut","Bever","1. MGC Gelsenkirchen e.V.","SM2: Bever, Hartmut",{"$f":"VLOOKUP(A261,bangolf_kategorien!$A$2:$B$11,2,FALSE)","v":"SM2"}]
["ob",67192,"Frank","Beyer","1. MGC Kassel 1964 e.V.","SM1: Beyer, Frank",{"$f":"VLOOKUP(A262,bangolf_kategorien!$A$2:$B$11,2,FALSE)","v":"SM1"}]
["hj",67193,"Lukas","Beyer","1. MGC Kassel 1964 e.V.","JM: Beyer, Lukas",{"$f":"VLOOKUP(A263,bangolf_kategorien!$A$2:$B$11,2,FALSE)","v":"JM"}]
["dv",5647,"Barbara","Bezler","SV Glückauf 1901 Gebhardshagen e.V.","SW2: Bezler, Barbara",{"$f":"VLOOKUP(A264,bangolf_kategorien!$A$2:$B$11,2,FALSE)","v":"SW2"}]
["hv",4189,"Bernd","Bezler","SV Glückauf 1901 Gebhardshagen e.V.","SM2: Bezler, Bernd",{"$f":"VLOOKUP(A265,bangolf_kategorien!$A$2:$B$11,2,FALSE)","v":"SM2"}]
["og",3202319,"Grit","Bhandari","Hobby","SW1: Bhandari, Grit",{"$f":"VLOOKUP(A266,bangolf_kategorien!$A$2:$B$11,2,FALSE)","v":"SW1"}]
["ob",65844,"Siegfried","Biastoch","BGV Backumer Tal Herten e.V.","SM1: Biastoch, Siegfried",{"$f":"VLOOKUP(A267,bangolf_kategorien!$A$2:$B$11,2,FALSE)","v":"SM1"}]
["hs",67417,"Patrick","Bichler","BGSV Aßlar 1987 e.V.","H: Bichler, Patrick",{"$f":"VLOOKUP(A268,bangolf_kategorien!$A$2:$B$11,2,FALSE)","v":"H"}]
["hv",66914,"Detlef","Bieber","1. BGC Celle von 1964 e.V.","SM2: Bieber, Detlef",{"$f":"VLOOKUP(A269,bangolf_kategorien!$A$2:$B$11,2,FALSE)","v":"SM2"}]
["hs",40050,"Maik","Biedron","MC \"Möve\" Cuxhaven-Sahlenburg e.V.","H: Biedron, Maik",{"$f":"VLOOKUP(A270,bangolf_kategorien!$A$2:$B$11,2,FALSE)","v":"H"}]
["hs",65854,"Malte","Biegler","1. MGC Mainz e.V.","H: Biegler, Malte",{"$f":"VLOOKUP(A271,bangolf_kategorien!$A$2:$B$11,2,FALSE)","v":"H"}]
["hj",65855,"Ole","Biegler","1. MGC Mainz e.V.","JM: Biegler, Ole",{"$f":"VLOOKUP(A272,bangolf_kategorien!$A$2:$B$11,2,FALSE)","v":"JM"}]
["ob",33681,"Thomas","Biehl","BGC Schweinfurt e.V.","SM1: Biehl, Thomas",{"$f":"VLOOKUP(A273,bangolf_kategorien!$A$2:$B$11,2,FALSE)","v":"SM1"}]
["ob",35862,"Frank","Bielak","BSC Ennepetal e.V.","SM1: Bielak, Frank",{"$f":"VLOOKUP(A274,bangolf_kategorien!$A$2:$B$11,2,FALSE)","v":"SM1"}]
["hs",67244,"Swen","Bielmann","1. MGC Gelsenkirchen e.V.","H: Bielmann, Swen",{"$f":"VLOOKUP(A275,bangolf_kategorien!$A$2:$B$11,2,FALSE)","v":"H"}]
["hv",63302,"Kurt","Bien","1. MGC Ludwigshafen e.V.","SM2: Bien, Kurt",{"$f":"VLOOKUP(A276,bangolf_kategorien!$A$2:$B$11,2,FALSE)","v":"SM2"}]
["ob",28606,"Florian","Bieringer","MGC Murnau am Staffelsee e.V.","SM1: Bieringer, Florian",{"$f":"VLOOKUP(A277,bangolf_kategorien!$A$2:$B$11,2,FALSE)","v":"SM1"}]
["hs",33608,"Christoph","Biermann","MC Tigers Künsebeck e.V.","H: Biermann, Christoph",{"$f":"VLOOKUP(A278,bangolf_kategorien!$A$2:$B$11,2,FALSE)","v":"H"}]
["og",66651,"Christine","Biller","BGC Neutraubling e.V.","SW1: Biller, Christine",{"$f":"VLOOKUP(A279,bangolf_kategorien!$A$2:$B$11,2,FALSE)","v":"SW1"}]
["ob",46401,"Manfred","Biller","BGC Neutraubling e.V.","SM1: Biller, Manfred",{"$f":"VLOOKUP(A280,bangolf_kategorien!$A$2:$B$11,2,FALSE)","v":"SM1"}]
["hv",67098,"Manfred","Binder","MGC Harrislee-Wassersleben","SM2: Binder, Manfred",{"$f":"VLOOKUP(A281,bangolf_kategorien!$A$2:$B$11,2,FALSE)","v":"SM2"}]
["ds",31142,"Nicole","Birkelbach","1. MGC 1970 Göttingen e.V.","D: Birkelbach, Nicole",{"$f":"VLOOKUP(A282,bangolf_kategorien!$A$2:$B$11,2,FALSE)","v":"D"}]
["ob",65516,"Frank","Bischoff","BSV Inzlingen 1979 e.V.","SM1: Bischoff, Frank",{"$f":"VLOOKUP(A283,bangolf_kategorien!$A$2:$B$11,2,FALSE)","v":"SM1"}]
["ob",35522,"Nicolai","Bischoff","Hamburger MC von 1965 e.V.","SM1: Bischoff, Nicolai",{"$f":"VLOOKUP(A284,bangolf_kategorien!$A$2:$B$11,2,FALSE)","v":"SM1"}]
["ob",48247,"Frank","Bissinger","MGC Monrepos e.V.","SM1: Bissinger, Frank",{"$f":"VLOOKUP(A285,bangolf_kategorien!$A$2:$B$11,2,FALSE)","v":"SM1"}]
["og",67004,"Vera","Bissinger","MGC Monrepos e.V.","SW1: Bissinger, Vera",{"$f":"VLOOKUP(A286,bangolf_kategorien!$A$2:$B$11,2,FALSE)","v":"SW1"}]
["ob",46690,"Christian","Bittner","MGC Murnau am Staffelsee e.V.","SM1: Bittner, Christian",{"$f":"VLOOKUP(A287,bangolf_kategorien!$A$2:$B$11,2,FALSE)","v":"SM1"}]
["hs",30713,"Martin","Bittner","MGC Murnau am Staffelsee e.V.","H: Bittner, Martin",{"$f":"VLOOKUP(A288,bangolf_kategorien!$A$2:$B$11,2,FALSE)","v":"H"}]
["ob",31649,"Peter Klaus","Bittner","BGSV Bad Homburg","SM1: Bittner, Peter Klaus",{"$f":"VLOOKUP(A289,bangolf_kategorien!$A$2:$B$11,2,FALSE)","v":"SM1"}]
["og",3216774,"Beate","Bläcker","Hobby","SW1: Bläcker, Beate",{"$f":"VLOOKUP(A290,bangolf_kategorien!$A$2:$B$11,2,FALSE)","v":"SW1"}]
["og",35663,"Nicole","Blasek","1. MGC Köln 1961 e.V.","SW1: Blasek, Nicole",{"$f":"VLOOKUP(A291,bangolf_kategorien!$A$2:$B$11,2,FALSE)","v":"SW1"}]
["pa",66906,"Leon","Bläsing","BGS Hardenberg-Pötter e.V.","SCHM: Bläsing, Leon",{"$f":"VLOOKUP(A292,bangolf_kategorien!$A$2:$B$11,2,FALSE)","v":"SCHM"}]
["hs",66402,"Marc","Bläsing","BGS Hardenberg-Pötter e.V.","H: Bläsing, Marc",{"$f":"VLOOKUP(A293,bangolf_kategorien!$A$2:$B$11,2,FALSE)","v":"H"}]
["ds",66403,"Julia","Bläsing-Drechsel","BGS Hardenberg-Pötter e.V.","D: Bläsing-Drechsel, Julia",{"$f":"VLOOKUP(A294,bangolf_kategorien!$A$2:$B$11,2,FALSE)","v":"D"}]
["dv",52084,"Gabriele","Blechert","MGC Olympia Kiel e.V.","SW2: Blechert, Gabriele",{"$f":"VLOOKUP(A295,bangolf_kategorien!$A$2:$B$11,2,FALSE)","v":"SW2"}]
["ds",33127,"Gesa","Blechert","MGC Olympia Kiel e.V.","D: Blechert, Gesa",{"$f":"VLOOKUP(A296,bangolf_kategorien!$A$2:$B$11,2,FALSE)","v":"D"}]
["hv",42234,"Gerhard","Blechschmidt","1. NMC Kelheim e.V.","SM2: Blechschmidt, Gerhard",{"$f":"VLOOKUP(A297,bangolf_kategorien!$A$2:$B$11,2,FALSE)","v":"SM2"}]
["og",42233,"Renate","Blechschmidt","1. NMC Kelheim e.V.","SW1: Blechschmidt, Renate",{"$f":"VLOOKUP(A298,bangolf_kategorien!$A$2:$B$11,2,FALSE)","v":"SW1"}]
["dv",3211950,"Angelika","Bleibinger","Hobby","SW2: Bleibinger, Angelika",{"$f":"VLOOKUP(A299,bangolf_kategorien!$A$2:$B$11,2,FALSE)","v":"SW2"}]
["ds",31333,"Stefanie","Blendermann","1. MGC Mainz e.V.","D: Blendermann, Stefanie",{"$f":"VLOOKUP(A300,bangolf_kategorien!$A$2:$B$11,2,FALSE)","v":"D"}]
["dv",28041,"Daniela","Bless","BSV 82 Ohlsbach e.V.","SW2: Bless, Daniela",{"$f":"VLOOKUP(A301,bangolf_kategorien!$A$2:$B$11,2,FALSE)","v":"SW2"}]
["hv",28040,"Werner","Bless","BSV 82 Ohlsbach e.V.","SM2: Bless, Werner",{"$f":"VLOOKUP(A302,bangolf_kategorien!$A$2:$B$11,2,FALSE)","v":"SM2"}]
["hv",37796,"Harald","Blöcker","MSK Neheim-Hüsten e.V.","SM2: Blöcker, Harald",{"$f":"VLOOKUP(A303,bangolf_kategorien!$A$2:$B$11,2,FALSE)","v":"SM2"}]
["dv",37104,"Rosemarie","Blöcker","MSK Neheim-Hüsten e.V.","SW2: Blöcker, Rosemarie",{"$f":"VLOOKUP(A304,bangolf_kategorien!$A$2:$B$11,2,FALSE)","v":"SW2"}]
["hs",37103,"Tim","Blöcker","1. MSC Wesel 6.6.1966 e.V.","H: Blöcker, Tim",{"$f":"VLOOKUP(A305,bangolf_kategorien!$A$2:$B$11,2,FALSE)","v":"H"}]
["ob",34063,"Bernhard","Blöckl","1. MGC München-Feldmoching e.V.","SM1: Blöckl, Bernhard",{"$f":"VLOOKUP(A306,bangolf_kategorien!$A$2:$B$11,2,FALSE)","v":"SM1"}]
["ob",2275,"Detlev","Blume","1. BGC Hannover e.V.","SM1: Blume, Detlev",{"$f":"VLOOKUP(A307,bangolf_kategorien!$A$2:$B$11,2,FALSE)","v":"SM1"}]
["hs",66049,"Severin","Blümer","1. MSC Wesel 6.6.1966 e.V.","H: Blümer, Severin",{"$f":"VLOOKUP(A308,bangolf_kategorien!$A$2:$B$11,2,FALSE)","v":"H"}]
["ob",66391,"Hardy","Blumhoff","SV 1890 e.V. Dreieichenhain, Abt. Bahnengolf","SM1: Blumhoff, Hardy",{"$f":"VLOOKUP(A309,bangolf_kategorien!$A$2:$B$11,2,FALSE)","v":"SM1"}]
["ob",43555,"Jens","Bock","SV Lurup Abt. Bahnengolf","SM1: Bock, Jens",{"$f":"VLOOKUP(A310,bangolf_kategorien!$A$2:$B$11,2,FALSE)","v":"SM1"}]
["ob",67191,"Norbert","Böcker","SG Arheilgen Abt. Bahnengolf","SM1: Böcker, Norbert",{"$f":"VLOOKUP(A311,bangolf_kategorien!$A$2:$B$11,2,FALSE)","v":"SM1"}]
["hs",38640,"Christian","Bode","1. BGC Hannover e.V.","H: Bode, Christian",{"$f":"VLOOKUP(A312,bangolf_kategorien!$A$2:$B$11,2,FALSE)","v":"H"}]
["hj",3216763,"Pierre","Bode","Hobby","JM: Bode, Pierre",{"$f":"VLOOKUP(A313,bangolf_kategorien!$A$2:$B$11,2,FALSE)","v":"JM"}]
["dv",66386,"Waltraut","Bode","SV Glückauf 1901 Gebhardshagen e.V.","SW2: Bode, Waltraut",{"$f":"VLOOKUP(A314,bangolf_kategorien!$A$2:$B$11,2,FALSE)","v":"SW2"}]
["ob",43782,"Hans-Jochen","Boenisch","BGC Northeim e.V.","SM1: Boenisch, Hans-Jochen",{"$f":"VLOOKUP(A315,bangolf_kategorien!$A$2:$B$11,2,FALSE)","v":"SM1"}]
["hv",21681,"Volker","Bogdahn","MC 62 Lüdenscheid e.V.","SM2: Bogdahn, Volker",{"$f":"VLOOKUP(A316,bangolf_kategorien!$A$2:$B$11,2,FALSE)","v":"SM2"}]
["ob",67113,"Ulrich","Bohle","1. MGC Gelsenkirchen e.V.","SM1: Bohle, Ulrich",{"$f":"VLOOKUP(A317,bangolf_kategorien!$A$2:$B$11,2,FALSE)","v":"SM1"}]
["hv",67172,"Hans-Dieter","Bohleber","BSV 82 Ohlsbach e.V.","SM2: Bohleber, Hans-Dieter",{"$f":"VLOOKUP(A318,bangolf_kategorien!$A$2:$B$11,2,FALSE)","v":"SM2"}]
["hv",18421,"Ernst","Böhm","MGC Murnau am Staffelsee e.V.","SM2: Böhm, Ernst",{"$f":"VLOOKUP(A319,bangolf_kategorien!$A$2:$B$11,2,FALSE)","v":"SM2"}]
["hv",4126,"Uwe","Bohnenkämper","MGC Wuppertal-Ronsdorf 1967 e.V.","SM2: Bohnenkämper, Uwe",{"$f":"VLOOKUP(A320,bangolf_kategorien!$A$2:$B$11,2,FALSE)","v":"SM2"}]
["hv",5964,"Wolfgang","Bojack","MSV Würzburg-Löwenbrücke e.V.","SM2: Bojack, Wolfgang",{"$f":"VLOOKUP(A321,bangolf_kategorien!$A$2:$B$11,2,FALSE)","v":"SM2"}]
["ds",3216766,"Finja","Bokstaller","Hobby","D: Bokstaller, Finja",{"$f":"VLOOKUP(A322,bangolf_kategorien!$A$2:$B$11,2,FALSE)","v":"D"}]
["ob",66315,"Richard","Bölle","Kölner Miniatur Golf Club e.V.",{"$f":"CONCATENATE(G323,\": \",D323,\", \",C323)","v":"SM1: Bölle, Richard"},{"$f":"VLOOKUP(A323,bangolf_kategorien!$A$2:$B$11,2,FALSE)","v":"SM1"}]
["ds",40384,"Anne","Bollrich","MGC Dormagen-Brechten e.V.","D: Bollrich, Anne",{"$f":"VLOOKUP(A324,bangolf_kategorien!$A$2:$B$11,2,FALSE)","v":"D"}]
["ob",38537,"Jens","Bollrich","1. BGC Leipzig e.V.","SM1: Bollrich, Jens",{"$f":"VLOOKUP(A325,bangolf_kategorien!$A$2:$B$11,2,FALSE)","v":"SM1"}]
["og",65740,"Margit","Bollrich","1. BGC Leipzig e.V.","SW1: Bollrich, Margit",{"$f":"VLOOKUP(A326,bangolf_kategorien!$A$2:$B$11,2,FALSE)","v":"SW1"}]
["og",25578,"Kornelia","Boltze","1. BGC Rodalben 1977 e.V.","SW1: Boltze, Kornelia",{"$f":"VLOOKUP(A327,bangolf_kategorien!$A$2:$B$11,2,FALSE)","v":"SW1"}]
["hs",36329,"Tobias","Boltze","1. BGC Rodalben 1977 e.V.","H: Boltze, Tobias",{"$f":"VLOOKUP(A328,bangolf_kategorien!$A$2:$B$11,2,FALSE)","v":"H"}]
["ob",25581,"Uwe","Boltze","1. BGC Rodalben 1977 e.V.","SM1: Boltze, Uwe",{"$f":"VLOOKUP(A329,bangolf_kategorien!$A$2:$B$11,2,FALSE)","v":"SM1"}]
["hs",38174,"David","Bomblies","MGC \"AS\" Witten 1963 e.V.","H: Bomblies, David",{"$f":"VLOOKUP(A330,bangolf_kategorien!$A$2:$B$11,2,FALSE)","v":"H"}]
["hs",38175,"Timo","Bomblies","MGC \"AS\" Witten 1963 e.V.","H: Bomblies, Timo",{"$f":"VLOOKUP(A331,bangolf_kategorien!$A$2:$B$11,2,FALSE)","v":"H"}]
["hv",38176,"Wolfgang","Bomblies","MGC \"AS\" Witten 1963 e.V.","SM2: Bomblies, Wolfgang",{"$f":"VLOOKUP(A332,bangolf_kategorien!$A$2:$B$11,2,FALSE)","v":"SM2"}]
["hs",38473,"Jean-Pierre","Bonacker","BGV Backumer Tal Herten e.V.","H: Bonacker, Jean-Pierre",{"$f":"VLOOKUP(A333,bangolf_kategorien!$A$2:$B$11,2,FALSE)","v":"H"}]
["hs",3216554,"Björn","Bonde","Hobby","H: Bonde, Björn",{"$f":"VLOOKUP(A334,bangolf_kategorien!$A$2:$B$11,2,FALSE)","v":"H"}]
["hv",36836,"Bernhard","Bonder","1. BGC Paderborn e.V.","SM2: Bonder, Bernhard",{"$f":"VLOOKUP(A335,bangolf_kategorien!$A$2:$B$11,2,FALSE)","v":"SM2"}]
["hj",67118,"Luc","Bonder","1. BGC Paderborn e.V.","JM: Bonder, Luc",{"$f":"VLOOKUP(A336,bangolf_kategorien!$A$2:$B$11,2,FALSE)","v":"JM"}]
["ob",21702,"Frank","Bonenberger","1. MGC Ludwigshafen e.V.","SM1: Bonenberger, Frank",{"$f":"VLOOKUP(A337,bangolf_kategorien!$A$2:$B$11,2,FALSE)","v":"SM1"}]
["hs",41704,"Pascal","Bonrath","MGC Wuppertal-Ronsdorf 1967 e.V.","H: Bonrath, Pascal",{"$f":"VLOOKUP(A338,bangolf_kategorien!$A$2:$B$11,2,FALSE)","v":"H"}]
["og",41663,"Heidi","Bönsch","KGC Bad Urach e.V.","SW1: Bönsch, Heidi",{"$f":"VLOOKUP(A339,bangolf_kategorien!$A$2:$B$11,2,FALSE)","v":"SW1"}]
["ob",41667,"Jürgen","Bönsch","KGC Bad Urach e.V.","SM1: Bönsch, Jürgen",{"$f":"VLOOKUP(A340,bangolf_kategorien!$A$2:$B$11,2,FALSE)","v":"SM1"}]
["hs",36323,"Patrick","Bönsch","KGC Bad Urach e.V.","H: Bönsch, Patrick",{"$f":"VLOOKUP(A341,bangolf_kategorien!$A$2:$B$11,2,FALSE)","v":"H"}]
["hv",41671,"Roland","Bönsch","KGC Bad Urach e.V.","SM2: Bönsch, Roland",{"$f":"VLOOKUP(A342,bangolf_kategorien!$A$2:$B$11,2,FALSE)","v":"SM2"}]
["dv",37249,"Cornelia","Boock","MSC Bensheim-Auerbach e.V.","SW2: Boock, Cornelia",{"$f":"VLOOKUP(A343,bangolf_kategorien!$A$2:$B$11,2,FALSE)","v":"SW2"}]
["hs",46859,"Thomas","Boock","MGC Olympia Kiel e.V.","H: Boock, Thomas",{"$f":"VLOOKUP(A344,bangolf_kategorien!$A$2:$B$11,2,FALSE)","v":"H"}]
["dv",17898,"Charlotte","Boos","2. MGC Worms","SW2: Boos, Charlotte",{"$f":"VLOOKUP(A345,bangolf_kategorien!$A$2:$B$11,2,FALSE)","v":"SW2"}]
["ob",42763,"Nils","Boos","MGC Bad Bodendorf e.V.","SM1: Boos, Nils",{"$f":"VLOOKUP(A346,bangolf_kategorien!$A$2:$B$11,2,FALSE)","v":"SM1"}]
["hs",66945,"Jens","Börger","MC Georgsmarienhütte e.V.","H: Börger, Jens",{"$f":"VLOOKUP(A347,bangolf_kategorien!$A$2:$B$11,2,FALSE)","v":"H"}]
["hj",66946,"Pascal","Börger","MC Georgsmarienhütte e.V.","JM: Börger, Pascal",{"$f":"VLOOKUP(A348,bangolf_kategorien!$A$2:$B$11,2,FALSE)","v":"JM"}]
["hs",43756,"Jens","Borggraefe","1. MGC Ludwigshafen e.V.","H: Borggraefe, Jens",{"$f":"VLOOKUP(A349,bangolf_kategorien!$A$2:$B$11,2,FALSE)","v":"H"}]
["ds",36624,"Martina","Borggraefe","1. MGC Ludwigshafen e.V.","D: Borggraefe, Martina",{"$f":"VLOOKUP(A350,bangolf_kategorien!$A$2:$B$11,2,FALSE)","v":"D"}]
["dv",34108,"Elisabeth","Bork","1. MSC Wesel 6.6.1966 e.V.","SW2: Bork, Elisabeth",{"$f":"VLOOKUP(A351,bangolf_kategorien!$A$2:$B$11,2,FALSE)","v":"SW2"}]
["hv",10087,"Gert","Bork","1. MSC Wesel 6.6.1966 e.V.","SM2: Bork, Gert",{"$f":"VLOOKUP(A352,bangolf_kategorien!$A$2:$B$11,2,FALSE)","v":"SM2"}]
["hs",33880,"Michael","Born","Bochumer Minigolf-Club 1960 e.V.","H: Born, Michael",{"$f":"VLOOKUP(A353,bangolf_kategorien!$A$2:$B$11,2,FALSE)","v":"H"}]
["ob",25918,"Thomas","Born","BSC Ennepetal e.V.","SM1: Born, Thomas",{"$f":"VLOOKUP(A354,bangolf_kategorien!$A$2:$B$11,2,FALSE)","v":"SM1"}]
["ds",27803,"Bianca","Bornhöft","MGC Olympia Kiel e.V.","D: Bornhöft, Bianca",{"$f":"VLOOKUP(A355,bangolf_kategorien!$A$2:$B$11,2,FALSE)","v":"D"}]
["hv",38240,"Karl Heinz","Bornkessel","SV Lurup Abt. Bahnengolf","SM2: Bornkessel, Karl Heinz",{"$f":"VLOOKUP(A356,bangolf_kategorien!$A$2:$B$11,2,FALSE)","v":"SM2"}]
["dv",38241,"Margit","Bornkessel","SV Lurup Abt. Bahnengolf","SW2: Bornkessel, Margit",{"$f":"VLOOKUP(A357,bangolf_kategorien!$A$2:$B$11,2,FALSE)","v":"SW2"}]
["og",49092,"Elke","Bort","BGC Heilbronn e.V.","SW1: Bort, Elke",{"$f":"VLOOKUP(A358,bangolf_kategorien!$A$2:$B$11,2,FALSE)","v":"SW1"}]
["hs",23605,"Marcel","Bort","BGC Heilbronn e.V.","H: Bort, Marcel",{"$f":"VLOOKUP(A359,bangolf_kategorien!$A$2:$B$11,2,FALSE)","v":"H"}]
["ob",49091,"Thomas","Bort","BGC Heilbronn e.V.","SM1: Bort, Thomas",{"$f":"VLOOKUP(A360,bangolf_kategorien!$A$2:$B$11,2,FALSE)","v":"SM1"}]
["hv",38178,"Wilfried","Bosen","1. MGSV Netphen e.V.","SM2: Bosen, Wilfried",{"$f":"VLOOKUP(A361,bangolf_kategorien!$A$2:$B$11,2,FALSE)","v":"SM2"}]
["hv",66066,"Joachim","Bosse","MGC Bad Salzuflen e.V.","SM2: Bosse, Joachim",{"$f":"VLOOKUP(A362,bangolf_kategorien!$A$2:$B$11,2,FALSE)","v":"SM2"}]
["hv",36834,"Dieter","Bothe","SV Glückauf 1901 Gebhardshagen e.V.","SM2: Bothe, Dieter",{"$f":"VLOOKUP(A363,bangolf_kategorien!$A$2:$B$11,2,FALSE)","v":"SM2"}]
["hs",45560,"Patrick","Bothmann","MGC Dormagen-Brechten e.V.","H: Bothmann, Patrick",{"$f":"VLOOKUP(A364,bangolf_kategorien!$A$2:$B$11,2,FALSE)","v":"H"}]
["hs",46348,"Andreas","Bott","MGC Sulzfeld e.V.","H: Bott, Andreas",{"$f":"VLOOKUP(A365,bangolf_kategorien!$A$2:$B$11,2,FALSE)","v":"H"}]
["hs",32231,"Steven","Böttcher","1. MGC 1970 Göttingen e.V.","H: Böttcher, Steven",{"$f":"VLOOKUP(A366,bangolf_kategorien!$A$2:$B$11,2,FALSE)","v":"H"}]
["hv",3602,"Wilhelm","Böttcher","VfB Osnabrück e.V.","SM2: Böttcher, Wilhelm",{"$f":"VLOOKUP(A367,bangolf_kategorien!$A$2:$B$11,2,FALSE)","v":"SM2"}]
["hv",67134,"Saban","Bozkurt","MGC Heringen 1997 e.V.","SM2: Bozkurt, Saban",{"$f":"VLOOKUP(A368,bangolf_kategorien!$A$2:$B$11,2,FALSE)","v":"SM2"}]
["ob",47419,"Roland","Brack","BSV 82 Ohlsbach e.V.","SM1: Brack, Roland",{"$f":"VLOOKUP(A369,bangolf_kategorien!$A$2:$B$11,2,FALSE)","v":"SM1"}]
["hj",66229,"Jannick","Bracken","MGC Wertheim 91 e.V.","JM: Bracken, Jannick",{"$f":"VLOOKUP(A370,bangolf_kategorien!$A$2:$B$11,2,FALSE)","v":"JM"}]
["hs",38110,"Cedric","Brakhage","MGC Lippe-Detmold e.V.","H: Brakhage, Cedric",{"$f":"VLOOKUP(A371,bangolf_kategorien!$A$2:$B$11,2,FALSE)","v":"H"}]
["hs",45769,"Markus","Brand","MGC Traben-Trarbach","H: Brand, Markus",{"$f":"VLOOKUP(A372,bangolf_kategorien!$A$2:$B$11,2,FALSE)","v":"H"}]
["dv",4611,"Ursula","Brand","1. BGC Paderborn e.V.","SW2: Brand, Ursula",{"$f":"VLOOKUP(A373,bangolf_kategorien!$A$2:$B$11,2,FALSE)","v":"SW2"}]
["hv",62193,"Wilhelm","Brand","1. BGC Paderborn e.V.","SM2: Brand, Wilhelm",{"$f":"VLOOKUP(A374,bangolf_kategorien!$A$2:$B$11,2,FALSE)","v":"SM2"}]
["ob",40419,"Wolfgang","Brandes","1. BGC Wolfsburg","SM1: Brandes, Wolfgang",{"$f":"VLOOKUP(A375,bangolf_kategorien!$A$2:$B$11,2,FALSE)","v":"SM1"}]
["hv",29046,"Peter","Brandis","TSV Kücknitz Abt. Bahnengolf","SM2: Brandis, Peter",{"$f":"VLOOKUP(A376,bangolf_kategorien!$A$2:$B$11,2,FALSE)","v":"SM2"}]
["hv",605,"Michael","Brandl","BGC Heilbronn e.V.","SM2: Brandl, Michael",{"$f":"VLOOKUP(A377,bangolf_kategorien!$A$2:$B$11,2,FALSE)","v":"SM2"}]
["ob",29239,"Michael","Brandner","CGC Illertal Kellmünz","SM1: Brandner, Michael",{"$f":"VLOOKUP(A378,bangolf_kategorien!$A$2:$B$11,2,FALSE)","v":"SM1"}]
["ob",65833,"Uwe","Brandstettner","SV Glückauf 1901 Gebhardshagen e.V.","SM1: Brandstettner, Uwe",{"$f":"VLOOKUP(A379,bangolf_kategorien!$A$2:$B$11,2,FALSE)","v":"SM1"}]
["hv",5165,"Hans-Jürgen","Brandt","BGSV Kerpen e.V.","SM2: Brandt, Hans-Jürgen",{"$f":"VLOOKUP(A380,bangolf_kategorien!$A$2:$B$11,2,FALSE)","v":"SM2"}]
["og",489,"Judith","Brandt","CGC Rauschenberg e.V.","SW1: Brandt, Judith",{"$f":"VLOOKUP(A381,bangolf_kategorien!$A$2:$B$11,2,FALSE)","v":"SW1"}]
["ob",28747,"Ralph","Brandt","Preetzer TSV von 1861 e.V. Abt. Minigolf","SM1: Brandt, Ralph",{"$f":"VLOOKUP(A382,bangolf_kategorien!$A$2:$B$11,2,FALSE)","v":"SM1"}]
["hv",24151,"Tobias","Brandt","CGC Rauschenberg e.V.","SM2: Brandt, Tobias",{"$f":"VLOOKUP(A383,bangolf_kategorien!$A$2:$B$11,2,FALSE)","v":"SM2"}]
["og",65644,"Carola","Braschler","1. MGC Hechingen","SW1: Braschler, Carola",{"$f":"VLOOKUP(A384,bangolf_kategorien!$A$2:$B$11,2,FALSE)","v":"SW1"}]
["hs",65645,"Felix","Braschler","1. MGC Hechingen","H: Braschler, Felix",{"$f":"VLOOKUP(A385,bangolf_kategorien!$A$2:$B$11,2,FALSE)","v":"H"}]
["ob",33954,"Andreas","Brassait","SC Gut Heil Neumünster e.V.","SM1: Brassait, Andreas",{"$f":"VLOOKUP(A386,bangolf_kategorien!$A$2:$B$11,2,FALSE)","v":"SM1"}]
["hv",67410,"Dankmar","Braucks","MSF Brilon e.V.",{"$f":"CONCATENATE(G387,\": \",D387,\", \",C387)","v":"SM2: Braucks, Dankmar"},{"$f":"VLOOKUP(A387,bangolf_kategorien!$A$2:$B$11,2,FALSE)","v":"SM2"}]
["hs",32390,"Daniel","Bräuer","MGC Marl 1960 e.V.","H: Bräuer, Daniel",{"$f":"VLOOKUP(A388,bangolf_kategorien!$A$2:$B$11,2,FALSE)","v":"H"}]
["ds",51380,"Diana","Bräuer","MGC Marl 1960 e.V.","D: Bräuer, Diana",{"$f":"VLOOKUP(A389,bangolf_kategorien!$A$2:$B$11,2,FALSE)","v":"D"}]
["hs",37085,"Florian","Bräuer","MGC Marl 1960 e.V.","H: Bräuer, Florian",{"$f":"VLOOKUP(A390,bangolf_kategorien!$A$2:$B$11,2,FALSE)","v":"H"}]
["hs",30395,"Markus","Bräuer","MGC Marl 1960 e.V.","H: Bräuer, Markus",{"$f":"VLOOKUP(A391,bangolf_kategorien!$A$2:$B$11,2,FALSE)","v":"H"}]
["dv",37557,"Ute","Bräuer","MGC Marl 1960 e.V.","SW2: Bräuer, Ute",{"$f":"VLOOKUP(A392,bangolf_kategorien!$A$2:$B$11,2,FALSE)","v":"SW2"}]
["dv",44704,"Brigitte","Braun","1. BGC München e.V.","SW2: Braun, Brigitte",{"$f":"VLOOKUP(A393,bangolf_kategorien!$A$2:$B$11,2,FALSE)","v":"SW2"}]
["ob",3119718,"Dierk","Braun","Hobby","SM1: Braun, Dierk",{"$f":"VLOOKUP(A394,bangolf_kategorien!$A$2:$B$11,2,FALSE)","v":"SM1"}]
["ob",67188,"Dierk","Braun","BGSC \"Gut Schlag\" Gladbeck e.V.","SM1: Braun, Dierk",{"$f":"VLOOKUP(A395,bangolf_kategorien!$A$2:$B$11,2,FALSE)","v":"SM1"}]
["og",35365,"Elisabeth","Braun","1. MGC Mannheim 1968 e.V.","SW1: Braun, Elisabeth",{"$f":"VLOOKUP(A396,bangolf_kategorien!$A$2:$B$11,2,FALSE)","v":"SW1"}]
["hv",20894,"Friedrich","Braun","1. BGC München e.V.","SM2: Braun, Friedrich",{"$f":"VLOOKUP(A397,bangolf_kategorien!$A$2:$B$11,2,FALSE)","v":"SM2"}]
["og",65752,"Gabriele","Braun","MSK Olching e.V.","SW1: Braun, Gabriele",{"$f":"VLOOKUP(A398,bangolf_kategorien!$A$2:$B$11,2,FALSE)","v":"SW1"}]
["ob",66847,"Gerd","Braun","BGC Uerdingen e.V.","SM1: Braun, Gerd",{"$f":"VLOOKUP(A399,bangolf_kategorien!$A$2:$B$11,2,FALSE)","v":"SM1"}]
["dj",65866,"Jette","Braun","MGC Olympia Kiel e.V.","JW: Braun, Jette",{"$f":"VLOOKUP(A400,bangolf_kategorien!$A$2:$B$11,2,FALSE)","v":"JW"}]
["ob",29547,"Thorsten","Braun","MGC Olympia Kiel e.V.","SM1: Braun, Thorsten",{"$f":"VLOOKUP(A401,bangolf_kategorien!$A$2:$B$11,2,FALSE)","v":"SM1"}]
["ob",41465,"Wolfram","Braun","1. MGC 1970 Göttingen e.V.","SM1: Braun, Wolfram",{"$f":"VLOOKUP(A402,bangolf_kategorien!$A$2:$B$11,2,FALSE)","v":"SM1"}]
["hs",16823,"Achim","Braungart Zink","SG Arheilgen Abt. Bahnengolf","H: Braungart Zink, Achim",{"$f":"VLOOKUP(A403,bangolf_kategorien!$A$2:$B$11,2,FALSE)","v":"H"}]
["dv",50717,"Ursula","Braungart Zink","Minigolfunion Neviges-Odenthal 1968 e.V.","SW2: Braungart Zink, Ursula",{"$f":"VLOOKUP(A404,bangolf_kategorien!$A$2:$B$11,2,FALSE)","v":"SW2"}]
["ob",66418,"Bert","Brause","SC Olympia Dortmund e.V.","SM1: Brause, Bert",{"$f":"VLOOKUP(A405,bangolf_kategorien!$A$2:$B$11,2,FALSE)","v":"SM1"}]
["hs",66419,"Julian","Brause","SC Olympia Dortmund e.V.","H: Brause, Julian",{"$f":"VLOOKUP(A406,bangolf_kategorien!$A$2:$B$11,2,FALSE)","v":"H"}]
["ob",46813,"Manfred","Brechelt","1. MGC 1970 Göttingen e.V.","SM1: Brechelt, Manfred",{"$f":"VLOOKUP(A407,bangolf_kategorien!$A$2:$B$11,2,FALSE)","v":"SM1"}]
["hs",34812,"Benjamin","Brechtel","MGC Ravensburg-Weingarten e.V.","H: Brechtel, Benjamin",{"$f":"VLOOKUP(A408,bangolf_kategorien!$A$2:$B$11,2,FALSE)","v":"H"}]
["ob",26565,"Kurt","Breckenkamp","MC Tigers Künsebeck e.V.","SM1: Breckenkamp, Kurt",{"$f":"VLOOKUP(A409,bangolf_kategorien!$A$2:$B$11,2,FALSE)","v":"SM1"}]
["ob",44743,"Stefan","Bredel","MSV Würzburg-Löwenbrücke e.V.","SM1: Bredel, Stefan",{"$f":"VLOOKUP(A410,bangolf_kategorien!$A$2:$B$11,2,FALSE)","v":"SM1"}]
["ds",38567,"Anika","Breidenbach","MGC Bergisch Gladbach Gierath e.V.","D: Breidenbach, Anika",{"$f":"VLOOKUP(A411,bangolf_kategorien!$A$2:$B$11,2,FALSE)","v":"D"}]
["dv",50409,"Maritta","Breier","MGV Ansbach e.V.","SW2: Breier, Maritta",{"$f":"VLOOKUP(A412,bangolf_kategorien!$A$2:$B$11,2,FALSE)","v":"SW2"}]
["hv",37260,"Jürgen","Breitbach","BGC Dormagen e.V.","SM2: Breitbach, Jürgen",{"$f":"VLOOKUP(A413,bangolf_kategorien!$A$2:$B$11,2,FALSE)","v":"SM2"}]
["og",37867,"Lydia","Breitbach","BGC Dormagen e.V.","SW1: Breitbach, Lydia",{"$f":"VLOOKUP(A414,bangolf_kategorien!$A$2:$B$11,2,FALSE)","v":"SW1"}]
["ob",67219,"Frank","Breitbarth","SC Olympia Dortmund e.V.","SM1: Breitbarth, Frank",{"$f":"VLOOKUP(A415,bangolf_kategorien!$A$2:$B$11,2,FALSE)","v":"SM1"}]
["ob",67185,"Johannes","Breitfeld","MSG Kempten e.V.","SM1: Breitfeld, Johannes",{"$f":"VLOOKUP(A416,bangolf_kategorien!$A$2:$B$11,2,FALSE)","v":"SM1"}]
["ob",36420,"Thomas","Breitkopf","MGSC Wernau e.V.","SM1: Breitkopf, Thomas",{"$f":"VLOOKUP(A417,bangolf_kategorien!$A$2:$B$11,2,FALSE)","v":"SM1"}]
["hs",36939,"Alexander","Breitling","BGC Bad Berneck e.V.","H: Breitling, Alexander",{"$f":"VLOOKUP(A418,bangolf_kategorien!$A$2:$B$11,2,FALSE)","v":"H"}]
["ob",31619,"Dieter","Breitling","BGC Bad Berneck e.V.","SM1: Breitling, Dieter",{"$f":"VLOOKUP(A419,bangolf_kategorien!$A$2:$B$11,2,FALSE)","v":"SM1"}]
["hj",66723,"Luca","Breme","BGC Neutraubling e.V.","JM: Breme, Luca",{"$f":"VLOOKUP(A420,bangolf_kategorien!$A$2:$B$11,2,FALSE)","v":"JM"}]
["hj",66722,"Sami","Breme","BGC Neutraubling e.V.","JM: Breme, Sami",{"$f":"VLOOKUP(A421,bangolf_kategorien!$A$2:$B$11,2,FALSE)","v":"JM"}]
["ob",36697,"H. Bernd","Bremer","BGS Hardenberg-Pötter e.V.","SM1: Bremer, H. Bernd",{"$f":"VLOOKUP(A422,bangolf_kategorien!$A$2:$B$11,2,FALSE)","v":"SM1"}]
["pa",66903,"H. Paul","Bremer","BGS Hardenberg-Pötter e.V.","SCHM: Bremer, H. Paul",{"$f":"VLOOKUP(A423,bangolf_kategorien!$A$2:$B$11,2,FALSE)","v":"SCHM"}]
["ob",31074,"Stephan","Bremicker","MGC Dormagen-Brechten e.V.","SM1: Bremicker, Stephan",{"$f":"VLOOKUP(A424,bangolf_kategorien!$A$2:$B$11,2,FALSE)","v":"SM1"}]
["og",42970,"Susanne","Bremicker","MGC Dormagen-Brechten e.V.","SW1: Bremicker, Susanne",{"$f":"VLOOKUP(A425,bangolf_kategorien!$A$2:$B$11,2,FALSE)","v":"SW1"}]
["ob",66531,"Robert","Brendel","1. MGC Bamberg e.V.","SM1: Brendel, Robert",{"$f":"VLOOKUP(A426,bangolf_kategorien!$A$2:$B$11,2,FALSE)","v":"SM1"}]
["dv",49753,"Monika","Brethack","BGC Kiel West e.V.","SW2: Brethack, Monika",{"$f":"VLOOKUP(A427,bangolf_kategorien!$A$2:$B$11,2,FALSE)","v":"SW2"}]
["hv",38454,"Lothar","Brieger","KSV Baltrum e.V.","SM2: Brieger, Lothar",{"$f":"VLOOKUP(A428,bangolf_kategorien!$A$2:$B$11,2,FALSE)","v":"SM2"}]
["hv",28511,"Wolfgang","Briele","BGC Schloß Paffendorf e.V.","SM2: Briele, Wolfgang",{"$f":"VLOOKUP(A429,bangolf_kategorien!$A$2:$B$11,2,FALSE)","v":"SM2"}]
["ob",37121,"Werner","Briese","MGC Rot-Weiß Wanne-Eickel e.V.","SM1: Briese, Werner",{"$f":"VLOOKUP(A430,bangolf_kategorien!$A$2:$B$11,2,FALSE)","v":"SM1"}]
["hs",3194205,"Daniel","Brille","Hobby","H: Brille, Daniel",{"$f":"VLOOKUP(A431,bangolf_kategorien!$A$2:$B$11,2,FALSE)","v":"H"}]
["hs",35751,"Thorsten","Brille","BGV Backumer Tal Herten e.V.","H: Brille, Thorsten",{"$f":"VLOOKUP(A432,bangolf_kategorien!$A$2:$B$11,2,FALSE)","v":"H"}]
["hs",3216783,"Marcel","Brinkmann","Hobby","H: Brinkmann, Marcel",{"$f":"VLOOKUP(A433,bangolf_kategorien!$A$2:$B$11,2,FALSE)","v":"H"}]
["hv",44142,"Karl-Heinz","Britte","MGC Heven e.V.","SM2: Britte, Karl-Heinz",{"$f":"VLOOKUP(A434,bangolf_kategorien!$A$2:$B$11,2,FALSE)","v":"SM2"}]
["hs",36204,"Gerrit","Britz","1. KC Homburg-Saar 1967 e.V.","H: Britz, Gerrit",{"$f":"VLOOKUP(A435,bangolf_kategorien!$A$2:$B$11,2,FALSE)","v":"H"}]
["ob",38336,"Carsten","Brocks","HMC Büttgen e.V.","SM1: Brocks, Carsten",{"$f":"VLOOKUP(A436,bangolf_kategorien!$A$2:$B$11,2,FALSE)","v":"SM1"}]
["hs",38492,"Marcel","Brocks","HMC Büttgen e.V.","H: Brocks, Marcel",{"$f":"VLOOKUP(A437,bangolf_kategorien!$A$2:$B$11,2,FALSE)","v":"H"}]
["ob",38316,"Ralf","Brocks","HMC Büttgen e.V.","SM1: Brocks, Ralf",{"$f":"VLOOKUP(A438,bangolf_kategorien!$A$2:$B$11,2,FALSE)","v":"SM1"}]
["ob",66518,"Knut","Brodersen","MGC Brunsbüttel e.V.","SM1: Brodersen, Knut",{"$f":"VLOOKUP(A439,bangolf_kategorien!$A$2:$B$11,2,FALSE)","v":"SM1"}]
["hv",3185,"Josef","Brodesser","Kölner Miniatur Golf Club e.V.","SM2: Brodesser, Josef",{"$f":"VLOOKUP(A440,bangolf_kategorien!$A$2:$B$11,2,FALSE)","v":"SM2"}]
["og",66101,"Bettina","Brökemeier","MGC Bad Salzuflen e.V.","SW1: Brökemeier, Bettina",{"$f":"VLOOKUP(A441,bangolf_kategorien!$A$2:$B$11,2,FALSE)","v":"SW1"}]
["hs",33081,"Michael","Bromberger","Minigolf Wölfe Rheinstetten 02","H: Bromberger, Michael",{"$f":"VLOOKUP(A442,bangolf_kategorien!$A$2:$B$11,2,FALSE)","v":"H"}]
["ob",29739,"Jörg","Brommer","TG Höchberg von 1862 Bahnengolf e.V.","SM1: Brommer, Jörg",{"$f":"VLOOKUP(A443,bangolf_kategorien!$A$2:$B$11,2,FALSE)","v":"SM1"}]
["og",37051,"Viola","Bronsart","TV Trappenkamp e.V. - Minigolf -","SW1: Bronsart, Viola",{"$f":"VLOOKUP(A444,bangolf_kategorien!$A$2:$B$11,2,FALSE)","v":"SW1"}]
["hs",36780,"Christopher","Brown","1. MGV Spandau Berlin e.V.","H: Brown, Christopher",{"$f":"VLOOKUP(A445,bangolf_kategorien!$A$2:$B$11,2,FALSE)","v":"H"}]
["og",3106819,"Fleur","Brozek","Hobby","SW1: Brozek, Fleur",{"$f":"VLOOKUP(A446,bangolf_kategorien!$A$2:$B$11,2,FALSE)","v":"SW1"}]
["ob",29085,"Lars","Brüchert","1. MGC Mainz e.V.","SM1: Brüchert, Lars",{"$f":"VLOOKUP(A447,bangolf_kategorien!$A$2:$B$11,2,FALSE)","v":"SM1"}]
["dv",67301,"Doris","Brüchner","1. MGC Mitterteich-Großbüchlberg","SW2: Brüchner, Doris",{"$f":"VLOOKUP(A448,bangolf_kategorien!$A$2:$B$11,2,FALSE)","v":"SW2"}]
["hv",67300,"Peter","Brüchner","1. MGC Mitterteich-Großbüchlberg","SM2: Brüchner, Peter",{"$f":"VLOOKUP(A449,bangolf_kategorien!$A$2:$B$11,2,FALSE)","v":"SM2"}]
["hs",67303,"Rouven","Bruelheide","MGC Bad Salzuflen e.V.","H: Bruelheide, Rouven",{"$f":"VLOOKUP(A450,bangolf_kategorien!$A$2:$B$11,2,FALSE)","v":"H"}]
["hs",38227,"Thorsten","Brunckhorst","MGC Unterschneidheim e.V.",{"$f":"CONCATENATE(G451,\": \",D451,\", \",C451)","v":"H: Brunckhorst, Thorsten"},{"$f":"VLOOKUP(A451,bangolf_kategorien!$A$2:$B$11,2,FALSE)","v":"H"}]
["ob",31524,"Christoph","Brune","MGC Dortmund Syburg e.V.","SM1: Brune, Christoph",{"$f":"VLOOKUP(A452,bangolf_kategorien!$A$2:$B$11,2,FALSE)","v":"SM1"}]
["hs",66534,"Julian","Brune","MGC Dortmund Syburg e.V.","H: Brune, Julian",{"$f":"VLOOKUP(A453,bangolf_kategorien!$A$2:$B$11,2,FALSE)","v":"H"}]
["ob",26815,"Lutz","Brune","1. MGC Ludwigshafen e.V.","SM1: Brune, Lutz",{"$f":"VLOOKUP(A454,bangolf_kategorien!$A$2:$B$11,2,FALSE)","v":"SM1"}]
["hv",61504,"Günther","Brunner","MPF Hardt e.V.","SM2: Brunner, Günther",{"$f":"VLOOKUP(A455,bangolf_kategorien!$A$2:$B$11,2,FALSE)","v":"SM2"}]
["ob",46236,"Ralf","Brunner","MSC Bad Godesberg e.V.","SM1: Brunner, Ralf",{"$f":"VLOOKUP(A456,bangolf_kategorien!$A$2:$B$11,2,FALSE)","v":"SM1"}]
["hv",17490,"Otto","Brust","1. MGC Ludwigshafen e.V.","SM2: Brust, Otto",{"$f":"VLOOKUP(A457,bangolf_kategorien!$A$2:$B$11,2,FALSE)","v":"SM2"}]
["ds",67103,"Julia","Bublitz","BGSC Bochum 1978 e.V.","D: Bublitz, Julia",{"$f":"VLOOKUP(A458,bangolf_kategorien!$A$2:$B$11,2,FALSE)","v":"D"}]
["ob",42777,"Marcus","Bublitz","1. MGC Ludwigshafen e.V.","SM1: Bublitz, Marcus",{"$f":"VLOOKUP(A459,bangolf_kategorien!$A$2:$B$11,2,FALSE)","v":"SM1"}]
["hs",34566,"Wolf","Bublitz","BGSC Bochum 1978 e.V.","H: Bublitz, Wolf",{"$f":"VLOOKUP(A460,bangolf_kategorien!$A$2:$B$11,2,FALSE)","v":"H"}]
["hs",36012,"Sascha","Büchele","MGC Schwaikheim e.V.","H: Büchele, Sascha",{"$f":"VLOOKUP(A461,bangolf_kategorien!$A$2:$B$11,2,FALSE)","v":"H"}]
["hv",22165,"Harald","Buchert","MSC Bensheim-Auerbach e.V.","SM2: Buchert, Harald",{"$f":"VLOOKUP(A462,bangolf_kategorien!$A$2:$B$11,2,FALSE)","v":"SM2"}]
["ds",51756,"Sandra","Buchert","MSC Bensheim-Auerbach e.V.","D: Buchert, Sandra",{"$f":"VLOOKUP(A463,bangolf_kategorien!$A$2:$B$11,2,FALSE)","v":"D"}]
["og",33955,"Angelika","Buchholz","Preetzer TSV von 1861 e.V. Abt. Minigolf","SW1: Buchholz, Angelika",{"$f":"VLOOKUP(A464,bangolf_kategorien!$A$2:$B$11,2,FALSE)","v":"SW1"}]
["ob",31513,"Ansgar","Buchholz","MGC \"AS\" Witten 1963 e.V.","SM1: Buchholz, Ansgar",{"$f":"VLOOKUP(A465,bangolf_kategorien!$A$2:$B$11,2,FALSE)","v":"SM1"}]
["ds",31317,"Jennifer","Buchholz","TV Trappenkamp e.V. - Minigolf -","D: Buchholz, Jennifer",{"$f":"VLOOKUP(A466,bangolf_kategorien!$A$2:$B$11,2,FALSE)","v":"D"}]
["hv",41296,"Uwe","Buchholz","Preetzer TSV von 1861 e.V. Abt. Minigolf","SM2: Buchholz, Uwe",{"$f":"VLOOKUP(A467,bangolf_kategorien!$A$2:$B$11,2,FALSE)","v":"SM2"}]
["hv",41297,"Werner","Buchholz","TV Trappenkamp e.V. - Minigolf -","SM2: Buchholz, Werner",{"$f":"VLOOKUP(A468,bangolf_kategorien!$A$2:$B$11,2,FALSE)","v":"SM2"}]
["hv",65819,"Horst","Buchner","BSC Ennepetal e.V.","SM2: Buchner, Horst",{"$f":"VLOOKUP(A469,bangolf_kategorien!$A$2:$B$11,2,FALSE)","v":"SM2"}]
["pa",67399,"Carl","Buchwieser","MSK Olching e.V.","SCHM: Buchwieser, Carl",{"$f":"VLOOKUP(A470,bangolf_kategorien!$A$2:$B$11,2,FALSE)","v":"SCHM"}]
["pa",67229,"Luis","Buchwieser","MSK Olching e.V.","SCHM: Buchwieser, Luis",{"$f":"VLOOKUP(A471,bangolf_kategorien!$A$2:$B$11,2,FALSE)","v":"SCHM"}]
["hv",38056,"Felix","Buckentin","MGC Ingolstadt e.V.","SM2: Buckentin, Felix",{"$f":"VLOOKUP(A472,bangolf_kategorien!$A$2:$B$11,2,FALSE)","v":"SM2"}]
["ob",29327,"Markus","Büdenbender","1. MSC Wesel 6.6.1966 e.V.","SM1: Büdenbender, Markus",{"$f":"VLOOKUP(A473,bangolf_kategorien!$A$2:$B$11,2,FALSE)","v":"SM1"}]
["hs",3221912,"Simon","Büdenbender","Hobby","H: Büdenbender, Simon",{"$f":"VLOOKUP(A474,bangolf_kategorien!$A$2:$B$11,2,FALSE)","v":"H"}]
["hv",34106,"Dietmar","Bühner","MGC Nümbrecht e.V.","SM2: Bühner, Dietmar",{"$f":"VLOOKUP(A475,bangolf_kategorien!$A$2:$B$11,2,FALSE)","v":"SM2"}]
["hs",29448,"Markus","Buknakowski","1. MGC Lohfelden 1997 e.V.","H: Buknakowski, Markus",{"$f":"VLOOKUP(A476,bangolf_kategorien!$A$2:$B$11,2,FALSE)","v":"H"}]
["hs",34974,"Paul","Bunse","1. BGC Paderborn e.V.","H: Bunse, Paul",{"$f":"VLOOKUP(A477,bangolf_kategorien!$A$2:$B$11,2,FALSE)","v":"H"}]
["ob",44445,"Oliver","Burde","VfM Bottrop e.V.","SM1: Burde, Oliver",{"$f":"VLOOKUP(A478,bangolf_kategorien!$A$2:$B$11,2,FALSE)","v":"SM1"}]
["hs",38584,"Yannick","Burdorf","MC Tigers Künsebeck e.V.","H: Burdorf, Yannick",{"$f":"VLOOKUP(A479,bangolf_kategorien!$A$2:$B$11,2,FALSE)","v":"H"}]
["hv",5758,"Jürgen","Burgard","Freizeit Club Bliesen e.V.","SM2: Burgard, Jürgen",{"$f":"VLOOKUP(A480,bangolf_kategorien!$A$2:$B$11,2,FALSE)","v":"SM2"}]
["hj",38436,"Norman","Burgdorf","1. BGC Wolfsburg","JM: Burgdorf, Norman",{"$f":"VLOOKUP(A481,bangolf_kategorien!$A$2:$B$11,2,FALSE)","v":"JM"}]
["og",37227,"Gabriele","Burger","1. MGC Ludwigshafen e.V.","SW1: Burger, Gabriele",{"$f":"VLOOKUP(A482,bangolf_kategorien!$A$2:$B$11,2,FALSE)","v":"SW1"}]
["ob",40281,"Harald","Burger","1. MGC Ludwigshafen e.V.","SM1: Burger, Harald",{"$f":"VLOOKUP(A483,bangolf_kategorien!$A$2:$B$11,2,FALSE)","v":"SM1"}]
["ob",45219,"Michael","Burk","MGC Millennium Lorsch e.V.","SM1: Burk, Michael",{"$f":"VLOOKUP(A484,bangolf_kategorien!$A$2:$B$11,2,FALSE)","v":"SM1"}]
["ob",1951,"Michael","Burkert","MGF Magdeburg 1995 e.V.","SM1: Burkert, Michael",{"$f":"VLOOKUP(A485,bangolf_kategorien!$A$2:$B$11,2,FALSE)","v":"SM1"}]
["dv",34305,"Renate","Burkert","MGV Bremen e.V.","SW2: Burkert, Renate",{"$f":"VLOOKUP(A486,bangolf_kategorien!$A$2:$B$11,2,FALSE)","v":"SW2"}]
["og",38135,"Sabine Monika","Burkert","MGF Magdeburg 1995 e.V.","SW1: Burkert, Sabine Monika",{"$f":"VLOOKUP(A487,bangolf_kategorien!$A$2:$B$11,2,FALSE)","v":"SW1"}]
["hv",43821,"Peter","Burkhart","MSV Bad Kreuznach","SM2: Burkhart, Peter",{"$f":"VLOOKUP(A488,bangolf_kategorien!$A$2:$B$11,2,FALSE)","v":"SM2"}]
["dv",44916,"Roswitha","Burkhart","MSV Bad Kreuznach","SW2: Burkhart, Roswitha",{"$f":"VLOOKUP(A489,bangolf_kategorien!$A$2:$B$11,2,FALSE)","v":"SW2"}]
["ob",29268,"Manfred","Burmeister","MGC Brunsbüttel e.V.","SM1: Burmeister, Manfred",{"$f":"VLOOKUP(A490,bangolf_kategorien!$A$2:$B$11,2,FALSE)","v":"SM1"}]
["hv",19315,"Wolfgang","Burmester","MGC Bad Oldesloe e.V.","SM2: Burmester, Wolfgang",{"$f":"VLOOKUP(A491,bangolf_kategorien!$A$2:$B$11,2,FALSE)","v":"SM2"}]
["dj",913,"Christin Sophie","Busch","BGC Goslar e.V.","JW: Busch, Christin Sophie",{"$f":"VLOOKUP(A492,bangolf_kategorien!$A$2:$B$11,2,FALSE)","v":"JW"}]
["ob",46026,"Michael","Busch","1. BGC Wolfsburg","SM1: Busch, Michael",{"$f":"VLOOKUP(A493,bangolf_kategorien!$A$2:$B$11,2,FALSE)","v":"SM1"}]
["ds",45253,"Simona","Busch","BGC Goslar e.V.","D: Busch, Simona",{"$f":"VLOOKUP(A494,bangolf_kategorien!$A$2:$B$11,2,FALSE)","v":"D"}]
["hv",10586,"Philip","Busche","1. MGC 1970 Göttingen e.V.","SM2: Busche, Philip",{"$f":"VLOOKUP(A495,bangolf_kategorien!$A$2:$B$11,2,FALSE)","v":"SM2"}]
["hv",3990,"Rolf","Büscher","MGC Heven e.V.","SM2: Büscher, Rolf",{"$f":"VLOOKUP(A496,bangolf_kategorien!$A$2:$B$11,2,FALSE)","v":"SM2"}]
["hs",66814,"Daniel","Buser","MGC Unterschneidheim e.V.","H: Buser, Daniel",{"$f":"VLOOKUP(A497,bangolf_kategorien!$A$2:$B$11,2,FALSE)","v":"H"}]
["ob",66328,"Peter","Büsgen","Kölner Miniatur Golf Club e.V.","SM1: Büsgen, Peter",{"$f":"VLOOKUP(A498,bangolf_kategorien!$A$2:$B$11,2,FALSE)","v":"SM1"}]
["hs",33860,"Pascal","Buske","MC Tigers Künsebeck e.V.","H: Buske, Pascal",{"$f":"VLOOKUP(A499,bangolf_kategorien!$A$2:$B$11,2,FALSE)","v":"H"}]
["hs",33859,"Patrick","Buske","MC Tigers Künsebeck e.V.","H: Buske, Patrick",{"$f":"VLOOKUP(A500,bangolf_kategorien!$A$2:$B$11,2,FALSE)","v":"H"}]
["ob",35144,"Jürgen","Butkereit","MGC Traben-Trarbach","SM1: Butkereit, Jürgen",{"$f":"VLOOKUP(A501,bangolf_kategorien!$A$2:$B$11,2,FALSE)","v":"SM1"}]
["hv",37600,"Erwin","Butscher","BGC Dormagen e.V.","SM2: Butscher, Erwin",{"$f":"VLOOKUP(A502,bangolf_kategorien!$A$2:$B$11,2,FALSE)","v":"SM2"}]
["og",47424,"Heidrun","Butter","SC Bastion Rot Weiß Lippstadt e.V.","SW1: Butter, Heidrun",{"$f":"VLOOKUP(A503,bangolf_kategorien!$A$2:$B$11,2,FALSE)","v":"SW1"}]
["hv",47421,"Rolf","Butter","SC Bastion Rot Weiß Lippstadt e.V.","SM2: Butter, Rolf",{"$f":"VLOOKUP(A504,bangolf_kategorien!$A$2:$B$11,2,FALSE)","v":"SM2"}]
["hs",23731,"Sebastian","Butter","SC Bastion Rot Weiß Lippstadt e.V.","H: Butter, Sebastian",{"$f":"VLOOKUP(A505,bangolf_kategorien!$A$2:$B$11,2,FALSE)","v":"H"}]
["hs",33659,"Alexander","Büttner","MGF Hammer e.V.","H: Büttner, Alexander",{"$f":"VLOOKUP(A506,bangolf_kategorien!$A$2:$B$11,2,FALSE)","v":"H"}]
["hs",40888,"Torben","Bychowski","MGC Harrislee-Wassersleben","H: Bychowski, Torben",{"$f":"VLOOKUP(A507,bangolf_kategorien!$A$2:$B$11,2,FALSE)","v":"H"}]
["hv",5015,"Raffaele","Canceniella","Miniaturgolf Sportclub Schriesheim e.V","SM2: Canceniella, Raffaele",{"$f":"VLOOKUP(A508,bangolf_kategorien!$A$2:$B$11,2,FALSE)","v":"SM2"}]
["ob",3234841,"Franco","Cappelletti","Hobby","SM1: Cappelletti, Franco",{"$f":"VLOOKUP(A509,bangolf_kategorien!$A$2:$B$11,2,FALSE)","v":"SM1"}]
["ds",3216785,"Sabrina","Caren","Hobby","D: Caren, Sabrina",{"$f":"VLOOKUP(A510,bangolf_kategorien!$A$2:$B$11,2,FALSE)","v":"D"}]
["hv",37789,"Gerhard","Caspar","MSV Bad Kreuznach","SM2: Caspar, Gerhard",{"$f":"VLOOKUP(A511,bangolf_kategorien!$A$2:$B$11,2,FALSE)","v":"SM2"}]
["og",67171,"Marina","Casu","MGC Ingolstadt e.V.","SW1: Casu, Marina",{"$f":"VLOOKUP(A512,bangolf_kategorien!$A$2:$B$11,2,FALSE)","v":"SW1"}]
["ob",66852,"Andree","Cech","BGSV Aßlar 1987 e.V.","SM1: Cech, Andree",{"$f":"VLOOKUP(A513,bangolf_kategorien!$A$2:$B$11,2,FALSE)","v":"SM1"}]
["hs",67048,"Marc","Cervinca","1. BGC Bad Füssing e.V.","H: Cervinca, Marc",{"$f":"VLOOKUP(A514,bangolf_kategorien!$A$2:$B$11,2,FALSE)","v":"H"}]
["hv",66543,"Bernd","Chabowski","MGV Bremen e.V.",{"$f":"CONCATENATE(G515,\": \",D515,\", \",C515)","v":"SM2: Chabowski, Bernd"},{"$f":"VLOOKUP(A515,bangolf_kategorien!$A$2:$B$11,2,FALSE)","v":"SM2"}]
["ob",44409,"Daniel","Christ","MGC Olympia Kiel e.V.","SM1: Christ, Daniel",{"$f":"VLOOKUP(A516,bangolf_kategorien!$A$2:$B$11,2,FALSE)","v":"SM1"}]
["hv",46852,"Michael","Christ","MGC Brunsbüttel e.V.","SM2: Christ, Michael",{"$f":"VLOOKUP(A517,bangolf_kategorien!$A$2:$B$11,2,FALSE)","v":"SM2"}]
["ob",40415,"Oliver","Christ","Niendorfer MC v. 1963 e.V.","SM1: Christ, Oliver",{"$f":"VLOOKUP(A518,bangolf_kategorien!$A$2:$B$11,2,FALSE)","v":"SM1"}]
["ds",35102,"Ramona","Christiansen","MC Flora Elmshorn e.V.","D: Christiansen, Ramona",{"$f":"VLOOKUP(A519,bangolf_kategorien!$A$2:$B$11,2,FALSE)","v":"D"}]
["og",65895,"Steffi","Christmann","BGC Bildstock e.V.","SW1: Christmann, Steffi",{"$f":"VLOOKUP(A520,bangolf_kategorien!$A$2:$B$11,2,FALSE)","v":"SW1"}]
["ob",65894,"Thomas","Christmann","BGC Bildstock e.V.","SM1: Christmann, Thomas",{"$f":"VLOOKUP(A521,bangolf_kategorien!$A$2:$B$11,2,FALSE)","v":"SM1"}]
["hv",36650,"Gerhard","Chrobock","MGC Einbeck","SM2: Chrobock, Gerhard",{"$f":"VLOOKUP(A522,bangolf_kategorien!$A$2:$B$11,2,FALSE)","v":"SM2"}]
["dv",67385,"Marion","Ciachera","1. Minigolf-Club Rheinhausen e.V.","SW2: Ciachera, Marion",{"$f":"VLOOKUP(A523,bangolf_kategorien!$A$2:$B$11,2,FALSE)","v":"SW2"}]
["hv",66086,"Edmund","Cieslik","1. BGC Celle von 1964 e.V.","SM2: Cieslik, Edmund",{"$f":"VLOOKUP(A524,bangolf_kategorien!$A$2:$B$11,2,FALSE)","v":"SM2"}]
["dv",12431,"Marlies","Citi","KGC  Waldstadion Frankfurt am Main","SW2: Citi, Marlies",{"$f":"VLOOKUP(A525,bangolf_kategorien!$A$2:$B$11,2,FALSE)","v":"SW2"}]
["hs",3218301,"Marlo","Claas","Hobby","H: Claas, Marlo",{"$f":"VLOOKUP(A526,bangolf_kategorien!$A$2:$B$11,2,FALSE)","v":"H"}]
["ob",40407,"Tim","Clasen","1. BGC Wolfsburg","SM1: Clasen, Tim",{"$f":"VLOOKUP(A527,bangolf_kategorien!$A$2:$B$11,2,FALSE)","v":"SM1"}]
["fa",66680,"Aylin","Clemens","MGC Marl 1960 e.V.","SCHW: Clemens, Aylin",{"$f":"VLOOKUP(A528,bangolf_kategorien!$A$2:$B$11,2,FALSE)","v":"SCHW"}]
["og",45741,"Isabella","Clemens","MGC Marl 1960 e.V.","SW1: Clemens, Isabella",{"$f":"VLOOKUP(A529,bangolf_kategorien!$A$2:$B$11,2,FALSE)","v":"SW1"}]
["hs",48980,"Jan","Clemens","MGC Marl 1960 e.V.","H: Clemens, Jan",{"$f":"VLOOKUP(A530,bangolf_kategorien!$A$2:$B$11,2,FALSE)","v":"H"}]
["fa",66681,"Leni","Clemens","MGC Marl 1960 e.V.","SCHW: Clemens, Leni",{"$f":"VLOOKUP(A531,bangolf_kategorien!$A$2:$B$11,2,FALSE)","v":"SCHW"}]
["dv",67129,"Gertrud","Cöln","BGC Schloß Paffendorf e.V.","SW2: Cöln, Gertrud",{"$f":"VLOOKUP(A532,bangolf_kategorien!$A$2:$B$11,2,FALSE)","v":"SW2"}]
["hv",66336,"Herbert","Cöln","BGC Schloß Paffendorf e.V.","SM2: Cöln, Herbert",{"$f":"VLOOKUP(A533,bangolf_kategorien!$A$2:$B$11,2,FALSE)","v":"SM2"}]
["ob",66491,"Marco","Corinth","1. MGC Gelsenkirchen e.V.","SM1: Corinth, Marco",{"$f":"VLOOKUP(A534,bangolf_kategorien!$A$2:$B$11,2,FALSE)","v":"SM1"}]
["hs",36820,"Daniel","Cortese","1. MGC Paderborn e.V.","H: Cortese, Daniel",{"$f":"VLOOKUP(A535,bangolf_kategorien!$A$2:$B$11,2,FALSE)","v":"H"}]
["dv",34693,"Annegret","Crass","HMC Büttgen e.V.","SW2: Crass, Annegret",{"$f":"VLOOKUP(A536,bangolf_kategorien!$A$2:$B$11,2,FALSE)","v":"SW2"}]
["hv",34521,"Dieter","Crass","HMC Büttgen e.V.","SM2: Crass, Dieter",{"$f":"VLOOKUP(A537,bangolf_kategorien!$A$2:$B$11,2,FALSE)","v":"SM2"}]
["hs",65843,"Yannick","Crettat","MGC Bad Homburg vdH e.V.","H: Crettat, Yannick",{"$f":"VLOOKUP(A538,bangolf_kategorien!$A$2:$B$11,2,FALSE)","v":"H"}]
["ob",44877,"Harm","Croppenstedt","Tempelhofer MV Berlin e.V.","SM1: Croppenstedt, Harm",{"$f":"VLOOKUP(A539,bangolf_kategorien!$A$2:$B$11,2,FALSE)","v":"SM1"}]
["dv",44760,"Ursula","Crößmann","1. MGC Ludwigshafen e.V.","SW2: Crößmann, Ursula",{"$f":"VLOOKUP(A540,bangolf_kategorien!$A$2:$B$11,2,FALSE)","v":"SW2"}]
["ob",49136,"Michael","Czernoch","MSC Blau-Weiß 2003 München e.V.","SM1: Czernoch, Michael",{"$f":"VLOOKUP(A541,bangolf_kategorien!$A$2:$B$11,2,FALSE)","v":"SM1"}]
["hv",21335,"Hans-Dirk","Czerwek","MSC Bensheim-Auerbach e.V.","SM2: Czerwek, Hans-Dirk",{"$f":"VLOOKUP(A542,bangolf_kategorien!$A$2:$B$11,2,FALSE)","v":"SM2"}]
["ds",31967,"Tanja","Czeslik","1. MGC Saar 68 St. Ingbert e.V.","D: Czeslik, Tanja",{"$f":"VLOOKUP(A543,bangolf_kategorien!$A$2:$B$11,2,FALSE)","v":"D"}]
["hs",38448,"Tim","Dachwald","SV Lurup Abt. Bahnengolf","H: Dachwald, Tim",{"$f":"VLOOKUP(A544,bangolf_kategorien!$A$2:$B$11,2,FALSE)","v":"H"}]
["ob",49479,"Andreas","Dageförde","1. MGC Metzingen e.V.","SM1: Dageförde, Andreas",{"$f":"VLOOKUP(A545,bangolf_kategorien!$A$2:$B$11,2,FALSE)","v":"SM1"}]
["ds",37817,"Denise","Dahl","SSC Halver e.V.","D: Dahl, Denise",{"$f":"VLOOKUP(A546,bangolf_kategorien!$A$2:$B$11,2,FALSE)","v":"D"}]
["ob",9710,"Roland","Dahl","1. KC Homburg-Saar 1967 e.V.","SM1: Dahl, Roland",{"$f":"VLOOKUP(A547,bangolf_kategorien!$A$2:$B$11,2,FALSE)","v":"SM1"}]
["hv",66399,"Matthias","Dahrendorf","SV Lurup Abt. Bahnengolf","SM2: Dahrendorf, Matthias",{"$f":"VLOOKUP(A548,bangolf_kategorien!$A$2:$B$11,2,FALSE)","v":"SM2"}]
["dv",66398,"Petra","Dahrendorf","SV Lurup Abt. Bahnengolf","SW2: Dahrendorf, Petra",{"$f":"VLOOKUP(A549,bangolf_kategorien!$A$2:$B$11,2,FALSE)","v":"SW2"}]
["pa",67263,"Mazen","Dallah","TSV Kücknitz Abt. Bahnengolf","SCHM: Dallah, Mazen",{"$f":"VLOOKUP(A550,bangolf_kategorien!$A$2:$B$11,2,FALSE)","v":"SCHM"}]
["hs",66729,"Christian","Damaschke","MGV Bremen e.V.","H: Damaschke, Christian",{"$f":"VLOOKUP(A551,bangolf_kategorien!$A$2:$B$11,2,FALSE)","v":"H"}]
["hv",25732,"Reinhold","Dammann","MGC \"AS\" Witten 1963 e.V.","SM2: Dammann, Reinhold",{"$f":"VLOOKUP(A552,bangolf_kategorien!$A$2:$B$11,2,FALSE)","v":"SM2"}]
["ob",30625,"Andreas","Dams","MGC Felderbachtal 1964 e.V.","SM1: Dams, Andreas",{"$f":"VLOOKUP(A553,bangolf_kategorien!$A$2:$B$11,2,FALSE)","v":"SM1"}]
["og",65441,"Tanja","Dams","MGC Felderbachtal 1964 e.V.","SW1: Dams, Tanja",{"$f":"VLOOKUP(A554,bangolf_kategorien!$A$2:$B$11,2,FALSE)","v":"SW1"}]
["hv",45297,"Michael","Dassek","SC Olympia Dortmund e.V.","SM2: Dassek, Michael",{"$f":"VLOOKUP(A555,bangolf_kategorien!$A$2:$B$11,2,FALSE)","v":"SM2"}]
["ob",33194,"Jürgen","Daub","Miniaturgolf Sportclub Schriesheim e.V","SM1: Daub, Jürgen",{"$f":"VLOOKUP(A556,bangolf_kategorien!$A$2:$B$11,2,FALSE)","v":"SM1"}]
["hs",66244,"Jan","Daubertshäuser","SSC Halver e.V.","H: Daubertshäuser, Jan",{"$f":"VLOOKUP(A557,bangolf_kategorien!$A$2:$B$11,2,FALSE)","v":"H"}]
["dv",5325,"Christa","Daukant","MSV Bad Kreuznach","SW2: Daukant, Christa",{"$f":"VLOOKUP(A558,bangolf_kategorien!$A$2:$B$11,2,FALSE)","v":"SW2"}]
["hj",67052,"Max Werner","Daumann","1. FMGC Lichtenfels 1961 e.V.","JM: Daumann, Max Werner",{"$f":"VLOOKUP(A559,bangolf_kategorien!$A$2:$B$11,2,FALSE)","v":"JM"}]
["hs",33904,"Thomas","Dautert","BGV Backumer Tal Herten e.V.","H: Dautert, Thomas",{"$f":"VLOOKUP(A560,bangolf_kategorien!$A$2:$B$11,2,FALSE)","v":"H"}]
["hv",35731,"Patrick","Debes","MPF Hardt e.V.","SM2: Debes, Patrick",{"$f":"VLOOKUP(A561,bangolf_kategorien!$A$2:$B$11,2,FALSE)","v":"SM2"}]
["dv",40091,"Monika","Deck","SG Arheilgen Abt. Bahnengolf","SW2: Deck, Monika",{"$f":"VLOOKUP(A562,bangolf_kategorien!$A$2:$B$11,2,FALSE)","v":"SW2"}]
["ds",36109,"Sabine","Deck","SG Arheilgen Abt. Bahnengolf","D: Deck, Sabine",{"$f":"VLOOKUP(A563,bangolf_kategorien!$A$2:$B$11,2,FALSE)","v":"D"}]
["ob",48691,"Jochen","Dedeleit","MGC Friedrichshafen e.V.","SM1: Dedeleit, Jochen",{"$f":"VLOOKUP(A564,bangolf_kategorien!$A$2:$B$11,2,FALSE)","v":"SM1"}]
["hs",37856,"Martin","Deeg","MGC Unterschneidheim e.V.","H: Deeg, Martin",{"$f":"VLOOKUP(A565,bangolf_kategorien!$A$2:$B$11,2,FALSE)","v":"H"}]
["ob",43691,"Thomas","Deepen","BGC Goslar e.V.","SM1: Deepen, Thomas",{"$f":"VLOOKUP(A566,bangolf_kategorien!$A$2:$B$11,2,FALSE)","v":"SM1"}]
["hv",33673,"Joachim","Dehne","1. BGC Paderborn e.V.","SM2: Dehne, Joachim",{"$f":"VLOOKUP(A567,bangolf_kategorien!$A$2:$B$11,2,FALSE)","v":"SM2"}]
["hs",66969,"Benjamin","Deicke","1. BGC Hannover e.V.","H: Deicke, Benjamin",{"$f":"VLOOKUP(A568,bangolf_kategorien!$A$2:$B$11,2,FALSE)","v":"H"}]
["ob",40916,"Stefan","Deider","Reinickendorfer MGC e.V.","SM1: Deider, Stefan",{"$f":"VLOOKUP(A569,bangolf_kategorien!$A$2:$B$11,2,FALSE)","v":"SM1"}]
["hv",4752,"Ottmar","Deißner","1. MGC Mannheim 1968 e.V.","SM2: Deißner, Ottmar",{"$f":"VLOOKUP(A570,bangolf_kategorien!$A$2:$B$11,2,FALSE)","v":"SM2"}]
["hs",64989,"Rene","Dejoks","BGC Diepholz e.V.","H: Dejoks, Rene",{"$f":"VLOOKUP(A571,bangolf_kategorien!$A$2:$B$11,2,FALSE)","v":"H"}]
["og",66055,"Barbara","Delasbe","MSG Kempten e.V.","SW1: Delasbe, Barbara",{"$f":"VLOOKUP(A572,bangolf_kategorien!$A$2:$B$11,2,FALSE)","v":"SW1"}]
["ob",66016,"Christian","Delasbe","MSG Kempten e.V.","SM1: Delasbe, Christian",{"$f":"VLOOKUP(A573,bangolf_kategorien!$A$2:$B$11,2,FALSE)","v":"SM1"}]
["hv",6264,"Karl-Heinz","Dellinger","MSC Bensheim-Auerbach e.V.","SM2: Dellinger, Karl-Heinz",{"$f":"VLOOKUP(A574,bangolf_kategorien!$A$2:$B$11,2,FALSE)","v":"SM2"}]
["ds",38260,"Annika","Dellmann","MSK Neheim-Hüsten e.V.","D: Dellmann, Annika",{"$f":"VLOOKUP(A575,bangolf_kategorien!$A$2:$B$11,2,FALSE)","v":"D"}]
["ob",21501,"Christoph","Dellmann","MSK Neheim-Hüsten e.V.","SM1: Dellmann, Christoph",{"$f":"VLOOKUP(A576,bangolf_kategorien!$A$2:$B$11,2,FALSE)","v":"SM1"}]
["ob",66452,"Marko","Depke","MGC Bad Salzuflen e.V.","SM1: Depke, Marko",{"$f":"VLOOKUP(A577,bangolf_kategorien!$A$2:$B$11,2,FALSE)","v":"SM1"}]
["hv",10759,"Wolfgang","Detering","MGC Bad Salzuflen e.V.","SM2: Detering, Wolfgang",{"$f":"VLOOKUP(A578,bangolf_kategorien!$A$2:$B$11,2,FALSE)","v":"SM2"}]
["hv",32810,"Heinz-Werner","Detlof","1. BGC Hannover e.V.",{"$f":"CONCATENATE(G579,\": \",D579,\", \",C579)","v":"SM2: Detlof, Heinz-Werner"},{"$f":"VLOOKUP(A579,bangolf_kategorien!$A$2:$B$11,2,FALSE)","v":"SM2"}]
["dv",33311,"Maren","Detlof","1. BGC Hannover e.V.","SW2: Detlof, Maren",{"$f":"VLOOKUP(A580,bangolf_kategorien!$A$2:$B$11,2,FALSE)","v":"SW2"}]
["hj",66085,"Erik","Dettmer","VfB Osnabrück e.V.","JM: Dettmer, Erik",{"$f":"VLOOKUP(A581,bangolf_kategorien!$A$2:$B$11,2,FALSE)","v":"JM"}]
["ob",196,"Peter","Dettmer","VfB Osnabrück e.V.","SM1: Dettmer, Peter",{"$f":"VLOOKUP(A582,bangolf_kategorien!$A$2:$B$11,2,FALSE)","v":"SM1"}]
["ds",3216759,"Carina","Deuß","Hobby","D: Deuß, Carina",{"$f":"VLOOKUP(A583,bangolf_kategorien!$A$2:$B$11,2,FALSE)","v":"D"}]
["hs",38478,"Philip","Deutschmann","BGV Backumer Tal Herten e.V.","H: Deutschmann, Philip",{"$f":"VLOOKUP(A584,bangolf_kategorien!$A$2:$B$11,2,FALSE)","v":"H"}]
["ob",42308,"Uwe","Dewor","KGC Bad Urach e.V.","SM1: Dewor, Uwe",{"$f":"VLOOKUP(A585,bangolf_kategorien!$A$2:$B$11,2,FALSE)","v":"SM1"}]
["ob",26146,"Uwe","Deya","MGC Bad Hersfeld","SM1: Deya, Uwe",{"$f":"VLOOKUP(A586,bangolf_kategorien!$A$2:$B$11,2,FALSE)","v":"SM1"}]
["hv",67349,"Alfons","Dhombruch","1. MGC Ludwigshafen e.V.","SM2: Dhombruch, Alfons",{"$f":"VLOOKUP(A587,bangolf_kategorien!$A$2:$B$11,2,FALSE)","v":"SM2"}]
["dv",67350,"Verena","Dhombruch","1. MGC Ludwigshafen e.V.","SW2: Dhombruch, Verena",{"$f":"VLOOKUP(A588,bangolf_kategorien!$A$2:$B$11,2,FALSE)","v":"SW2"}]
["hv",3106837,"Giancarlo","di Stefano","Hobby","SM2: di Stefano, Giancarlo",{"$f":"VLOOKUP(A589,bangolf_kategorien!$A$2:$B$11,2,FALSE)","v":"SM2"}]
["hs",3216788,"Christoph","Dicke","Hobby","H: Dicke, Christoph",{"$f":"VLOOKUP(A590,bangolf_kategorien!$A$2:$B$11,2,FALSE)","v":"H"}]
["hs",67084,"Stefan","Dickert","1. CGC Rot-Weiß Groß-Umstadt e.V.","H: Dickert, Stefan",{"$f":"VLOOKUP(A591,bangolf_kategorien!$A$2:$B$11,2,FALSE)","v":"H"}]
["hj",38141,"Robin","Dickes","MSK Neheim-Hüsten e.V.","JM: Dickes, Robin",{"$f":"VLOOKUP(A592,bangolf_kategorien!$A$2:$B$11,2,FALSE)","v":"JM"}]
["ob",50770,"Michael","Diedrich","1. MGC Gelsenkirchen e.V.","SM1: Diedrich, Michael",{"$f":"VLOOKUP(A593,bangolf_kategorien!$A$2:$B$11,2,FALSE)","v":"SM1"}]
["hv",28955,"Rainer","Diehl","MSC Bensheim-Auerbach e.V.","SM2: Diehl, Rainer",{"$f":"VLOOKUP(A594,bangolf_kategorien!$A$2:$B$11,2,FALSE)","v":"SM2"}]
["hv",35653,"Norbert","Diehm","2. MGC Worms","SM2: Diehm, Norbert",{"$f":"VLOOKUP(A595,bangolf_kategorien!$A$2:$B$11,2,FALSE)","v":"SM2"}]
["ob",67111,"Frank","Diener","MSC Bad Godesberg e.V.","SM1: Diener, Frank",{"$f":"VLOOKUP(A596,bangolf_kategorien!$A$2:$B$11,2,FALSE)","v":"SM1"}]
["hs",66031,"Julian","Diener","BGC Northeim e.V.","H: Diener, Julian",{"$f":"VLOOKUP(A597,bangolf_kategorien!$A$2:$B$11,2,FALSE)","v":"H"}]
["hs",66030,"Manuel","Diener","1. BGC Hannover e.V.","H: Diener, Manuel",{"$f":"VLOOKUP(A598,bangolf_kategorien!$A$2:$B$11,2,FALSE)","v":"H"}]
["pa",67401,"Marcel","Dierks","MC Georgsmarienhütte e.V.","SCHM: Dierks, Marcel",{"$f":"VLOOKUP(A599,bangolf_kategorien!$A$2:$B$11,2,FALSE)","v":"SCHM"}]
["hv",46670,"Wolfgang","Dietenberger","MSG Kempten e.V.","SM2: Dietenberger, Wolfgang",{"$f":"VLOOKUP(A600,bangolf_kategorien!$A$2:$B$11,2,FALSE)","v":"SM2"}]
["pa",67290,"Fabian","Dietz","MGC Heringen 1997 e.V.","SCHM: Dietz, Fabian",{"$f":"VLOOKUP(A601,bangolf_kategorien!$A$2:$B$11,2,FALSE)","v":"SCHM"}]
["hv",5745,"Gerhard","Dietzel","MGC Felderbachtal 1964 e.V.","SM2: Dietzel, Gerhard",{"$f":"VLOOKUP(A602,bangolf_kategorien!$A$2:$B$11,2,FALSE)","v":"SM2"}]
["dv",10953,"Veronika","Dietzel","MGC Felderbachtal 1964 e.V.","SW2: Dietzel, Veronika",{"$f":"VLOOKUP(A603,bangolf_kategorien!$A$2:$B$11,2,FALSE)","v":"SW2"}]
["hs",37963,"Anton","Dillinger","Tempelhofer MV Berlin e.V.","H: Dillinger, Anton",{"$f":"VLOOKUP(A604,bangolf_kategorien!$A$2:$B$11,2,FALSE)","v":"H"}]
["ds",36175,"Anne","Dippel","Reinickendorfer MGC e.V.","D: Dippel, Anne",{"$f":"VLOOKUP(A605,bangolf_kategorien!$A$2:$B$11,2,FALSE)","v":"D"}]
["ob",34451,"Markus","Dippelhofer","1. MGC Mannheim 1968 e.V.","SM1: Dippelhofer, Markus",{"$f":"VLOOKUP(A606,bangolf_kategorien!$A$2:$B$11,2,FALSE)","v":"SM1"}]
["ob",45139,"René","Dippelhofer","1. MGC Mainz e.V.","SM1: Dippelhofer, René",{"$f":"VLOOKUP(A607,bangolf_kategorien!$A$2:$B$11,2,FALSE)","v":"SM1"}]
["hs",45161,"Christian","Dirksmeyer","1. MGC Epe 1978 e.V.","H: Dirksmeyer, Christian",{"$f":"VLOOKUP(A608,bangolf_kategorien!$A$2:$B$11,2,FALSE)","v":"H"}]
["hs",63588,"Dennis","Dirlmeier","BGC Neutraubling e.V.","H: Dirlmeier, Dennis",{"$f":"VLOOKUP(A609,bangolf_kategorien!$A$2:$B$11,2,FALSE)","v":"H"}]
["ob",38329,"Michael","Dittrich","MGC putter Künzell 1970 e.V.","SM1: Dittrich, Michael",{"$f":"VLOOKUP(A610,bangolf_kategorien!$A$2:$B$11,2,FALSE)","v":"SM1"}]
["ds",35097,"Renate","Djezri","MSV Würzburg-Löwenbrücke e.V.","D: Djezri, Renate",{"$f":"VLOOKUP(A611,bangolf_kategorien!$A$2:$B$11,2,FALSE)","v":"D"}]
["pa",67227,"Derrick","Dobberstein","BGC Illertissen e.V.","SCHM: Dobberstein, Derrick",{"$f":"VLOOKUP(A612,bangolf_kategorien!$A$2:$B$11,2,FALSE)","v":"SCHM"}]
["hs",51818,"Tobias","Dochat","BGV Bergisch Land 1962 / 63 e.V.","H: Dochat, Tobias",{"$f":"VLOOKUP(A613,bangolf_kategorien!$A$2:$B$11,2,FALSE)","v":"H"}]
["og",3211948,"Gerlinde","Doering","Hobby","SW1: Doering, Gerlinde",{"$f":"VLOOKUP(A614,bangolf_kategorien!$A$2:$B$11,2,FALSE)","v":"SW1"}]
["og",42787,"Britta","Dohmen","BGC Uerdingen e.V.","SW1: Dohmen, Britta",{"$f":"VLOOKUP(A615,bangolf_kategorien!$A$2:$B$11,2,FALSE)","v":"SW1"}]
["hv",29548,"Stefan","Döhner","Preetzer TSV von 1861 e.V. Abt. Minigolf","SM2: Döhner, Stefan",{"$f":"VLOOKUP(A616,bangolf_kategorien!$A$2:$B$11,2,FALSE)","v":"SM2"}]
["ob",746,"Uwe","Dohrmann","1. MGC 1970 Göttingen e.V.","SM1: Dohrmann, Uwe",{"$f":"VLOOKUP(A617,bangolf_kategorien!$A$2:$B$11,2,FALSE)","v":"SM1"}]
["og",3212025,"Andrea","Doktor","Hobby","SW1: Doktor, Andrea",{"$f":"VLOOKUP(A618,bangolf_kategorien!$A$2:$B$11,2,FALSE)","v":"SW1"}]
["ds",66868,"Marie-Theres","Dolch","1. CGC Rot-Weiß Groß-Umstadt e.V.","D: Dolch, Marie-Theres",{"$f":"VLOOKUP(A619,bangolf_kategorien!$A$2:$B$11,2,FALSE)","v":"D"}]
["hv",30207,"Peter","Dolch","1. CGC Rot-Weiß Groß-Umstadt e.V.","SM2: Dolch, Peter",{"$f":"VLOOKUP(A620,bangolf_kategorien!$A$2:$B$11,2,FALSE)","v":"SM2"}]
["hv",25887,"Dietmar","Dolde","1. MGC Metzingen e.V.","SM2: Dolde, Dietmar",{"$f":"VLOOKUP(A621,bangolf_kategorien!$A$2:$B$11,2,FALSE)","v":"SM2"}]
["hv",3211957,"Peter","Doleys","Hobby","SM2: Doleys, Peter",{"$f":"VLOOKUP(A622,bangolf_kategorien!$A$2:$B$11,2,FALSE)","v":"SM2"}]
["hv",36907,"Fred","Doll","VfL Lüneburg Abt. Bahnengolf","SM2: Doll, Fred",{"$f":"VLOOKUP(A623,bangolf_kategorien!$A$2:$B$11,2,FALSE)","v":"SM2"}]
["og",67199,"Silke","Doll","BGSV Bad Homburg","SW1: Doll, Silke",{"$f":"VLOOKUP(A624,bangolf_kategorien!$A$2:$B$11,2,FALSE)","v":"SW1"}]
["hs",49414,"Markus","Dolp","BGC Illertissen e.V.","H: Dolp, Markus",{"$f":"VLOOKUP(A625,bangolf_kategorien!$A$2:$B$11,2,FALSE)","v":"H"}]
["hv",60120,"Jochen","Donath","1. Münchener MGC e.V.","SM2: Donath, Jochen",{"$f":"VLOOKUP(A626,bangolf_kategorien!$A$2:$B$11,2,FALSE)","v":"SM2"}]
["dv",5240,"Brigitte","Donnig","SG  Weiterstadt 1886 e.V.","SW2: Donnig, Brigitte",{"$f":"VLOOKUP(A627,bangolf_kategorien!$A$2:$B$11,2,FALSE)","v":"SW2"}]
["hv",6905,"Heinz","Donsbach","MSC Bad Godesberg e.V.","SM2: Donsbach, Heinz",{"$f":"VLOOKUP(A628,bangolf_kategorien!$A$2:$B$11,2,FALSE)","v":"SM2"}]
["ds",35718,"Piroschka","Dorfmeister","MGC Felderbachtal 1964 e.V.","D: Dorfmeister, Piroschka",{"$f":"VLOOKUP(A629,bangolf_kategorien!$A$2:$B$11,2,FALSE)","v":"D"}]
["hs",66811,"Matthias","Dörheit","Elbhavelland e.V., Abt. Minigolfsport","H: Dörheit, Matthias",{"$f":"VLOOKUP(A630,bangolf_kategorien!$A$2:$B$11,2,FALSE)","v":"H"}]
["hs",44395,"Kai","Dorner","MGC Dormagen-Brechten e.V.","H: Dorner, Kai",{"$f":"VLOOKUP(A631,bangolf_kategorien!$A$2:$B$11,2,FALSE)","v":"H"}]
["ob",38011,"Jochen","Dornick","1. MGC Ludwigshafen e.V.","SM1: Dornick, Jochen",{"$f":"VLOOKUP(A632,bangolf_kategorien!$A$2:$B$11,2,FALSE)","v":"SM1"}]
["hj",38012,"Kevin","Dornick","1. MGC Ludwigshafen e.V.","JM: Dornick, Kevin",{"$f":"VLOOKUP(A633,bangolf_kategorien!$A$2:$B$11,2,FALSE)","v":"JM"}]
["og",38013,"Zita","Dornick","1. MGC Ludwigshafen e.V.","SW1: Dornick, Zita",{"$f":"VLOOKUP(A634,bangolf_kategorien!$A$2:$B$11,2,FALSE)","v":"SW1"}]
["hs",66213,"Werner","Dosch","MC Ilvesheim e.V.","H: Dosch, Werner",{"$f":"VLOOKUP(A635,bangolf_kategorien!$A$2:$B$11,2,FALSE)","v":"H"}]
["ob",33733,"Michael","Dostert","MSC Bad Godesberg e.V.","SM1: Dostert, Michael",{"$f":"VLOOKUP(A636,bangolf_kategorien!$A$2:$B$11,2,FALSE)","v":"SM1"}]
["dv",46210,"Ulrike","Dowidat","1. MGC Köln 1961 e.V.","SW2: Dowidat, Ulrike",{"$f":"VLOOKUP(A637,bangolf_kategorien!$A$2:$B$11,2,FALSE)","v":"SW2"}]
["pa",67238,"Lucas","Draber","1. FMGC Lichtenfels 1961 e.V.","SCHM: Draber, Lucas",{"$f":"VLOOKUP(A638,bangolf_kategorien!$A$2:$B$11,2,FALSE)","v":"SCHM"}]
["hv",36775,"Horst","Drautzburg","Minigolfunion Neviges-Odenthal 1968 e.V.","SM2: Drautzburg, Horst",{"$f":"VLOOKUP(A639,bangolf_kategorien!$A$2:$B$11,2,FALSE)","v":"SM2"}]
["dv",66163,"Clementine","Drebert","SG  Weiterstadt 1886 e.V.","SW2: Drebert, Clementine",{"$f":"VLOOKUP(A640,bangolf_kategorien!$A$2:$B$11,2,FALSE)","v":"SW2"}]
["ob",37864,"Erich","Drebert","SG  Weiterstadt 1886 e.V.","SM1: Drebert, Erich",{"$f":"VLOOKUP(A641,bangolf_kategorien!$A$2:$B$11,2,FALSE)","v":"SM1"}]
["hv",46964,"Klaus-Dieter","Drechsler","BGC Uerdingen e.V.","SM2: Drechsler, Klaus-Dieter",{"$f":"VLOOKUP(A642,bangolf_kategorien!$A$2:$B$11,2,FALSE)","v":"SM2"}]
["og",3211286,"Christine","Drees","Hobby",{"$f":"CONCATENATE(G643,\": \",D643,\", \",C643)","v":"SW1: Drees, Christine"},{"$f":"VLOOKUP(A643,bangolf_kategorien!$A$2:$B$11,2,FALSE)","v":"SW1"}]
["hv",5717,"Hans","Dreger","SV 1890 e.V. Dreieichenhain, Abt. Bahnengolf","SM2: Dreger, Hans",{"$f":"VLOOKUP(A644,bangolf_kategorien!$A$2:$B$11,2,FALSE)","v":"SM2"}]
["hv",23778,"Burkhard","Dreischer","SC Olympia Dortmund e.V.","SM2: Dreischer, Burkhard",{"$f":"VLOOKUP(A645,bangolf_kategorien!$A$2:$B$11,2,FALSE)","v":"SM2"}]
["hv",26505,"Gerd","Drenkelforth","SC Olympia Dortmund e.V.","SM2: Drenkelforth, Gerd",{"$f":"VLOOKUP(A646,bangolf_kategorien!$A$2:$B$11,2,FALSE)","v":"SM2"}]
["hv",4510,"Manfred","Drescher","MGC Wetzlar e.V.","SM2: Drescher, Manfred",{"$f":"VLOOKUP(A647,bangolf_kategorien!$A$2:$B$11,2,FALSE)","v":"SM2"}]
["hv",36519,"Kurt","Dresel","MGC Ingolstadt e.V.","SM2: Dresel, Kurt",{"$f":"VLOOKUP(A648,bangolf_kategorien!$A$2:$B$11,2,FALSE)","v":"SM2"}]
["hs",35132,"Daniel","Drewes","MGC putter Künzell 1970 e.V.","H: Drewes, Daniel",{"$f":"VLOOKUP(A649,bangolf_kategorien!$A$2:$B$11,2,FALSE)","v":"H"}]
["hv",6203,"Horst","Dreyer","VfL Lüneburg Abt. Bahnengolf","SM2: Dreyer, Horst",{"$f":"VLOOKUP(A650,bangolf_kategorien!$A$2:$B$11,2,FALSE)","v":"SM2"}]
["hv",67252,"Alfons","Driemel","MGC Bad Waldsee 1990 e.V.","SM2: Driemel, Alfons",{"$f":"VLOOKUP(A651,bangolf_kategorien!$A$2:$B$11,2,FALSE)","v":"SM2"}]
["ob",65719,"Andreas","Drobik","BGC Bremen e.V.","SM1: Drobik, Andreas",{"$f":"VLOOKUP(A652,bangolf_kategorien!$A$2:$B$11,2,FALSE)","v":"SM1"}]
["og",65720,"Kerstin","Drobik","MGV Bremen e.V.","SW1: Drobik, Kerstin",{"$f":"VLOOKUP(A653,bangolf_kategorien!$A$2:$B$11,2,FALSE)","v":"SW1"}]
["ob",66043,"Peter","Droste","BGSV Bad Homburg","SM1: Droste, Peter",{"$f":"VLOOKUP(A654,bangolf_kategorien!$A$2:$B$11,2,FALSE)","v":"SM1"}]
["hv",66152,"Günter","Drostel","1. Minigolf-Club Rheinhausen e.V.","SM2: Drostel, Günter",{"$f":"VLOOKUP(A655,bangolf_kategorien!$A$2:$B$11,2,FALSE)","v":"SM2"}]
["hs",36524,"Sebastian","Dudenhöffer","BSV Inzlingen 1979 e.V.","H: Dudenhöffer, Sebastian",{"$f":"VLOOKUP(A656,bangolf_kategorien!$A$2:$B$11,2,FALSE)","v":"H"}]
["ob",43595,"Jürgen","Duensing","BGC Diepholz e.V.","SM1: Duensing, Jürgen",{"$f":"VLOOKUP(A657,bangolf_kategorien!$A$2:$B$11,2,FALSE)","v":"SM1"}]
["ob",65469,"Norbert","Dullau","1. MGC Gelsenkirchen e.V.","SM1: Dullau, Norbert",{"$f":"VLOOKUP(A658,bangolf_kategorien!$A$2:$B$11,2,FALSE)","v":"SM1"}]
["hv",3826,"Winfried","Dümmler","1. KC Homburg-Saar 1967 e.V.","SM2: Dümmler, Winfried",{"$f":"VLOOKUP(A659,bangolf_kategorien!$A$2:$B$11,2,FALSE)","v":"SM2"}]
["hs",67108,"Michael","Dunkel","1. BGC Landshut e.V.","H: Dunkel, Michael",{"$f":"VLOOKUP(A660,bangolf_kategorien!$A$2:$B$11,2,FALSE)","v":"H"}]
["dv",43951,"Heike","Dunker","SSC Halver e.V.","SW2: Dunker, Heike",{"$f":"VLOOKUP(A661,bangolf_kategorien!$A$2:$B$11,2,FALSE)","v":"SW2"}]
["hv",18014,"Klaus","Dunker","SSC Halver e.V.","SM2: Dunker, Klaus",{"$f":"VLOOKUP(A662,bangolf_kategorien!$A$2:$B$11,2,FALSE)","v":"SM2"}]
["hs",3121044,"Maik","Dunker","Hobby","H: Dunker, Maik",{"$f":"VLOOKUP(A663,bangolf_kategorien!$A$2:$B$11,2,FALSE)","v":"H"}]
["hs",37832,"Sven","Dunker","VfB Osnabrück e.V.","H: Dunker, Sven",{"$f":"VLOOKUP(A664,bangolf_kategorien!$A$2:$B$11,2,FALSE)","v":"H"}]
["ds",3218302,"Silke","Durben","Hobby","D: Durben, Silke",{"$f":"VLOOKUP(A665,bangolf_kategorien!$A$2:$B$11,2,FALSE)","v":"D"}]
["ob",38529,"Ralf","Durm","BGC Bildstock e.V.","SM1: Durm, Ralf",{"$f":"VLOOKUP(A666,bangolf_kategorien!$A$2:$B$11,2,FALSE)","v":"SM1"}]
["ob",47022,"Thomas","Dürr","TV Niederstetten 1862 e.V.  Abt. Minigolf","SM1: Dürr, Thomas",{"$f":"VLOOKUP(A667,bangolf_kategorien!$A$2:$B$11,2,FALSE)","v":"SM1"}]
["hv",61825,"Otto","Duzella","SGC Hagen e.V.","SM2: Duzella, Otto",{"$f":"VLOOKUP(A668,bangolf_kategorien!$A$2:$B$11,2,FALSE)","v":"SM2"}]
["hs",65906,"Christopher","Dzäbel","BGC Goslar e.V.","H: Dzäbel, Christopher",{"$f":"VLOOKUP(A669,bangolf_kategorien!$A$2:$B$11,2,FALSE)","v":"H"}]
["og",65905,"Gregoria","Dzäbel","BGC Goslar e.V.","SW1: Dzäbel, Gregoria",{"$f":"VLOOKUP(A670,bangolf_kategorien!$A$2:$B$11,2,FALSE)","v":"SW1"}]
["hs",65904,"Marc Anthony","Dzäbel","BGC Goslar e.V.","H: Dzäbel, Marc Anthony",{"$f":"VLOOKUP(A671,bangolf_kategorien!$A$2:$B$11,2,FALSE)","v":"H"}]
["ob",65903,"Ralf","Dzäbel","BGC Goslar e.V.","SM1: Dzäbel, Ralf",{"$f":"VLOOKUP(A672,bangolf_kategorien!$A$2:$B$11,2,FALSE)","v":"SM1"}]
["ob",66844,"Siegbert","Eberhardt","BG Pfullingen","SM1: Eberhardt, Siegbert",{"$f":"VLOOKUP(A673,bangolf_kategorien!$A$2:$B$11,2,FALSE)","v":"SM1"}]
["hs",36496,"Nick-Manuel","Eberle","MGC Rot-Weiß Wanne-Eickel e.V.","H: Eberle, Nick-Manuel",{"$f":"VLOOKUP(A674,bangolf_kategorien!$A$2:$B$11,2,FALSE)","v":"H"}]
["hv",45272,"Alfred","Ebert","BGS Hardenberg-Pötter e.V.","SM2: Ebert, Alfred",{"$f":"VLOOKUP(A675,bangolf_kategorien!$A$2:$B$11,2,FALSE)","v":"SM2"}]
["ob",26534,"Robert","Ebi","MGF Hilzingen 80 e.V.","SM1: Ebi, Robert",{"$f":"VLOOKUP(A676,bangolf_kategorien!$A$2:$B$11,2,FALSE)","v":"SM1"}]
["ob",46087,"Hans-Joachim","Eckerle","1. BGC Paderborn e.V.","SM1: Eckerle, Hans-Joachim",{"$f":"VLOOKUP(A677,bangolf_kategorien!$A$2:$B$11,2,FALSE)","v":"SM1"}]
["ob",3212546,"Sven","Eckermann","Hobby","SM1: Eckermann, Sven",{"$f":"VLOOKUP(A678,bangolf_kategorien!$A$2:$B$11,2,FALSE)","v":"SM1"}]
["hs",36468,"Manuel","Eckert","1. KC Homburg-Saar 1967 e.V.","H: Eckert, Manuel",{"$f":"VLOOKUP(A679,bangolf_kategorien!$A$2:$B$11,2,FALSE)","v":"H"}]
["hs",66203,"Philipp","Eckert","BGC Heilbronn e.V.","H: Eckert, Philipp",{"$f":"VLOOKUP(A680,bangolf_kategorien!$A$2:$B$11,2,FALSE)","v":"H"}]
["hv",62030,"Horst","Eckloff","MGC Olympia Kiel e.V.","SM2: Eckloff, Horst",{"$f":"VLOOKUP(A681,bangolf_kategorien!$A$2:$B$11,2,FALSE)","v":"SM2"}]
["hv",66495,"Helmut","Eckstein","MGC Wolnzach e.V.","SM2: Eckstein, Helmut",{"$f":"VLOOKUP(A682,bangolf_kategorien!$A$2:$B$11,2,FALSE)","v":"SM2"}]
["dv",66496,"Sonja","Eckstein","MGC Wolnzach e.V.","SW2: Eckstein, Sonja",{"$f":"VLOOKUP(A683,bangolf_kategorien!$A$2:$B$11,2,FALSE)","v":"SW2"}]
["ob",27480,"Jürgen","Edelmann","BGC Heilbronn e.V.","SM1: Edelmann, Jürgen",{"$f":"VLOOKUP(A684,bangolf_kategorien!$A$2:$B$11,2,FALSE)","v":"SM1"}]
["og",38404,"Gina","Edsen","MGC Harrislee-Wassersleben","SW1: Edsen, Gina",{"$f":"VLOOKUP(A685,bangolf_kategorien!$A$2:$B$11,2,FALSE)","v":"SW1"}]
["og",67312,"Cornelia","Effenberger","MGC Bad Homburg vdH e.V.","SW1: Effenberger, Cornelia",{"$f":"VLOOKUP(A686,bangolf_kategorien!$A$2:$B$11,2,FALSE)","v":"SW1"}]
["hv",67313,"Thomas","Effenberger","MGC Bad Homburg vdH e.V.","SM2: Effenberger, Thomas",{"$f":"VLOOKUP(A687,bangolf_kategorien!$A$2:$B$11,2,FALSE)","v":"SM2"}]
["hv",23923,"Helmut","Efinger","HMC Büttgen e.V.","SM2: Efinger, Helmut",{"$f":"VLOOKUP(A688,bangolf_kategorien!$A$2:$B$11,2,FALSE)","v":"SM2"}]
["hv",4181,"Erich","Egger","MC Ilvesheim e.V.","SM2: Egger, Erich",{"$f":"VLOOKUP(A689,bangolf_kategorien!$A$2:$B$11,2,FALSE)","v":"SM2"}]
["ob",46406,"Hans-Jürgen","Egger","BGC Neutraubling e.V.","SM1: Egger, Hans-Jürgen",{"$f":"VLOOKUP(A690,bangolf_kategorien!$A$2:$B$11,2,FALSE)","v":"SM1"}]
["dv",18298,"Irene","Egger","MC Ilvesheim e.V.","SW2: Egger, Irene",{"$f":"VLOOKUP(A691,bangolf_kategorien!$A$2:$B$11,2,FALSE)","v":"SW2"}]
["hv",48601,"Gerd","Ehlebracht","1. BGC Paderborn e.V.","SM2: Ehlebracht, Gerd",{"$f":"VLOOKUP(A692,bangolf_kategorien!$A$2:$B$11,2,FALSE)","v":"SM2"}]
["ob",3106831,"Florian","Ehlers","Hobby","SM1: Ehlers, Florian",{"$f":"VLOOKUP(A693,bangolf_kategorien!$A$2:$B$11,2,FALSE)","v":"SM1"}]
["hs",34426,"Sascha","Ehlers","1. MGC Peine von 1965 e.V.","H: Ehlers, Sascha",{"$f":"VLOOKUP(A694,bangolf_kategorien!$A$2:$B$11,2,FALSE)","v":"H"}]
["hv",33996,"Ulrich","Ehlert","HMC Büttgen e.V.","SM2: Ehlert, Ulrich",{"$f":"VLOOKUP(A695,bangolf_kategorien!$A$2:$B$11,2,FALSE)","v":"SM2"}]
["hs",34006,"Christoph","Ehm","1. BGC Celle von 1964 e.V.","H: Ehm, Christoph",{"$f":"VLOOKUP(A696,bangolf_kategorien!$A$2:$B$11,2,FALSE)","v":"H"}]
["ds",35737,"Jasmin","Ehm","1. MGC 1970 Göttingen e.V.","D: Ehm, Jasmin",{"$f":"VLOOKUP(A697,bangolf_kategorien!$A$2:$B$11,2,FALSE)","v":"D"}]
["og",46898,"Marion","Ehm","1. BGC Celle von 1964 e.V.","SW1: Ehm, Marion",{"$f":"VLOOKUP(A698,bangolf_kategorien!$A$2:$B$11,2,FALSE)","v":"SW1"}]
["ob",34315,"Josef","Ehrenberg","MGC \"Stahlquelle\" Bad Bocklet","SM1: Ehrenberg, Josef",{"$f":"VLOOKUP(A699,bangolf_kategorien!$A$2:$B$11,2,FALSE)","v":"SM1"}]
["dv",3634,"Gerda","Ehresmann","1. MGC Ludwigshafen e.V.","SW2: Ehresmann, Gerda",{"$f":"VLOOKUP(A700,bangolf_kategorien!$A$2:$B$11,2,FALSE)","v":"SW2"}]
["hv",30000,"Volkmar","Ehrhardt","1. BGC Celle von 1964 e.V.","SM2: Ehrhardt, Volkmar",{"$f":"VLOOKUP(A701,bangolf_kategorien!$A$2:$B$11,2,FALSE)","v":"SM2"}]
["fa",67144,"Gina","Ehrich","SV Lurup Abt. Bahnengolf","SCHW: Ehrich, Gina",{"$f":"VLOOKUP(A702,bangolf_kategorien!$A$2:$B$11,2,FALSE)","v":"SCHW"}]
["ob",44758,"Marcus","Ehrlich","KGC  Waldstadion Frankfurt am Main","SM1: Ehrlich, Marcus",{"$f":"VLOOKUP(A703,bangolf_kategorien!$A$2:$B$11,2,FALSE)","v":"SM1"}]
["hs",29692,"Steffen","Ehrlich","BGC Neutraubling e.V.","H: Ehrlich, Steffen",{"$f":"VLOOKUP(A704,bangolf_kategorien!$A$2:$B$11,2,FALSE)","v":"H"}]
["ob",66759,"Maximilian","Ehrnstraßer","MGC Ingolstadt e.V.","SM1: Ehrnstraßer, Maximilian",{"$f":"VLOOKUP(A705,bangolf_kategorien!$A$2:$B$11,2,FALSE)","v":"SM1"}]
["hv",21680,"Karl-Heinz","Eichert","1. MGC Ladenburg e.V.","SM2: Eichert, Karl-Heinz",{"$f":"VLOOKUP(A706,bangolf_kategorien!$A$2:$B$11,2,FALSE)","v":"SM2"}]
["dv",66259,"Bärbel","Eichhof","MGC Bad Salzuflen e.V.",{"$f":"CONCATENATE(G707,\": \",D707,\", \",C707)","v":"SW2: Eichhof, Bärbel"},{"$f":"VLOOKUP(A707,bangolf_kategorien!$A$2:$B$11,2,FALSE)","v":"SW2"}]
["hv",20044,"Herbert","Eichhorn","MSV Bad Kreuznach","SM2: Eichhorn, Herbert",{"$f":"VLOOKUP(A708,bangolf_kategorien!$A$2:$B$11,2,FALSE)","v":"SM2"}]
["hv",29197,"Joachim","Eichhorn","1. MGC Mainz e.V.","SM2: Eichhorn, Joachim",{"$f":"VLOOKUP(A709,bangolf_kategorien!$A$2:$B$11,2,FALSE)","v":"SM2"}]
["hs",33707,"Marco","Eigenbrod","SG Arheilgen Abt. Bahnengolf","H: Eigenbrod, Marco",{"$f":"VLOOKUP(A710,bangolf_kategorien!$A$2:$B$11,2,FALSE)","v":"H"}]
["hv",49368,"Norbert","Eilert","VfM Bottrop e.V.","SM2: Eilert, Norbert",{"$f":"VLOOKUP(A711,bangolf_kategorien!$A$2:$B$11,2,FALSE)","v":"SM2"}]
["dv",49367,"Sigrid","Eilert","VfM Bottrop e.V.","SW2: Eilert, Sigrid",{"$f":"VLOOKUP(A712,bangolf_kategorien!$A$2:$B$11,2,FALSE)","v":"SW2"}]
["dv",31727,"Frauke","Eilts","MSK Olching e.V.","SW2: Eilts, Frauke",{"$f":"VLOOKUP(A713,bangolf_kategorien!$A$2:$B$11,2,FALSE)","v":"SW2"}]
["hv",67308,"Jost-Ulrich","Eimer","MGC Nümbrecht e.V.","SM2: Eimer, Jost-Ulrich",{"$f":"VLOOKUP(A714,bangolf_kategorien!$A$2:$B$11,2,FALSE)","v":"SM2"}]
["hv",48283,"Dominikus","Eisele","MGF Steinbruch Kempten","SM2: Eisele, Dominikus",{"$f":"VLOOKUP(A715,bangolf_kategorien!$A$2:$B$11,2,FALSE)","v":"SM2"}]
["og",36867,"Sabine","Eisele","MGF Steinbruch Kempten","SW1: Eisele, Sabine",{"$f":"VLOOKUP(A716,bangolf_kategorien!$A$2:$B$11,2,FALSE)","v":"SW1"}]
["hv",67376,"Hans","Eisen","Minigolf-Club Diessen","SM2: Eisen, Hans",{"$f":"VLOOKUP(A717,bangolf_kategorien!$A$2:$B$11,2,FALSE)","v":"SM2"}]
["ob",40364,"Peter","Eisenberger","OMGC Ingolstadt e.V.","SM1: Eisenberger, Peter",{"$f":"VLOOKUP(A718,bangolf_kategorien!$A$2:$B$11,2,FALSE)","v":"SM1"}]
["hv",34412,"Hans-Dieter","Eiserfey","1. BGC Wesseling 1975 e.V.","SM2: Eiserfey, Hans-Dieter",{"$f":"VLOOKUP(A719,bangolf_kategorien!$A$2:$B$11,2,FALSE)","v":"SM2"}]
["ob",24693,"Bernd","Eisermann","MGC \"AS\" Witten 1963 e.V.","SM1: Eisermann, Bernd",{"$f":"VLOOKUP(A720,bangolf_kategorien!$A$2:$B$11,2,FALSE)","v":"SM1"}]
["hv",35449,"Dirk","Eisleben","BGC Schloß Paffendorf e.V.","SM2: Eisleben, Dirk",{"$f":"VLOOKUP(A721,bangolf_kategorien!$A$2:$B$11,2,FALSE)","v":"SM2"}]
["dv",4338,"Elfriede","Ekholm","Miniaturgolf Sportclub Schriesheim e.V","SW2: Ekholm, Elfriede",{"$f":"VLOOKUP(A722,bangolf_kategorien!$A$2:$B$11,2,FALSE)","v":"SW2"}]
["hs",49246,"Karim","El Gharbi","MSV Bad Kreuznach","H: El Gharbi, Karim",{"$f":"VLOOKUP(A723,bangolf_kategorien!$A$2:$B$11,2,FALSE)","v":"H"}]
["hs",29690,"Jörg","Elbert","MGC Rot-Weiß Wanne-Eickel e.V.","H: Elbert, Jörg",{"$f":"VLOOKUP(A724,bangolf_kategorien!$A$2:$B$11,2,FALSE)","v":"H"}]
["hs",38449,"Nikolei","Elich","SV Lurup Abt. Bahnengolf","H: Elich, Nikolei",{"$f":"VLOOKUP(A725,bangolf_kategorien!$A$2:$B$11,2,FALSE)","v":"H"}]
["hs",28184,"Tim","Eller","TSV Pfungstadt Abt. Bahnengolf e.V.","H: Eller, Tim",{"$f":"VLOOKUP(A726,bangolf_kategorien!$A$2:$B$11,2,FALSE)","v":"H"}]
["hv",67217,"Klaus-Martin","Ellerbrock","MGC Felderbachtal 1964 e.V.","SM2: Ellerbrock, Klaus-Martin",{"$f":"VLOOKUP(A727,bangolf_kategorien!$A$2:$B$11,2,FALSE)","v":"SM2"}]
["ob",35197,"Harry","Ellhoff","1. MGC Peine von 1965 e.V.","SM1: Ellhoff, Harry",{"$f":"VLOOKUP(A728,bangolf_kategorien!$A$2:$B$11,2,FALSE)","v":"SM1"}]
["hv",37837,"Gerald","Elliot","MGC Bad Homburg vdH e.V.","SM2: Elliot, Gerald",{"$f":"VLOOKUP(A729,bangolf_kategorien!$A$2:$B$11,2,FALSE)","v":"SM2"}]
["ob",48907,"Thomas","Elmer","Minigolfunion Neviges-Odenthal 1968 e.V.","SM1: Elmer, Thomas",{"$f":"VLOOKUP(A730,bangolf_kategorien!$A$2:$B$11,2,FALSE)","v":"SM1"}]
["ob",45330,"Robert","Elst","1. MGC Bamberg e.V.","SM1: Elst, Robert",{"$f":"VLOOKUP(A731,bangolf_kategorien!$A$2:$B$11,2,FALSE)","v":"SM1"}]
["og",66974,"Michaela","Emich","1. MC Weinheim e.V.","SW1: Emich, Michaela",{"$f":"VLOOKUP(A732,bangolf_kategorien!$A$2:$B$11,2,FALSE)","v":"SW1"}]
["hv",66975,"Peter","Emich","1. MC Weinheim e.V.","SM2: Emich, Peter",{"$f":"VLOOKUP(A733,bangolf_kategorien!$A$2:$B$11,2,FALSE)","v":"SM2"}]
["hs",38419,"Tim","Emmendörffer","MGC Rot-Weiß Wanne-Eickel e.V.","H: Emmendörffer, Tim",{"$f":"VLOOKUP(A734,bangolf_kategorien!$A$2:$B$11,2,FALSE)","v":"H"}]
["ds",67247,"Brigitte","Emmerich","MGV Ansbach e.V.","D: Emmerich, Brigitte",{"$f":"VLOOKUP(A735,bangolf_kategorien!$A$2:$B$11,2,FALSE)","v":"D"}]
["fa",67246,"Lea","Emmerich","MGV Ansbach e.V.","SCHW: Emmerich, Lea",{"$f":"VLOOKUP(A736,bangolf_kategorien!$A$2:$B$11,2,FALSE)","v":"SCHW"}]
["fa",67201,"Lilly","Emmerich","BGC Bildstock e.V.","SCHW: Emmerich, Lilly",{"$f":"VLOOKUP(A737,bangolf_kategorien!$A$2:$B$11,2,FALSE)","v":"SCHW"}]
["ds",67131,"Sina","Emmerich","BGC Bildstock e.V.","D: Emmerich, Sina",{"$f":"VLOOKUP(A738,bangolf_kategorien!$A$2:$B$11,2,FALSE)","v":"D"}]
["hs",67329,"David","Emuze","Minigolfclub Karlshagen e.V.","H: Emuze, David",{"$f":"VLOOKUP(A739,bangolf_kategorien!$A$2:$B$11,2,FALSE)","v":"H"}]
["pa",67328,"Thabo","Emuze","Minigolfclub Karlshagen e.V.","SCHM: Emuze, Thabo",{"$f":"VLOOKUP(A740,bangolf_kategorien!$A$2:$B$11,2,FALSE)","v":"SCHM"}]
["dv",5082,"Hannelore","Endres","1. FMGC Lichtenfels 1961 e.V.","SW2: Endres, Hannelore",{"$f":"VLOOKUP(A741,bangolf_kategorien!$A$2:$B$11,2,FALSE)","v":"SW2"}]
["hv",17861,"Heinrich","Endres","1. FMGC Lichtenfels 1961 e.V.","SM2: Endres, Heinrich",{"$f":"VLOOKUP(A742,bangolf_kategorien!$A$2:$B$11,2,FALSE)","v":"SM2"}]
["pa",67402,"Jonas","Endter","1. BGC Leipzig e.V.","SCHM: Endter, Jonas",{"$f":"VLOOKUP(A743,bangolf_kategorien!$A$2:$B$11,2,FALSE)","v":"SCHM"}]
["hv",31683,"Wolfgang","Engel","MGC Monrepos e.V.","SM2: Engel, Wolfgang",{"$f":"VLOOKUP(A744,bangolf_kategorien!$A$2:$B$11,2,FALSE)","v":"SM2"}]
["ds",31082,"Anika","Engelbracht","SC Olympia Dortmund e.V.","D: Engelbracht, Anika",{"$f":"VLOOKUP(A745,bangolf_kategorien!$A$2:$B$11,2,FALSE)","v":"D"}]
["hs",41719,"Jens","Engelbracht","SC Olympia Dortmund e.V.","H: Engelbracht, Jens",{"$f":"VLOOKUP(A746,bangolf_kategorien!$A$2:$B$11,2,FALSE)","v":"H"}]
["hv",1359,"Uwe","Engelmann","1. MGC Peine von 1965 e.V.","SM2: Engelmann, Uwe",{"$f":"VLOOKUP(A747,bangolf_kategorien!$A$2:$B$11,2,FALSE)","v":"SM2"}]
["hv",61068,"Klaus","Engels","MGC Rot-Weiß Wanne-Eickel e.V.","SM2: Engels, Klaus",{"$f":"VLOOKUP(A748,bangolf_kategorien!$A$2:$B$11,2,FALSE)","v":"SM2"}]
["ob",41246,"Thomas","Engesser","MGF Hilzingen 80 e.V.","SM1: Engesser, Thomas",{"$f":"VLOOKUP(A749,bangolf_kategorien!$A$2:$B$11,2,FALSE)","v":"SM1"}]
["ds",67260,"Nicole","Enke","BGC Goslar e.V.","D: Enke, Nicole",{"$f":"VLOOKUP(A750,bangolf_kategorien!$A$2:$B$11,2,FALSE)","v":"D"}]
["ds",67259,"Solveig Manuela Akiko","Enke","BGC Goslar e.V.","D: Enke, Solveig Manuela Akiko",{"$f":"VLOOKUP(A751,bangolf_kategorien!$A$2:$B$11,2,FALSE)","v":"D"}]
["hv",33460,"Heiner","Entelmann","MGV Bremen e.V.","SM2: Entelmann, Heiner",{"$f":"VLOOKUP(A752,bangolf_kategorien!$A$2:$B$11,2,FALSE)","v":"SM2"}]
["hs",45061,"Sven","Eresch","Miniaturgolf Sportclub Schriesheim e.V","H: Eresch, Sven",{"$f":"VLOOKUP(A753,bangolf_kategorien!$A$2:$B$11,2,FALSE)","v":"H"}]
["hv",4408,"Wolfgang","Erfurth","TV Trappenkamp e.V. - Minigolf -","SM2: Erfurth, Wolfgang",{"$f":"VLOOKUP(A754,bangolf_kategorien!$A$2:$B$11,2,FALSE)","v":"SM2"}]
["og",28046,"Isolde","Erhard","BGC Rheinau-Freistett e.V.","SW1: Erhard, Isolde",{"$f":"VLOOKUP(A755,bangolf_kategorien!$A$2:$B$11,2,FALSE)","v":"SW1"}]
["ob",35788,"Wolfram","Erhard","BGC Rheinau-Freistett e.V.","SM1: Erhard, Wolfram",{"$f":"VLOOKUP(A756,bangolf_kategorien!$A$2:$B$11,2,FALSE)","v":"SM1"}]
["hs",30972,"Florian","Erhart","1. BGC Landshut e.V.","H: Erhart, Florian",{"$f":"VLOOKUP(A757,bangolf_kategorien!$A$2:$B$11,2,FALSE)","v":"H"}]
["ob",65947,"Matthias","Erhart","BGC Bremen e.V.","SM1: Erhart, Matthias",{"$f":"VLOOKUP(A758,bangolf_kategorien!$A$2:$B$11,2,FALSE)","v":"SM1"}]
["og",3251093,"Sabine","Erhart","Hobby","SW1: Erhart, Sabine",{"$f":"VLOOKUP(A759,bangolf_kategorien!$A$2:$B$11,2,FALSE)","v":"SW1"}]
["hs",28515,"Harald","Erlbruch","BGS Hardenberg-Pötter e.V.","H: Erlbruch, Harald",{"$f":"VLOOKUP(A760,bangolf_kategorien!$A$2:$B$11,2,FALSE)","v":"H"}]
["dv",23579,"Monika","Erlbruch","1. BGC Hannover e.V.","SW2: Erlbruch, Monika",{"$f":"VLOOKUP(A761,bangolf_kategorien!$A$2:$B$11,2,FALSE)","v":"SW2"}]
["ob",42994,"Walter","Erlbruch","BGS Hardenberg-Pötter e.V.","SM1: Erlbruch, Walter",{"$f":"VLOOKUP(A762,bangolf_kategorien!$A$2:$B$11,2,FALSE)","v":"SM1"}]
["ob",65927,"Klaus","Ernst","1. BGC Wesseling 1975 e.V.","SM1: Ernst, Klaus",{"$f":"VLOOKUP(A763,bangolf_kategorien!$A$2:$B$11,2,FALSE)","v":"SM1"}]
["og",67163,"Petra","Ernst","1. BGC Wesseling 1975 e.V.","SW1: Ernst, Petra",{"$f":"VLOOKUP(A764,bangolf_kategorien!$A$2:$B$11,2,FALSE)","v":"SW1"}]
["dv",40033,"Elisabeth","Ernstberger","1. MGC Mitterteich-Großbüchlberg","SW2: Ernstberger, Elisabeth",{"$f":"VLOOKUP(A765,bangolf_kategorien!$A$2:$B$11,2,FALSE)","v":"SW2"}]
["ob",42527,"Wolfgang","Ernstberger","1. MGC Mitterteich-Großbüchlberg","SM1: Ernstberger, Wolfgang",{"$f":"VLOOKUP(A766,bangolf_kategorien!$A$2:$B$11,2,FALSE)","v":"SM1"}]
["hs",64551,"Daniel","Ertl","OMGC Ingolstadt e.V.","H: Ertl, Daniel",{"$f":"VLOOKUP(A767,bangolf_kategorien!$A$2:$B$11,2,FALSE)","v":"H"}]
["og",65623,"Johanna","Ertl","1. BGC Landshut e.V.","SW1: Ertl, Johanna",{"$f":"VLOOKUP(A768,bangolf_kategorien!$A$2:$B$11,2,FALSE)","v":"SW1"}]
["ob",63843,"Reinhold","Ertl","1. BGC Landshut e.V.","SM1: Ertl, Reinhold",{"$f":"VLOOKUP(A769,bangolf_kategorien!$A$2:$B$11,2,FALSE)","v":"SM1"}]
["hs",28086,"Dirk","Eschmann","1. MGC Ludwigshafen e.V.","H: Eschmann, Dirk",{"$f":"VLOOKUP(A770,bangolf_kategorien!$A$2:$B$11,2,FALSE)","v":"H"}]
["hv",49300,"Jürgen","Eschmann","1. MGC Mainz e.V.",{"$f":"CONCATENATE(G771,\": \",D771,\", \",C771)","v":"SM2: Eschmann, Jürgen"},{"$f":"VLOOKUP(A771,bangolf_kategorien!$A$2:$B$11,2,FALSE)","v":"SM2"}]
["ob",29883,"Gerd","Esser","1.KGC Mönchengladbach e.V.","SM1: Esser, Gerd",{"$f":"VLOOKUP(A772,bangolf_kategorien!$A$2:$B$11,2,FALSE)","v":"SM1"}]
["hv",12305,"Horst","Esser","BGC Uerdingen e.V.","SM2: Esser, Horst",{"$f":"VLOOKUP(A773,bangolf_kategorien!$A$2:$B$11,2,FALSE)","v":"SM2"}]
["hv",61555,"Gerhard","Essig","1. Münchener MGC e.V.","SM2: Essig, Gerhard",{"$f":"VLOOKUP(A774,bangolf_kategorien!$A$2:$B$11,2,FALSE)","v":"SM2"}]
["hs",65940,"Alessandro","Essler","1. Duisburger Minigolf Club 1962 e.V.","H: Essler, Alessandro",{"$f":"VLOOKUP(A775,bangolf_kategorien!$A$2:$B$11,2,FALSE)","v":"H"}]
["hs",36551,"Christian","Essler","1. Duisburger Minigolf Club 1962 e.V.","H: Essler, Christian",{"$f":"VLOOKUP(A776,bangolf_kategorien!$A$2:$B$11,2,FALSE)","v":"H"}]
["ob",37718,"Ferdinand","Essler","1. Duisburger Minigolf Club 1962 e.V.","SM1: Essler, Ferdinand",{"$f":"VLOOKUP(A777,bangolf_kategorien!$A$2:$B$11,2,FALSE)","v":"SM1"}]
["og",36421,"Ingeborg","Essler","1. Duisburger Minigolf Club 1962 e.V.","SW1: Essler, Ingeborg",{"$f":"VLOOKUP(A778,bangolf_kategorien!$A$2:$B$11,2,FALSE)","v":"SW1"}]
["hv",60515,"Peter","Etienne","MC 62 Lüdenscheid e.V.","SM2: Etienne, Peter",{"$f":"VLOOKUP(A779,bangolf_kategorien!$A$2:$B$11,2,FALSE)","v":"SM2"}]
["hv",67271,"Klaus-Dieter","Ewert","BSG Pneumant Fürstenwalde e.V., Abt. Minigolf","SM2: Ewert, Klaus-Dieter",{"$f":"VLOOKUP(A780,bangolf_kategorien!$A$2:$B$11,2,FALSE)","v":"SM2"}]
["dv",27708,"1Karin","Exel","1. Berliner Miniaturgolf-Sportclub e.V. 1960","SW2: Exel, 1Karin",{"$f":"VLOOKUP(A781,bangolf_kategorien!$A$2:$B$11,2,FALSE)","v":"SW2"}]
["hv",42435,"Frank","Exner","SSC Halver e.V.","SM2: Exner, Frank",{"$f":"VLOOKUP(A782,bangolf_kategorien!$A$2:$B$11,2,FALSE)","v":"SM2"}]
["og",40821,"Karin","Exner","SSC Halver e.V.","SW1: Exner, Karin",{"$f":"VLOOKUP(A783,bangolf_kategorien!$A$2:$B$11,2,FALSE)","v":"SW1"}]
["og",66174,"Petra","Exner","Elbhavelland e.V., Abt. Minigolfsport","SW1: Exner, Petra",{"$f":"VLOOKUP(A784,bangolf_kategorien!$A$2:$B$11,2,FALSE)","v":"SW1"}]
["ob",30064,"Holger","Fabry","1. MGC 1970 Göttingen e.V.","SM1: Fabry, Holger",{"$f":"VLOOKUP(A785,bangolf_kategorien!$A$2:$B$11,2,FALSE)","v":"SM1"}]
["hs",33157,"Nils","Fabrytzek","BGC Goslar e.V.","H: Fabrytzek, Nils",{"$f":"VLOOKUP(A786,bangolf_kategorien!$A$2:$B$11,2,FALSE)","v":"H"}]
["og",28892,"Kirsten","Fahrenkrog","Niendorfer MC v. 1963 e.V.","SW1: Fahrenkrog, Kirsten",{"$f":"VLOOKUP(A787,bangolf_kategorien!$A$2:$B$11,2,FALSE)","v":"SW1"}]
["hj",67070,"Florian","Fahsel","MGV Eibenstock","JM: Fahsel, Florian",{"$f":"VLOOKUP(A788,bangolf_kategorien!$A$2:$B$11,2,FALSE)","v":"JM"}]
["hs",33459,"Felix","Falge","VfB Osnabrück e.V.","H: Falge, Felix",{"$f":"VLOOKUP(A789,bangolf_kategorien!$A$2:$B$11,2,FALSE)","v":"H"}]
["hs",66478,"Martin","Fallenbüchel","Miniaturgolf Sportclub Schriesheim e.V","H: Fallenbüchel, Martin",{"$f":"VLOOKUP(A790,bangolf_kategorien!$A$2:$B$11,2,FALSE)","v":"H"}]
["dv",35374,"Christel","Fander","1.KGC Mönchengladbach e.V.","SW2: Fander, Christel",{"$f":"VLOOKUP(A791,bangolf_kategorien!$A$2:$B$11,2,FALSE)","v":"SW2"}]
["ob",38528,"Markus","Faßbender","HMC Büttgen e.V.","SM1: Faßbender, Markus",{"$f":"VLOOKUP(A792,bangolf_kategorien!$A$2:$B$11,2,FALSE)","v":"SM1"}]
["ob",40560,"Thomas","Fassl","MGC Sulzfeld e.V.","SM1: Fassl, Thomas",{"$f":"VLOOKUP(A793,bangolf_kategorien!$A$2:$B$11,2,FALSE)","v":"SM1"}]
["dv",67181,"Christine","Faulhaber","Minigolf-Club Diessen","SW2: Faulhaber, Christine",{"$f":"VLOOKUP(A794,bangolf_kategorien!$A$2:$B$11,2,FALSE)","v":"SW2"}]
["dv",40148,"Gabriele","Faust","MSC Bensheim-Auerbach e.V.","SW2: Faust, Gabriele",{"$f":"VLOOKUP(A795,bangolf_kategorien!$A$2:$B$11,2,FALSE)","v":"SW2"}]
["ds",48058,"Monika","Faust","MSC Bensheim-Auerbach e.V.","D: Faust, Monika",{"$f":"VLOOKUP(A796,bangolf_kategorien!$A$2:$B$11,2,FALSE)","v":"D"}]
["hs",50859,"Sascha","Faust","MGC Rot-Weiß Wanne-Eickel e.V.","H: Faust, Sascha",{"$f":"VLOOKUP(A797,bangolf_kategorien!$A$2:$B$11,2,FALSE)","v":"H"}]
["hv",37733,"Dieter","Fechter","1. MGC Hechingen","SM2: Fechter, Dieter",{"$f":"VLOOKUP(A798,bangolf_kategorien!$A$2:$B$11,2,FALSE)","v":"SM2"}]
["og",37734,"Karin","Fechter","1. MGC Hechingen","SW1: Fechter, Karin",{"$f":"VLOOKUP(A799,bangolf_kategorien!$A$2:$B$11,2,FALSE)","v":"SW1"}]
["hv",40328,"Wolfgang","Federici","MGF Hilzingen 80 e.V.","SM2: Federici, Wolfgang",{"$f":"VLOOKUP(A800,bangolf_kategorien!$A$2:$B$11,2,FALSE)","v":"SM2"}]
["ob",34871,"Volker","Feld","1. KC Homburg-Saar 1967 e.V.","SM1: Feld, Volker",{"$f":"VLOOKUP(A801,bangolf_kategorien!$A$2:$B$11,2,FALSE)","v":"SM1"}]
["dv",34721,"Christa","Fellenberg","1. MGC Peine von 1965 e.V.","SW2: Fellenberg, Christa",{"$f":"VLOOKUP(A802,bangolf_kategorien!$A$2:$B$11,2,FALSE)","v":"SW2"}]
["ds",33711,"Kerstin","Fellenberg","1. MGC Peine von 1965 e.V.","D: Fellenberg, Kerstin",{"$f":"VLOOKUP(A803,bangolf_kategorien!$A$2:$B$11,2,FALSE)","v":"D"}]
["hs",33710,"Torsten","Fellenberg","TSV Salzgitter e.V. Abt. Bahnengolf","H: Fellenberg, Torsten",{"$f":"VLOOKUP(A804,bangolf_kategorien!$A$2:$B$11,2,FALSE)","v":"H"}]
["ob",45697,"Thomas","Fellmann","BGV Bergisch Land 1962 / 63 e.V.","SM1: Fellmann, Thomas",{"$f":"VLOOKUP(A805,bangolf_kategorien!$A$2:$B$11,2,FALSE)","v":"SM1"}]
["og",38610,"Prisca","Ferstl","MGC Murnau am Staffelsee e.V.","SW1: Ferstl, Prisca",{"$f":"VLOOKUP(A806,bangolf_kategorien!$A$2:$B$11,2,FALSE)","v":"SW1"}]
["og",27873,"Christine","Feucht","1. Bahnengolf-Club Singen e.V.","SW1: Feucht, Christine",{"$f":"VLOOKUP(A807,bangolf_kategorien!$A$2:$B$11,2,FALSE)","v":"SW1"}]
["hv",28740,"Dieter","Fiedler","VfL Lohbrügge Abt. Bahnengolf","SM2: Fiedler, Dieter",{"$f":"VLOOKUP(A808,bangolf_kategorien!$A$2:$B$11,2,FALSE)","v":"SM2"}]
["hv",67059,"Wolfgang","Fiedler","MGC Heringen 1997 e.V.","SM2: Fiedler, Wolfgang",{"$f":"VLOOKUP(A809,bangolf_kategorien!$A$2:$B$11,2,FALSE)","v":"SM2"}]
["hv",66695,"Andreas","Filgertshofer","Minigolf-Club Diessen","SM2: Filgertshofer, Andreas",{"$f":"VLOOKUP(A810,bangolf_kategorien!$A$2:$B$11,2,FALSE)","v":"SM2"}]
["hv",4917,"Wolfgang","Findewirth","VfM e.V. Berlin","SM2: Findewirth, Wolfgang",{"$f":"VLOOKUP(A811,bangolf_kategorien!$A$2:$B$11,2,FALSE)","v":"SM2"}]
["ob",48999,"Manfred","Finette","MSC Bad Godesberg e.V.","SM1: Finette, Manfred",{"$f":"VLOOKUP(A812,bangolf_kategorien!$A$2:$B$11,2,FALSE)","v":"SM1"}]
["hs",33123,"Moritz","Fingerle","MSK Olching e.V.","H: Fingerle, Moritz",{"$f":"VLOOKUP(A813,bangolf_kategorien!$A$2:$B$11,2,FALSE)","v":"H"}]
["pa",66393,"Jonas","Fink","BGV Backumer Tal Herten e.V.","SCHM: Fink, Jonas",{"$f":"VLOOKUP(A814,bangolf_kategorien!$A$2:$B$11,2,FALSE)","v":"SCHM"}]
["hs",1472,"Nikolas","Finsterer-Robnik","BGC Illertissen e.V.","H: Finsterer-Robnik, Nikolas",{"$f":"VLOOKUP(A815,bangolf_kategorien!$A$2:$B$11,2,FALSE)","v":"H"}]
["ob",50426,"Ralf","Fischbach","MSV Bad Kreuznach","SM1: Fischbach, Ralf",{"$f":"VLOOKUP(A816,bangolf_kategorien!$A$2:$B$11,2,FALSE)","v":"SM1"}]
["hs",3212096,"Pascal","Fischbeck","Hobby","H: Fischbeck, Pascal",{"$f":"VLOOKUP(A817,bangolf_kategorien!$A$2:$B$11,2,FALSE)","v":"H"}]
["ds",38177,"Patricia","Fischbeck","Reinickendorfer MGC e.V.","D: Fischbeck, Patricia",{"$f":"VLOOKUP(A818,bangolf_kategorien!$A$2:$B$11,2,FALSE)","v":"D"}]
["ob",3194200,"Albert","Fischer","Hobby","SM1: Fischer, Albert",{"$f":"VLOOKUP(A819,bangolf_kategorien!$A$2:$B$11,2,FALSE)","v":"SM1"}]
["dj",38334,"Alexandra","Fischer","1. Porzer MGC Grün-Weiß 1969 e.V.","JW: Fischer, Alexandra",{"$f":"VLOOKUP(A820,bangolf_kategorien!$A$2:$B$11,2,FALSE)","v":"JW"}]
["og",48906,"Annette","Fischer","Minigolfunion Neviges-Odenthal 1968 e.V.","SW1: Fischer, Annette",{"$f":"VLOOKUP(A821,bangolf_kategorien!$A$2:$B$11,2,FALSE)","v":"SW1"}]
["og",43588,"Astrid","Fischer","1. MGC Kassel 1964 e.V.","SW1: Fischer, Astrid",{"$f":"VLOOKUP(A822,bangolf_kategorien!$A$2:$B$11,2,FALSE)","v":"SW1"}]
["hs",37509,"Christoph","Fischer","Niendorfer MC v. 1963 e.V.","H: Fischer, Christoph",{"$f":"VLOOKUP(A823,bangolf_kategorien!$A$2:$B$11,2,FALSE)","v":"H"}]
["hv",66628,"Dirk","Fischer","BGV Backumer Tal Herten e.V.","SM2: Fischer, Dirk",{"$f":"VLOOKUP(A824,bangolf_kategorien!$A$2:$B$11,2,FALSE)","v":"SM2"}]
["ob",43000,"Frank","Fischer","1. Porzer MGC Grün-Weiß 1969 e.V.","SM1: Fischer, Frank",{"$f":"VLOOKUP(A825,bangolf_kategorien!$A$2:$B$11,2,FALSE)","v":"SM1"}]
["ob",66574,"Frank","Fischer","MTV Seesen Abt. Bahnengolf","SM1: Fischer, Frank",{"$f":"VLOOKUP(A826,bangolf_kategorien!$A$2:$B$11,2,FALSE)","v":"SM1"}]
["ob",25512,"Gerd","Fischer","1. MGC Süßen e.V.","SM1: Fischer, Gerd",{"$f":"VLOOKUP(A827,bangolf_kategorien!$A$2:$B$11,2,FALSE)","v":"SM1"}]
["dv",49978,"Heidi","Fischer","1. MGC Paderborn e.V.","SW2: Fischer, Heidi",{"$f":"VLOOKUP(A828,bangolf_kategorien!$A$2:$B$11,2,FALSE)","v":"SW2"}]
["dv",6768,"Heidi","Fischer","SSV Ulm 1846 Abt. Bahnengolf","SW2: Fischer, Heidi",{"$f":"VLOOKUP(A829,bangolf_kategorien!$A$2:$B$11,2,FALSE)","v":"SW2"}]
["hj",64495,"Kai-Erik","Fischer","1. MGC Kassel 1964 e.V.","JM: Fischer, Kai-Erik",{"$f":"VLOOKUP(A830,bangolf_kategorien!$A$2:$B$11,2,FALSE)","v":"JM"}]
["ds",37628,"Katharina","Fischer","1. Porzer MGC Grün-Weiß 1969 e.V.","D: Fischer, Katharina",{"$f":"VLOOKUP(A831,bangolf_kategorien!$A$2:$B$11,2,FALSE)","v":"D"}]
["hs",38560,"Lukas","Fischer","BGSV Castrop e.V. 1961","H: Fischer, Lukas",{"$f":"VLOOKUP(A832,bangolf_kategorien!$A$2:$B$11,2,FALSE)","v":"H"}]
["ob",40638,"Manfred","Fischer","MGF Ottobrunn e.V.","SM1: Fischer, Manfred",{"$f":"VLOOKUP(A833,bangolf_kategorien!$A$2:$B$11,2,FALSE)","v":"SM1"}]
["ob",43587,"Marcus","Fischer","1. MGC Kassel 1964 e.V.","SM1: Fischer, Marcus",{"$f":"VLOOKUP(A834,bangolf_kategorien!$A$2:$B$11,2,FALSE)","v":"SM1"}]
["ob",37008,"Robert","Fischer","BGSV Kerpen e.V.",{"$f":"CONCATENATE(G835,\": \",D835,\", \",C835)","v":"SM1: Fischer, Robert"},{"$f":"VLOOKUP(A835,bangolf_kategorien!$A$2:$B$11,2,FALSE)","v":"SM1"}]
["ds",3216781,"Sandra","Fischer","Hobby","D: Fischer, Sandra",{"$f":"VLOOKUP(A836,bangolf_kategorien!$A$2:$B$11,2,FALSE)","v":"D"}]
["og",30855,"Susanne","Fischer","1. Porzer MGC Grün-Weiß 1969 e.V.","SW1: Fischer, Susanne",{"$f":"VLOOKUP(A837,bangolf_kategorien!$A$2:$B$11,2,FALSE)","v":"SW1"}]
["ob",49979,"Walter","Fischer","1. MGC Paderborn e.V.","SM1: Fischer, Walter",{"$f":"VLOOKUP(A838,bangolf_kategorien!$A$2:$B$11,2,FALSE)","v":"SM1"}]
["hs",66900,"Marco","Flick","Kölner Miniatur Golf Club e.V.","H: Flick, Marco",{"$f":"VLOOKUP(A839,bangolf_kategorien!$A$2:$B$11,2,FALSE)","v":"H"}]
["hv",4330,"Peter","Flick","BGC Bildstock e.V.","SM2: Flick, Peter",{"$f":"VLOOKUP(A840,bangolf_kategorien!$A$2:$B$11,2,FALSE)","v":"SM2"}]
["hs",66687,"Hans","Flohe","MSC Bad Godesberg e.V.","H: Flohe, Hans",{"$f":"VLOOKUP(A841,bangolf_kategorien!$A$2:$B$11,2,FALSE)","v":"H"}]
["ob",51799,"Peter","Flohrschütz","BGC Schweinfurt e.V.","SM1: Flohrschütz, Peter",{"$f":"VLOOKUP(A842,bangolf_kategorien!$A$2:$B$11,2,FALSE)","v":"SM1"}]
["ob",66876,"Detlef","Flotin","BGC Dormagen e.V.","SM1: Flotin, Detlef",{"$f":"VLOOKUP(A843,bangolf_kategorien!$A$2:$B$11,2,FALSE)","v":"SM1"}]
["hs",33462,"Nico Sebastian","Föllmer","BGC Bremen e.V.","H: Föllmer, Nico Sebastian",{"$f":"VLOOKUP(A844,bangolf_kategorien!$A$2:$B$11,2,FALSE)","v":"H"}]
["hs",3221422,"Torsten","Fornefeld","Hobby","H: Fornefeld, Torsten",{"$f":"VLOOKUP(A845,bangolf_kategorien!$A$2:$B$11,2,FALSE)","v":"H"}]
["hj",38474,"Robin","Forsberg","BGV Backumer Tal Herten e.V.","JM: Forsberg, Robin",{"$f":"VLOOKUP(A846,bangolf_kategorien!$A$2:$B$11,2,FALSE)","v":"JM"}]
["hs",38365,"Benjamin","Förster","KGC Bad Urach e.V.","H: Förster, Benjamin",{"$f":"VLOOKUP(A847,bangolf_kategorien!$A$2:$B$11,2,FALSE)","v":"H"}]
["hv",38366,"Rainer","Förster","KGC Bad Urach e.V.","SM2: Förster, Rainer",{"$f":"VLOOKUP(A848,bangolf_kategorien!$A$2:$B$11,2,FALSE)","v":"SM2"}]
["hv",6770,"Jürgen","Förstner","Hamburger MC von 1965 e.V.","SM2: Förstner, Jürgen",{"$f":"VLOOKUP(A849,bangolf_kategorien!$A$2:$B$11,2,FALSE)","v":"SM2"}]
["ob",44134,"Manfred","Foy","BGSV Castrop e.V. 1961","SM1: Foy, Manfred",{"$f":"VLOOKUP(A850,bangolf_kategorien!$A$2:$B$11,2,FALSE)","v":"SM1"}]
["ob",43512,"Volker","Frahm","MGC Bad Oldesloe e.V.","SM1: Frahm, Volker",{"$f":"VLOOKUP(A851,bangolf_kategorien!$A$2:$B$11,2,FALSE)","v":"SM1"}]
["hv",21828,"Andreas","Frank","BSV 86 München e.V.","SM2: Frank, Andreas",{"$f":"VLOOKUP(A852,bangolf_kategorien!$A$2:$B$11,2,FALSE)","v":"SM2"}]
["pa",66698,"Fynn","Frank","Minigolfclub Karlshagen e.V.","SCHM: Frank, Fynn",{"$f":"VLOOKUP(A853,bangolf_kategorien!$A$2:$B$11,2,FALSE)","v":"SCHM"}]
["og",28168,"Petra","Frank","BSV 86 München e.V.","SW1: Frank, Petra",{"$f":"VLOOKUP(A854,bangolf_kategorien!$A$2:$B$11,2,FALSE)","v":"SW1"}]
["hv",38490,"Rolf","Frank","BGSV Bad Homburg","SM2: Frank, Rolf",{"$f":"VLOOKUP(A855,bangolf_kategorien!$A$2:$B$11,2,FALSE)","v":"SM2"}]
["ob",43328,"Jörg","Franke","MGC Dormagen-Brechten e.V.","SM1: Franke, Jörg",{"$f":"VLOOKUP(A856,bangolf_kategorien!$A$2:$B$11,2,FALSE)","v":"SM1"}]
["dv",66522,"Ulrich","Franke","MGC Brunsbüttel e.V.","SW2: Franke, Ulrich",{"$f":"VLOOKUP(A857,bangolf_kategorien!$A$2:$B$11,2,FALSE)","v":"SW2"}]
["ds",29402,"Vanessa","Franke","1. BGC Rodalben 1977 e.V.","D: Franke, Vanessa",{"$f":"VLOOKUP(A858,bangolf_kategorien!$A$2:$B$11,2,FALSE)","v":"D"}]
["hv",10722,"Helmut","Franz","1. MGC Süßen e.V.","SM2: Franz, Helmut",{"$f":"VLOOKUP(A859,bangolf_kategorien!$A$2:$B$11,2,FALSE)","v":"SM2"}]
["hs",38052,"Maximilian","Frech","BSV Inzlingen 1979 e.V.","H: Frech, Maximilian",{"$f":"VLOOKUP(A860,bangolf_kategorien!$A$2:$B$11,2,FALSE)","v":"H"}]
["ob",65518,"Sven","Frech","BSV Inzlingen 1979 e.V.","SM1: Frech, Sven",{"$f":"VLOOKUP(A861,bangolf_kategorien!$A$2:$B$11,2,FALSE)","v":"SM1"}]
["hv",38037,"Bernd","Fregin","PTSV Hof, Abt. Minigolf","SM2: Fregin, Bernd",{"$f":"VLOOKUP(A862,bangolf_kategorien!$A$2:$B$11,2,FALSE)","v":"SM2"}]
["ob",67366,"Christian","Freiberg","1. MGV Spandau Berlin e.V.","SM1: Freiberg, Christian",{"$f":"VLOOKUP(A863,bangolf_kategorien!$A$2:$B$11,2,FALSE)","v":"SM1"}]
["hv",67409,"Klaus Dieter","Freimann","MSF Brilon e.V.","SM2: Freimann, Klaus Dieter",{"$f":"VLOOKUP(A864,bangolf_kategorien!$A$2:$B$11,2,FALSE)","v":"SM2"}]
["hv",66905,"Rolf","Frenzel","SC Bad Münder Abt. Bahnengolf","SM2: Frenzel, Rolf",{"$f":"VLOOKUP(A865,bangolf_kategorien!$A$2:$B$11,2,FALSE)","v":"SM2"}]
["hv",5387,"Heinz","Frenzl","1. NMC Kelheim e.V.","SM2: Frenzl, Heinz",{"$f":"VLOOKUP(A866,bangolf_kategorien!$A$2:$B$11,2,FALSE)","v":"SM2"}]
["hs",37885,"Denis","Frerix","1. Essener CGC \"Blau-Gold\" e.V.","H: Frerix, Denis",{"$f":"VLOOKUP(A867,bangolf_kategorien!$A$2:$B$11,2,FALSE)","v":"H"}]
["ds",37980,"Rebecca","Freßmann","1. MGC Kassel 1964 e.V.","D: Freßmann, Rebecca",{"$f":"VLOOKUP(A868,bangolf_kategorien!$A$2:$B$11,2,FALSE)","v":"D"}]
["hs",66261,"Maurice","Freund","SG Arheilgen Abt. Bahnengolf","H: Freund, Maurice",{"$f":"VLOOKUP(A869,bangolf_kategorien!$A$2:$B$11,2,FALSE)","v":"H"}]
["hv",66629,"Wilfried","Freund","SG Arheilgen Abt. Bahnengolf","SM2: Freund, Wilfried",{"$f":"VLOOKUP(A870,bangolf_kategorien!$A$2:$B$11,2,FALSE)","v":"SM2"}]
["hv",3212019,"Clemens","Freundt","Hobby","SM2: Freundt, Clemens",{"$f":"VLOOKUP(A871,bangolf_kategorien!$A$2:$B$11,2,FALSE)","v":"SM2"}]
["hv",9289,"Ernst","Frick","MSC Bensheim-Auerbach e.V.","SM2: Frick, Ernst",{"$f":"VLOOKUP(A872,bangolf_kategorien!$A$2:$B$11,2,FALSE)","v":"SM2"}]
["hs",33916,"René","Fricke","BGC Heilbronn e.V.","H: Fricke, René",{"$f":"VLOOKUP(A873,bangolf_kategorien!$A$2:$B$11,2,FALSE)","v":"H"}]
["ob",30004,"Jörg","Fricker","SSC Attendorn e.V.","SM1: Fricker, Jörg",{"$f":"VLOOKUP(A874,bangolf_kategorien!$A$2:$B$11,2,FALSE)","v":"SM1"}]
["og",66912,"Heike","Friedmann","SG  Weiterstadt 1886 e.V.","SW1: Friedmann, Heike",{"$f":"VLOOKUP(A875,bangolf_kategorien!$A$2:$B$11,2,FALSE)","v":"SW1"}]
["ob",66911,"Thomas","Friedmann","SG  Weiterstadt 1886 e.V.","SM1: Friedmann, Thomas",{"$f":"VLOOKUP(A876,bangolf_kategorien!$A$2:$B$11,2,FALSE)","v":"SM1"}]
["hv",23796,"Hans-Joachim","Friedrich","MGC Freizeitzentrum Biebertal","SM2: Friedrich, Hans-Joachim",{"$f":"VLOOKUP(A877,bangolf_kategorien!$A$2:$B$11,2,FALSE)","v":"SM2"}]
["ob",30258,"Holger","Friedrich","SV Lurup Abt. Bahnengolf","SM1: Friedrich, Holger",{"$f":"VLOOKUP(A878,bangolf_kategorien!$A$2:$B$11,2,FALSE)","v":"SM1"}]
["ob",37247,"Klaus","Friedrich","Biskirchener BGV e.V.","SM1: Friedrich, Klaus",{"$f":"VLOOKUP(A879,bangolf_kategorien!$A$2:$B$11,2,FALSE)","v":"SM1"}]
["hv",62733,"Rolf","Friedrichs","1. BGC Hannover e.V.","SM2: Friedrichs, Rolf",{"$f":"VLOOKUP(A880,bangolf_kategorien!$A$2:$B$11,2,FALSE)","v":"SM2"}]
["ob",31842,"Gerald","Friesacher","1. BGC Landshut e.V.","SM1: Friesacher, Gerald",{"$f":"VLOOKUP(A881,bangolf_kategorien!$A$2:$B$11,2,FALSE)","v":"SM1"}]
["og",65964,"Barbara","Friese","BGC Uerdingen e.V.","SW1: Friese, Barbara",{"$f":"VLOOKUP(A882,bangolf_kategorien!$A$2:$B$11,2,FALSE)","v":"SW1"}]
["hv",65962,"Reinhard","Friese","BGC Uerdingen e.V.","SM2: Friese, Reinhard",{"$f":"VLOOKUP(A883,bangolf_kategorien!$A$2:$B$11,2,FALSE)","v":"SM2"}]
["hs",67216,"Oliver","Frings","MGC Bad Bodendorf e.V.","H: Frings, Oliver",{"$f":"VLOOKUP(A884,bangolf_kategorien!$A$2:$B$11,2,FALSE)","v":"H"}]
["ob",27550,"Hans-Peter","Fritsch","MSC Bensheim-Auerbach e.V.","SM1: Fritsch, Hans-Peter",{"$f":"VLOOKUP(A885,bangolf_kategorien!$A$2:$B$11,2,FALSE)","v":"SM1"}]
["hj",66642,"Martin","Fritsch","MSC Bensheim-Auerbach e.V.","JM: Fritsch, Martin",{"$f":"VLOOKUP(A886,bangolf_kategorien!$A$2:$B$11,2,FALSE)","v":"JM"}]
["hs",66096,"Alexander","Fritz","1. MGC Kassel 1964 e.V.","H: Fritz, Alexander",{"$f":"VLOOKUP(A887,bangolf_kategorien!$A$2:$B$11,2,FALSE)","v":"H"}]
["hs",34299,"Christian","Fritz","MC \"Möve\" Cuxhaven-Sahlenburg e.V.","H: Fritz, Christian",{"$f":"VLOOKUP(A888,bangolf_kategorien!$A$2:$B$11,2,FALSE)","v":"H"}]
["hs",38328,"Christian","Fritz","MGC Ostheim / Rhön e.V.","H: Fritz, Christian",{"$f":"VLOOKUP(A889,bangolf_kategorien!$A$2:$B$11,2,FALSE)","v":"H"}]
["ds",49258,"Manuela","Fritz","MC \"Möve\" Cuxhaven-Sahlenburg e.V.","D: Fritz, Manuela",{"$f":"VLOOKUP(A890,bangolf_kategorien!$A$2:$B$11,2,FALSE)","v":"D"}]
["hv",37088,"Dietmar","Fritzenkötter","BGSV Castrop e.V. 1961","SM2: Fritzenkötter, Dietmar",{"$f":"VLOOKUP(A891,bangolf_kategorien!$A$2:$B$11,2,FALSE)","v":"SM2"}]
["dv",37089,"Margot","Fritzenkötter","BGSV Castrop e.V. 1961","SW2: Fritzenkötter, Margot",{"$f":"VLOOKUP(A892,bangolf_kategorien!$A$2:$B$11,2,FALSE)","v":"SW2"}]
["hs",40034,"Thies","Fritzenkötter","BGSV Castrop e.V. 1961","H: Fritzenkötter, Thies",{"$f":"VLOOKUP(A893,bangolf_kategorien!$A$2:$B$11,2,FALSE)","v":"H"}]
["ds",3210817,"Julia","Fröhling","Hobby","D: Fröhling, Julia",{"$f":"VLOOKUP(A894,bangolf_kategorien!$A$2:$B$11,2,FALSE)","v":"D"}]
["hv",24461,"Joachim","Fröhner","MGC Rot-Weiß Wanne-Eickel e.V.","SM2: Fröhner, Joachim",{"$f":"VLOOKUP(A895,bangolf_kategorien!$A$2:$B$11,2,FALSE)","v":"SM2"}]
["hs",48981,"Sascha","Frontzek","MGC Marl 1960 e.V.","H: Frontzek, Sascha",{"$f":"VLOOKUP(A896,bangolf_kategorien!$A$2:$B$11,2,FALSE)","v":"H"}]
["hs",46404,"Andreas","Fuchs","BGC Neutraubling e.V.","H: Fuchs, Andreas",{"$f":"VLOOKUP(A897,bangolf_kategorien!$A$2:$B$11,2,FALSE)","v":"H"}]
["dv",5081,"Angela","Fuchs","BGC Neutraubling e.V.","SW2: Fuchs, Angela",{"$f":"VLOOKUP(A898,bangolf_kategorien!$A$2:$B$11,2,FALSE)","v":"SW2"}]
["hs",49798,"Christian","Fuchs","1. NMC Kelheim e.V.",{"$f":"CONCATENATE(G899,\": \",D899,\", \",C899)","v":"H: Fuchs, Christian"},{"$f":"VLOOKUP(A899,bangolf_kategorien!$A$2:$B$11,2,FALSE)","v":"H"}]
["og",42170,"Tanja","Fuchs","MC Tigers Künsebeck e.V.","SW1: Fuchs, Tanja",{"$f":"VLOOKUP(A900,bangolf_kategorien!$A$2:$B$11,2,FALSE)","v":"SW1"}]
["ob",31272,"Thomas","Fuchs","MC Tigers Künsebeck e.V.","SM1: Fuchs, Thomas",{"$f":"VLOOKUP(A901,bangolf_kategorien!$A$2:$B$11,2,FALSE)","v":"SM1"}]
["hj",38576,"Tobias","Fuchs","MSK Neheim-Hüsten e.V.","JM: Fuchs, Tobias",{"$f":"VLOOKUP(A902,bangolf_kategorien!$A$2:$B$11,2,FALSE)","v":"JM"}]
["hs",30940,"Manuel","Fugazza","MC Ilvesheim e.V.","H: Fugazza, Manuel",{"$f":"VLOOKUP(A903,bangolf_kategorien!$A$2:$B$11,2,FALSE)","v":"H"}]
["ob",66466,"Bernd","Fuhrmann","BGSC Bochum 1978 e.V.","SM1: Fuhrmann, Bernd",{"$f":"VLOOKUP(A904,bangolf_kategorien!$A$2:$B$11,2,FALSE)","v":"SM1"}]
["hj",66175,"Nico","Fuhrmann","1. MGC Kassel 1964 e.V.","JM: Fuhrmann, Nico",{"$f":"VLOOKUP(A905,bangolf_kategorien!$A$2:$B$11,2,FALSE)","v":"JM"}]
["hs",27212,"Stefan","Funk","MGC Oberkochen e.V.","H: Funk, Stefan",{"$f":"VLOOKUP(A906,bangolf_kategorien!$A$2:$B$11,2,FALSE)","v":"H"}]
["ob",35791,"Andreas","Fütterer","Minigolf Wölfe Rheinstetten 02","SM1: Fütterer, Andreas",{"$f":"VLOOKUP(A907,bangolf_kategorien!$A$2:$B$11,2,FALSE)","v":"SM1"}]
["ob",35793,"Thomas","Fütterer","Minigolf Wölfe Rheinstetten 02","SM1: Fütterer, Thomas",{"$f":"VLOOKUP(A908,bangolf_kategorien!$A$2:$B$11,2,FALSE)","v":"SM1"}]
["hj",66611,"Simon","Gabriel","MSK Olching e.V.","JM: Gabriel, Simon",{"$f":"VLOOKUP(A909,bangolf_kategorien!$A$2:$B$11,2,FALSE)","v":"JM"}]
["hs",66461,"Andreas","Gade","1. BGC Celle von 1964 e.V.","H: Gade, Andreas",{"$f":"VLOOKUP(A910,bangolf_kategorien!$A$2:$B$11,2,FALSE)","v":"H"}]
["ob",47236,"Dieter","Gallas","MGC Wertheim 91 e.V.","SM1: Gallas, Dieter",{"$f":"VLOOKUP(A911,bangolf_kategorien!$A$2:$B$11,2,FALSE)","v":"SM1"}]
["hs",66095,"Rafael","Gallego Lange","1. BGC Hannover e.V.","H: Gallego Lange, Rafael",{"$f":"VLOOKUP(A912,bangolf_kategorien!$A$2:$B$11,2,FALSE)","v":"H"}]
["og",40205,"Ellen","Galleinus","MSC Herscheid 1963 e.V.","SW1: Galleinus, Ellen",{"$f":"VLOOKUP(A913,bangolf_kategorien!$A$2:$B$11,2,FALSE)","v":"SW1"}]
["ob",27566,"Jens","Galleinus","MSC Herscheid 1963 e.V.","SM1: Galleinus, Jens",{"$f":"VLOOKUP(A914,bangolf_kategorien!$A$2:$B$11,2,FALSE)","v":"SM1"}]
["ob",66586,"Karl","Gallus","1. Bahnengolf-Club Singen e.V.","SM1: Gallus, Karl",{"$f":"VLOOKUP(A915,bangolf_kategorien!$A$2:$B$11,2,FALSE)","v":"SM1"}]
["hv",66073,"Jürgen","Galz","BGSV Bad Homburg","SM2: Galz, Jürgen",{"$f":"VLOOKUP(A916,bangolf_kategorien!$A$2:$B$11,2,FALSE)","v":"SM2"}]
["ds",67370,"Viola","Gammert","Tempelhofer MV Berlin e.V.","D: Gammert, Viola",{"$f":"VLOOKUP(A917,bangolf_kategorien!$A$2:$B$11,2,FALSE)","v":"D"}]
["og",67091,"Gaby","Gäng","MGF Waldshut 74 e.V.","SW1: Gäng, Gaby",{"$f":"VLOOKUP(A918,bangolf_kategorien!$A$2:$B$11,2,FALSE)","v":"SW1"}]
["ob",3211955,"Stefan","Ganz","Hobby","SM1: Ganz, Stefan",{"$f":"VLOOKUP(A919,bangolf_kategorien!$A$2:$B$11,2,FALSE)","v":"SM1"}]
["hj",66554,"Dennis","Garbe","MSG Kempten e.V.","JM: Garbe, Dennis",{"$f":"VLOOKUP(A920,bangolf_kategorien!$A$2:$B$11,2,FALSE)","v":"JM"}]
["ob",66553,"Michael","Garbe","MSG Kempten e.V.","SM1: Garbe, Michael",{"$f":"VLOOKUP(A921,bangolf_kategorien!$A$2:$B$11,2,FALSE)","v":"SM1"}]
["ob",45293,"Bruno","Garbers","SC Olympia Dortmund e.V.","SM1: Garbers, Bruno",{"$f":"VLOOKUP(A922,bangolf_kategorien!$A$2:$B$11,2,FALSE)","v":"SM1"}]
["hv",37874,"Joachim","Garden","MGC Rot-Weiß Wanne-Eickel e.V.","SM2: Garden, Joachim",{"$f":"VLOOKUP(A923,bangolf_kategorien!$A$2:$B$11,2,FALSE)","v":"SM2"}]
["hv",38071,"Alfred","Gareis","1. MGSV Netphen e.V.","SM2: Gareis, Alfred",{"$f":"VLOOKUP(A924,bangolf_kategorien!$A$2:$B$11,2,FALSE)","v":"SM2"}]
["ob",3106820,"Helmut","Garke","Hobby","SM1: Garke, Helmut",{"$f":"VLOOKUP(A925,bangolf_kategorien!$A$2:$B$11,2,FALSE)","v":"SM1"}]
["hs",38168,"Chris","Garte","MV Lankwitzer Dragons e.V.","H: Garte, Chris",{"$f":"VLOOKUP(A926,bangolf_kategorien!$A$2:$B$11,2,FALSE)","v":"H"}]
["hv",34722,"Wolfgang","Gasch","MGV Eibenstock","SM2: Gasch, Wolfgang",{"$f":"VLOOKUP(A927,bangolf_kategorien!$A$2:$B$11,2,FALSE)","v":"SM2"}]
["ds",65897,"Birgit","Gase","1. MGC Gelsenkirchen e.V.","D: Gase, Birgit",{"$f":"VLOOKUP(A928,bangolf_kategorien!$A$2:$B$11,2,FALSE)","v":"D"}]
["ob",38592,"Timo","Gase","1. MGC Gelsenkirchen e.V.","SM1: Gase, Timo",{"$f":"VLOOKUP(A929,bangolf_kategorien!$A$2:$B$11,2,FALSE)","v":"SM1"}]
["ob",34092,"Wolfgang","Gaute","VfL Lüneburg Abt. Bahnengolf","SM1: Gaute, Wolfgang",{"$f":"VLOOKUP(A930,bangolf_kategorien!$A$2:$B$11,2,FALSE)","v":"SM1"}]
["dv",3430,"Anna","Gawlowski","MGC Marl 1960 e.V.","SW2: Gawlowski, Anna",{"$f":"VLOOKUP(A931,bangolf_kategorien!$A$2:$B$11,2,FALSE)","v":"SW2"}]
["hv",3375,"Sylvester","Gawlowski","MGC Marl 1960 e.V.","SM2: Gawlowski, Sylvester",{"$f":"VLOOKUP(A932,bangolf_kategorien!$A$2:$B$11,2,FALSE)","v":"SM2"}]
["hs",67293,"Helge","Gebauer","SSC Attendorn e.V.","H: Gebauer, Helge",{"$f":"VLOOKUP(A933,bangolf_kategorien!$A$2:$B$11,2,FALSE)","v":"H"}]
["hv",42043,"Kurt","Gebauer","1. MGC München-Feldmoching e.V.","SM2: Gebauer, Kurt",{"$f":"VLOOKUP(A934,bangolf_kategorien!$A$2:$B$11,2,FALSE)","v":"SM2"}]
["hj",67294,"Leon","Gebauer","SSC Attendorn e.V.","JM: Gebauer, Leon",{"$f":"VLOOKUP(A935,bangolf_kategorien!$A$2:$B$11,2,FALSE)","v":"JM"}]
["ob",66562,"Andreas","Gebhardt","MSV Berliner Bär e.V.","SM1: Gebhardt, Andreas",{"$f":"VLOOKUP(A936,bangolf_kategorien!$A$2:$B$11,2,FALSE)","v":"SM1"}]
["dj",66561,"Emily","Gebhardt","MSV Berliner Bär e.V.","JW: Gebhardt, Emily",{"$f":"VLOOKUP(A937,bangolf_kategorien!$A$2:$B$11,2,FALSE)","v":"JW"}]
["og",66563,"Kirstin","Gebhardt","MSV Berliner Bär e.V.","SW1: Gebhardt, Kirstin",{"$f":"VLOOKUP(A938,bangolf_kategorien!$A$2:$B$11,2,FALSE)","v":"SW1"}]
["dj",66707,"Sarah","Gefreyer","BGC Bremen e.V.","JW: Gefreyer, Sarah",{"$f":"VLOOKUP(A939,bangolf_kategorien!$A$2:$B$11,2,FALSE)","v":"JW"}]
["ob",67012,"Steffen","Gefreyer","BGC Bremen e.V.","SM1: Gefreyer, Steffen",{"$f":"VLOOKUP(A940,bangolf_kategorien!$A$2:$B$11,2,FALSE)","v":"SM1"}]
["hs",3211956,"Emanuel","Gehrendorf","Hobby","H: Gehrendorf, Emanuel",{"$f":"VLOOKUP(A941,bangolf_kategorien!$A$2:$B$11,2,FALSE)","v":"H"}]
["ds",65466,"Alina","Gehrke","TSV Salzgitter e.V. Abt. Bahnengolf","D: Gehrke, Alina",{"$f":"VLOOKUP(A942,bangolf_kategorien!$A$2:$B$11,2,FALSE)","v":"D"}]
["og",65468,"Cornelia","Gehrke","TSV Salzgitter e.V. Abt. Bahnengolf","SW1: Gehrke, Cornelia",{"$f":"VLOOKUP(A943,bangolf_kategorien!$A$2:$B$11,2,FALSE)","v":"SW1"}]
["ob",1963,"Jörg","Gehrke","TSV Salzgitter e.V. Abt. Bahnengolf","SM1: Gehrke, Jörg",{"$f":"VLOOKUP(A944,bangolf_kategorien!$A$2:$B$11,2,FALSE)","v":"SM1"}]
["ob",16436,"Jürgen","Geiger","1. Bahnengolf-Club Singen e.V.","SM1: Geiger, Jürgen",{"$f":"VLOOKUP(A945,bangolf_kategorien!$A$2:$B$11,2,FALSE)","v":"SM1"}]
["ob",43120,"Thorsten","Geiger","BGC Heilbronn e.V.","SM1: Geiger, Thorsten",{"$f":"VLOOKUP(A946,bangolf_kategorien!$A$2:$B$11,2,FALSE)","v":"SM1"}]
["hj",67305,"Gabriel","Geishüttner","MGC Nümbrecht e.V.","JM: Geishüttner, Gabriel",{"$f":"VLOOKUP(A947,bangolf_kategorien!$A$2:$B$11,2,FALSE)","v":"JM"}]
["ob",67306,"Gerhard","Geishüttner","MGC Nümbrecht e.V.","SM1: Geishüttner, Gerhard",{"$f":"VLOOKUP(A948,bangolf_kategorien!$A$2:$B$11,2,FALSE)","v":"SM1"}]
["ob",42662,"Ralf","Geissler","1. MGC Metzingen e.V.","SM1: Geissler, Ralf",{"$f":"VLOOKUP(A949,bangolf_kategorien!$A$2:$B$11,2,FALSE)","v":"SM1"}]
["hs",43605,"Alexander","Geist","BGS Hardenberg-Pötter e.V.","H: Geist, Alexander",{"$f":"VLOOKUP(A950,bangolf_kategorien!$A$2:$B$11,2,FALSE)","v":"H"}]
["og",24314,"Michaela","Geist","MSC Bensheim-Auerbach e.V.","SW1: Geist, Michaela",{"$f":"VLOOKUP(A951,bangolf_kategorien!$A$2:$B$11,2,FALSE)","v":"SW1"}]
["ob",41874,"Rainer","Gellermann","SGC Hagen e.V.","SM1: Gellermann, Rainer",{"$f":"VLOOKUP(A952,bangolf_kategorien!$A$2:$B$11,2,FALSE)","v":"SM1"}]
["ob",65931,"Michael","Genzer","BGC Dormagen e.V.","SM1: Genzer, Michael",{"$f":"VLOOKUP(A953,bangolf_kategorien!$A$2:$B$11,2,FALSE)","v":"SM1"}]
["ob",34839,"Holger","Georgi","Reinickendorfer MGC e.V.","SM1: Georgi, Holger",{"$f":"VLOOKUP(A954,bangolf_kategorien!$A$2:$B$11,2,FALSE)","v":"SM1"}]
["hs",35794,"Martin","Gerbert","Minigolf Wölfe Rheinstetten 02","H: Gerbert, Martin",{"$f":"VLOOKUP(A955,bangolf_kategorien!$A$2:$B$11,2,FALSE)","v":"H"}]
["ob",32966,"Alfred","Gerdeisen","1. BGC Garmisch-Partenkirchen","SM1: Gerdeisen, Alfred",{"$f":"VLOOKUP(A956,bangolf_kategorien!$A$2:$B$11,2,FALSE)","v":"SM1"}]
["hs",34891,"Felix","Gerhardt","MGC Murnau am Staffelsee e.V.","H: Gerhardt, Felix",{"$f":"VLOOKUP(A957,bangolf_kategorien!$A$2:$B$11,2,FALSE)","v":"H"}]
["hs",37960,"Marco","Gerlach","BGC Uerdingen e.V.","H: Gerlach, Marco",{"$f":"VLOOKUP(A958,bangolf_kategorien!$A$2:$B$11,2,FALSE)","v":"H"}]
["hs",35437,"Markus","Gerlach","MC Tigers Künsebeck e.V.","H: Gerlach, Markus",{"$f":"VLOOKUP(A959,bangolf_kategorien!$A$2:$B$11,2,FALSE)","v":"H"}]
["ob",35436,"Stefan","Gerlach","MGC Bad Salzuflen e.V.","SM1: Gerlach, Stefan",{"$f":"VLOOKUP(A960,bangolf_kategorien!$A$2:$B$11,2,FALSE)","v":"SM1"}]
["hv",62148,"Karl","Gerling","BGC Hamm 1959 e.V.","SM2: Gerling, Karl",{"$f":"VLOOKUP(A961,bangolf_kategorien!$A$2:$B$11,2,FALSE)","v":"SM2"}]
["hv",5821,"Karl-Heinz","Gerwert","MGF Waldshut 74 e.V.","SM2: Gerwert, Karl-Heinz",{"$f":"VLOOKUP(A962,bangolf_kategorien!$A$2:$B$11,2,FALSE)","v":"SM2"}]
["hv",37063,"Manfred","Geschonke","MSV 05 Bad Münder / Springe e.V.",{"$f":"CONCATENATE(G963,\": \",D963,\", \",C963)","v":"SM2: Geschonke, Manfred"},{"$f":"VLOOKUP(A963,bangolf_kategorien!$A$2:$B$11,2,FALSE)","v":"SM2"}]
["hs",37060,"Yannis","Geschonke","MSV 05 Bad Münder / Springe e.V.","H: Geschonke, Yannis",{"$f":"VLOOKUP(A964,bangolf_kategorien!$A$2:$B$11,2,FALSE)","v":"H"}]
["hs",35329,"Kevin","Gesell","MGC Bad Feilnbach e.V.","H: Gesell, Kevin",{"$f":"VLOOKUP(A965,bangolf_kategorien!$A$2:$B$11,2,FALSE)","v":"H"}]
["ob",25206,"Thomas","Giebenhain","MSC Bensheim-Auerbach e.V.","SM1: Giebenhain, Thomas",{"$f":"VLOOKUP(A966,bangolf_kategorien!$A$2:$B$11,2,FALSE)","v":"SM1"}]
["hv",50294,"Heinz-Theo","Giegel","BGV Backumer Tal Herten e.V.","SM2: Giegel, Heinz-Theo",{"$f":"VLOOKUP(A967,bangolf_kategorien!$A$2:$B$11,2,FALSE)","v":"SM2"}]
["hs",30460,"Pascal","Gillen","1. KC Homburg-Saar 1967 e.V.","H: Gillen, Pascal",{"$f":"VLOOKUP(A968,bangolf_kategorien!$A$2:$B$11,2,FALSE)","v":"H"}]
["hv",63304,"Klaus","Giller","SSV Ulm 1846 Abt. Bahnengolf","SM2: Giller, Klaus",{"$f":"VLOOKUP(A969,bangolf_kategorien!$A$2:$B$11,2,FALSE)","v":"SM2"}]
["hv",66805,"Hans Peter","Gimmler","TSV 1848 Flöha","SM2: Gimmler, Hans Peter",{"$f":"VLOOKUP(A970,bangolf_kategorien!$A$2:$B$11,2,FALSE)","v":"SM2"}]
["hs",33015,"Marco","Ginal","Miniaturgolf Sportclub Schriesheim e.V","H: Ginal, Marco",{"$f":"VLOOKUP(A971,bangolf_kategorien!$A$2:$B$11,2,FALSE)","v":"H"}]
["hv",66864,"Rudolf","Ginschel","Bochumer Minigolf-Club 1960 e.V.","SM2: Ginschel, Rudolf",{"$f":"VLOOKUP(A972,bangolf_kategorien!$A$2:$B$11,2,FALSE)","v":"SM2"}]
["hs",33433,"Dimitri","Gkotses","MGF Hammer e.V.","H: Gkotses, Dimitri",{"$f":"VLOOKUP(A973,bangolf_kategorien!$A$2:$B$11,2,FALSE)","v":"H"}]
["hv",22832,"Helmut","Glaser","MGC Sulzfeld e.V.","SM2: Glaser, Helmut",{"$f":"VLOOKUP(A974,bangolf_kategorien!$A$2:$B$11,2,FALSE)","v":"SM2"}]
["ob",55133,"Michael","Glaser","MGC Bad Soden-Salmünster","SM1: Glaser, Michael",{"$f":"VLOOKUP(A975,bangolf_kategorien!$A$2:$B$11,2,FALSE)","v":"SM1"}]
["hs",38284,"Nils","Glaser","Miniaturgolf Sportclub Schriesheim e.V","H: Glaser, Nils",{"$f":"VLOOKUP(A976,bangolf_kategorien!$A$2:$B$11,2,FALSE)","v":"H"}]
["hs",36872,"Timo","Glaser","Miniaturgolf Sportclub Schriesheim e.V","H: Glaser, Timo",{"$f":"VLOOKUP(A977,bangolf_kategorien!$A$2:$B$11,2,FALSE)","v":"H"}]
["og",31211,"Ute","Glaser","1. CGC Blau-Gelb Grötzingen","SW1: Glaser, Ute",{"$f":"VLOOKUP(A978,bangolf_kategorien!$A$2:$B$11,2,FALSE)","v":"SW1"}]
["hs",67143,"Florian","Gläser","1. MGC Lohfelden 1997 e.V.","H: Gläser, Florian",{"$f":"VLOOKUP(A979,bangolf_kategorien!$A$2:$B$11,2,FALSE)","v":"H"}]
["hs",66799,"Felix","Glück","1. MGC Mainz e.V.","H: Glück, Felix",{"$f":"VLOOKUP(A980,bangolf_kategorien!$A$2:$B$11,2,FALSE)","v":"H"}]
["hv",67146,"Günter","Göbel","MGC Felderbachtal 1964 e.V.","SM2: Göbel, Günter",{"$f":"VLOOKUP(A981,bangolf_kategorien!$A$2:$B$11,2,FALSE)","v":"SM2"}]
["hs",33705,"Jan","Göbel","MGC Wertheim 91 e.V.","H: Göbel, Jan",{"$f":"VLOOKUP(A982,bangolf_kategorien!$A$2:$B$11,2,FALSE)","v":"H"}]
["dv",67145,"Marina","Göbel","MGC Felderbachtal 1964 e.V.","SW2: Göbel, Marina",{"$f":"VLOOKUP(A983,bangolf_kategorien!$A$2:$B$11,2,FALSE)","v":"SW2"}]
["hs",3209187,"Florin","Gogîiea","Hobby","H: Gogîiea, Florin",{"$f":"VLOOKUP(A984,bangolf_kategorien!$A$2:$B$11,2,FALSE)","v":"H"}]
["dj",3094055,"Jeelka","Gohde","Hobby","JW: Gohde, Jeelka",{"$f":"VLOOKUP(A985,bangolf_kategorien!$A$2:$B$11,2,FALSE)","v":"JW"}]
["hv",41340,"Michael","Gohl","MC Georgsmarienhütte e.V.","SM2: Gohl, Michael",{"$f":"VLOOKUP(A986,bangolf_kategorien!$A$2:$B$11,2,FALSE)","v":"SM2"}]
["hv",19022,"Andreas","Goihl","MCE Sindelfingen e.V.","SM2: Goihl, Andreas",{"$f":"VLOOKUP(A987,bangolf_kategorien!$A$2:$B$11,2,FALSE)","v":"SM2"}]
["hv",4276,"Heinz","Goitowski","MGC Lippe-Detmold e.V.","SM2: Goitowski, Heinz",{"$f":"VLOOKUP(A988,bangolf_kategorien!$A$2:$B$11,2,FALSE)","v":"SM2"}]
["og",66753,"Silke","Gold","MGF Magdeburg 1995 e.V.","SW1: Gold, Silke",{"$f":"VLOOKUP(A989,bangolf_kategorien!$A$2:$B$11,2,FALSE)","v":"SW1"}]
["hs",67218,"Thorsten","Goldau","1. MGC Gelsenkirchen e.V.","H: Goldau, Thorsten",{"$f":"VLOOKUP(A990,bangolf_kategorien!$A$2:$B$11,2,FALSE)","v":"H"}]
["hv",67233,"Holger","Goldenbow","MSV 05 Bad Münder / Springe e.V.","SM2: Goldenbow, Holger",{"$f":"VLOOKUP(A991,bangolf_kategorien!$A$2:$B$11,2,FALSE)","v":"SM2"}]
["ob",34013,"Heiko","Golder","Reinickendorfer MGC e.V.","SM1: Golder, Heiko",{"$f":"VLOOKUP(A992,bangolf_kategorien!$A$2:$B$11,2,FALSE)","v":"SM1"}]
["hv",36159,"Helmut","Goldschmidt","MSV Bad Kreuznach","SM2: Goldschmidt, Helmut",{"$f":"VLOOKUP(A993,bangolf_kategorien!$A$2:$B$11,2,FALSE)","v":"SM2"}]
["hv",66631,"Heribert","Golka","1. BGC Hannover e.V.","SM2: Golka, Heribert",{"$f":"VLOOKUP(A994,bangolf_kategorien!$A$2:$B$11,2,FALSE)","v":"SM2"}]
["ob",66872,"Gerhard","Goller","1. FMGC Lichtenfels 1961 e.V.","SM1: Goller, Gerhard",{"$f":"VLOOKUP(A995,bangolf_kategorien!$A$2:$B$11,2,FALSE)","v":"SM1"}]
["ds",66980,"Nicole","Gombert","MSK Olching e.V.","D: Gombert, Nicole",{"$f":"VLOOKUP(A996,bangolf_kategorien!$A$2:$B$11,2,FALSE)","v":"D"}]
["pa",66763,"Michael","Goresch","1. BGC Landshut e.V.","SCHM: Goresch, Michael",{"$f":"VLOOKUP(A997,bangolf_kategorien!$A$2:$B$11,2,FALSE)","v":"SCHM"}]
["hv",17705,"Erwin","Görgen","MGC Traben-Trarbach","SM2: Görgen, Erwin",{"$f":"VLOOKUP(A998,bangolf_kategorien!$A$2:$B$11,2,FALSE)","v":"SM2"}]
["hs",31965,"Dennis","Gorges","1. KC Homburg-Saar 1967 e.V.","H: Gorges, Dennis",{"$f":"VLOOKUP(A999,bangolf_kategorien!$A$2:$B$11,2,FALSE)","v":"H"}]
["ds",67035,"Petra","Görtz","1. MGC Mainz e.V.","D: Görtz, Petra",{"$f":"VLOOKUP(A1000,bangolf_kategorien!$A$2:$B$11,2,FALSE)","v":"D"}]
["hs",50035,"Andreas","Görtz-Fräßle","1. MGC Mainz e.V.","H: Görtz-Fräßle, Andreas",{"$f":"VLOOKUP(A1001,bangolf_kategorien!$A$2:$B$11,2,FALSE)","v":"H"}]
["dv",36076,"Ellen","Gose","1. MGV Spandau Berlin e.V.","SW2: Gose, Ellen",{"$f":"VLOOKUP(A1002,bangolf_kategorien!$A$2:$B$11,2,FALSE)","v":"SW2"}]
["ds",65830,"Yvonne","Gose","1. MGV Spandau Berlin e.V.","D: Gose, Yvonne",{"$f":"VLOOKUP(A1003,bangolf_kategorien!$A$2:$B$11,2,FALSE)","v":"D"}]
["ds",37377,"Sabrina","Gothmann","1. MGC Tuttlingen e.V.","D: Gothmann, Sabrina",{"$f":"VLOOKUP(A1004,bangolf_kategorien!$A$2:$B$11,2,FALSE)","v":"D"}]
["hv",66133,"Bernd","Götter","1. BGC Hannover e.V.","SM2: Götter, Bernd",{"$f":"VLOOKUP(A1005,bangolf_kategorien!$A$2:$B$11,2,FALSE)","v":"SM2"}]
["dv",66134,"Helga","Götter","1. BGC Hannover e.V.","SW2: Götter, Helga",{"$f":"VLOOKUP(A1006,bangolf_kategorien!$A$2:$B$11,2,FALSE)","v":"SW2"}]
["hv",66227,"Wolfgang","Gotthard","1. BGC Garmisch-Partenkirchen","SM2: Gotthard, Wolfgang",{"$f":"VLOOKUP(A1007,bangolf_kategorien!$A$2:$B$11,2,FALSE)","v":"SM2"}]
["ds",66476,"Runa Sophia","Gottke","MGC Traben-Trarbach","D: Gottke, Runa Sophia",{"$f":"VLOOKUP(A1008,bangolf_kategorien!$A$2:$B$11,2,FALSE)","v":"D"}]
["hs",38630,"Hendrik","Göttmann","SG Arheilgen Abt. Bahnengolf","H: Göttmann, Hendrik",{"$f":"VLOOKUP(A1009,bangolf_kategorien!$A$2:$B$11,2,FALSE)","v":"H"}]
["hv",38631,"Holger","Göttmann","SG Arheilgen Abt. Bahnengolf","SM2: Göttmann, Holger",{"$f":"VLOOKUP(A1010,bangolf_kategorien!$A$2:$B$11,2,FALSE)","v":"SM2"}]
["hv",67015,"Wolfgang","Gottschling","1. CGC Blau-Gelb Grötzingen","SM2: Gottschling, Wolfgang",{"$f":"VLOOKUP(A1011,bangolf_kategorien!$A$2:$B$11,2,FALSE)","v":"SM2"}]
["hj",67156,"Nils","Gottwald","SV Glückauf 1901 Gebhardshagen e.V.","JM: Gottwald, Nils",{"$f":"VLOOKUP(A1012,bangolf_kategorien!$A$2:$B$11,2,FALSE)","v":"JM"}]
["ob",34709,"Holger","Götz","BGC Neutraubling e.V.","SM1: Götz, Holger",{"$f":"VLOOKUP(A1013,bangolf_kategorien!$A$2:$B$11,2,FALSE)","v":"SM1"}]
["ob",40135,"Christian","Graage","Preetzer TSV von 1861 e.V. Abt. Minigolf","SM1: Graage, Christian",{"$f":"VLOOKUP(A1014,bangolf_kategorien!$A$2:$B$11,2,FALSE)","v":"SM1"}]
["hv",37979,"Thomas","Gräber","1. MC Weinheim e.V.","SM2: Gräber, Thomas",{"$f":"VLOOKUP(A1015,bangolf_kategorien!$A$2:$B$11,2,FALSE)","v":"SM2"}]
["ob",66812,"Wolfgang","Gräble","MGF Hilzingen 80 e.V.","SM1: Gräble, Wolfgang",{"$f":"VLOOKUP(A1016,bangolf_kategorien!$A$2:$B$11,2,FALSE)","v":"SM1"}]
["hv",5271,"Anton","Grabrucker","OMGC Ingolstadt e.V.","SM2: Grabrucker, Anton",{"$f":"VLOOKUP(A1017,bangolf_kategorien!$A$2:$B$11,2,FALSE)","v":"SM2"}]
["dv",9033,"Elfriede","Grabrucker","OMGC Ingolstadt e.V.","SW2: Grabrucker, Elfriede",{"$f":"VLOOKUP(A1018,bangolf_kategorien!$A$2:$B$11,2,FALSE)","v":"SW2"}]
["fa",67139,"Lena","Grabrucker","OMGC Ingolstadt e.V.","SCHW: Grabrucker, Lena",{"$f":"VLOOKUP(A1019,bangolf_kategorien!$A$2:$B$11,2,FALSE)","v":"SCHW"}]
["ob",28389,"Manfred","Grabrucker","OMGC Ingolstadt e.V.","SM1: Grabrucker, Manfred",{"$f":"VLOOKUP(A1020,bangolf_kategorien!$A$2:$B$11,2,FALSE)","v":"SM1"}]
["hs",25675,"Markus","Grabrucker","OMGC Ingolstadt e.V.","H: Grabrucker, Markus",{"$f":"VLOOKUP(A1021,bangolf_kategorien!$A$2:$B$11,2,FALSE)","v":"H"}]
["hs",40381,"Stefan","Grabrucker","OMGC Ingolstadt e.V.","H: Grabrucker, Stefan",{"$f":"VLOOKUP(A1022,bangolf_kategorien!$A$2:$B$11,2,FALSE)","v":"H"}]
["ds",30979,"Stephanie","Grabrucker","OMGC Ingolstadt e.V.","D: Grabrucker, Stephanie",{"$f":"VLOOKUP(A1023,bangolf_kategorien!$A$2:$B$11,2,FALSE)","v":"D"}]
["hs",37359,"Lars","Graeber","BGV Bergisch Land 1962 / 63 e.V.","H: Graeber, Lars",{"$f":"VLOOKUP(A1024,bangolf_kategorien!$A$2:$B$11,2,FALSE)","v":"H"}]
["hv",33132,"Roger","Graf","MGC Traben-Trarbach","SM2: Graf, Roger",{"$f":"VLOOKUP(A1025,bangolf_kategorien!$A$2:$B$11,2,FALSE)","v":"SM2"}]
["ob",66498,"Thomas","Gräf","MGF Ottobrunn e.V.","SM1: Gräf, Thomas",{"$f":"VLOOKUP(A1026,bangolf_kategorien!$A$2:$B$11,2,FALSE)","v":"SM1"}]
["hs",34316,"Ingo","Graf von Mainberg","BGC Schweinfurt e.V.",{"$f":"CONCATENATE(G1027,\": \",D1027,\", \",C1027)","v":"H: Graf von Mainberg, Ingo"},{"$f":"VLOOKUP(A1027,bangolf_kategorien!$A$2:$B$11,2,FALSE)","v":"H"}]
["hv",34359,"Frank","Gramer","1. MGC Tuttlingen e.V.","SM2: Gramer, Frank",{"$f":"VLOOKUP(A1028,bangolf_kategorien!$A$2:$B$11,2,FALSE)","v":"SM2"}]
["hv",18068,"Gerhard","Grande","MGSC Wernau e.V.","SM2: Grande, Gerhard",{"$f":"VLOOKUP(A1029,bangolf_kategorien!$A$2:$B$11,2,FALSE)","v":"SM2"}]
["og",1344,"Susanne","Granz","MC \"Möve\" Cuxhaven-Sahlenburg e.V.","SW1: Granz, Susanne",{"$f":"VLOOKUP(A1030,bangolf_kategorien!$A$2:$B$11,2,FALSE)","v":"SW1"}]
["ob",45502,"Gerno","Grapengeter","MGC Dormagen-Brechten e.V.","SM1: Grapengeter, Gerno",{"$f":"VLOOKUP(A1031,bangolf_kategorien!$A$2:$B$11,2,FALSE)","v":"SM1"}]
["ob",67320,"André","Gras","1. MGC Peine von 1965 e.V.","SM1: Gras, André",{"$f":"VLOOKUP(A1032,bangolf_kategorien!$A$2:$B$11,2,FALSE)","v":"SM1"}]
["dj",66277,"Patricia","Gras","MGC Millennium Lorsch e.V.","JW: Gras, Patricia",{"$f":"VLOOKUP(A1033,bangolf_kategorien!$A$2:$B$11,2,FALSE)","v":"JW"}]
["hj",66658,"Lucas","Graumann","TSV Salzgitter e.V. Abt. Bahnengolf","JM: Graumann, Lucas",{"$f":"VLOOKUP(A1034,bangolf_kategorien!$A$2:$B$11,2,FALSE)","v":"JM"}]
["hs",66648,"Eicke","Greh","Reinickendorfer MGC e.V.","H: Greh, Eicke",{"$f":"VLOOKUP(A1035,bangolf_kategorien!$A$2:$B$11,2,FALSE)","v":"H"}]
["hv",3800,"Hellmut","Greiffendorf","MGC \"AS\" Witten 1963 e.V.","SM2: Greiffendorf, Hellmut",{"$f":"VLOOKUP(A1036,bangolf_kategorien!$A$2:$B$11,2,FALSE)","v":"SM2"}]
["hs",30056,"Lars","Greiffendorf","1. MGC Mainz e.V.","H: Greiffendorf, Lars",{"$f":"VLOOKUP(A1037,bangolf_kategorien!$A$2:$B$11,2,FALSE)","v":"H"}]
["hs",47443,"Timo","Greiffendorf","1. BGC Leipzig e.V.","H: Greiffendorf, Timo",{"$f":"VLOOKUP(A1038,bangolf_kategorien!$A$2:$B$11,2,FALSE)","v":"H"}]
["ds",3216751,"Giane-Marie","Greiner","Hobby","D: Greiner, Giane-Marie",{"$f":"VLOOKUP(A1039,bangolf_kategorien!$A$2:$B$11,2,FALSE)","v":"D"}]
["hv",22846,"Dieter","Gremm","BGC Uerdingen e.V.","SM2: Gremm, Dieter",{"$f":"VLOOKUP(A1040,bangolf_kategorien!$A$2:$B$11,2,FALSE)","v":"SM2"}]
["ob",31762,"Thomas","Gress","MGC Bad Hersfeld","SM1: Gress, Thomas",{"$f":"VLOOKUP(A1041,bangolf_kategorien!$A$2:$B$11,2,FALSE)","v":"SM1"}]
["pa",67095,"Simon","Griebat","MSK Olching e.V.","SCHM: Griebat, Simon",{"$f":"VLOOKUP(A1042,bangolf_kategorien!$A$2:$B$11,2,FALSE)","v":"SCHM"}]
["hv",48552,"Dieter","Griegel","VfM e.V. Berlin","SM2: Griegel, Dieter",{"$f":"VLOOKUP(A1043,bangolf_kategorien!$A$2:$B$11,2,FALSE)","v":"SM2"}]
["og",67065,"Christine","Gries","SSV Ulm 1846 Abt. Bahnengolf","SW1: Gries, Christine",{"$f":"VLOOKUP(A1044,bangolf_kategorien!$A$2:$B$11,2,FALSE)","v":"SW1"}]
["ob",46148,"Ottmar","Gries","SSV Ulm 1846 Abt. Bahnengolf","SM1: Gries, Ottmar",{"$f":"VLOOKUP(A1045,bangolf_kategorien!$A$2:$B$11,2,FALSE)","v":"SM1"}]
["ob",25960,"Bernd","Grigo","VfM Bottrop e.V.","SM1: Grigo, Bernd",{"$f":"VLOOKUP(A1046,bangolf_kategorien!$A$2:$B$11,2,FALSE)","v":"SM1"}]
["hs",37669,"Marcus","Grimm","BSV 86 München e.V.","H: Grimm, Marcus",{"$f":"VLOOKUP(A1047,bangolf_kategorien!$A$2:$B$11,2,FALSE)","v":"H"}]
["hv",65794,"Wolf-Dieter","Grimm","SV Lurup Abt. Bahnengolf","SM2: Grimm, Wolf-Dieter",{"$f":"VLOOKUP(A1048,bangolf_kategorien!$A$2:$B$11,2,FALSE)","v":"SM2"}]
["ob",463,"Uwe","Grimme","1. NMC Kelheim e.V.","SM1: Grimme, Uwe",{"$f":"VLOOKUP(A1049,bangolf_kategorien!$A$2:$B$11,2,FALSE)","v":"SM1"}]
["ob",38540,"Robert","Grobe","MGC Rot-Weiß Wanne-Eickel e.V.","SM1: Grobe, Robert",{"$f":"VLOOKUP(A1050,bangolf_kategorien!$A$2:$B$11,2,FALSE)","v":"SM1"}]
["ob",66339,"Thomas","Grobe","1. BGC Hannover e.V.","SM1: Grobe, Thomas",{"$f":"VLOOKUP(A1051,bangolf_kategorien!$A$2:$B$11,2,FALSE)","v":"SM1"}]
["ob",67029,"Bernhard","Gröbel","MSV Würzburg-Löwenbrücke e.V.","SM1: Gröbel, Bernhard",{"$f":"VLOOKUP(A1052,bangolf_kategorien!$A$2:$B$11,2,FALSE)","v":"SM1"}]
["hv",66416,"Ronald","Groenewoud","BGSV Castrop e.V. 1961","SM2: Groenewoud, Ronald",{"$f":"VLOOKUP(A1053,bangolf_kategorien!$A$2:$B$11,2,FALSE)","v":"SM2"}]
["hv",36717,"Rainer","Grohse","MGC Brunsbüttel e.V.","SM2: Grohse, Rainer",{"$f":"VLOOKUP(A1054,bangolf_kategorien!$A$2:$B$11,2,FALSE)","v":"SM2"}]
["hs",65954,"Frederick","Grombein","Kölner Miniatur Golf Club e.V.","H: Grombein, Frederick",{"$f":"VLOOKUP(A1055,bangolf_kategorien!$A$2:$B$11,2,FALSE)","v":"H"}]
["hv",66567,"Frank","Gromm","BGSC \"Gut Schlag\" Gladbeck e.V.","SM2: Gromm, Frank",{"$f":"VLOOKUP(A1056,bangolf_kategorien!$A$2:$B$11,2,FALSE)","v":"SM2"}]
["hs",26423,"Markus","Groneberg","VfM e.V. Berlin","H: Groneberg, Markus",{"$f":"VLOOKUP(A1057,bangolf_kategorien!$A$2:$B$11,2,FALSE)","v":"H"}]
["dv",65971,"Friederike","Gronski","MGC Bergisch Gladbach Gierath e.V.","SW2: Gronski, Friederike",{"$f":"VLOOKUP(A1058,bangolf_kategorien!$A$2:$B$11,2,FALSE)","v":"SW2"}]
["hv",65976,"Thomas","Gronski","MGC Bergisch Gladbach Gierath e.V.","SM2: Gronski, Thomas",{"$f":"VLOOKUP(A1059,bangolf_kategorien!$A$2:$B$11,2,FALSE)","v":"SM2"}]
["dv",22243,"Ina","Grosse","TV Trappenkamp e.V. - Minigolf -","SW2: Grosse, Ina",{"$f":"VLOOKUP(A1060,bangolf_kategorien!$A$2:$B$11,2,FALSE)","v":"SW2"}]
["hs",3216749,"Benjamin","Grosser","Hobby","H: Grosser, Benjamin",{"$f":"VLOOKUP(A1061,bangolf_kategorien!$A$2:$B$11,2,FALSE)","v":"H"}]
["ob",30400,"Bertold","Großmann","MGC Sulzfeld e.V.","SM1: Großmann, Bertold",{"$f":"VLOOKUP(A1062,bangolf_kategorien!$A$2:$B$11,2,FALSE)","v":"SM1"}]
["hs",38461,"Lennart","Großmann","1. BGC Wolfsburg","H: Großmann, Lennart",{"$f":"VLOOKUP(A1063,bangolf_kategorien!$A$2:$B$11,2,FALSE)","v":"H"}]
["og",37516,"Rosemarie","Groteböhmer","MSC Bad Godesberg e.V.","SW1: Groteböhmer, Rosemarie",{"$f":"VLOOKUP(A1064,bangolf_kategorien!$A$2:$B$11,2,FALSE)","v":"SW1"}]
["hs",29588,"Stefan","Gruber","MGC Murnau am Staffelsee e.V.","H: Gruber, Stefan",{"$f":"VLOOKUP(A1065,bangolf_kategorien!$A$2:$B$11,2,FALSE)","v":"H"}]
["hs",31872,"Christoph","Grübl","1. BGC Landshut e.V.","H: Grübl, Christoph",{"$f":"VLOOKUP(A1066,bangolf_kategorien!$A$2:$B$11,2,FALSE)","v":"H"}]
["dv",6550,"Sieglinde","Grübl","1. BGC Landshut e.V.","SW2: Grübl, Sieglinde",{"$f":"VLOOKUP(A1067,bangolf_kategorien!$A$2:$B$11,2,FALSE)","v":"SW2"}]
["hv",3802,"Jürgen","Grügelsberg","MGC \"AS\" Witten 1963 e.V.","SM2: Grügelsberg, Jürgen",{"$f":"VLOOKUP(A1068,bangolf_kategorien!$A$2:$B$11,2,FALSE)","v":"SM2"}]
["dv",3126,"Marianne","Grügelsberg","MGC \"AS\" Witten 1963 e.V.","SW2: Grügelsberg, Marianne",{"$f":"VLOOKUP(A1069,bangolf_kategorien!$A$2:$B$11,2,FALSE)","v":"SW2"}]
["og",25695,"Iris","Grün","BGC Dormagen e.V.","SW1: Grün, Iris",{"$f":"VLOOKUP(A1070,bangolf_kategorien!$A$2:$B$11,2,FALSE)","v":"SW1"}]
["hv",67264,"Richard","Grünberg","TSV Kücknitz Abt. Bahnengolf","SM2: Grünberg, Richard",{"$f":"VLOOKUP(A1071,bangolf_kategorien!$A$2:$B$11,2,FALSE)","v":"SM2"}]
["ob",35168,"Dirk","Gründer","BGSC \"Gut Schlag\" Gladbeck e.V.","SM1: Gründer, Dirk",{"$f":"VLOOKUP(A1072,bangolf_kategorien!$A$2:$B$11,2,FALSE)","v":"SM1"}]
["hs",66884,"Benedikt","Grundmüller","MGC Ingolstadt e.V.","H: Grundmüller, Benedikt",{"$f":"VLOOKUP(A1073,bangolf_kategorien!$A$2:$B$11,2,FALSE)","v":"H"}]
["ob",44875,"Franz","Grundmüller","MGC Ingolstadt e.V.","SM1: Grundmüller, Franz",{"$f":"VLOOKUP(A1074,bangolf_kategorien!$A$2:$B$11,2,FALSE)","v":"SM1"}]
["og",44874,"Sonja","Grundmüller","MGC Ingolstadt e.V.","SW1: Grundmüller, Sonja",{"$f":"VLOOKUP(A1075,bangolf_kategorien!$A$2:$B$11,2,FALSE)","v":"SW1"}]
["hj",66883,"Thomas","Grundmüller","MGC Ingolstadt e.V.","JM: Grundmüller, Thomas",{"$f":"VLOOKUP(A1076,bangolf_kategorien!$A$2:$B$11,2,FALSE)","v":"JM"}]
["hv",4233,"Adolf","Grüne","SV Glückauf 1901 Gebhardshagen e.V.","SM2: Grüne, Adolf",{"$f":"VLOOKUP(A1077,bangolf_kategorien!$A$2:$B$11,2,FALSE)","v":"SM2"}]
["ob",50093,"Frank","Grunert","TSV Salzgitter e.V. Abt. Bahnengolf","SM1: Grunert, Frank",{"$f":"VLOOKUP(A1078,bangolf_kategorien!$A$2:$B$11,2,FALSE)","v":"SM1"}]
["dv",44280,"Eveline","Grüning","1. BGC Hannover e.V.","SW2: Grüning, Eveline",{"$f":"VLOOKUP(A1079,bangolf_kategorien!$A$2:$B$11,2,FALSE)","v":"SW2"}]
["hv",46269,"Uwe","Grüning","1. BGC Hannover e.V.","SM2: Grüning, Uwe",{"$f":"VLOOKUP(A1080,bangolf_kategorien!$A$2:$B$11,2,FALSE)","v":"SM2"}]
["ds",65943,"Luisa-Marie","Grüninger","MGC Murnau am Staffelsee e.V.","D: Grüninger, Luisa-Marie",{"$f":"VLOOKUP(A1081,bangolf_kategorien!$A$2:$B$11,2,FALSE)","v":"D"}]
["hs",45426,"Christoph","Grunt","1. MGC Ludwigshafen e.V.","H: Grunt, Christoph",{"$f":"VLOOKUP(A1082,bangolf_kategorien!$A$2:$B$11,2,FALSE)","v":"H"}]
["ob",3212090,"Harald","Grünzinger","Hobby","SM1: Grünzinger, Harald",{"$f":"VLOOKUP(A1083,bangolf_kategorien!$A$2:$B$11,2,FALSE)","v":"SM1"}]
["hv",38264,"Roland","Gruschka","MGC Schwaikheim e.V.","SM2: Gruschka, Roland",{"$f":"VLOOKUP(A1084,bangolf_kategorien!$A$2:$B$11,2,FALSE)","v":"SM2"}]
["og",35795,"Beatriz","Grüßinger","Minigolf Wölfe Rheinstetten 02","SW1: Grüßinger, Beatriz",{"$f":"VLOOKUP(A1085,bangolf_kategorien!$A$2:$B$11,2,FALSE)","v":"SW1"}]
["hv",46450,"Ulrich","Grützner","MC \"Möve\" Cuxhaven-Sahlenburg e.V.","SM2: Grützner, Ulrich",{"$f":"VLOOKUP(A1086,bangolf_kategorien!$A$2:$B$11,2,FALSE)","v":"SM2"}]
["ob",31639,"Andreas","Grzeski","BGSV Kerpen e.V.","SM1: Grzeski, Andreas",{"$f":"VLOOKUP(A1087,bangolf_kategorien!$A$2:$B$11,2,FALSE)","v":"SM1"}]
["hv",22467,"Joachim","Grzyb-Bonsack","MSK Neheim-Hüsten e.V.","SM2: Grzyb-Bonsack, Joachim",{"$f":"VLOOKUP(A1088,bangolf_kategorien!$A$2:$B$11,2,FALSE)","v":"SM2"}]
["hs",38611,"Julian","Guddat","BGV Bergisch Land 1962 / 63 e.V.","H: Guddat, Julian",{"$f":"VLOOKUP(A1089,bangolf_kategorien!$A$2:$B$11,2,FALSE)","v":"H"}]
["hs",35156,"Matthias","Guhe","1.KGC Mönchengladbach e.V.","H: Guhe, Matthias",{"$f":"VLOOKUP(A1090,bangolf_kategorien!$A$2:$B$11,2,FALSE)","v":"H"}]
["hs",27486,"Thomas","Gulz","MGC 85 Bönnigheim",{"$f":"CONCATENATE(G1091,\": \",D1091,\", \",C1091)","v":"H: Gulz, Thomas"},{"$f":"VLOOKUP(A1091,bangolf_kategorien!$A$2:$B$11,2,FALSE)","v":"H"}]
["hv",33357,"Jürgen","Gundermann","MGC Dortmund Syburg e.V.","SM2: Gundermann, Jürgen",{"$f":"VLOOKUP(A1092,bangolf_kategorien!$A$2:$B$11,2,FALSE)","v":"SM2"}]
["ds",50029,"Nicole","Gundert","1. MGC Mainz e.V.","D: Gundert, Nicole",{"$f":"VLOOKUP(A1093,bangolf_kategorien!$A$2:$B$11,2,FALSE)","v":"D"}]
["ob",3175193,"Thomas","Guney","Hobby","SM1: Guney, Thomas",{"$f":"VLOOKUP(A1094,bangolf_kategorien!$A$2:$B$11,2,FALSE)","v":"SM1"}]
["ob",67400,"Thomas","Guney","MC Georgsmarienhütte e.V.","SM1: Guney, Thomas",{"$f":"VLOOKUP(A1095,bangolf_kategorien!$A$2:$B$11,2,FALSE)","v":"SM1"}]
["hs",48275,"Rudolf","Guni","MGC Murnau am Staffelsee e.V.","H: Guni, Rudolf",{"$f":"VLOOKUP(A1096,bangolf_kategorien!$A$2:$B$11,2,FALSE)","v":"H"}]
["hs",67195,"Jesse","Günther","1. MGC Kassel 1964 e.V.","H: Günther, Jesse",{"$f":"VLOOKUP(A1097,bangolf_kategorien!$A$2:$B$11,2,FALSE)","v":"H"}]
["hj",66718,"Kevin","Günther","Hamburger MC von 1965 e.V.","JM: Günther, Kevin",{"$f":"VLOOKUP(A1098,bangolf_kategorien!$A$2:$B$11,2,FALSE)","v":"JM"}]
["hv",6740,"Klaus","Gust","MGC Felderbachtal 1964 e.V.","SM2: Gust, Klaus",{"$f":"VLOOKUP(A1099,bangolf_kategorien!$A$2:$B$11,2,FALSE)","v":"SM2"}]
["ob",31177,"Oliver","Gut","MGF Waldshut 74 e.V.","SM1: Gut, Oliver",{"$f":"VLOOKUP(A1100,bangolf_kategorien!$A$2:$B$11,2,FALSE)","v":"SM1"}]
["hs",66202,"Sebastian","Guth","1. KC Homburg-Saar 1967 e.V.","H: Guth, Sebastian",{"$f":"VLOOKUP(A1101,bangolf_kategorien!$A$2:$B$11,2,FALSE)","v":"H"}]
["hs",32535,"Benjamin","Güth","Niendorfer MC v. 1963 e.V.","H: Güth, Benjamin",{"$f":"VLOOKUP(A1102,bangolf_kategorien!$A$2:$B$11,2,FALSE)","v":"H"}]
["ob",43241,"Udo","Guttroff","1. MGC Metzingen e.V.","SM1: Guttroff, Udo",{"$f":"VLOOKUP(A1103,bangolf_kategorien!$A$2:$B$11,2,FALSE)","v":"SM1"}]
["hv",41298,"Dieter","Haag","BGC Heilbronn e.V.","SM2: Haag, Dieter",{"$f":"VLOOKUP(A1104,bangolf_kategorien!$A$2:$B$11,2,FALSE)","v":"SM2"}]
["ds",38354,"Alexandra","Haas","BSV 82 Ohlsbach e.V.","D: Haas, Alexandra",{"$f":"VLOOKUP(A1105,bangolf_kategorien!$A$2:$B$11,2,FALSE)","v":"D"}]
["hv",40878,"Wolfgang","Haas","1. BGC Bad Füssing e.V.","SM2: Haas, Wolfgang",{"$f":"VLOOKUP(A1106,bangolf_kategorien!$A$2:$B$11,2,FALSE)","v":"SM2"}]
["pa",67101,"Ben","Haase","SV Lurup Abt. Bahnengolf","SCHM: Haase, Ben",{"$f":"VLOOKUP(A1107,bangolf_kategorien!$A$2:$B$11,2,FALSE)","v":"SCHM"}]
["dv",67344,"Erika","Haase","1. MGC Kassel 1964 e.V.","SW2: Haase, Erika",{"$f":"VLOOKUP(A1108,bangolf_kategorien!$A$2:$B$11,2,FALSE)","v":"SW2"}]
["ob",41960,"Guido","Haase","1. MGC Kassel 1964 e.V.","SM1: Haase, Guido",{"$f":"VLOOKUP(A1109,bangolf_kategorien!$A$2:$B$11,2,FALSE)","v":"SM1"}]
["ds",66539,"Felicitas","Haberl","MGC Ingolstadt e.V.","D: Haberl, Felicitas",{"$f":"VLOOKUP(A1110,bangolf_kategorien!$A$2:$B$11,2,FALSE)","v":"D"}]
["dj",66838,"Lena","Haberl","MGC Ingolstadt e.V.","JW: Haberl, Lena",{"$f":"VLOOKUP(A1111,bangolf_kategorien!$A$2:$B$11,2,FALSE)","v":"JW"}]
["ob",29277,"Volker","Haberl","MGC Ingolstadt e.V.","SM1: Haberl, Volker",{"$f":"VLOOKUP(A1112,bangolf_kategorien!$A$2:$B$11,2,FALSE)","v":"SM1"}]
["hv",27189,"Klaus","Hablitzel","1. MGC Tuttlingen e.V.","SM2: Hablitzel, Klaus",{"$f":"VLOOKUP(A1113,bangolf_kategorien!$A$2:$B$11,2,FALSE)","v":"SM2"}]
["hv",27909,"Klaus","Habrich","1. MGC Süßen e.V.","SM2: Habrich, Klaus",{"$f":"VLOOKUP(A1114,bangolf_kategorien!$A$2:$B$11,2,FALSE)","v":"SM2"}]
["hs",34559,"Danny","Hackel","MGC Homburger Land e.V.","H: Hackel, Danny",{"$f":"VLOOKUP(A1115,bangolf_kategorien!$A$2:$B$11,2,FALSE)","v":"H"}]
["hv",37074,"Günter","Hackenberg","1. MGC Kassel 1964 e.V.","SM2: Hackenberg, Günter",{"$f":"VLOOKUP(A1116,bangolf_kategorien!$A$2:$B$11,2,FALSE)","v":"SM2"}]
["hv",37079,"Willi","Hackenberg","1. MGC Kassel 1964 e.V.","SM2: Hackenberg, Willi",{"$f":"VLOOKUP(A1117,bangolf_kategorien!$A$2:$B$11,2,FALSE)","v":"SM2"}]
["hs",33744,"Sascha","Hackfurt","BGC Uerdingen e.V.","H: Hackfurt, Sascha",{"$f":"VLOOKUP(A1118,bangolf_kategorien!$A$2:$B$11,2,FALSE)","v":"H"}]
["hs",24871,"Christian","Haeger","Bochumer Minigolf-Club 1960 e.V.","H: Haeger, Christian",{"$f":"VLOOKUP(A1119,bangolf_kategorien!$A$2:$B$11,2,FALSE)","v":"H"}]
["hv",42010,"Bernd","Hägele","BG Pfullingen","SM2: Hägele, Bernd",{"$f":"VLOOKUP(A1120,bangolf_kategorien!$A$2:$B$11,2,FALSE)","v":"SM2"}]
["ob",34296,"Robert","Hägele","MGC Bad Feilnbach e.V.","SM1: Hägele, Robert",{"$f":"VLOOKUP(A1121,bangolf_kategorien!$A$2:$B$11,2,FALSE)","v":"SM1"}]
["hj",66990,"David","Hagemeyer","BGSV Bad Homburg","JM: Hagemeyer, David",{"$f":"VLOOKUP(A1122,bangolf_kategorien!$A$2:$B$11,2,FALSE)","v":"JM"}]
["hv",17834,"Leo","Hagenlüke","BV Sennestadt","SM2: Hagenlüke, Leo",{"$f":"VLOOKUP(A1123,bangolf_kategorien!$A$2:$B$11,2,FALSE)","v":"SM2"}]
["ds",48646,"Corinna","Hahn","1. MGC Ludwigshafen e.V.","D: Hahn, Corinna",{"$f":"VLOOKUP(A1124,bangolf_kategorien!$A$2:$B$11,2,FALSE)","v":"D"}]
["ob",44416,"Robert","Hahn","1. MGC Ludwigshafen e.V.","SM1: Hahn, Robert",{"$f":"VLOOKUP(A1125,bangolf_kategorien!$A$2:$B$11,2,FALSE)","v":"SM1"}]
["hs",46374,"Timon","Hahn","VfB Osnabrück e.V.","H: Hahn, Timon",{"$f":"VLOOKUP(A1126,bangolf_kategorien!$A$2:$B$11,2,FALSE)","v":"H"}]
["dv",65300,"Kornelia","Haid","1. MGC Hechingen","SW2: Haid, Kornelia",{"$f":"VLOOKUP(A1127,bangolf_kategorien!$A$2:$B$11,2,FALSE)","v":"SW2"}]
["hv",65301,"Rolf","Haid","1. MGC Hechingen","SM2: Haid, Rolf",{"$f":"VLOOKUP(A1128,bangolf_kategorien!$A$2:$B$11,2,FALSE)","v":"SM2"}]
["hv",20299,"Ottmar","Haidl","MCE Sindelfingen e.V.","SM2: Haidl, Ottmar",{"$f":"VLOOKUP(A1129,bangolf_kategorien!$A$2:$B$11,2,FALSE)","v":"SM2"}]
["dv",62626,"Christa","Hainz","BGS Hardenberg-Pötter e.V.","SW2: Hainz, Christa",{"$f":"VLOOKUP(A1130,bangolf_kategorien!$A$2:$B$11,2,FALSE)","v":"SW2"}]
["ob",66432,"Thomas","Hainzl","MGF Ottobrunn e.V.","SM1: Hainzl, Thomas",{"$f":"VLOOKUP(A1131,bangolf_kategorien!$A$2:$B$11,2,FALSE)","v":"SM1"}]
["hv",42187,"Siegfried","Hake","BGC Goslar e.V.","SM2: Hake, Siegfried",{"$f":"VLOOKUP(A1132,bangolf_kategorien!$A$2:$B$11,2,FALSE)","v":"SM2"}]
["hs",66115,"Alexander","Halbauer","MSG Kempten e.V.","H: Halbauer, Alexander",{"$f":"VLOOKUP(A1133,bangolf_kategorien!$A$2:$B$11,2,FALSE)","v":"H"}]
["ob",42555,"Markus","Haller","1. NMC Kelheim e.V.","SM1: Haller, Markus",{"$f":"VLOOKUP(A1134,bangolf_kategorien!$A$2:$B$11,2,FALSE)","v":"SM1"}]
["hs",65847,"Markus","Hallhuber","BSV Inzlingen 1979 e.V.","H: Hallhuber, Markus",{"$f":"VLOOKUP(A1135,bangolf_kategorien!$A$2:$B$11,2,FALSE)","v":"H"}]
["ob",47240,"Martin","Halscheidt","MGC Wertheim 91 e.V.","SM1: Halscheidt, Martin",{"$f":"VLOOKUP(A1136,bangolf_kategorien!$A$2:$B$11,2,FALSE)","v":"SM1"}]
["ob",45662,"Matthias","Halstein","BGC Bremen e.V.","SM1: Halstein, Matthias",{"$f":"VLOOKUP(A1137,bangolf_kategorien!$A$2:$B$11,2,FALSE)","v":"SM1"}]
["og",35765,"Marina","Hammann","MC Ilvesheim e.V.","SW1: Hammann, Marina",{"$f":"VLOOKUP(A1138,bangolf_kategorien!$A$2:$B$11,2,FALSE)","v":"SW1"}]
["ds",36423,"Melanie","Hammerschmidt","MGC Oberkochen e.V.","D: Hammerschmidt, Melanie",{"$f":"VLOOKUP(A1139,bangolf_kategorien!$A$2:$B$11,2,FALSE)","v":"D"}]
["og",26302,"Sabine","Hammerschmidt","MGF Hilzingen 80 e.V.","SW1: Hammerschmidt, Sabine",{"$f":"VLOOKUP(A1140,bangolf_kategorien!$A$2:$B$11,2,FALSE)","v":"SW1"}]
["og",43760,"Dagmar","Hammon","BGC Bad Berneck e.V.","SW1: Hammon, Dagmar",{"$f":"VLOOKUP(A1141,bangolf_kategorien!$A$2:$B$11,2,FALSE)","v":"SW1"}]
["ob",42281,"Michael","Hammon","BGC Bad Berneck e.V.","SM1: Hammon, Michael",{"$f":"VLOOKUP(A1142,bangolf_kategorien!$A$2:$B$11,2,FALSE)","v":"SM1"}]
["hs",36282,"Dennis","Handtke","MSK Neheim-Hüsten e.V.","H: Handtke, Dennis",{"$f":"VLOOKUP(A1143,bangolf_kategorien!$A$2:$B$11,2,FALSE)","v":"H"}]
["hj",67148,"Jonas","Handtke","MSK Neheim-Hüsten e.V.","JM: Handtke, Jonas",{"$f":"VLOOKUP(A1144,bangolf_kategorien!$A$2:$B$11,2,FALSE)","v":"JM"}]
["hv",40161,"Michael","Handtke","MSK Neheim-Hüsten e.V.","SM2: Handtke, Michael",{"$f":"VLOOKUP(A1145,bangolf_kategorien!$A$2:$B$11,2,FALSE)","v":"SM2"}]
["ds",38511,"Sarah","Handtke","MSK Neheim-Hüsten e.V.","D: Handtke, Sarah",{"$f":"VLOOKUP(A1146,bangolf_kategorien!$A$2:$B$11,2,FALSE)","v":"D"}]
["ob",63732,"Dieter","Hanisch","MGC Ingolstadt e.V.","SM1: Hanisch, Dieter",{"$f":"VLOOKUP(A1147,bangolf_kategorien!$A$2:$B$11,2,FALSE)","v":"SM1"}]
["pa",66982,"Maximilian","Hanke","MGF Ottobrunn e.V.","SCHM: Hanke, Maximilian",{"$f":"VLOOKUP(A1148,bangolf_kategorien!$A$2:$B$11,2,FALSE)","v":"SCHM"}]
["ob",66983,"Werner","Hanke","MGF Ottobrunn e.V.","SM1: Hanke, Werner",{"$f":"VLOOKUP(A1149,bangolf_kategorien!$A$2:$B$11,2,FALSE)","v":"SM1"}]
["hs",49941,"Sven","Hänke","MC Flora Elmshorn e.V.","H: Hänke, Sven",{"$f":"VLOOKUP(A1150,bangolf_kategorien!$A$2:$B$11,2,FALSE)","v":"H"}]
["hv",26439,"Rainer","Hanker","BGSC \"Gut Schlag\" Gladbeck e.V.","SM2: Hanker, Rainer",{"$f":"VLOOKUP(A1151,bangolf_kategorien!$A$2:$B$11,2,FALSE)","v":"SM2"}]
["hv",45588,"Johann","Hann","SSV Ulm 1846 Abt. Bahnengolf","SM2: Hann, Johann",{"$f":"VLOOKUP(A1152,bangolf_kategorien!$A$2:$B$11,2,FALSE)","v":"SM2"}]
["hv",61071,"Anton","Hannausek","MGC Rot-Weiß Wanne-Eickel e.V.","SM2: Hannausek, Anton",{"$f":"VLOOKUP(A1153,bangolf_kategorien!$A$2:$B$11,2,FALSE)","v":"SM2"}]
["hs",64724,"Andreas","Hannemann-Schmidhuber","1. BGC Landshut e.V.","H: Hannemann-Schmidhuber, Andreas",{"$f":"VLOOKUP(A1154,bangolf_kategorien!$A$2:$B$11,2,FALSE)","v":"H"}]
["og",64722,"Claudia","Hannemann-Schmidhuber","1. BGC Landshut e.V.",{"$f":"CONCATENATE(G1155,\": \",D1155,\", \",C1155)","v":"SW1: Hannemann-Schmidhuber, Claudia"},{"$f":"VLOOKUP(A1155,bangolf_kategorien!$A$2:$B$11,2,FALSE)","v":"SW1"}]
["ob",43553,"Jörg","Hannmann","Niendorfer MC v. 1963 e.V.","SM1: Hannmann, Jörg",{"$f":"VLOOKUP(A1156,bangolf_kategorien!$A$2:$B$11,2,FALSE)","v":"SM1"}]
["hv",45795,"Jürgen","Hansel","CGC Illertal Kellmünz","SM2: Hansel, Jürgen",{"$f":"VLOOKUP(A1157,bangolf_kategorien!$A$2:$B$11,2,FALSE)","v":"SM2"}]
["pa",67093,"Marc","Hansen","MGC Bad Bodendorf e.V.","SCHM: Hansen, Marc",{"$f":"VLOOKUP(A1158,bangolf_kategorien!$A$2:$B$11,2,FALSE)","v":"SCHM"}]
["hs",32383,"Mike","Hansen","MSC Bad Godesberg e.V.","H: Hansen, Mike",{"$f":"VLOOKUP(A1159,bangolf_kategorien!$A$2:$B$11,2,FALSE)","v":"H"}]
["ds",28083,"Nicole","Hansen","MGC Bad Bodendorf e.V.","D: Hansen, Nicole",{"$f":"VLOOKUP(A1160,bangolf_kategorien!$A$2:$B$11,2,FALSE)","v":"D"}]
["hs",38016,"Pascal","Hansen","BGS Hardenberg-Pötter e.V.","H: Hansen, Pascal",{"$f":"VLOOKUP(A1161,bangolf_kategorien!$A$2:$B$11,2,FALSE)","v":"H"}]
["dv",52109,"Sabine","Hansen","BGC Kiel West e.V.","SW2: Hansen, Sabine",{"$f":"VLOOKUP(A1162,bangolf_kategorien!$A$2:$B$11,2,FALSE)","v":"SW2"}]
["ob",11,"Svend","Hansen","MGC Harrislee-Wassersleben","SM1: Hansen, Svend",{"$f":"VLOOKUP(A1163,bangolf_kategorien!$A$2:$B$11,2,FALSE)","v":"SM1"}]
["og",47253,"Angelika","Hansmeier","MGC Bad Salzuflen e.V.","SW1: Hansmeier, Angelika",{"$f":"VLOOKUP(A1164,bangolf_kategorien!$A$2:$B$11,2,FALSE)","v":"SW1"}]
["og",66157,"Heike","Hansper","1. MGV Spandau Berlin e.V.","SW1: Hansper, Heike",{"$f":"VLOOKUP(A1165,bangolf_kategorien!$A$2:$B$11,2,FALSE)","v":"SW1"}]
["ob",38421,"Thomas","Hansper","1. MGV Spandau Berlin e.V.","SM1: Hansper, Thomas",{"$f":"VLOOKUP(A1166,bangolf_kategorien!$A$2:$B$11,2,FALSE)","v":"SM1"}]
["hs",66853,"Martin","Hänßgen","MGF Magdeburg 1995 e.V.","H: Hänßgen, Martin",{"$f":"VLOOKUP(A1167,bangolf_kategorien!$A$2:$B$11,2,FALSE)","v":"H"}]
["hs",22800,"Jochen","Hänßler","1. MGC Tuttlingen e.V.","H: Hänßler, Jochen",{"$f":"VLOOKUP(A1168,bangolf_kategorien!$A$2:$B$11,2,FALSE)","v":"H"}]
["hs",37141,"Andreas","Hardt","MV Lankwitzer Dragons e.V.","H: Hardt, Andreas",{"$f":"VLOOKUP(A1169,bangolf_kategorien!$A$2:$B$11,2,FALSE)","v":"H"}]
["ds",45059,"Claudia","Hardt","MV Lankwitzer Dragons e.V.","D: Hardt, Claudia",{"$f":"VLOOKUP(A1170,bangolf_kategorien!$A$2:$B$11,2,FALSE)","v":"D"}]
["ds",67418,"Janina","Hardt","BGSV Aßlar 1987 e.V.","D: Hardt, Janina",{"$f":"VLOOKUP(A1171,bangolf_kategorien!$A$2:$B$11,2,FALSE)","v":"D"}]
["og",50257,"Ute","Häring","SSV Ulm 1846 Abt. Bahnengolf","SW1: Häring, Ute",{"$f":"VLOOKUP(A1172,bangolf_kategorien!$A$2:$B$11,2,FALSE)","v":"SW1"}]
["hv",25381,"Armin","Härle","MGSC Wernau e.V.","SM2: Härle, Armin",{"$f":"VLOOKUP(A1173,bangolf_kategorien!$A$2:$B$11,2,FALSE)","v":"SM2"}]
["hs",36571,"Mark","Harmening","1. MGC Mainz e.V.","H: Harmening, Mark",{"$f":"VLOOKUP(A1174,bangolf_kategorien!$A$2:$B$11,2,FALSE)","v":"H"}]
["hv",19114,"Herbert","Harms","MGC Millennium Lorsch e.V.","SM2: Harms, Herbert",{"$f":"VLOOKUP(A1175,bangolf_kategorien!$A$2:$B$11,2,FALSE)","v":"SM2"}]
["hs",33191,"Stefan","Härtel","VfB Osnabrück e.V.","H: Härtel, Stefan",{"$f":"VLOOKUP(A1176,bangolf_kategorien!$A$2:$B$11,2,FALSE)","v":"H"}]
["hv",23282,"Paul","Hartenbach","2. MGC Worms","SM2: Hartenbach, Paul",{"$f":"VLOOKUP(A1177,bangolf_kategorien!$A$2:$B$11,2,FALSE)","v":"SM2"}]
["hv",4021,"Gustav","Hartfuhs","BGC Illertissen e.V.","SM2: Hartfuhs, Gustav",{"$f":"VLOOKUP(A1178,bangolf_kategorien!$A$2:$B$11,2,FALSE)","v":"SM2"}]
["pa",67013,"Max","Hartkorn","1. CGC Blau-Gelb Grötzingen","SCHM: Hartkorn, Max",{"$f":"VLOOKUP(A1179,bangolf_kategorien!$A$2:$B$11,2,FALSE)","v":"SCHM"}]
["ds",67121,"Tamara","Hartkorn","1. CGC Blau-Gelb Grötzingen","D: Hartkorn, Tamara",{"$f":"VLOOKUP(A1180,bangolf_kategorien!$A$2:$B$11,2,FALSE)","v":"D"}]
["ob",67120,"Mario","Hartkorn-Götz","1. CGC Blau-Gelb Grötzingen","SM1: Hartkorn-Götz, Mario",{"$f":"VLOOKUP(A1181,bangolf_kategorien!$A$2:$B$11,2,FALSE)","v":"SM1"}]
["hv",49269,"Matthias","Hartl","MSC Bad Godesberg e.V.","SM2: Hartl, Matthias",{"$f":"VLOOKUP(A1182,bangolf_kategorien!$A$2:$B$11,2,FALSE)","v":"SM2"}]
["hv",3874,"Wolfgang","Härtl","PTSV Hof, Abt. Minigolf","SM2: Härtl, Wolfgang",{"$f":"VLOOKUP(A1183,bangolf_kategorien!$A$2:$B$11,2,FALSE)","v":"SM2"}]
["hv",44936,"Ingo","Hartlein","BGC Bad Nenndorf e.V.","SM2: Hartlein, Ingo",{"$f":"VLOOKUP(A1184,bangolf_kategorien!$A$2:$B$11,2,FALSE)","v":"SM2"}]
["hv",33896,"Jürgen","Hartmaier","BGC Heilbronn e.V.","SM2: Hartmaier, Jürgen",{"$f":"VLOOKUP(A1185,bangolf_kategorien!$A$2:$B$11,2,FALSE)","v":"SM2"}]
["ob",49,"Rolf","Hartmaier","BIG ASPERG e.V.","SM1: Hartmaier, Rolf",{"$f":"VLOOKUP(A1186,bangolf_kategorien!$A$2:$B$11,2,FALSE)","v":"SM1"}]
["hs",63738,"Christian","Hartmann","MSG Kempten e.V.","H: Hartmann, Christian",{"$f":"VLOOKUP(A1187,bangolf_kategorien!$A$2:$B$11,2,FALSE)","v":"H"}]
["ob",3202727,"Jochen","Hartmann","Hobby","SM1: Hartmann, Jochen",{"$f":"VLOOKUP(A1188,bangolf_kategorien!$A$2:$B$11,2,FALSE)","v":"SM1"}]
["hs",30051,"Jörg","Hartmann","Tempelhofer MV Berlin e.V.","H: Hartmann, Jörg",{"$f":"VLOOKUP(A1189,bangolf_kategorien!$A$2:$B$11,2,FALSE)","v":"H"}]
["og",34233,"Kerstin","Hartmann","1. BGC Hannover e.V.","SW1: Hartmann, Kerstin",{"$f":"VLOOKUP(A1190,bangolf_kategorien!$A$2:$B$11,2,FALSE)","v":"SW1"}]
["hj",67106,"Leo","Hartmann","TSV Kücknitz Abt. Bahnengolf","JM: Hartmann, Leo",{"$f":"VLOOKUP(A1191,bangolf_kategorien!$A$2:$B$11,2,FALSE)","v":"JM"}]
["hs",36667,"Maximilian","Hartmann","BGC Illertissen e.V.","H: Hartmann, Maximilian",{"$f":"VLOOKUP(A1192,bangolf_kategorien!$A$2:$B$11,2,FALSE)","v":"H"}]
["hv",5033,"Peter","Hartmann","1. CGC Blau-Gelb Grötzingen","SM2: Hartmann, Peter",{"$f":"VLOOKUP(A1193,bangolf_kategorien!$A$2:$B$11,2,FALSE)","v":"SM2"}]
["hv",26119,"Rochus","Hartmann","BGC Bad Nenndorf e.V.","SM2: Hartmann, Rochus",{"$f":"VLOOKUP(A1194,bangolf_kategorien!$A$2:$B$11,2,FALSE)","v":"SM2"}]
["hv",3119649,"Theo","Hartmann","Hobby","SM2: Hartmann, Theo",{"$f":"VLOOKUP(A1195,bangolf_kategorien!$A$2:$B$11,2,FALSE)","v":"SM2"}]
["og",3118750,"Ulrike","Hartmann","Hobby","SW1: Hartmann, Ulrike",{"$f":"VLOOKUP(A1196,bangolf_kategorien!$A$2:$B$11,2,FALSE)","v":"SW1"}]
["hv",41738,"Friedrich","Haschberger","1. BGC Landshut e.V.","SM2: Haschberger, Friedrich",{"$f":"VLOOKUP(A1197,bangolf_kategorien!$A$2:$B$11,2,FALSE)","v":"SM2"}]
["ob",29346,"Christoph","Hasenberg","SGC Hagen e.V.","SM1: Hasenberg, Christoph",{"$f":"VLOOKUP(A1198,bangolf_kategorien!$A$2:$B$11,2,FALSE)","v":"SM1"}]
["hj",38534,"Felix","Hasenberg","SGC Hagen e.V.","JM: Hasenberg, Felix",{"$f":"VLOOKUP(A1199,bangolf_kategorien!$A$2:$B$11,2,FALSE)","v":"JM"}]
["og",43147,"Heike","Hasenberg","SGC Hagen e.V.","SW1: Hasenberg, Heike",{"$f":"VLOOKUP(A1200,bangolf_kategorien!$A$2:$B$11,2,FALSE)","v":"SW1"}]
["hv",37054,"Dirk","Hasenclever","1. BGC Leipzig e.V.","SM2: Hasenclever, Dirk",{"$f":"VLOOKUP(A1201,bangolf_kategorien!$A$2:$B$11,2,FALSE)","v":"SM2"}]
["hv",35711,"Johann","Hasenfuss","SC Bad Münder Abt. Bahnengolf","SM2: Hasenfuss, Johann",{"$f":"VLOOKUP(A1202,bangolf_kategorien!$A$2:$B$11,2,FALSE)","v":"SM2"}]
["hs",66796,"Christian","Haß","BGC Bildstock e.V.","H: Haß, Christian",{"$f":"VLOOKUP(A1203,bangolf_kategorien!$A$2:$B$11,2,FALSE)","v":"H"}]
["ob",43779,"Lars","Hasse","1. MGC 1970 Göttingen e.V.","SM1: Hasse, Lars",{"$f":"VLOOKUP(A1204,bangolf_kategorien!$A$2:$B$11,2,FALSE)","v":"SM1"}]
["dv",34249,"Monika","Hasse","Preetzer TSV von 1861 e.V. Abt. Minigolf","SW2: Hasse, Monika",{"$f":"VLOOKUP(A1205,bangolf_kategorien!$A$2:$B$11,2,FALSE)","v":"SW2"}]
["hv",34250,"Rainer","Hasse","Preetzer TSV von 1861 e.V. Abt. Minigolf","SM2: Hasse, Rainer",{"$f":"VLOOKUP(A1206,bangolf_kategorien!$A$2:$B$11,2,FALSE)","v":"SM2"}]
["hv",5263,"Kurt","Hasselwander","MSV Bad Kreuznach","SM2: Hasselwander, Kurt",{"$f":"VLOOKUP(A1207,bangolf_kategorien!$A$2:$B$11,2,FALSE)","v":"SM2"}]
["dv",41949,"Agni","Hau","1. Essener CGC \"Blau-Gold\" e.V.","SW2: Hau, Agni",{"$f":"VLOOKUP(A1208,bangolf_kategorien!$A$2:$B$11,2,FALSE)","v":"SW2"}]
["hv",47485,"Reinhard","Haubeil","1. BGC Wesseling 1975 e.V.","SM2: Haubeil, Reinhard",{"$f":"VLOOKUP(A1209,bangolf_kategorien!$A$2:$B$11,2,FALSE)","v":"SM2"}]
["hv",10992,"Franz","Haubner","1. NMC Kelheim e.V.","SM2: Haubner, Franz",{"$f":"VLOOKUP(A1210,bangolf_kategorien!$A$2:$B$11,2,FALSE)","v":"SM2"}]
["hv",1541,"Uwe","Haubold","MGV Bremen e.V.","SM2: Haubold, Uwe",{"$f":"VLOOKUP(A1211,bangolf_kategorien!$A$2:$B$11,2,FALSE)","v":"SM2"}]
["hv",4204,"Karlheinz","Haucke","SC Bastion Rot Weiß Lippstadt e.V.","SM2: Haucke, Karlheinz",{"$f":"VLOOKUP(A1212,bangolf_kategorien!$A$2:$B$11,2,FALSE)","v":"SM2"}]
["hs",35810,"Timm","Haucke","SC Bastion Rot Weiß Lippstadt e.V.","H: Haucke, Timm",{"$f":"VLOOKUP(A1213,bangolf_kategorien!$A$2:$B$11,2,FALSE)","v":"H"}]
["hs",31350,"Jörg","Hauer","BGC Heilbronn e.V.","H: Hauer, Jörg",{"$f":"VLOOKUP(A1214,bangolf_kategorien!$A$2:$B$11,2,FALSE)","v":"H"}]
["pa",66998,"Lukas","Haupt","MGF Magdeburg 1995 e.V.","SCHM: Haupt, Lukas",{"$f":"VLOOKUP(A1215,bangolf_kategorien!$A$2:$B$11,2,FALSE)","v":"SCHM"}]
["ds",37399,"Maike","Haupt","MGC Dormagen-Brechten e.V.","D: Haupt, Maike",{"$f":"VLOOKUP(A1216,bangolf_kategorien!$A$2:$B$11,2,FALSE)","v":"D"}]
["ob",37692,"Michael","Haupter","1. MGC Metzingen e.V.","SM1: Haupter, Michael",{"$f":"VLOOKUP(A1217,bangolf_kategorien!$A$2:$B$11,2,FALSE)","v":"SM1"}]
["dv",34570,"Karin","Hauschke","1. Minigolf-Club Rheinhausen e.V.","SW2: Hauschke, Karin",{"$f":"VLOOKUP(A1218,bangolf_kategorien!$A$2:$B$11,2,FALSE)","v":"SW2"}]
["hv",67383,"Alois","Hauser","BSV 82 Ohlsbach e.V.",{"$f":"CONCATENATE(G1219,\": \",D1219,\", \",C1219)","v":"SM2: Hauser, Alois"},{"$f":"VLOOKUP(A1219,bangolf_kategorien!$A$2:$B$11,2,FALSE)","v":"SM2"}]
["hv",35083,"Hans","Häuserer","1. BGC Garmisch-Partenkirchen","SM2: Häuserer, Hans",{"$f":"VLOOKUP(A1220,bangolf_kategorien!$A$2:$B$11,2,FALSE)","v":"SM2"}]
["hs",37363,"Julian","Häusler","1. MSC Wesel 6.6.1966 e.V.","H: Häusler, Julian",{"$f":"VLOOKUP(A1221,bangolf_kategorien!$A$2:$B$11,2,FALSE)","v":"H"}]
["ob",65456,"Gerd","Hausmann","1. MGC Ludwigshafen e.V.","SM1: Hausmann, Gerd",{"$f":"VLOOKUP(A1222,bangolf_kategorien!$A$2:$B$11,2,FALSE)","v":"SM1"}]
["hv",35145,"Erich","Hauth","MGC Traben-Trarbach","SM2: Hauth, Erich",{"$f":"VLOOKUP(A1223,bangolf_kategorien!$A$2:$B$11,2,FALSE)","v":"SM2"}]
["ds",37853,"Carina","Hebbeln","Hamburger MC von 1965 e.V.","D: Hebbeln, Carina",{"$f":"VLOOKUP(A1224,bangolf_kategorien!$A$2:$B$11,2,FALSE)","v":"D"}]
["hs",37511,"Christian","Hebbeln","Hamburger MC von 1965 e.V.","H: Hebbeln, Christian",{"$f":"VLOOKUP(A1225,bangolf_kategorien!$A$2:$B$11,2,FALSE)","v":"H"}]
["hv",67126,"Bernd","Heber","SV 1890 e.V. Dreieichenhain, Abt. Bahnengolf","SM2: Heber, Bernd",{"$f":"VLOOKUP(A1226,bangolf_kategorien!$A$2:$B$11,2,FALSE)","v":"SM2"}]
["hv",20081,"Michael","Hecken","MC Neuwied","SM2: Hecken, Michael",{"$f":"VLOOKUP(A1227,bangolf_kategorien!$A$2:$B$11,2,FALSE)","v":"SM2"}]
["hs",32382,"Stefan","Hecken","MC Tigers Künsebeck e.V.","H: Hecken, Stefan",{"$f":"VLOOKUP(A1228,bangolf_kategorien!$A$2:$B$11,2,FALSE)","v":"H"}]
["pa",66901,"Sebastian","Heckmann","1. MGC Ladenburg e.V.","SCHM: Heckmann, Sebastian",{"$f":"VLOOKUP(A1229,bangolf_kategorien!$A$2:$B$11,2,FALSE)","v":"SCHM"}]
["hv",36425,"Ludwig","Heer","MGC Bad Homburg vdH e.V.","SM2: Heer, Ludwig",{"$f":"VLOOKUP(A1230,bangolf_kategorien!$A$2:$B$11,2,FALSE)","v":"SM2"}]
["hs",36956,"Tobias","Heer","MGC Bad Homburg vdH e.V.","H: Heer, Tobias",{"$f":"VLOOKUP(A1231,bangolf_kategorien!$A$2:$B$11,2,FALSE)","v":"H"}]
["og",30816,"Laila","Heerich","1. MGC Kassel 1964 e.V.","SW1: Heerich, Laila",{"$f":"VLOOKUP(A1232,bangolf_kategorien!$A$2:$B$11,2,FALSE)","v":"SW1"}]
["hv",21948,"Ralph","Heerich","1. MGC Kassel 1964 e.V.","SM2: Heerich, Ralph",{"$f":"VLOOKUP(A1233,bangolf_kategorien!$A$2:$B$11,2,FALSE)","v":"SM2"}]
["hv",51888,"Hans-Joachim","Heese","MGC Freizeitzentrum Biebertal","SM2: Heese, Hans-Joachim",{"$f":"VLOOKUP(A1234,bangolf_kategorien!$A$2:$B$11,2,FALSE)","v":"SM2"}]
["hv",26259,"Karl-Heinz","Hefner","MGC Ostheim / Rhön e.V.","SM2: Hefner, Karl-Heinz",{"$f":"VLOOKUP(A1235,bangolf_kategorien!$A$2:$B$11,2,FALSE)","v":"SM2"}]
["hs",36131,"Marcel","Heger","1. CGC Blau-Gelb Grötzingen","H: Heger, Marcel",{"$f":"VLOOKUP(A1236,bangolf_kategorien!$A$2:$B$11,2,FALSE)","v":"H"}]
["ob",65149,"Thomas","Heger","MGC Heringen 1997 e.V.","SM1: Heger, Thomas",{"$f":"VLOOKUP(A1237,bangolf_kategorien!$A$2:$B$11,2,FALSE)","v":"SM1"}]
["ds",3216571,"Nina","Hehemann","Hobby","D: Hehemann, Nina",{"$f":"VLOOKUP(A1238,bangolf_kategorien!$A$2:$B$11,2,FALSE)","v":"D"}]
["ob",46457,"Falk","Heidecke","MC \"Möve\" Cuxhaven-Sahlenburg e.V.","SM1: Heidecke, Falk",{"$f":"VLOOKUP(A1239,bangolf_kategorien!$A$2:$B$11,2,FALSE)","v":"SM1"}]
["hv",34093,"Adolf","Heidler","MC \"Möve\" Cuxhaven-Sahlenburg e.V.","SM2: Heidler, Adolf",{"$f":"VLOOKUP(A1240,bangolf_kategorien!$A$2:$B$11,2,FALSE)","v":"SM2"}]
["dv",28904,"Ursula","Heiliger","1. BGC Wolfsburg","SW2: Heiliger, Ursula",{"$f":"VLOOKUP(A1241,bangolf_kategorien!$A$2:$B$11,2,FALSE)","v":"SW2"}]
["hv",18150,"Horst","Heilmann","BGSC Bochum 1978 e.V.","SM2: Heilmann, Horst",{"$f":"VLOOKUP(A1242,bangolf_kategorien!$A$2:$B$11,2,FALSE)","v":"SM2"}]
["hs",23436,"Dirk","Hein","Tempelhofer MV Berlin e.V.","H: Hein, Dirk",{"$f":"VLOOKUP(A1243,bangolf_kategorien!$A$2:$B$11,2,FALSE)","v":"H"}]
["ob",27863,"Hans-Jörg","Hein","MGC \"AS\" Witten 1963 e.V.","SM1: Hein, Hans-Jörg",{"$f":"VLOOKUP(A1244,bangolf_kategorien!$A$2:$B$11,2,FALSE)","v":"SM1"}]
["dv",24422,"Helga","Hein","1. NMC Kelheim e.V.","SW2: Hein, Helga",{"$f":"VLOOKUP(A1245,bangolf_kategorien!$A$2:$B$11,2,FALSE)","v":"SW2"}]
["ob",29808,"Karsten","Hein","BGV Bergisch Land 1962 / 63 e.V.","SM1: Hein, Karsten",{"$f":"VLOOKUP(A1246,bangolf_kategorien!$A$2:$B$11,2,FALSE)","v":"SM1"}]
["hv",36223,"Lothar","Heine","1. MSC Wesel 6.6.1966 e.V.","SM2: Heine, Lothar",{"$f":"VLOOKUP(A1247,bangolf_kategorien!$A$2:$B$11,2,FALSE)","v":"SM2"}]
["hv",1723,"Peter","Heine","1. BGC Hannover e.V.","SM2: Heine, Peter",{"$f":"VLOOKUP(A1248,bangolf_kategorien!$A$2:$B$11,2,FALSE)","v":"SM2"}]
["hs",40930,"Sebastian","Heine","MGC Dormagen-Brechten e.V.","H: Heine, Sebastian",{"$f":"VLOOKUP(A1249,bangolf_kategorien!$A$2:$B$11,2,FALSE)","v":"H"}]
["hs",33352,"Andreas","Heinel","MSK Olching e.V.","H: Heinel, Andreas",{"$f":"VLOOKUP(A1250,bangolf_kategorien!$A$2:$B$11,2,FALSE)","v":"H"}]
["ds",35309,"Marina","Heinel","1. FMGC Lichtenfels 1961 e.V.","D: Heinel, Marina",{"$f":"VLOOKUP(A1251,bangolf_kategorien!$A$2:$B$11,2,FALSE)","v":"D"}]
["hv",31397,"Hans-Werner","Heinisch","BGC Bad Nenndorf e.V.","SM2: Heinisch, Hans-Werner",{"$f":"VLOOKUP(A1252,bangolf_kategorien!$A$2:$B$11,2,FALSE)","v":"SM2"}]
["hj",66117,"Justin","Heinisch","BGC Bad Nenndorf e.V.","JM: Heinisch, Justin",{"$f":"VLOOKUP(A1253,bangolf_kategorien!$A$2:$B$11,2,FALSE)","v":"JM"}]
["hs",41617,"Marco","Heinisch","BGC Bad Nenndorf e.V.","H: Heinisch, Marco",{"$f":"VLOOKUP(A1254,bangolf_kategorien!$A$2:$B$11,2,FALSE)","v":"H"}]
["ds",35094,"Stefanie","Heinisch","BGC Bad Nenndorf e.V.","D: Heinisch, Stefanie",{"$f":"VLOOKUP(A1255,bangolf_kategorien!$A$2:$B$11,2,FALSE)","v":"D"}]
["pa",66118,"Vincent","Heinisch","BGC Bad Nenndorf e.V.","SCHM: Heinisch, Vincent",{"$f":"VLOOKUP(A1256,bangolf_kategorien!$A$2:$B$11,2,FALSE)","v":"SCHM"}]
["hv",63138,"Helmut","Heinrich","MSV Bad Kreuznach","SM2: Heinrich, Helmut",{"$f":"VLOOKUP(A1257,bangolf_kategorien!$A$2:$B$11,2,FALSE)","v":"SM2"}]
["ds",31244,"Sabrina","Heinrich","MGC Traben-Trarbach","D: Heinrich, Sabrina",{"$f":"VLOOKUP(A1258,bangolf_kategorien!$A$2:$B$11,2,FALSE)","v":"D"}]
["ob",3119659,"Uwe","Heinrich","Hobby","SM1: Heinrich, Uwe",{"$f":"VLOOKUP(A1259,bangolf_kategorien!$A$2:$B$11,2,FALSE)","v":"SM1"}]
["hv",5129,"Werner","Heinrich","1. MSC Wesel 6.6.1966 e.V.","SM2: Heinrich, Werner",{"$f":"VLOOKUP(A1260,bangolf_kategorien!$A$2:$B$11,2,FALSE)","v":"SM2"}]
["ob",67325,"Michael","Heinrichs","BSC Ennepetal e.V.","SM1: Heinrichs, Michael",{"$f":"VLOOKUP(A1261,bangolf_kategorien!$A$2:$B$11,2,FALSE)","v":"SM1"}]
["hs",48909,"Tobias","Heintze","1. Minigolf-Club Rheinhausen e.V.","H: Heintze, Tobias",{"$f":"VLOOKUP(A1262,bangolf_kategorien!$A$2:$B$11,2,FALSE)","v":"H"}]
["hv",65896,"Klaus","Heinz","1. MGC Gelsenkirchen e.V.","SM2: Heinz, Klaus",{"$f":"VLOOKUP(A1263,bangolf_kategorien!$A$2:$B$11,2,FALSE)","v":"SM2"}]
["ds",30057,"Doris","Heinze","BSV AOK Leipzig e.V.","D: Heinze, Doris",{"$f":"VLOOKUP(A1264,bangolf_kategorien!$A$2:$B$11,2,FALSE)","v":"D"}]
["ob",42001,"Thomas","Heinzelmann","BG Pfullingen","SM1: Heinzelmann, Thomas",{"$f":"VLOOKUP(A1265,bangolf_kategorien!$A$2:$B$11,2,FALSE)","v":"SM1"}]
["hs",37194,"Ingmar","Heipel","SG Arheilgen Abt. Bahnengolf","H: Heipel, Ingmar",{"$f":"VLOOKUP(A1266,bangolf_kategorien!$A$2:$B$11,2,FALSE)","v":"H"}]
["og",66926,"Daniela","Heise","BGC Northeim e.V.","SW1: Heise, Daniela",{"$f":"VLOOKUP(A1267,bangolf_kategorien!$A$2:$B$11,2,FALSE)","v":"SW1"}]
["og",50371,"Stefanie","Heise","MGC Bad Salzuflen e.V.","SW1: Heise, Stefanie",{"$f":"VLOOKUP(A1268,bangolf_kategorien!$A$2:$B$11,2,FALSE)","v":"SW1"}]
["dv",44731,"Regina","Heisel","BGC Diepholz e.V.","SW2: Heisel, Regina",{"$f":"VLOOKUP(A1269,bangolf_kategorien!$A$2:$B$11,2,FALSE)","v":"SW2"}]
["hs",44726,"Thomas","Heisel","BGC Diepholz e.V.","H: Heisel, Thomas",{"$f":"VLOOKUP(A1270,bangolf_kategorien!$A$2:$B$11,2,FALSE)","v":"H"}]
["pa",66918,"Phil Joel","Heiß","BSC Ennepetal e.V.","SCHM: Heiß, Phil Joel",{"$f":"VLOOKUP(A1271,bangolf_kategorien!$A$2:$B$11,2,FALSE)","v":"SCHM"}]
["ob",36965,"Dieter","Heisterklaus","MSK Neheim-Hüsten e.V.","SM1: Heisterklaus, Dieter",{"$f":"VLOOKUP(A1272,bangolf_kategorien!$A$2:$B$11,2,FALSE)","v":"SM1"}]
["hv",67053,"Johann","Hejosch","BV Sennestadt","SM2: Hejosch, Johann",{"$f":"VLOOKUP(A1273,bangolf_kategorien!$A$2:$B$11,2,FALSE)","v":"SM2"}]
["dv",66236,"Barbara","Helfmann","MGC Bergisch Gladbach Gierath e.V.","SW2: Helfmann, Barbara",{"$f":"VLOOKUP(A1274,bangolf_kategorien!$A$2:$B$11,2,FALSE)","v":"SW2"}]
["hv",66385,"Dieter","Helken","SV Glückauf 1901 Gebhardshagen e.V.","SM2: Helken, Dieter",{"$f":"VLOOKUP(A1275,bangolf_kategorien!$A$2:$B$11,2,FALSE)","v":"SM2"}]
["hs",49900,"Sven","Helldörfer","MGC Murnau am Staffelsee e.V.","H: Helldörfer, Sven",{"$f":"VLOOKUP(A1276,bangolf_kategorien!$A$2:$B$11,2,FALSE)","v":"H"}]
["dv",46285,"Gabriele","Heller","BGSV Kerpen e.V.","SW2: Heller, Gabriele",{"$f":"VLOOKUP(A1277,bangolf_kategorien!$A$2:$B$11,2,FALSE)","v":"SW2"}]
["hv",5340,"Hans-Peter","Heller","BGSV Kerpen e.V.","SM2: Heller, Hans-Peter",{"$f":"VLOOKUP(A1278,bangolf_kategorien!$A$2:$B$11,2,FALSE)","v":"SM2"}]
["hv",3185486,"Herbert","Heller","Hobby","SM2: Heller, Herbert",{"$f":"VLOOKUP(A1279,bangolf_kategorien!$A$2:$B$11,2,FALSE)","v":"SM2"}]
["hv",34374,"Herbert","Heller","MGC Ostheim / Rhön e.V.","SM2: Heller, Herbert",{"$f":"VLOOKUP(A1280,bangolf_kategorien!$A$2:$B$11,2,FALSE)","v":"SM2"}]
["hv",30650,"Oswald","Heller","MGC Murnau am Staffelsee e.V.","SM2: Heller, Oswald",{"$f":"VLOOKUP(A1281,bangolf_kategorien!$A$2:$B$11,2,FALSE)","v":"SM2"}]
["hs",37321,"Christian","Hellmann","MGC Rot-Weiß Wanne-Eickel e.V.","H: Hellmann, Christian",{"$f":"VLOOKUP(A1282,bangolf_kategorien!$A$2:$B$11,2,FALSE)","v":"H"}]
["og",46744,"Elvira","Hellmich","VfM Bottrop e.V.",{"$f":"CONCATENATE(G1283,\": \",D1283,\", \",C1283)","v":"SW1: Hellmich, Elvira"},{"$f":"VLOOKUP(A1283,bangolf_kategorien!$A$2:$B$11,2,FALSE)","v":"SW1"}]
["ob",27801,"Uwe","Hellmich","VfM Bottrop e.V.","SM1: Hellmich, Uwe",{"$f":"VLOOKUP(A1284,bangolf_kategorien!$A$2:$B$11,2,FALSE)","v":"SM1"}]
["ob",44381,"Markus","Hellwig","MGC Dormagen-Brechten e.V.","SM1: Hellwig, Markus",{"$f":"VLOOKUP(A1285,bangolf_kategorien!$A$2:$B$11,2,FALSE)","v":"SM1"}]
["ob",32968,"Martin","Hellwig","KSV Baltrum e.V.","SM1: Hellwig, Martin",{"$f":"VLOOKUP(A1286,bangolf_kategorien!$A$2:$B$11,2,FALSE)","v":"SM1"}]
["og",596,"Anja","Helmes","1. BGC Wesseling 1975 e.V.","SW1: Helmes, Anja",{"$f":"VLOOKUP(A1287,bangolf_kategorien!$A$2:$B$11,2,FALSE)","v":"SW1"}]
["hv",6117,"Willi","Helmschmidt","MGC Ingolstadt e.V.","SM2: Helmschmidt, Willi",{"$f":"VLOOKUP(A1288,bangolf_kategorien!$A$2:$B$11,2,FALSE)","v":"SM2"}]
["ob",66740,"Andreas","Hemmelmann","MGC Wertheim 91 e.V.","SM1: Hemmelmann, Andreas",{"$f":"VLOOKUP(A1289,bangolf_kategorien!$A$2:$B$11,2,FALSE)","v":"SM1"}]
["hs",29993,"Martin","Hemmerling","TSV Pfungstadt Abt. Bahnengolf e.V.","H: Hemmerling, Martin",{"$f":"VLOOKUP(A1290,bangolf_kategorien!$A$2:$B$11,2,FALSE)","v":"H"}]
["hs",34042,"Ulli","Hengstberger","SSV Ulm 1846 Abt. Bahnengolf","H: Hengstberger, Ulli",{"$f":"VLOOKUP(A1291,bangolf_kategorien!$A$2:$B$11,2,FALSE)","v":"H"}]
["og",41231,"Claudia","Hengstler","1. Bahnengolf-Club Singen e.V.","SW1: Hengstler, Claudia",{"$f":"VLOOKUP(A1292,bangolf_kategorien!$A$2:$B$11,2,FALSE)","v":"SW1"}]
["ob",22909,"Ulrich","Hengstler","1. Bahnengolf-Club Singen e.V.","SM1: Hengstler, Ulrich",{"$f":"VLOOKUP(A1293,bangolf_kategorien!$A$2:$B$11,2,FALSE)","v":"SM1"}]
["hs",34712,"Björn","Henke","MGC Freizeitzentrum Biebertal","H: Henke, Björn",{"$f":"VLOOKUP(A1294,bangolf_kategorien!$A$2:$B$11,2,FALSE)","v":"H"}]
["hv",3108933,"Eberhard","Henkel","Hobby","SM2: Henkel, Eberhard",{"$f":"VLOOKUP(A1295,bangolf_kategorien!$A$2:$B$11,2,FALSE)","v":"SM2"}]
["hv",67274,"Eberhard","Henkel","BSG Pneumant Fürstenwalde e.V., Abt. Minigolf","SM2: Henkel, Eberhard",{"$f":"VLOOKUP(A1296,bangolf_kategorien!$A$2:$B$11,2,FALSE)","v":"SM2"}]
["hv",2061,"Helmut","Henkel","SC Bad Münder Abt. Bahnengolf","SM2: Henkel, Helmut",{"$f":"VLOOKUP(A1297,bangolf_kategorien!$A$2:$B$11,2,FALSE)","v":"SM2"}]
["hv",34118,"Klaus-Dieter","Henkel","MSV 05 Bad Münder / Springe e.V.","SM2: Henkel, Klaus-Dieter",{"$f":"VLOOKUP(A1298,bangolf_kategorien!$A$2:$B$11,2,FALSE)","v":"SM2"}]
["hv",3106616,"Helmut","Henne","Hobby","SM2: Henne, Helmut",{"$f":"VLOOKUP(A1299,bangolf_kategorien!$A$2:$B$11,2,FALSE)","v":"SM2"}]
["ob",50094,"Holger","Hennies","1. BGC Hannover e.V.","SM1: Hennies, Holger",{"$f":"VLOOKUP(A1300,bangolf_kategorien!$A$2:$B$11,2,FALSE)","v":"SM1"}]
["ds",66516,"Simone","Hennig-Becker","TSV Pfungstadt Abt. Bahnengolf e.V.","D: Hennig-Becker, Simone",{"$f":"VLOOKUP(A1301,bangolf_kategorien!$A$2:$B$11,2,FALSE)","v":"D"}]
["dv",36074,"Petra","Henschke","1. MGV Spandau Berlin e.V.","SW2: Henschke, Petra",{"$f":"VLOOKUP(A1302,bangolf_kategorien!$A$2:$B$11,2,FALSE)","v":"SW2"}]
["hs",29252,"Danny","Hense","SG Arheilgen Abt. Bahnengolf","H: Hense, Danny",{"$f":"VLOOKUP(A1303,bangolf_kategorien!$A$2:$B$11,2,FALSE)","v":"H"}]
["dv",62945,"Ingrid","Hense","1. MGC Metzingen e.V.","SW2: Hense, Ingrid",{"$f":"VLOOKUP(A1304,bangolf_kategorien!$A$2:$B$11,2,FALSE)","v":"SW2"}]
["hv",62946,"Josef","Hense","1. MGC Metzingen e.V.","SM2: Hense, Josef",{"$f":"VLOOKUP(A1305,bangolf_kategorien!$A$2:$B$11,2,FALSE)","v":"SM2"}]
["fa",66533,"Annika Sophia","Hensel","BSC Ennepetal e.V.","SCHW: Hensel, Annika Sophia",{"$f":"VLOOKUP(A1306,bangolf_kategorien!$A$2:$B$11,2,FALSE)","v":"SCHW"}]
["hs",40199,"Florian","Hensel","BSC Ennepetal e.V.","H: Hensel, Florian",{"$f":"VLOOKUP(A1307,bangolf_kategorien!$A$2:$B$11,2,FALSE)","v":"H"}]
["og",48052,"Heike","Hensel","BSC Ennepetal e.V.","SW1: Hensel, Heike",{"$f":"VLOOKUP(A1308,bangolf_kategorien!$A$2:$B$11,2,FALSE)","v":"SW1"}]
["hj",66136,"Julian","Hensel","BSC Ennepetal e.V.","JM: Hensel, Julian",{"$f":"VLOOKUP(A1309,bangolf_kategorien!$A$2:$B$11,2,FALSE)","v":"JM"}]
["ob",46247,"Peter","Hensel","BSC Ennepetal e.V.","SM1: Hensel, Peter",{"$f":"VLOOKUP(A1310,bangolf_kategorien!$A$2:$B$11,2,FALSE)","v":"SM1"}]
["hs",37011,"Tobias","Hensel","BSC Ennepetal e.V.","H: Hensel, Tobias",{"$f":"VLOOKUP(A1311,bangolf_kategorien!$A$2:$B$11,2,FALSE)","v":"H"}]
["hv",65852,"Rainer","Henseler","1. MGC Paderborn e.V.","SM2: Henseler, Rainer",{"$f":"VLOOKUP(A1312,bangolf_kategorien!$A$2:$B$11,2,FALSE)","v":"SM2"}]
["ob",40589,"Steffen","Hentschel","VfM e.V. Berlin","SM1: Hentschel, Steffen",{"$f":"VLOOKUP(A1313,bangolf_kategorien!$A$2:$B$11,2,FALSE)","v":"SM1"}]
["ob",26232,"Andreas","Henze","1. MGC 1970 Göttingen e.V.","SM1: Henze, Andreas",{"$f":"VLOOKUP(A1314,bangolf_kategorien!$A$2:$B$11,2,FALSE)","v":"SM1"}]
["hv",3564,"Karl","Herbich","MSK Olching e.V.","SM2: Herbich, Karl",{"$f":"VLOOKUP(A1315,bangolf_kategorien!$A$2:$B$11,2,FALSE)","v":"SM2"}]
["hs",34669,"Jan","Herbig","MC Ilvesheim e.V.","H: Herbig, Jan",{"$f":"VLOOKUP(A1316,bangolf_kategorien!$A$2:$B$11,2,FALSE)","v":"H"}]
["hv",42430,"Uwe","Herbig","BGSV Bad Homburg","SM2: Herbig, Uwe",{"$f":"VLOOKUP(A1317,bangolf_kategorien!$A$2:$B$11,2,FALSE)","v":"SM2"}]
["hv",3106611,"Frank","Herdemann","Hobby","SM2: Herdemann, Frank",{"$f":"VLOOKUP(A1318,bangolf_kategorien!$A$2:$B$11,2,FALSE)","v":"SM2"}]
["hv",18029,"Lothar","Herfurt","1. MGV Spandau Berlin e.V.","SM2: Herfurt, Lothar",{"$f":"VLOOKUP(A1319,bangolf_kategorien!$A$2:$B$11,2,FALSE)","v":"SM2"}]
["hs",38180,"Albert","Hergesell","Reinickendorfer MGC e.V.","H: Hergesell, Albert",{"$f":"VLOOKUP(A1320,bangolf_kategorien!$A$2:$B$11,2,FALSE)","v":"H"}]
["ob",38653,"Dirk","Hergesell","1. MGV Spandau Berlin e.V.","SM1: Hergesell, Dirk",{"$f":"VLOOKUP(A1321,bangolf_kategorien!$A$2:$B$11,2,FALSE)","v":"SM1"}]
["hs",31267,"Alexander","Hermann","1. MGC Mainz e.V.","H: Hermann, Alexander",{"$f":"VLOOKUP(A1322,bangolf_kategorien!$A$2:$B$11,2,FALSE)","v":"H"}]
["pa",67319,"David","Hermann","1. MGC Mainz e.V.","SCHM: Hermann, David",{"$f":"VLOOKUP(A1323,bangolf_kategorien!$A$2:$B$11,2,FALSE)","v":"SCHM"}]
["hv",6621,"Gerhard","Hermann","MGC Monrepos e.V.","SM2: Hermann, Gerhard",{"$f":"VLOOKUP(A1324,bangolf_kategorien!$A$2:$B$11,2,FALSE)","v":"SM2"}]
["hs",31268,"Max","Hermann","1. MGC Mainz e.V.","H: Hermann, Max",{"$f":"VLOOKUP(A1325,bangolf_kategorien!$A$2:$B$11,2,FALSE)","v":"H"}]
["og",67358,"Katharina","Herrmann","BSV 86 München e.V.","SW1: Herrmann, Katharina",{"$f":"VLOOKUP(A1326,bangolf_kategorien!$A$2:$B$11,2,FALSE)","v":"SW1"}]
["ob",29935,"Marc","Herrmann","1. MGC 1970 Göttingen e.V.","SM1: Herrmann, Marc",{"$f":"VLOOKUP(A1327,bangolf_kategorien!$A$2:$B$11,2,FALSE)","v":"SM1"}]
["hv",28696,"Otmar","Herrmann","MGC Traben-Trarbach","SM2: Herrmann, Otmar",{"$f":"VLOOKUP(A1328,bangolf_kategorien!$A$2:$B$11,2,FALSE)","v":"SM2"}]
["hv",62403,"Achim","Hertzberg","MGC Dortmund Syburg e.V.","SM2: Hertzberg, Achim",{"$f":"VLOOKUP(A1329,bangolf_kategorien!$A$2:$B$11,2,FALSE)","v":"SM2"}]
["dv",6270,"Doris","Hertzberg","MGC Dortmund Syburg e.V.","SW2: Hertzberg, Doris",{"$f":"VLOOKUP(A1330,bangolf_kategorien!$A$2:$B$11,2,FALSE)","v":"SW2"}]
["ob",67127,"Frank","Herwig","1. MGC 1970 Göttingen e.V.","SM1: Herwig, Frank",{"$f":"VLOOKUP(A1331,bangolf_kategorien!$A$2:$B$11,2,FALSE)","v":"SM1"}]
["og",66935,"Heidi","Herz","1. MSC Hamburg-Neu Wulmstorf","SW1: Herz, Heidi",{"$f":"VLOOKUP(A1332,bangolf_kategorien!$A$2:$B$11,2,FALSE)","v":"SW1"}]
["ob",67197,"Christof","Herzberger","BGSV Bad Homburg","SM1: Herzberger, Christof",{"$f":"VLOOKUP(A1333,bangolf_kategorien!$A$2:$B$11,2,FALSE)","v":"SM1"}]
["ds",67379,"Eileen","Herzberger","BGSV Bad Homburg","D: Herzberger, Eileen",{"$f":"VLOOKUP(A1334,bangolf_kategorien!$A$2:$B$11,2,FALSE)","v":"D"}]
["pa",67198,"Philipp","Herzberger","BGSV Bad Homburg","SCHM: Herzberger, Philipp",{"$f":"VLOOKUP(A1335,bangolf_kategorien!$A$2:$B$11,2,FALSE)","v":"SCHM"}]
["ob",31952,"Sven","Herzberger","TG Höchberg von 1862 Bahnengolf e.V.","SM1: Herzberger, Sven",{"$f":"VLOOKUP(A1336,bangolf_kategorien!$A$2:$B$11,2,FALSE)","v":"SM1"}]
["hs",66284,"Tim","Herzer","SC Olympia Dortmund e.V.","H: Herzer, Tim",{"$f":"VLOOKUP(A1337,bangolf_kategorien!$A$2:$B$11,2,FALSE)","v":"H"}]
["hs",38197,"Frederik","Herzic","1. MGC Metzingen e.V.","H: Herzic, Frederik",{"$f":"VLOOKUP(A1338,bangolf_kategorien!$A$2:$B$11,2,FALSE)","v":"H"}]
["ob",50402,"Hagen","Herzog","MGF Magdeburg 1995 e.V.","SM1: Herzog, Hagen",{"$f":"VLOOKUP(A1339,bangolf_kategorien!$A$2:$B$11,2,FALSE)","v":"SM1"}]
["ob",46823,"Ralf","Herzog","TSV Pfungstadt Abt. Bahnengolf e.V.","SM1: Herzog, Ralf",{"$f":"VLOOKUP(A1340,bangolf_kategorien!$A$2:$B$11,2,FALSE)","v":"SM1"}]
["dv",34103,"Sigrid","Hesker","MGC Bergisch Gladbach Gierath e.V.","SW2: Hesker, Sigrid",{"$f":"VLOOKUP(A1341,bangolf_kategorien!$A$2:$B$11,2,FALSE)","v":"SW2"}]
["hs",33843,"Danny","Hess","1. MGC Mainz e.V.","H: Hess, Danny",{"$f":"VLOOKUP(A1342,bangolf_kategorien!$A$2:$B$11,2,FALSE)","v":"H"}]
["hv",17936,"Erich","Hess","SG Arheilgen Abt. Bahnengolf","SM2: Hess, Erich",{"$f":"VLOOKUP(A1343,bangolf_kategorien!$A$2:$B$11,2,FALSE)","v":"SM2"}]
["ob",44929,"Rainer","Hess","SG Arheilgen Abt. Bahnengolf","SM1: Hess, Rainer",{"$f":"VLOOKUP(A1344,bangolf_kategorien!$A$2:$B$11,2,FALSE)","v":"SM1"}]
["dv",3600,"Renate","Hess","SG Arheilgen Abt. Bahnengolf","SW2: Hess, Renate",{"$f":"VLOOKUP(A1345,bangolf_kategorien!$A$2:$B$11,2,FALSE)","v":"SW2"}]
["hs",67389,"Steffen","Hess","BGC Schweinfurt e.V.","H: Hess, Steffen",{"$f":"VLOOKUP(A1346,bangolf_kategorien!$A$2:$B$11,2,FALSE)","v":"H"}]
["hv",3863,"Dietmar","Hesse","BGC Goslar e.V.",{"$f":"CONCATENATE(G1347,\": \",D1347,\", \",C1347)","v":"SM2: Hesse, Dietmar"},{"$f":"VLOOKUP(A1347,bangolf_kategorien!$A$2:$B$11,2,FALSE)","v":"SM2"}]
["dv",29405,"Karin","Hesse","BGC Goslar e.V.","SW2: Hesse, Karin",{"$f":"VLOOKUP(A1348,bangolf_kategorien!$A$2:$B$11,2,FALSE)","v":"SW2"}]
["ds",67076,"Jaqueline","Hesse-Butter","SC Bastion Rot Weiß Lippstadt e.V.","D: Hesse-Butter, Jaqueline",{"$f":"VLOOKUP(A1349,bangolf_kategorien!$A$2:$B$11,2,FALSE)","v":"D"}]
["ds",34749,"Sandra","Hess-Struchen","SG Arheilgen Abt. Bahnengolf","D: Hess-Struchen, Sandra",{"$f":"VLOOKUP(A1350,bangolf_kategorien!$A$2:$B$11,2,FALSE)","v":"D"}]
["hs",35237,"Robin","Hettrich","MGC Dormagen-Brechten e.V.","H: Hettrich, Robin",{"$f":"VLOOKUP(A1351,bangolf_kategorien!$A$2:$B$11,2,FALSE)","v":"H"}]
["hv",35236,"Willi","Hettrich","BGSV Castrop e.V. 1961","SM2: Hettrich, Willi",{"$f":"VLOOKUP(A1352,bangolf_kategorien!$A$2:$B$11,2,FALSE)","v":"SM2"}]
["og",19478,"Andrea","Heublein","1. FMGC Lichtenfels 1961 e.V.","SW1: Heublein, Andrea",{"$f":"VLOOKUP(A1353,bangolf_kategorien!$A$2:$B$11,2,FALSE)","v":"SW1"}]
["hs",38602,"Bernd","Heublein","1. FMGC Lichtenfels 1961 e.V.","H: Heublein, Bernd",{"$f":"VLOOKUP(A1354,bangolf_kategorien!$A$2:$B$11,2,FALSE)","v":"H"}]
["og",30655,"Silvia","Heublein","1. MGC 1970 Göttingen e.V.","SW1: Heublein, Silvia",{"$f":"VLOOKUP(A1355,bangolf_kategorien!$A$2:$B$11,2,FALSE)","v":"SW1"}]
["hs",37959,"Florian","Heuer","Preetzer TSV von 1861 e.V. Abt. Minigolf","H: Heuer, Florian",{"$f":"VLOOKUP(A1356,bangolf_kategorien!$A$2:$B$11,2,FALSE)","v":"H"}]
["hs",66345,"Andreas","Heuser","MGC Bad Bodendorf e.V.","H: Heuser, Andreas",{"$f":"VLOOKUP(A1357,bangolf_kategorien!$A$2:$B$11,2,FALSE)","v":"H"}]
["ob",3216765,"Dirk","Heuveldop","Hobby","SM1: Heuveldop, Dirk",{"$f":"VLOOKUP(A1358,bangolf_kategorien!$A$2:$B$11,2,FALSE)","v":"SM1"}]
["hv",33308,"Helmut","Hewel","1. MGC Saar 68 St. Ingbert e.V.","SM2: Hewel, Helmut",{"$f":"VLOOKUP(A1359,bangolf_kategorien!$A$2:$B$11,2,FALSE)","v":"SM2"}]
["dv",33309,"Marliese","Hewel","1. MGC Saar 68 St. Ingbert e.V.","SW2: Hewel, Marliese",{"$f":"VLOOKUP(A1360,bangolf_kategorien!$A$2:$B$11,2,FALSE)","v":"SW2"}]
["hs",32292,"Wolfgang","Hewel","1. MGC Saar 68 St. Ingbert e.V.","H: Hewel, Wolfgang",{"$f":"VLOOKUP(A1361,bangolf_kategorien!$A$2:$B$11,2,FALSE)","v":"H"}]
["hs",33530,"Marcus","Hey","OMGC Ingolstadt e.V.","H: Hey, Marcus",{"$f":"VLOOKUP(A1362,bangolf_kategorien!$A$2:$B$11,2,FALSE)","v":"H"}]
["hs",66433,"Markus","Heyber","1. MGC Kassel 1964 e.V.","H: Heyber, Markus",{"$f":"VLOOKUP(A1363,bangolf_kategorien!$A$2:$B$11,2,FALSE)","v":"H"}]
["hv",5326,"Rudolf","Heydenreich","MGC Traben-Trarbach","SM2: Heydenreich, Rudolf",{"$f":"VLOOKUP(A1364,bangolf_kategorien!$A$2:$B$11,2,FALSE)","v":"SM2"}]
["dv",6367,"Angelika","Heyder","MGC Murnau am Staffelsee e.V.","SW2: Heyder, Angelika",{"$f":"VLOOKUP(A1365,bangolf_kategorien!$A$2:$B$11,2,FALSE)","v":"SW2"}]
["hs",49901,"Christian","Heyder","BGC Bad Berneck e.V.","H: Heyder, Christian",{"$f":"VLOOKUP(A1366,bangolf_kategorien!$A$2:$B$11,2,FALSE)","v":"H"}]
["ob",44771,"Lars","Heydt","MGC Olympia Kiel e.V.","SM1: Heydt, Lars",{"$f":"VLOOKUP(A1367,bangolf_kategorien!$A$2:$B$11,2,FALSE)","v":"SM1"}]
["ob",40457,"Torsten","Heydt","MGC Olympia Kiel e.V.","SM1: Heydt, Torsten",{"$f":"VLOOKUP(A1368,bangolf_kategorien!$A$2:$B$11,2,FALSE)","v":"SM1"}]
["ob",37254,"Hans Bernd","Heyer","MGC Bergisch Gladbach Gierath e.V.","SM1: Heyer, Hans Bernd",{"$f":"VLOOKUP(A1369,bangolf_kategorien!$A$2:$B$11,2,FALSE)","v":"SM1"}]
["hv",20291,"Peter","Heynen","1. BGC Celle von 1964 e.V.","SM2: Heynen, Peter",{"$f":"VLOOKUP(A1370,bangolf_kategorien!$A$2:$B$11,2,FALSE)","v":"SM2"}]
["hv",46250,"Peter","Hickert","MGC \"AS\" Witten 1963 e.V.","SM2: Hickert, Peter",{"$f":"VLOOKUP(A1371,bangolf_kategorien!$A$2:$B$11,2,FALSE)","v":"SM2"}]
["dv",67054,"Ursula","Hiebsch","BV Sennestadt","SW2: Hiebsch, Ursula",{"$f":"VLOOKUP(A1372,bangolf_kategorien!$A$2:$B$11,2,FALSE)","v":"SW2"}]
["ob",46885,"Manfred","Hiepp","MGF Ottobrunn e.V.","SM1: Hiepp, Manfred",{"$f":"VLOOKUP(A1373,bangolf_kategorien!$A$2:$B$11,2,FALSE)","v":"SM1"}]
["hv",5839,"Georg","Hilbert","1. MGC Epe 1978 e.V.","SM2: Hilbert, Georg",{"$f":"VLOOKUP(A1374,bangolf_kategorien!$A$2:$B$11,2,FALSE)","v":"SM2"}]
["ob",38437,"Andreas","Hildebrandt","SV Glückauf 1901 Gebhardshagen e.V.","SM1: Hildebrandt, Andreas",{"$f":"VLOOKUP(A1375,bangolf_kategorien!$A$2:$B$11,2,FALSE)","v":"SM1"}]
["hj",66659,"Justin","Hildebrandt","BGS Hardenberg-Pötter e.V.","JM: Hildebrandt, Justin",{"$f":"VLOOKUP(A1376,bangolf_kategorien!$A$2:$B$11,2,FALSE)","v":"JM"}]
["hv",5040,"Hans-Georg","Hildenbrand","BSV 82 Ohlsbach e.V.","SM2: Hildenbrand, Hans-Georg",{"$f":"VLOOKUP(A1377,bangolf_kategorien!$A$2:$B$11,2,FALSE)","v":"SM2"}]
["hs",27536,"Christian","Hilgenberg","1. MGC Kassel 1964 e.V.","H: Hilgenberg, Christian",{"$f":"VLOOKUP(A1378,bangolf_kategorien!$A$2:$B$11,2,FALSE)","v":"H"}]
["dv",5289,"Ursula","Hillebrecht","1. MGC 1970 Göttingen e.V.","SW2: Hillebrecht, Ursula",{"$f":"VLOOKUP(A1379,bangolf_kategorien!$A$2:$B$11,2,FALSE)","v":"SW2"}]
["ob",3194201,"André","Hilpert","Hobby","SM1: Hilpert, André",{"$f":"VLOOKUP(A1380,bangolf_kategorien!$A$2:$B$11,2,FALSE)","v":"SM1"}]
["ob",50172,"Reinhold","Hilß","1. MC Weinheim e.V.","SM1: Hilß, Reinhold",{"$f":"VLOOKUP(A1381,bangolf_kategorien!$A$2:$B$11,2,FALSE)","v":"SM1"}]
["hs",45368,"Klaus","Hiltner","MSG Kempten e.V.","H: Hiltner, Klaus",{"$f":"VLOOKUP(A1382,bangolf_kategorien!$A$2:$B$11,2,FALSE)","v":"H"}]
["hj",67203,"Eyk Sven","Hinke","1. BGC Leipzig e.V.","JM: Hinke, Eyk Sven",{"$f":"VLOOKUP(A1383,bangolf_kategorien!$A$2:$B$11,2,FALSE)","v":"JM"}]
["ob",26579,"Holger","Hinsel","MSF Brilon e.V.","SM1: Hinsel, Holger",{"$f":"VLOOKUP(A1384,bangolf_kategorien!$A$2:$B$11,2,FALSE)","v":"SM1"}]
["hj",66442,"Raphael","Hintermeier","BGC Neutraubling e.V.","JM: Hintermeier, Raphael",{"$f":"VLOOKUP(A1385,bangolf_kategorien!$A$2:$B$11,2,FALSE)","v":"JM"}]
["ob",49154,"Paul","Hirle","MSC Blau-Weiß 2003 München e.V.","SM1: Hirle, Paul",{"$f":"VLOOKUP(A1386,bangolf_kategorien!$A$2:$B$11,2,FALSE)","v":"SM1"}]
["hv",67221,"Werner","Hirsch","BGC Oberhausen e.V.","SM2: Hirsch, Werner",{"$f":"VLOOKUP(A1387,bangolf_kategorien!$A$2:$B$11,2,FALSE)","v":"SM2"}]
["ob",38170,"Peter","Hisserich","BGSV Bad Homburg","SM1: Hisserich, Peter",{"$f":"VLOOKUP(A1388,bangolf_kategorien!$A$2:$B$11,2,FALSE)","v":"SM1"}]
["hv",3127,"Bruno","Hoch","BGSV Kerpen e.V.","SM2: Hoch, Bruno",{"$f":"VLOOKUP(A1389,bangolf_kategorien!$A$2:$B$11,2,FALSE)","v":"SM2"}]
["ob",25846,"Raimund","Hoch","BGSV Kerpen e.V.","SM1: Hoch, Raimund",{"$f":"VLOOKUP(A1390,bangolf_kategorien!$A$2:$B$11,2,FALSE)","v":"SM1"}]
["ds",37644,"Rebecca","Hoch","MGC Dormagen-Brechten e.V.","D: Hoch, Rebecca",{"$f":"VLOOKUP(A1391,bangolf_kategorien!$A$2:$B$11,2,FALSE)","v":"D"}]
["pa",67336,"Markus","Höcherl","MGC Murnau am Staffelsee e.V.","SCHM: Höcherl, Markus",{"$f":"VLOOKUP(A1392,bangolf_kategorien!$A$2:$B$11,2,FALSE)","v":"SCHM"}]
["dv",49067,"Hildegard","Hoefig","HMC Büttgen e.V.","SW2: Hoefig, Hildegard",{"$f":"VLOOKUP(A1393,bangolf_kategorien!$A$2:$B$11,2,FALSE)","v":"SW2"}]
["ob",49074,"Michael","Hoefig","HMC Büttgen e.V.","SM1: Hoefig, Michael",{"$f":"VLOOKUP(A1394,bangolf_kategorien!$A$2:$B$11,2,FALSE)","v":"SM1"}]
["hv",27994,"Heinz","Höferlin","BSV Inzlingen 1979 e.V.","SM2: Höferlin, Heinz",{"$f":"VLOOKUP(A1395,bangolf_kategorien!$A$2:$B$11,2,FALSE)","v":"SM2"}]
["hv",33647,"Andreas","Hoffmann","MSV Würzburg-Löwenbrücke e.V.","SM2: Hoffmann, Andreas",{"$f":"VLOOKUP(A1396,bangolf_kategorien!$A$2:$B$11,2,FALSE)","v":"SM2"}]
["ob",42242,"Carsten","Hoffmann","MSC Herscheid 1963 e.V.","SM1: Hoffmann, Carsten",{"$f":"VLOOKUP(A1397,bangolf_kategorien!$A$2:$B$11,2,FALSE)","v":"SM1"}]
["hv",67270,"Gerd","Hoffmann","BSG Pneumant Fürstenwalde e.V., Abt. Minigolf","SM2: Hoffmann, Gerd",{"$f":"VLOOKUP(A1398,bangolf_kategorien!$A$2:$B$11,2,FALSE)","v":"SM2"}]
["hv",5093,"Helmut","Hoffmann","MSC Bad Godesberg e.V.","SM2: Hoffmann, Helmut",{"$f":"VLOOKUP(A1399,bangolf_kategorien!$A$2:$B$11,2,FALSE)","v":"SM2"}]
["hv",60566,"Helmut-Karl","Hoffmann","MGC Bergisch Gladbach Gierath e.V.","SM2: Hoffmann, Helmut-Karl",{"$f":"VLOOKUP(A1400,bangolf_kategorien!$A$2:$B$11,2,FALSE)","v":"SM2"}]
["hv",40278,"Joachim","Hoffmann","MGC Bergisch Gladbach Gierath e.V.","SM2: Hoffmann, Joachim",{"$f":"VLOOKUP(A1401,bangolf_kategorien!$A$2:$B$11,2,FALSE)","v":"SM2"}]
["ob",40282,"Jörg","Hoffmann","MGC Bergisch Gladbach Gierath e.V.","SM1: Hoffmann, Jörg",{"$f":"VLOOKUP(A1402,bangolf_kategorien!$A$2:$B$11,2,FALSE)","v":"SM1"}]
["hv",3253,"Klaus-Peter","Hoffmann","MGV Bremen e.V.","SM2: Hoffmann, Klaus-Peter",{"$f":"VLOOKUP(A1403,bangolf_kategorien!$A$2:$B$11,2,FALSE)","v":"SM2"}]
["ob",42946,"Martin","Hoffmann","1. Porzer MGC Grün-Weiß 1969 e.V.","SM1: Hoffmann, Martin",{"$f":"VLOOKUP(A1404,bangolf_kategorien!$A$2:$B$11,2,FALSE)","v":"SM1"}]
["hs",36636,"Thomas","Höfler","1. KC Homburg-Saar 1967 e.V.","H: Höfler, Thomas",{"$f":"VLOOKUP(A1405,bangolf_kategorien!$A$2:$B$11,2,FALSE)","v":"H"}]
["hs",35619,"Benjamin","Hofmann","1. MGSV Netphen e.V.","H: Hofmann, Benjamin",{"$f":"VLOOKUP(A1406,bangolf_kategorien!$A$2:$B$11,2,FALSE)","v":"H"}]
["hj",66001,"Fabian","Hofmann","ASV Pegnitz, Abt. Minigolf","JM: Hofmann, Fabian",{"$f":"VLOOKUP(A1407,bangolf_kategorien!$A$2:$B$11,2,FALSE)","v":"JM"}]
["ob",66263,"Klaus","Hofmann","ASV Pegnitz, Abt. Minigolf","SM1: Hofmann, Klaus",{"$f":"VLOOKUP(A1408,bangolf_kategorien!$A$2:$B$11,2,FALSE)","v":"SM1"}]
["hs",30938,"Michael","Hofmann","MC Ilvesheim e.V.","H: Hofmann, Michael",{"$f":"VLOOKUP(A1409,bangolf_kategorien!$A$2:$B$11,2,FALSE)","v":"H"}]
["hs",3114571,"Rainer","Hofmann","Hobby","H: Hofmann, Rainer",{"$f":"VLOOKUP(A1410,bangolf_kategorien!$A$2:$B$11,2,FALSE)","v":"H"}]
["hs",66000,"Yannick","Hofmann","ASV Pegnitz, Abt. Minigolf",{"$f":"CONCATENATE(G1411,\": \",D1411,\", \",C1411)","v":"H: Hofmann, Yannick"},{"$f":"VLOOKUP(A1411,bangolf_kategorien!$A$2:$B$11,2,FALSE)","v":"H"}]
["hv",66986,"Helmut","Hofmeister","MGF Ottobrunn e.V.","SM2: Hofmeister, Helmut",{"$f":"VLOOKUP(A1412,bangolf_kategorien!$A$2:$B$11,2,FALSE)","v":"SM2"}]
["og",66985,"Karin","Hofmeister","MGF Ottobrunn e.V.","SW1: Hofmeister, Karin",{"$f":"VLOOKUP(A1413,bangolf_kategorien!$A$2:$B$11,2,FALSE)","v":"SW1"}]
["ds",66984,"Melanie","Hofmeister","MGF Ottobrunn e.V.","D: Hofmeister, Melanie",{"$f":"VLOOKUP(A1414,bangolf_kategorien!$A$2:$B$11,2,FALSE)","v":"D"}]
["hv",65213,"Jean-Daniel","Hofstetter","MGF Waldshut 74 e.V.","SM2: Hofstetter, Jean-Daniel",{"$f":"VLOOKUP(A1415,bangolf_kategorien!$A$2:$B$11,2,FALSE)","v":"SM2"}]
["fa",65319,"Annalena","Hohenadler","MGC Bad Feilnbach e.V.","SCHW: Hohenadler, Annalena",{"$f":"VLOOKUP(A1416,bangolf_kategorien!$A$2:$B$11,2,FALSE)","v":"SCHW"}]
["ob",40858,"Markus","Hohenadler","MGC Bad Feilnbach e.V.","SM1: Hohenadler, Markus",{"$f":"VLOOKUP(A1417,bangolf_kategorien!$A$2:$B$11,2,FALSE)","v":"SM1"}]
["ds",34294,"Tamara","Hohenadler","MGC Bad Feilnbach e.V.","D: Hohenadler, Tamara",{"$f":"VLOOKUP(A1418,bangolf_kategorien!$A$2:$B$11,2,FALSE)","v":"D"}]
["og",66093,"Christine","Hohmann","1. BGC Hannover e.V.","SW1: Hohmann, Christine",{"$f":"VLOOKUP(A1419,bangolf_kategorien!$A$2:$B$11,2,FALSE)","v":"SW1"}]
["pa",66702,"Paul","Hohmann","BGC Uerdingen e.V.","SCHM: Hohmann, Paul",{"$f":"VLOOKUP(A1420,bangolf_kategorien!$A$2:$B$11,2,FALSE)","v":"SCHM"}]
["hv",4513,"Edgard","Höhmann","1. MGC Kassel 1964 e.V.","SM2: Höhmann, Edgard",{"$f":"VLOOKUP(A1421,bangolf_kategorien!$A$2:$B$11,2,FALSE)","v":"SM2"}]
["hj",66377,"Marius","Hohmeier","MGC Bad Salzuflen e.V.","JM: Hohmeier, Marius",{"$f":"VLOOKUP(A1422,bangolf_kategorien!$A$2:$B$11,2,FALSE)","v":"JM"}]
["hs",66664,"Dennis","Hohn","HMC Büttgen e.V.","H: Hohn, Dennis",{"$f":"VLOOKUP(A1423,bangolf_kategorien!$A$2:$B$11,2,FALSE)","v":"H"}]
["ob",38498,"Marko","Hohn","Hamburger MC von 1965 e.V.","SM1: Hohn, Marko",{"$f":"VLOOKUP(A1424,bangolf_kategorien!$A$2:$B$11,2,FALSE)","v":"SM1"}]
["hj",66939,"Mika","Hohn","Hamburger MC von 1965 e.V.","JM: Hohn, Mika",{"$f":"VLOOKUP(A1425,bangolf_kategorien!$A$2:$B$11,2,FALSE)","v":"JM"}]
["hv",6522,"Holger","Hohnke","MGC Olympia Kiel e.V.","SM2: Hohnke, Holger",{"$f":"VLOOKUP(A1426,bangolf_kategorien!$A$2:$B$11,2,FALSE)","v":"SM2"}]
["hs",36460,"Hans-Joachim","Höhnke","MV Lankwitzer Dragons e.V.","H: Höhnke, Hans-Joachim",{"$f":"VLOOKUP(A1427,bangolf_kategorien!$A$2:$B$11,2,FALSE)","v":"H"}]
["dj",66955,"Carlotta","Höing","VfB Osnabrück e.V.","JW: Höing, Carlotta",{"$f":"VLOOKUP(A1428,bangolf_kategorien!$A$2:$B$11,2,FALSE)","v":"JW"}]
["ob",66694,"Georg","Hoiss","Minigolf-Club Diessen","SM1: Hoiss, Georg",{"$f":"VLOOKUP(A1429,bangolf_kategorien!$A$2:$B$11,2,FALSE)","v":"SM1"}]
["ds",66922,"Martina","Hoiss","Minigolf-Club Diessen","D: Hoiss, Martina",{"$f":"VLOOKUP(A1430,bangolf_kategorien!$A$2:$B$11,2,FALSE)","v":"D"}]
["ds",3094057,"Nadine","Holborn-Rasolofoson","Hobby","D: Holborn-Rasolofoson, Nadine",{"$f":"VLOOKUP(A1431,bangolf_kategorien!$A$2:$B$11,2,FALSE)","v":"D"}]
["og",38118,"Claudia","Holderberg","BGSC Bochum 1978 e.V.","SW1: Holderberg, Claudia",{"$f":"VLOOKUP(A1432,bangolf_kategorien!$A$2:$B$11,2,FALSE)","v":"SW1"}]
["hv",38119,"Hans-Peter","Holderberg","BGSC Bochum 1978 e.V.","SM2: Holderberg, Hans-Peter",{"$f":"VLOOKUP(A1433,bangolf_kategorien!$A$2:$B$11,2,FALSE)","v":"SM2"}]
["ds",67165,"Birte","Hollensteiner","BV Sennestadt","D: Hollensteiner, Birte",{"$f":"VLOOKUP(A1434,bangolf_kategorien!$A$2:$B$11,2,FALSE)","v":"D"}]
["hv",66869,"Dieter","Hollwedel","MGV Bremen e.V.","SM2: Hollwedel, Dieter",{"$f":"VLOOKUP(A1435,bangolf_kategorien!$A$2:$B$11,2,FALSE)","v":"SM2"}]
["ob",42793,"Edgar","Holtz","1. Minigolf-Club Rheinhausen e.V.","SM1: Holtz, Edgar",{"$f":"VLOOKUP(A1436,bangolf_kategorien!$A$2:$B$11,2,FALSE)","v":"SM1"}]
["hs",37720,"Frederik","Holtz","1. Minigolf-Club Rheinhausen e.V.","H: Holtz, Frederik",{"$f":"VLOOKUP(A1437,bangolf_kategorien!$A$2:$B$11,2,FALSE)","v":"H"}]
["ob",38028,"Peter","Holtz","1. Minigolf-Club Rheinhausen e.V.","SM1: Holtz, Peter",{"$f":"VLOOKUP(A1438,bangolf_kategorien!$A$2:$B$11,2,FALSE)","v":"SM1"}]
["hv",66728,"Florian","Holtzmann","1. MGC Köln 1961 e.V.","SM2: Holtzmann, Florian",{"$f":"VLOOKUP(A1439,bangolf_kategorien!$A$2:$B$11,2,FALSE)","v":"SM2"}]
["hs",3229029,"Sascha","Holzenthal","Hobby","H: Holzenthal, Sascha",{"$f":"VLOOKUP(A1440,bangolf_kategorien!$A$2:$B$11,2,FALSE)","v":"H"}]
["hs",66732,"Sascha","Holzenthal","1. MGC Mainz e.V.","H: Holzenthal, Sascha",{"$f":"VLOOKUP(A1441,bangolf_kategorien!$A$2:$B$11,2,FALSE)","v":"H"}]
["hv",5746,"Lothar","Homey","1. Essener CGC \"Blau-Gold\" e.V.","SM2: Homey, Lothar",{"$f":"VLOOKUP(A1442,bangolf_kategorien!$A$2:$B$11,2,FALSE)","v":"SM2"}]
["hv",67033,"Wolfgang","Hommel","MGC Olympia Kiel e.V.","SM2: Hommel, Wolfgang",{"$f":"VLOOKUP(A1443,bangolf_kategorien!$A$2:$B$11,2,FALSE)","v":"SM2"}]
["ob",37494,"Frank","Honerkamp","Bochumer Minigolf-Club 1960 e.V.","SM1: Honerkamp, Frank",{"$f":"VLOOKUP(A1444,bangolf_kategorien!$A$2:$B$11,2,FALSE)","v":"SM1"}]
["hs",63702,"Marcel","Hönicke","MGC \"Stahlquelle\" Bad Bocklet","H: Hönicke, Marcel",{"$f":"VLOOKUP(A1445,bangolf_kategorien!$A$2:$B$11,2,FALSE)","v":"H"}]
["hs",66357,"Marco","Hönicke","MGC \"Stahlquelle\" Bad Bocklet","H: Hönicke, Marco",{"$f":"VLOOKUP(A1446,bangolf_kategorien!$A$2:$B$11,2,FALSE)","v":"H"}]
["hs",63691,"Ronny","Hönicke","MGC \"Stahlquelle\" Bad Bocklet","H: Hönicke, Ronny",{"$f":"VLOOKUP(A1447,bangolf_kategorien!$A$2:$B$11,2,FALSE)","v":"H"}]
["hv",49860,"Ludger","Honnacker","MGC Felderbachtal 1964 e.V.","SM2: Honnacker, Ludger",{"$f":"VLOOKUP(A1448,bangolf_kategorien!$A$2:$B$11,2,FALSE)","v":"SM2"}]
["hv",23187,"Peter","Honnef","1. MGC Ludwigshafen e.V.","SM2: Honnef, Peter",{"$f":"VLOOKUP(A1449,bangolf_kategorien!$A$2:$B$11,2,FALSE)","v":"SM2"}]
["hv",36467,"Karl Heinz","Hönscheid","1. BGC Wesseling 1975 e.V.","SM2: Hönscheid, Karl Heinz",{"$f":"VLOOKUP(A1450,bangolf_kategorien!$A$2:$B$11,2,FALSE)","v":"SM2"}]
["pa",66979,"Luca","Hoock","1. MGC Ladenburg e.V.","SCHM: Hoock, Luca",{"$f":"VLOOKUP(A1451,bangolf_kategorien!$A$2:$B$11,2,FALSE)","v":"SCHM"}]
["hs",30377,"Björn","Hoogen","VfB Osnabrück e.V.","H: Hoogen, Björn",{"$f":"VLOOKUP(A1452,bangolf_kategorien!$A$2:$B$11,2,FALSE)","v":"H"}]
["hs",48944,"Ingo","Hoogen","VfB Osnabrück e.V.","H: Hoogen, Ingo",{"$f":"VLOOKUP(A1453,bangolf_kategorien!$A$2:$B$11,2,FALSE)","v":"H"}]
["fa",66793,"Lena","Hoogen","VfB Osnabrück e.V.","SCHW: Hoogen, Lena",{"$f":"VLOOKUP(A1454,bangolf_kategorien!$A$2:$B$11,2,FALSE)","v":"SCHW"}]
["hs",36777,"Sven","Hoogen","VfB Osnabrück e.V.","H: Hoogen, Sven",{"$f":"VLOOKUP(A1455,bangolf_kategorien!$A$2:$B$11,2,FALSE)","v":"H"}]
["hv",40538,"Wilfried","Hoose","BGS Hardenberg-Pötter e.V.","SM2: Hoose, Wilfried",{"$f":"VLOOKUP(A1456,bangolf_kategorien!$A$2:$B$11,2,FALSE)","v":"SM2"}]
["ob",30608,"Bernhard","Höötmann","1. BGC Hannover e.V.","SM1: Höötmann, Bernhard",{"$f":"VLOOKUP(A1457,bangolf_kategorien!$A$2:$B$11,2,FALSE)","v":"SM1"}]
["ob",35130,"Carsten","Höpfner","BGC Northeim e.V.","SM1: Höpfner, Carsten",{"$f":"VLOOKUP(A1458,bangolf_kategorien!$A$2:$B$11,2,FALSE)","v":"SM1"}]
["ob",40166,"Mario","Höpfner","TSV Kücknitz Abt. Bahnengolf","SM1: Höpfner, Mario",{"$f":"VLOOKUP(A1459,bangolf_kategorien!$A$2:$B$11,2,FALSE)","v":"SM1"}]
["hv",46612,"Peter","Höpner","BGS Hardenberg-Pötter e.V.","SM2: Höpner, Peter",{"$f":"VLOOKUP(A1460,bangolf_kategorien!$A$2:$B$11,2,FALSE)","v":"SM2"}]
["hv",38276,"Peter","Hopp","SSC Halver e.V.","SM2: Hopp, Peter",{"$f":"VLOOKUP(A1461,bangolf_kategorien!$A$2:$B$11,2,FALSE)","v":"SM2"}]
["ob",67299,"Daniel","Hoppe","KSV Baltrum e.V.","SM1: Hoppe, Daniel",{"$f":"VLOOKUP(A1462,bangolf_kategorien!$A$2:$B$11,2,FALSE)","v":"SM1"}]
["hv",37753,"Manfred","Hoppe","MGF Magdeburg 1995 e.V.","SM2: Hoppe, Manfred",{"$f":"VLOOKUP(A1463,bangolf_kategorien!$A$2:$B$11,2,FALSE)","v":"SM2"}]
["ob",37752,"Mike","Hoppe","MGF Magdeburg 1995 e.V.","SM1: Hoppe, Mike",{"$f":"VLOOKUP(A1464,bangolf_kategorien!$A$2:$B$11,2,FALSE)","v":"SM1"}]
["ob",43419,"Mario","Hopperdietzel","1. MGC Mitterteich-Großbüchlberg","SM1: Hopperdietzel, Mario",{"$f":"VLOOKUP(A1465,bangolf_kategorien!$A$2:$B$11,2,FALSE)","v":"SM1"}]
["hv",42335,"Alexander","Horbas","MGC Ingolstadt e.V.","SM2: Horbas, Alexander",{"$f":"VLOOKUP(A1466,bangolf_kategorien!$A$2:$B$11,2,FALSE)","v":"SM2"}]
["hj",67186,"Benedikt","Hörburger","MSG Kempten e.V.","JM: Hörburger, Benedikt",{"$f":"VLOOKUP(A1467,bangolf_kategorien!$A$2:$B$11,2,FALSE)","v":"JM"}]
["og",38145,"Claudia","Horeis","MGC Bergisch Gladbach Gierath e.V.","SW1: Horeis, Claudia",{"$f":"VLOOKUP(A1468,bangolf_kategorien!$A$2:$B$11,2,FALSE)","v":"SW1"}]
["hv",38146,"Kai","Horeis","MGC Bergisch Gladbach Gierath e.V.","SM2: Horeis, Kai",{"$f":"VLOOKUP(A1469,bangolf_kategorien!$A$2:$B$11,2,FALSE)","v":"SM2"}]
["hs",27888,"Armin","Hörl","MGF Hammer e.V.","H: Hörl, Armin",{"$f":"VLOOKUP(A1470,bangolf_kategorien!$A$2:$B$11,2,FALSE)","v":"H"}]
["dv",66341,"Angelika","Horn","1. MGC Peine von 1965 e.V.","SW2: Horn, Angelika",{"$f":"VLOOKUP(A1471,bangolf_kategorien!$A$2:$B$11,2,FALSE)","v":"SW2"}]
["ob",50002,"Dennis","Horn","BGC Diepholz e.V.","SM1: Horn, Dennis",{"$f":"VLOOKUP(A1472,bangolf_kategorien!$A$2:$B$11,2,FALSE)","v":"SM1"}]
["ob",66342,"Dieter","Horn","1. MGC Peine von 1965 e.V.","SM1: Horn, Dieter",{"$f":"VLOOKUP(A1473,bangolf_kategorien!$A$2:$B$11,2,FALSE)","v":"SM1"}]
["hs",38030,"Kilian","Horn","MSV Bad Kreuznach","H: Horn, Kilian",{"$f":"VLOOKUP(A1474,bangolf_kategorien!$A$2:$B$11,2,FALSE)","v":"H"}]
["ob",45305,"Frank","Hornberger","SV Lurup Abt. Bahnengolf",{"$f":"CONCATENATE(G1475,\": \",D1475,\", \",C1475)","v":"SM1: Hornberger, Frank"},{"$f":"VLOOKUP(A1475,bangolf_kategorien!$A$2:$B$11,2,FALSE)","v":"SM1"}]
["hv",60777,"Edwin","Hörnlen","MGSC Wernau e.V.","SM2: Hörnlen, Edwin",{"$f":"VLOOKUP(A1476,bangolf_kategorien!$A$2:$B$11,2,FALSE)","v":"SM2"}]
["hv",33961,"Gerhard","Horsinka","MC Flora Elmshorn e.V.","SM2: Horsinka, Gerhard",{"$f":"VLOOKUP(A1477,bangolf_kategorien!$A$2:$B$11,2,FALSE)","v":"SM2"}]
["hs",38121,"Valentin","Horst","SG Arheilgen Abt. Bahnengolf","H: Horst, Valentin",{"$f":"VLOOKUP(A1478,bangolf_kategorien!$A$2:$B$11,2,FALSE)","v":"H"}]
["hj",67088,"Matthis","Hötzel","BGSV Castrop e.V. 1961","JM: Hötzel, Matthis",{"$f":"VLOOKUP(A1479,bangolf_kategorien!$A$2:$B$11,2,FALSE)","v":"JM"}]
["hs",24610,"Kai","Hövel","VfM Bottrop e.V.","H: Hövel, Kai",{"$f":"VLOOKUP(A1480,bangolf_kategorien!$A$2:$B$11,2,FALSE)","v":"H"}]
["pa",67280,"Yannik","Hoyer","1. MGC Mitterteich-Großbüchlberg","SCHM: Hoyer, Yannik",{"$f":"VLOOKUP(A1481,bangolf_kategorien!$A$2:$B$11,2,FALSE)","v":"SCHM"}]
["hs",66932,"Aaron","Huber","BGSV Bad Homburg","H: Huber, Aaron",{"$f":"VLOOKUP(A1482,bangolf_kategorien!$A$2:$B$11,2,FALSE)","v":"H"}]
["hs",38389,"Eric","Huber","BGSV Bad Homburg","H: Huber, Eric",{"$f":"VLOOKUP(A1483,bangolf_kategorien!$A$2:$B$11,2,FALSE)","v":"H"}]
["hv",48107,"Karl-Heinz","Huber","1. BGC Landshut e.V.","SM2: Huber, Karl-Heinz",{"$f":"VLOOKUP(A1484,bangolf_kategorien!$A$2:$B$11,2,FALSE)","v":"SM2"}]
["ob",47050,"Klaus","Huber","MGC Wolnzach e.V.","SM1: Huber, Klaus",{"$f":"VLOOKUP(A1485,bangolf_kategorien!$A$2:$B$11,2,FALSE)","v":"SM1"}]
["hs",38355,"Ronny","Huber","BGC Heilbronn e.V.","H: Huber, Ronny",{"$f":"VLOOKUP(A1486,bangolf_kategorien!$A$2:$B$11,2,FALSE)","v":"H"}]
["pa",66882,"Kevin","Hubrecht","MC Flora Elmshorn e.V.","SCHM: Hubrecht, Kevin",{"$f":"VLOOKUP(A1487,bangolf_kategorien!$A$2:$B$11,2,FALSE)","v":"SCHM"}]
["ob",32871,"Peter","Hubrecht","MC Flora Elmshorn e.V.","SM1: Hubrecht, Peter",{"$f":"VLOOKUP(A1488,bangolf_kategorien!$A$2:$B$11,2,FALSE)","v":"SM1"}]
["hs",67248,"Luca","Hudert","BGSV Bad Homburg","H: Hudert, Luca",{"$f":"VLOOKUP(A1489,bangolf_kategorien!$A$2:$B$11,2,FALSE)","v":"H"}]
["hs",38364,"Christopher","Hudman","MSV Würzburg-Löwenbrücke e.V.","H: Hudman, Christopher",{"$f":"VLOOKUP(A1490,bangolf_kategorien!$A$2:$B$11,2,FALSE)","v":"H"}]
["hv",33867,"Karl-Heinz","Hufnagl","MGC Ingolstadt e.V.","SM2: Hufnagl, Karl-Heinz",{"$f":"VLOOKUP(A1491,bangolf_kategorien!$A$2:$B$11,2,FALSE)","v":"SM2"}]
["hv",7524,"Klaus","Hufschmidt","BGSC \"Gut Schlag\" Gladbeck e.V.","SM2: Hufschmidt, Klaus",{"$f":"VLOOKUP(A1492,bangolf_kategorien!$A$2:$B$11,2,FALSE)","v":"SM2"}]
["hv",6300,"Klaus","Huhn","BGC Heilbronn e.V.","SM2: Huhn, Klaus",{"$f":"VLOOKUP(A1493,bangolf_kategorien!$A$2:$B$11,2,FALSE)","v":"SM2"}]
["dv",47019,"Martina","Huhn","BGC Bad Mergentheim e.V.","SW2: Huhn, Martina",{"$f":"VLOOKUP(A1494,bangolf_kategorien!$A$2:$B$11,2,FALSE)","v":"SW2"}]
["hs",30013,"Michael","Huhn","BGC Heilbronn e.V.","H: Huhn, Michael",{"$f":"VLOOKUP(A1495,bangolf_kategorien!$A$2:$B$11,2,FALSE)","v":"H"}]
["hv",49297,"Wolfgang","Hühne","1. MGC Kassel 1964 e.V.","SM2: Hühne, Wolfgang",{"$f":"VLOOKUP(A1496,bangolf_kategorien!$A$2:$B$11,2,FALSE)","v":"SM2"}]
["hs",32803,"Marcell","Humbek","MGC \"Stahlquelle\" Bad Bocklet","H: Humbek, Marcell",{"$f":"VLOOKUP(A1497,bangolf_kategorien!$A$2:$B$11,2,FALSE)","v":"H"}]
["hs",36485,"Sascha-Nico","Humbek","MGC \"Stahlquelle\" Bad Bocklet","H: Humbek, Sascha-Nico",{"$f":"VLOOKUP(A1498,bangolf_kategorien!$A$2:$B$11,2,FALSE)","v":"H"}]
["ds",63553,"Jeanette","Humbek-Hönicke","MGC \"Stahlquelle\" Bad Bocklet","D: Humbek-Hönicke, Jeanette",{"$f":"VLOOKUP(A1499,bangolf_kategorien!$A$2:$B$11,2,FALSE)","v":"D"}]
["dv",63418,"Sybille","Humburg","1. MGC Saar 68 St. Ingbert e.V.","SW2: Humburg, Sybille",{"$f":"VLOOKUP(A1500,bangolf_kategorien!$A$2:$B$11,2,FALSE)","v":"SW2"}]
["dv",35858,"Annemarie","Hundsdorf","1. MGC Mannheim 1968 e.V.","SW2: Hundsdorf, Annemarie",{"$f":"VLOOKUP(A1501,bangolf_kategorien!$A$2:$B$11,2,FALSE)","v":"SW2"}]
["hv",35857,"Manfred","Hundsdorf","1. MGC Mannheim 1968 e.V.","SM2: Hundsdorf, Manfred",{"$f":"VLOOKUP(A1502,bangolf_kategorien!$A$2:$B$11,2,FALSE)","v":"SM2"}]
["hv",67010,"Dieter","Hundt","SSC Attendorn e.V.","SM2: Hundt, Dieter",{"$f":"VLOOKUP(A1503,bangolf_kategorien!$A$2:$B$11,2,FALSE)","v":"SM2"}]
["ob",44723,"Karl-Heinz","Hunte","BGC Diepholz e.V.","SM1: Hunte, Karl-Heinz",{"$f":"VLOOKUP(A1504,bangolf_kategorien!$A$2:$B$11,2,FALSE)","v":"SM1"}]
["og",40603,"Stefanie","Hunte","BGC Diepholz e.V.","SW1: Hunte, Stefanie",{"$f":"VLOOKUP(A1505,bangolf_kategorien!$A$2:$B$11,2,FALSE)","v":"SW1"}]
["hv",5258,"Josef","Hupfloher","1. Münchener MGC e.V.","SM2: Hupfloher, Josef",{"$f":"VLOOKUP(A1506,bangolf_kategorien!$A$2:$B$11,2,FALSE)","v":"SM2"}]
["hv",65120,"Norbert","Hupka","MGC Bad Homburg vdH e.V.","SM2: Hupka, Norbert",{"$f":"VLOOKUP(A1507,bangolf_kategorien!$A$2:$B$11,2,FALSE)","v":"SM2"}]
["ob",27615,"Martin","Hüppen","Bochumer Minigolf-Club 1960 e.V.","SM1: Hüppen, Martin",{"$f":"VLOOKUP(A1508,bangolf_kategorien!$A$2:$B$11,2,FALSE)","v":"SM1"}]
["ob",46235,"Ulrich","Hürter","MSC Bad Godesberg e.V.","SM1: Hürter, Ulrich",{"$f":"VLOOKUP(A1509,bangolf_kategorien!$A$2:$B$11,2,FALSE)","v":"SM1"}]
["ob",66173,"Fred","Huse","Elbhavelland e.V., Abt. Minigolfsport","SM1: Huse, Fred",{"$f":"VLOOKUP(A1510,bangolf_kategorien!$A$2:$B$11,2,FALSE)","v":"SM1"}]
["hs",35406,"Marcel","Hüsges","MC \"Möve\" Cuxhaven-Sahlenburg e.V.","H: Hüsges, Marcel",{"$f":"VLOOKUP(A1511,bangolf_kategorien!$A$2:$B$11,2,FALSE)","v":"H"}]
["ds",3216785,"Sabrina Caren","Hüsken","Hobby","D: Hüsken, Sabrina Caren",{"$f":"VLOOKUP(A1512,bangolf_kategorien!$A$2:$B$11,2,FALSE)","v":"D"}]
["ob",67058,"Ralf","Hüther","MGC Heringen 1997 e.V.","SM1: Hüther, Ralf",{"$f":"VLOOKUP(A1513,bangolf_kategorien!$A$2:$B$11,2,FALSE)","v":"SM1"}]
["hs",40165,"Marcel","Hütter","1. Duisburger Minigolf Club 1962 e.V.","H: Hütter, Marcel",{"$f":"VLOOKUP(A1514,bangolf_kategorien!$A$2:$B$11,2,FALSE)","v":"H"}]
["ds",38569,"Natascha","Hütter","1. Duisburger Minigolf Club 1962 e.V.","D: Hütter, Natascha",{"$f":"VLOOKUP(A1515,bangolf_kategorien!$A$2:$B$11,2,FALSE)","v":"D"}]
["pa",67354,"Bastian","Hüttl","MGF Ottobrunn e.V.","SCHM: Hüttl, Bastian",{"$f":"VLOOKUP(A1516,bangolf_kategorien!$A$2:$B$11,2,FALSE)","v":"SCHM"}]
["dv",4182,"Anneliese","Hutzler","1. NMC Kelheim e.V.","SW2: Hutzler, Anneliese",{"$f":"VLOOKUP(A1517,bangolf_kategorien!$A$2:$B$11,2,FALSE)","v":"SW2"}]
["ob",38269,"Marcus","Hylak","MSC Bad Godesberg e.V.","SM1: Hylak, Marcus",{"$f":"VLOOKUP(A1518,bangolf_kategorien!$A$2:$B$11,2,FALSE)","v":"SM1"}]
["dv",26659,"Reinhild","Hylak","MSC Bad Godesberg e.V.","SW2: Hylak, Reinhild",{"$f":"VLOOKUP(A1519,bangolf_kategorien!$A$2:$B$11,2,FALSE)","v":"SW2"}]
["ds",35568,"Marina","Iffland","MGC Rot-Weiß Wanne-Eickel e.V.","D: Iffland, Marina",{"$f":"VLOOKUP(A1520,bangolf_kategorien!$A$2:$B$11,2,FALSE)","v":"D"}]
["hv",35239,"Peter","Iffland","MGC Rot-Weiß Wanne-Eickel e.V.","SM2: Iffland, Peter",{"$f":"VLOOKUP(A1521,bangolf_kategorien!$A$2:$B$11,2,FALSE)","v":"SM2"}]
["hs",3216757,"Jens","Igel","Hobby","H: Igel, Jens",{"$f":"VLOOKUP(A1522,bangolf_kategorien!$A$2:$B$11,2,FALSE)","v":"H"}]
["hs",16225,"Marcus","Ihrlich","TSV Kücknitz Abt. Bahnengolf","H: Ihrlich, Marcus",{"$f":"VLOOKUP(A1523,bangolf_kategorien!$A$2:$B$11,2,FALSE)","v":"H"}]
["ob",48686,"Thomas","Ill","MGC Ravensburg-Weingarten e.V.","SM1: Ill, Thomas",{"$f":"VLOOKUP(A1524,bangolf_kategorien!$A$2:$B$11,2,FALSE)","v":"SM1"}]
["hj",67096,"Marcel","Immenschuh","BSV 82 Ohlsbach e.V.","JM: Immenschuh, Marcel",{"$f":"VLOOKUP(A1525,bangolf_kategorien!$A$2:$B$11,2,FALSE)","v":"JM"}]
["hv",26834,"Alfred","Inck","MGC Bergisch Gladbach Gierath e.V.","SM2: Inck, Alfred",{"$f":"VLOOKUP(A1526,bangolf_kategorien!$A$2:$B$11,2,FALSE)","v":"SM2"}]
["dv",44954,"Alwine","Inck","MGC Bergisch Gladbach Gierath e.V.","SW2: Inck, Alwine",{"$f":"VLOOKUP(A1527,bangolf_kategorien!$A$2:$B$11,2,FALSE)","v":"SW2"}]
["hv",27702,"Bruno","Ingenston","1. Berliner Miniaturgolf-Sportclub e.V. 1960","SM2: Ingenston, Bruno",{"$f":"VLOOKUP(A1528,bangolf_kategorien!$A$2:$B$11,2,FALSE)","v":"SM2"}]
["dv",61325,"Rose-Marie","Ipach","MGC Brunsbüttel e.V.","SW2: Ipach, Rose-Marie",{"$f":"VLOOKUP(A1529,bangolf_kategorien!$A$2:$B$11,2,FALSE)","v":"SW2"}]
["ob",40541,"Oliver","Isenbiel","MSC Bensheim-Auerbach e.V.","SM1: Isenbiel, Oliver",{"$f":"VLOOKUP(A1530,bangolf_kategorien!$A$2:$B$11,2,FALSE)","v":"SM1"}]
["ds",3216570,"Jasmin","Ismail","Hobby","D: Ismail, Jasmin",{"$f":"VLOOKUP(A1531,bangolf_kategorien!$A$2:$B$11,2,FALSE)","v":"D"}]
["ds",33586,"Marion","Isop","VfL Lohbrügge Abt. Bahnengolf","D: Isop, Marion",{"$f":"VLOOKUP(A1532,bangolf_kategorien!$A$2:$B$11,2,FALSE)","v":"D"}]
["og",31002,"Kirsten","Isselmann","MSK Neheim-Hüsten e.V.","SW1: Isselmann, Kirsten",{"$f":"VLOOKUP(A1533,bangolf_kategorien!$A$2:$B$11,2,FALSE)","v":"SW1"}]
["hv",63326,"Werner","Isselmann","1. MSC Wesel 6.6.1966 e.V.","SM2: Isselmann, Werner",{"$f":"VLOOKUP(A1534,bangolf_kategorien!$A$2:$B$11,2,FALSE)","v":"SM2"}]
["hs",46453,"Marcus","Itjen","MC \"Möve\" Cuxhaven-Sahlenburg e.V.","H: Itjen, Marcus",{"$f":"VLOOKUP(A1535,bangolf_kategorien!$A$2:$B$11,2,FALSE)","v":"H"}]
["hs",66797,"Patrick","Itter","BGC Neutraubling e.V.","H: Itter, Patrick",{"$f":"VLOOKUP(A1536,bangolf_kategorien!$A$2:$B$11,2,FALSE)","v":"H"}]
["ob",30373,"Holger","Ittner","MSK Neheim-Hüsten e.V.","SM1: Ittner, Holger",{"$f":"VLOOKUP(A1537,bangolf_kategorien!$A$2:$B$11,2,FALSE)","v":"SM1"}]
["hv",66406,"Peter","Izelle","BSC Ennepetal e.V.","SM2: Izelle, Peter",{"$f":"VLOOKUP(A1538,bangolf_kategorien!$A$2:$B$11,2,FALSE)","v":"SM2"}]
["ob",43158,"Ingo","Jablonowski","BGSC Bochum 1978 e.V.",{"$f":"CONCATENATE(G1539,\": \",D1539,\", \",C1539)","v":"SM1: Jablonowski, Ingo"},{"$f":"VLOOKUP(A1539,bangolf_kategorien!$A$2:$B$11,2,FALSE)","v":"SM1"}]
["hs",46049,"Jesko","Jachens","MGC Olympia Kiel e.V.","H: Jachens, Jesko",{"$f":"VLOOKUP(A1540,bangolf_kategorien!$A$2:$B$11,2,FALSE)","v":"H"}]
["hv",18069,"Franz","Jachert","MGSC Wernau e.V.","SM2: Jachert, Franz",{"$f":"VLOOKUP(A1541,bangolf_kategorien!$A$2:$B$11,2,FALSE)","v":"SM2"}]
["hs",33011,"Christopher","Jäck","1. Bahnengolf-Club Singen e.V.","H: Jäck, Christopher",{"$f":"VLOOKUP(A1542,bangolf_kategorien!$A$2:$B$11,2,FALSE)","v":"H"}]
["hv",34687,"Wolfram","Jäck","MGF Hilzingen 80 e.V.","SM2: Jäck, Wolfram",{"$f":"VLOOKUP(A1543,bangolf_kategorien!$A$2:$B$11,2,FALSE)","v":"SM2"}]
["ds",3202725,"Katrin","Jackisch","Hobby","D: Jackisch, Katrin",{"$f":"VLOOKUP(A1544,bangolf_kategorien!$A$2:$B$11,2,FALSE)","v":"D"}]
["hs",3216755,"Sebastian","Jacob","Hobby","H: Jacob, Sebastian",{"$f":"VLOOKUP(A1545,bangolf_kategorien!$A$2:$B$11,2,FALSE)","v":"H"}]
["ob",47260,"Frank","Jacobi","MGC Bad Salzuflen e.V.","SM1: Jacobi, Frank",{"$f":"VLOOKUP(A1546,bangolf_kategorien!$A$2:$B$11,2,FALSE)","v":"SM1"}]
["ob",35316,"Jörg","Jacobs","TSV Arendsee e.V.","SM1: Jacobs, Jörg",{"$f":"VLOOKUP(A1547,bangolf_kategorien!$A$2:$B$11,2,FALSE)","v":"SM1"}]
["hs",35317,"Marco","Jacobs","TSV Arendsee e.V.","H: Jacobs, Marco",{"$f":"VLOOKUP(A1548,bangolf_kategorien!$A$2:$B$11,2,FALSE)","v":"H"}]
["ob",1742,"Ralf","Jacobs","TSV Arendsee e.V.","SM1: Jacobs, Ralf",{"$f":"VLOOKUP(A1549,bangolf_kategorien!$A$2:$B$11,2,FALSE)","v":"SM1"}]
["hv",36699,"Gerhard","Jaenichen","VFB 21 Neugattersleben e. V.","SM2: Jaenichen, Gerhard",{"$f":"VLOOKUP(A1550,bangolf_kategorien!$A$2:$B$11,2,FALSE)","v":"SM2"}]
["hv",24766,"Bernd","Jäger","MGC Bad Hersfeld","SM2: Jäger, Bernd",{"$f":"VLOOKUP(A1551,bangolf_kategorien!$A$2:$B$11,2,FALSE)","v":"SM2"}]
["dv",38313,"Gisela","Jäger","MGC Dortmund Syburg e.V.","SW2: Jäger, Gisela",{"$f":"VLOOKUP(A1552,bangolf_kategorien!$A$2:$B$11,2,FALSE)","v":"SW2"}]
["hv",40980,"Michael","Jäger","BGSV Bad Homburg","SM2: Jäger, Michael",{"$f":"VLOOKUP(A1553,bangolf_kategorien!$A$2:$B$11,2,FALSE)","v":"SM2"}]
["hv",6372,"Peter","Jäger","1. BGC Landshut e.V.","SM2: Jäger, Peter",{"$f":"VLOOKUP(A1554,bangolf_kategorien!$A$2:$B$11,2,FALSE)","v":"SM2"}]
["ob",36447,"Thomas","Jäger","Bochumer Minigolf-Club 1960 e.V.","SM1: Jäger, Thomas",{"$f":"VLOOKUP(A1555,bangolf_kategorien!$A$2:$B$11,2,FALSE)","v":"SM1"}]
["ob",42951,"Achim","Jahr","MGC Oberkochen e.V.","SM1: Jahr, Achim",{"$f":"VLOOKUP(A1556,bangolf_kategorien!$A$2:$B$11,2,FALSE)","v":"SM1"}]
["hv",24925,"Konrad","Jahr","1. MGC 1970 Göttingen e.V.","SM2: Jahr, Konrad",{"$f":"VLOOKUP(A1557,bangolf_kategorien!$A$2:$B$11,2,FALSE)","v":"SM2"}]
["dv",44499,"Uta","Jahrmärker","1. BGC Celle von 1964 e.V.","SW2: Jahrmärker, Uta",{"$f":"VLOOKUP(A1558,bangolf_kategorien!$A$2:$B$11,2,FALSE)","v":"SW2"}]
["hs",45789,"Christian","Jäink","MSK Neheim-Hüsten e.V.","H: Jäink, Christian",{"$f":"VLOOKUP(A1559,bangolf_kategorien!$A$2:$B$11,2,FALSE)","v":"H"}]
["hs",66863,"Andre","Jaiser","MCE Sindelfingen e.V.","H: Jaiser, Andre",{"$f":"VLOOKUP(A1560,bangolf_kategorien!$A$2:$B$11,2,FALSE)","v":"H"}]
["ob",66485,"Rudi","Jakab","1. BGC Bad Füssing e.V.","SM1: Jakab, Rudi",{"$f":"VLOOKUP(A1561,bangolf_kategorien!$A$2:$B$11,2,FALSE)","v":"SM1"}]
["hv",41217,"Franz","Jakob","MGC Ingolstadt e.V.","SM2: Jakob, Franz",{"$f":"VLOOKUP(A1562,bangolf_kategorien!$A$2:$B$11,2,FALSE)","v":"SM2"}]
["hv",66119,"Norbert","Jakob","BGSV Bad Homburg","SM2: Jakob, Norbert",{"$f":"VLOOKUP(A1563,bangolf_kategorien!$A$2:$B$11,2,FALSE)","v":"SM2"}]
["hs",67141,"Jens","Jakobs","MGC Traben-Trarbach","H: Jakobs, Jens",{"$f":"VLOOKUP(A1564,bangolf_kategorien!$A$2:$B$11,2,FALSE)","v":"H"}]
["hs",33405,"Timo","Jakoby","MGC Traben-Trarbach","H: Jakoby, Timo",{"$f":"VLOOKUP(A1565,bangolf_kategorien!$A$2:$B$11,2,FALSE)","v":"H"}]
["hs",66652,"Rene","Jakubeit","VfL Lüneburg Abt. Bahnengolf","H: Jakubeit, Rene",{"$f":"VLOOKUP(A1566,bangolf_kategorien!$A$2:$B$11,2,FALSE)","v":"H"}]
["ds",67208,"Janine","Jander","MGC Marl 1960 e.V.","D: Jander, Janine",{"$f":"VLOOKUP(A1567,bangolf_kategorien!$A$2:$B$11,2,FALSE)","v":"D"}]
["ob",29585,"André","Jänicke","MGC Dormagen-Brechten e.V.","SM1: Jänicke, André",{"$f":"VLOOKUP(A1568,bangolf_kategorien!$A$2:$B$11,2,FALSE)","v":"SM1"}]
["hs",37822,"Andreas","Jansen","MGC Bergisch Gladbach Gierath e.V.","H: Jansen, Andreas",{"$f":"VLOOKUP(A1569,bangolf_kategorien!$A$2:$B$11,2,FALSE)","v":"H"}]
["hv",24340,"Jörg","Jansen","VfM Bottrop e.V.","SM2: Jansen, Jörg",{"$f":"VLOOKUP(A1570,bangolf_kategorien!$A$2:$B$11,2,FALSE)","v":"SM2"}]
["ob",36046,"Thomas","Jansen","MGC Ingolstadt e.V.","SM1: Jansen, Thomas",{"$f":"VLOOKUP(A1571,bangolf_kategorien!$A$2:$B$11,2,FALSE)","v":"SM1"}]
["ob",31015,"Markus","Janßen","1. MGC Mainz e.V.","SM1: Janßen, Markus",{"$f":"VLOOKUP(A1572,bangolf_kategorien!$A$2:$B$11,2,FALSE)","v":"SM1"}]
["og",66147,"Petra","Janßen","SV Lurup Abt. Bahnengolf","SW1: Janßen, Petra",{"$f":"VLOOKUP(A1573,bangolf_kategorien!$A$2:$B$11,2,FALSE)","v":"SW1"}]
["hs",67236,"Sven","Janz","1. CGC Blau-Gelb Grötzingen","H: Janz, Sven",{"$f":"VLOOKUP(A1574,bangolf_kategorien!$A$2:$B$11,2,FALSE)","v":"H"}]
["ob",29771,"Klaus","Jarosch","VfM Bottrop e.V.","SM1: Jarosch, Klaus",{"$f":"VLOOKUP(A1575,bangolf_kategorien!$A$2:$B$11,2,FALSE)","v":"SM1"}]
["dv",34756,"Monika","Jarzembowski","MGC Olympia Kiel e.V.","SW2: Jarzembowski, Monika",{"$f":"VLOOKUP(A1576,bangolf_kategorien!$A$2:$B$11,2,FALSE)","v":"SW2"}]
["dv",37450,"Ilka","Jäschke-Ladendorf","BGSV Bad Homburg","SW2: Jäschke-Ladendorf, Ilka",{"$f":"VLOOKUP(A1577,bangolf_kategorien!$A$2:$B$11,2,FALSE)","v":"SW2"}]
["ob",37433,"Alexander","Jasper","MGC Dormagen-Brechten e.V.","SM1: Jasper, Alexander",{"$f":"VLOOKUP(A1578,bangolf_kategorien!$A$2:$B$11,2,FALSE)","v":"SM1"}]
["hs",66179,"Jens","Jatho","1. BGC Hannover e.V.","H: Jatho, Jens",{"$f":"VLOOKUP(A1579,bangolf_kategorien!$A$2:$B$11,2,FALSE)","v":"H"}]
["hs",66845,"Michael","Jauernek","MGC Monrepos e.V.","H: Jauernek, Michael",{"$f":"VLOOKUP(A1580,bangolf_kategorien!$A$2:$B$11,2,FALSE)","v":"H"}]
["hs",40383,"Robert","Jeckel","1. BGC Leipzig e.V.","H: Jeckel, Robert",{"$f":"VLOOKUP(A1581,bangolf_kategorien!$A$2:$B$11,2,FALSE)","v":"H"}]
["hs",66825,"Martin","Jecny","BGS Hardenberg-Pötter e.V.","H: Jecny, Martin",{"$f":"VLOOKUP(A1582,bangolf_kategorien!$A$2:$B$11,2,FALSE)","v":"H"}]
["hs",46846,"André","Jensen","MGC Olympia Kiel e.V.","H: Jensen, André",{"$f":"VLOOKUP(A1583,bangolf_kategorien!$A$2:$B$11,2,FALSE)","v":"H"}]
["ob",33394,"Bernd","Jentschke","MGC Unterschneidheim e.V.","SM1: Jentschke, Bernd",{"$f":"VLOOKUP(A1584,bangolf_kategorien!$A$2:$B$11,2,FALSE)","v":"SM1"}]
["hs",34568,"Sebastian","Jeschke","MSC Bad Godesberg e.V.","H: Jeschke, Sebastian",{"$f":"VLOOKUP(A1585,bangolf_kategorien!$A$2:$B$11,2,FALSE)","v":"H"}]
["ds",36293,"Anna","Jeske","SV Lurup Abt. Bahnengolf","D: Jeske, Anna",{"$f":"VLOOKUP(A1586,bangolf_kategorien!$A$2:$B$11,2,FALSE)","v":"D"}]
["dv",61958,"Marie-Luise","Jezierski","MGC \"AS\" Witten 1963 e.V.","SW2: Jezierski, Marie-Luise",{"$f":"VLOOKUP(A1587,bangolf_kategorien!$A$2:$B$11,2,FALSE)","v":"SW2"}]
["hv",26456,"Erwin","Joachimsthaler","MGC Ostheim / Rhön e.V.","SM2: Joachimsthaler, Erwin",{"$f":"VLOOKUP(A1588,bangolf_kategorien!$A$2:$B$11,2,FALSE)","v":"SM2"}]
["hv",62655,"Horst","Jockel","BGC Bad Mergentheim e.V.","SM2: Jockel, Horst",{"$f":"VLOOKUP(A1589,bangolf_kategorien!$A$2:$B$11,2,FALSE)","v":"SM2"}]
["hs",46843,"Niels","Johannsen","MGC Harrislee-Wassersleben","H: Johannsen, Niels",{"$f":"VLOOKUP(A1590,bangolf_kategorien!$A$2:$B$11,2,FALSE)","v":"H"}]
["hv",40896,"Manfred","Jöhrens","1. BGC Hannover e.V.","SM2: Jöhrens, Manfred",{"$f":"VLOOKUP(A1591,bangolf_kategorien!$A$2:$B$11,2,FALSE)","v":"SM2"}]
["og",28802,"Melanie","Jooß","BGC Illertissen e.V.","SW1: Jooß, Melanie",{"$f":"VLOOKUP(A1592,bangolf_kategorien!$A$2:$B$11,2,FALSE)","v":"SW1"}]
["hv",28793,"Thomas","Jooß","BGC Illertissen e.V.","SM2: Jooß, Thomas",{"$f":"VLOOKUP(A1593,bangolf_kategorien!$A$2:$B$11,2,FALSE)","v":"SM2"}]
["ob",67200,"Oliver","Jordan","BGSV Bad Homburg","SM1: Jordan, Oliver",{"$f":"VLOOKUP(A1594,bangolf_kategorien!$A$2:$B$11,2,FALSE)","v":"SM1"}]
["ob",40687,"Nikolai","Juchem","1. MGC Mainz e.V.","SM1: Juchem, Nikolai",{"$f":"VLOOKUP(A1595,bangolf_kategorien!$A$2:$B$11,2,FALSE)","v":"SM1"}]
["og",67262,"Barbara","Jung","MGC \"Stahlquelle\" Bad Bocklet","SW1: Jung, Barbara",{"$f":"VLOOKUP(A1596,bangolf_kategorien!$A$2:$B$11,2,FALSE)","v":"SW1"}]
["ds",30969,"Claudia","Jung","MGC Murnau am Staffelsee e.V.","D: Jung, Claudia",{"$f":"VLOOKUP(A1597,bangolf_kategorien!$A$2:$B$11,2,FALSE)","v":"D"}]
["hv",34878,"Horst","Jung","MGC Millennium Lorsch e.V.","SM2: Jung, Horst",{"$f":"VLOOKUP(A1598,bangolf_kategorien!$A$2:$B$11,2,FALSE)","v":"SM2"}]
["dj",66017,"Johanna","Jung","1. KC Homburg-Saar 1967 e.V.","JW: Jung, Johanna",{"$f":"VLOOKUP(A1599,bangolf_kategorien!$A$2:$B$11,2,FALSE)","v":"JW"}]
["hs",35510,"Jürgen","Jung","VfB Limbach 2000 e.V.","H: Jung, Jürgen",{"$f":"VLOOKUP(A1600,bangolf_kategorien!$A$2:$B$11,2,FALSE)","v":"H"}]
["ob",66018,"Jürgen","Jung","1. KC Homburg-Saar 1967 e.V.","SM1: Jung, Jürgen",{"$f":"VLOOKUP(A1601,bangolf_kategorien!$A$2:$B$11,2,FALSE)","v":"SM1"}]
["dv",3578,"Lieselotte","Jung","BGC Dormagen e.V.","SW2: Jung, Lieselotte",{"$f":"VLOOKUP(A1602,bangolf_kategorien!$A$2:$B$11,2,FALSE)","v":"SW2"}]
["hs",37937,"Marco","Jung","MGC Murnau am Staffelsee e.V.",{"$f":"CONCATENATE(G1603,\": \",D1603,\", \",C1603)","v":"H: Jung, Marco"},{"$f":"VLOOKUP(A1603,bangolf_kategorien!$A$2:$B$11,2,FALSE)","v":"H"}]
["ob",40003,"Markus","Jung","BGV Bergisch Land 1962 / 63 e.V.","SM1: Jung, Markus",{"$f":"VLOOKUP(A1604,bangolf_kategorien!$A$2:$B$11,2,FALSE)","v":"SM1"}]
["pa",66933,"Samuel","Jung","SV 1890 e.V. Dreieichenhain, Abt. Bahnengolf","SCHM: Jung, Samuel",{"$f":"VLOOKUP(A1605,bangolf_kategorien!$A$2:$B$11,2,FALSE)","v":"SCHM"}]
["ob",66806,"Thomas","Jüngling","1.KGC Mönchengladbach e.V.","SM1: Jüngling, Thomas",{"$f":"VLOOKUP(A1606,bangolf_kategorien!$A$2:$B$11,2,FALSE)","v":"SM1"}]
["hs",66050,"Sven","Jungwirth","SSC Attendorn e.V.","H: Jungwirth, Sven",{"$f":"VLOOKUP(A1607,bangolf_kategorien!$A$2:$B$11,2,FALSE)","v":"H"}]
["hs",49073,"Alexander","Junkermann","MGC Dormagen-Brechten e.V.","H: Junkermann, Alexander",{"$f":"VLOOKUP(A1608,bangolf_kategorien!$A$2:$B$11,2,FALSE)","v":"H"}]
["ob",38337,"Bernd","Jurgeleit","BSV 86 München e.V.","SM1: Jurgeleit, Bernd",{"$f":"VLOOKUP(A1609,bangolf_kategorien!$A$2:$B$11,2,FALSE)","v":"SM1"}]
["dj",38338,"Melanie","Jurgeleit","MGC Murnau am Staffelsee e.V.","JW: Jurgeleit, Melanie",{"$f":"VLOOKUP(A1610,bangolf_kategorien!$A$2:$B$11,2,FALSE)","v":"JW"}]
["og",38339,"Rebecca","Jurgeleit","BSV 86 München e.V.","SW1: Jurgeleit, Rebecca",{"$f":"VLOOKUP(A1611,bangolf_kategorien!$A$2:$B$11,2,FALSE)","v":"SW1"}]
["ob",66717,"Klaus-Dieter","Jürgens","1. BGC Hannover e.V.","SM1: Jürgens, Klaus-Dieter",{"$f":"VLOOKUP(A1612,bangolf_kategorien!$A$2:$B$11,2,FALSE)","v":"SM1"}]
["pa",67142,"Jan Uwe","Jürgensen","BGC Illertissen e.V.","SCHM: Jürgensen, Jan Uwe",{"$f":"VLOOKUP(A1613,bangolf_kategorien!$A$2:$B$11,2,FALSE)","v":"SCHM"}]
["ob",43273,"Ralf","Jürgensen","SSV Ulm 1846 Abt. Bahnengolf","SM1: Jürgensen, Ralf",{"$f":"VLOOKUP(A1614,bangolf_kategorien!$A$2:$B$11,2,FALSE)","v":"SM1"}]
["hj",65559,"Daniel","Jürs","MC Flora Elmshorn e.V.","JM: Jürs, Daniel",{"$f":"VLOOKUP(A1615,bangolf_kategorien!$A$2:$B$11,2,FALSE)","v":"JM"}]
["hv",43508,"Dieter","Jürs","MC Flora Elmshorn e.V.","SM2: Jürs, Dieter",{"$f":"VLOOKUP(A1616,bangolf_kategorien!$A$2:$B$11,2,FALSE)","v":"SM2"}]
["dv",43515,"Gabriele","Jürs","MC Flora Elmshorn e.V.","SW2: Jürs, Gabriele",{"$f":"VLOOKUP(A1617,bangolf_kategorien!$A$2:$B$11,2,FALSE)","v":"SW2"}]
["hs",34656,"Heiko","Jürs","MC Flora Elmshorn e.V.","H: Jürs, Heiko",{"$f":"VLOOKUP(A1618,bangolf_kategorien!$A$2:$B$11,2,FALSE)","v":"H"}]
["hs",46052,"Mario","Jürs","MC Flora Elmshorn e.V.","H: Jürs, Mario",{"$f":"VLOOKUP(A1619,bangolf_kategorien!$A$2:$B$11,2,FALSE)","v":"H"}]
["ob",29850,"Michael","Just","1. MGC Süßen e.V.","SM1: Just, Michael",{"$f":"VLOOKUP(A1620,bangolf_kategorien!$A$2:$B$11,2,FALSE)","v":"SM1"}]
["hs",66282,"Stephan","Jütte","1. MGC Paderborn e.V.","H: Jütte, Stephan",{"$f":"VLOOKUP(A1621,bangolf_kategorien!$A$2:$B$11,2,FALSE)","v":"H"}]
["ob",37352,"Karsten","Käckenmester","BGC Bremen e.V.","SM1: Käckenmester, Karsten",{"$f":"VLOOKUP(A1622,bangolf_kategorien!$A$2:$B$11,2,FALSE)","v":"SM1"}]
["og",3209180,"Ines","Kaesler-Neumann","Hobby","SW1: Kaesler-Neumann, Ines",{"$f":"VLOOKUP(A1623,bangolf_kategorien!$A$2:$B$11,2,FALSE)","v":"SW1"}]
["og",37468,"Annette","Kaestner","Reinickendorfer MGC e.V.","SW1: Kaestner, Annette",{"$f":"VLOOKUP(A1624,bangolf_kategorien!$A$2:$B$11,2,FALSE)","v":"SW1"}]
["ob",3209184,"Rüdiger","Kahl","Hobby","SM1: Kahl, Rüdiger",{"$f":"VLOOKUP(A1625,bangolf_kategorien!$A$2:$B$11,2,FALSE)","v":"SM1"}]
["hv",35182,"Herbert","Kaiser","BSV 86 München e.V.","SM2: Kaiser, Herbert",{"$f":"VLOOKUP(A1626,bangolf_kategorien!$A$2:$B$11,2,FALSE)","v":"SM2"}]
["hv",43405,"Michael","Kaiser","BGSV Bad Homburg","SM2: Kaiser, Michael",{"$f":"VLOOKUP(A1627,bangolf_kategorien!$A$2:$B$11,2,FALSE)","v":"SM2"}]
["dv",3194217,"Renate","Kaiser","Hobby","SW2: Kaiser, Renate",{"$f":"VLOOKUP(A1628,bangolf_kategorien!$A$2:$B$11,2,FALSE)","v":"SW2"}]
["ob",46699,"Thomas","Kaiser","MSF Brilon e.V.","SM1: Kaiser, Thomas",{"$f":"VLOOKUP(A1629,bangolf_kategorien!$A$2:$B$11,2,FALSE)","v":"SM1"}]
["hv",66302,"Alois","Kaisr","BGSV Aßlar 1987 e.V.","SM2: Kaisr, Alois",{"$f":"VLOOKUP(A1630,bangolf_kategorien!$A$2:$B$11,2,FALSE)","v":"SM2"}]
["hs",46573,"Sascha","Kaisr","BGSV Aßlar 1987 e.V.","H: Kaisr, Sascha",{"$f":"VLOOKUP(A1631,bangolf_kategorien!$A$2:$B$11,2,FALSE)","v":"H"}]
["hj",66290,"Lukas","Kalb","1. FMGC Lichtenfels 1961 e.V.","JM: Kalb, Lukas",{"$f":"VLOOKUP(A1632,bangolf_kategorien!$A$2:$B$11,2,FALSE)","v":"JM"}]
["dv",4222,"Anna","Kalhöfer","MGC \"AS\" Witten 1963 e.V.","SW2: Kalhöfer, Anna",{"$f":"VLOOKUP(A1633,bangolf_kategorien!$A$2:$B$11,2,FALSE)","v":"SW2"}]
["hv",4455,"Manfred","Kalisch","BGSV Aßlar 1987 e.V.","SM2: Kalisch, Manfred",{"$f":"VLOOKUP(A1634,bangolf_kategorien!$A$2:$B$11,2,FALSE)","v":"SM2"}]
["ob",42648,"Roland","Kalka","MSK Olching e.V.","SM1: Kalka, Roland",{"$f":"VLOOKUP(A1635,bangolf_kategorien!$A$2:$B$11,2,FALSE)","v":"SM1"}]
["ds",34231,"Antje","Kalkbrenner","MGC Bad Salzuflen e.V.","D: Kalkbrenner, Antje",{"$f":"VLOOKUP(A1636,bangolf_kategorien!$A$2:$B$11,2,FALSE)","v":"D"}]
["ds",67030,"Daria Anasthasia Larissa Christa","Kamke","BGC Oberhausen e.V.","D: Kamke, Daria Anasthasia Larissa Christa",{"$f":"VLOOKUP(A1637,bangolf_kategorien!$A$2:$B$11,2,FALSE)","v":"D"}]
["ds",67360,"Katja","Kammermaier","BSV 86 München e.V.","D: Kammermaier, Katja",{"$f":"VLOOKUP(A1638,bangolf_kategorien!$A$2:$B$11,2,FALSE)","v":"D"}]
["dv",35257,"Cornelia","Kampe","TSV Salzgitter e.V. Abt. Bahnengolf","SW2: Kampe, Cornelia",{"$f":"VLOOKUP(A1639,bangolf_kategorien!$A$2:$B$11,2,FALSE)","v":"SW2"}]
["ob",45597,"Michael","Kampmann","MGC Bad Salzuflen e.V.","SM1: Kampmann, Michael",{"$f":"VLOOKUP(A1640,bangolf_kategorien!$A$2:$B$11,2,FALSE)","v":"SM1"}]
["ob",40227,"Frank","Kampschulte","SSC Attendorn e.V.","SM1: Kampschulte, Frank",{"$f":"VLOOKUP(A1641,bangolf_kategorien!$A$2:$B$11,2,FALSE)","v":"SM1"}]
["hs",65827,"Jan-Kevin","Kampschulte","SSC Attendorn e.V.","H: Kampschulte, Jan-Kevin",{"$f":"VLOOKUP(A1642,bangolf_kategorien!$A$2:$B$11,2,FALSE)","v":"H"}]
["hj",66910,"Hannes","Kandert","TG Höchberg von 1862 Bahnengolf e.V.","JM: Kandert, Hannes",{"$f":"VLOOKUP(A1643,bangolf_kategorien!$A$2:$B$11,2,FALSE)","v":"JM"}]
["hv",38341,"Harald","Kantor","BGSV Bad Homburg","SM2: Kantor, Harald",{"$f":"VLOOKUP(A1644,bangolf_kategorien!$A$2:$B$11,2,FALSE)","v":"SM2"}]
["dv",29934,"Vera","Kapelle-Schürings","1. MGC 1970 Göttingen e.V.","SW2: Kapelle-Schürings, Vera",{"$f":"VLOOKUP(A1645,bangolf_kategorien!$A$2:$B$11,2,FALSE)","v":"SW2"}]
["hs",35774,"Dennis","Kapke","SG Arheilgen Abt. Bahnengolf","H: Kapke, Dennis",{"$f":"VLOOKUP(A1646,bangolf_kategorien!$A$2:$B$11,2,FALSE)","v":"H"}]
["dv",28575,"Gabriele","Karas","1. MSC Hamburg-Neu Wulmstorf","SW2: Karas, Gabriele",{"$f":"VLOOKUP(A1647,bangolf_kategorien!$A$2:$B$11,2,FALSE)","v":"SW2"}]
["ob",36105,"Hans-Jürgen","Karas","Minigolfclub Karlshagen e.V.","SM1: Karas, Hans-Jürgen",{"$f":"VLOOKUP(A1648,bangolf_kategorien!$A$2:$B$11,2,FALSE)","v":"SM1"}]
["ob",29752,"Bruno","Karcher","1. MGC Tuttlingen e.V.","SM1: Karcher, Bruno",{"$f":"VLOOKUP(A1649,bangolf_kategorien!$A$2:$B$11,2,FALSE)","v":"SM1"}]
["hv",66886,"Werner","Karcher","BGC Rheinau-Freistett e.V.","SM2: Karcher, Werner",{"$f":"VLOOKUP(A1650,bangolf_kategorien!$A$2:$B$11,2,FALSE)","v":"SM2"}]
["ob",40087,"Karl","Karduck","1. Münchener MGC e.V.","SM1: Karduck, Karl",{"$f":"VLOOKUP(A1651,bangolf_kategorien!$A$2:$B$11,2,FALSE)","v":"SM1"}]
["ob",29374,"Jürgen","Karl","MC Ilvesheim e.V.","SM1: Karl, Jürgen",{"$f":"VLOOKUP(A1652,bangolf_kategorien!$A$2:$B$11,2,FALSE)","v":"SM1"}]
["ob",25466,"Klaus","Karlitschek","1. MGC Metzingen e.V.","SM1: Karlitschek, Klaus",{"$f":"VLOOKUP(A1653,bangolf_kategorien!$A$2:$B$11,2,FALSE)","v":"SM1"}]
["hv",18344,"Winfried","Karpa","BGV Backumer Tal Herten e.V.","SM2: Karpa, Winfried",{"$f":"VLOOKUP(A1654,bangolf_kategorien!$A$2:$B$11,2,FALSE)","v":"SM2"}]
["hv",27122,"Detlef","Kasburg","1. MGC Peine von 1965 e.V.","SM2: Kasburg, Detlef",{"$f":"VLOOKUP(A1655,bangolf_kategorien!$A$2:$B$11,2,FALSE)","v":"SM2"}]
["ob",46970,"Ralf","Käsler","BGC Uerdingen e.V.","SM1: Käsler, Ralf",{"$f":"VLOOKUP(A1656,bangolf_kategorien!$A$2:$B$11,2,FALSE)","v":"SM1"}]
["ob",30576,"Stefan","Kaspar","BSV 82 Ohlsbach e.V.","SM1: Kaspar, Stefan",{"$f":"VLOOKUP(A1657,bangolf_kategorien!$A$2:$B$11,2,FALSE)","v":"SM1"}]
["hv",34120,"Harald","Kaßner","SC Bad Münder Abt. Bahnengolf","SM2: Kaßner, Harald",{"$f":"VLOOKUP(A1658,bangolf_kategorien!$A$2:$B$11,2,FALSE)","v":"SM2"}]
["ob",38144,"Holger","Kastner","1. MSC Wesel 6.6.1966 e.V.","SM1: Kastner, Holger",{"$f":"VLOOKUP(A1659,bangolf_kategorien!$A$2:$B$11,2,FALSE)","v":"SM1"}]
["hs",67235,"Fabian","Kauss","1. BGC Celle von 1964 e.V.","H: Kauss, Fabian",{"$f":"VLOOKUP(A1660,bangolf_kategorien!$A$2:$B$11,2,FALSE)","v":"H"}]
["ob",31250,"Thomas","Kegel","MGC Ostheim / Rhön e.V.","SM1: Kegel, Thomas",{"$f":"VLOOKUP(A1661,bangolf_kategorien!$A$2:$B$11,2,FALSE)","v":"SM1"}]
["hv",26465,"Roland","Kehl","SGC Hagen e.V.","SM2: Kehl, Roland",{"$f":"VLOOKUP(A1662,bangolf_kategorien!$A$2:$B$11,2,FALSE)","v":"SM2"}]
["ob",30337,"Karsten","Kehr","BGC Northeim e.V.","SM1: Kehr, Karsten",{"$f":"VLOOKUP(A1663,bangolf_kategorien!$A$2:$B$11,2,FALSE)","v":"SM1"}]
["hv",6360,"Hermann","Kehrer","1. MGC Metzingen e.V.","SM2: Kehrer, Hermann",{"$f":"VLOOKUP(A1664,bangolf_kategorien!$A$2:$B$11,2,FALSE)","v":"SM2"}]
["ds",66195,"Chantal","Keiper","1. MGC Oberthal e.V.","D: Keiper, Chantal",{"$f":"VLOOKUP(A1665,bangolf_kategorien!$A$2:$B$11,2,FALSE)","v":"D"}]
["dv",66232,"Ingrid","Keiper","1. MGC Oberthal e.V.","SW2: Keiper, Ingrid",{"$f":"VLOOKUP(A1666,bangolf_kategorien!$A$2:$B$11,2,FALSE)","v":"SW2"}]
["hs",46465,"Sven","Keiper","1. MGC Oberthal e.V.",{"$f":"CONCATENATE(G1667,\": \",D1667,\", \",C1667)","v":"H: Keiper, Sven"},{"$f":"VLOOKUP(A1667,bangolf_kategorien!$A$2:$B$11,2,FALSE)","v":"H"}]
["og",67351,"Marita","Keuth","MGC Heven e.V.","SW1: Keuth, Marita",{"$f":"VLOOKUP(A1668,bangolf_kategorien!$A$2:$B$11,2,FALSE)","v":"SW1"}]
["ob",3216563,"Sejad","Kekic","Hobby","SM1: Kekic, Sejad",{"$f":"VLOOKUP(A1669,bangolf_kategorien!$A$2:$B$11,2,FALSE)","v":"SM1"}]
["ob",24022,"Andreas","Kelch","Tempelhofer MV Berlin e.V.","SM1: Kelch, Andreas",{"$f":"VLOOKUP(A1670,bangolf_kategorien!$A$2:$B$11,2,FALSE)","v":"SM1"}]
["ob",29738,"Frank","Keller","TG Höchberg von 1862 Bahnengolf e.V.","SM1: Keller, Frank",{"$f":"VLOOKUP(A1671,bangolf_kategorien!$A$2:$B$11,2,FALSE)","v":"SM1"}]
["hv",48285,"Franz","Keller","MGC Murnau am Staffelsee e.V.","SM2: Keller, Franz",{"$f":"VLOOKUP(A1672,bangolf_kategorien!$A$2:$B$11,2,FALSE)","v":"SM2"}]
["ob",67050,"Markus","Keller","Bochumer Minigolf-Club 1960 e.V.","SM1: Keller, Markus",{"$f":"VLOOKUP(A1673,bangolf_kategorien!$A$2:$B$11,2,FALSE)","v":"SM1"}]
["hv",5767,"Toni","Keller","VfB Limbach 2000 e.V.","SM2: Keller, Toni",{"$f":"VLOOKUP(A1674,bangolf_kategorien!$A$2:$B$11,2,FALSE)","v":"SM2"}]
["og",22366,"Karin","Kellner","MGC Oberkochen e.V.","SW1: Kellner, Karin",{"$f":"VLOOKUP(A1675,bangolf_kategorien!$A$2:$B$11,2,FALSE)","v":"SW1"}]
["ds",31656,"Marietheres","Kellner","1. BGC Celle von 1964 e.V.","D: Kellner, Marietheres",{"$f":"VLOOKUP(A1676,bangolf_kategorien!$A$2:$B$11,2,FALSE)","v":"D"}]
["hv",19630,"Rudolf","Kellner","MGC Oberkochen e.V.","SM2: Kellner, Rudolf",{"$f":"VLOOKUP(A1677,bangolf_kategorien!$A$2:$B$11,2,FALSE)","v":"SM2"}]
["hs",50151,"Christian","Kemler","1.KGC Mönchengladbach e.V.","H: Kemler, Christian",{"$f":"VLOOKUP(A1678,bangolf_kategorien!$A$2:$B$11,2,FALSE)","v":"H"}]
["hv",5802,"Kurt","Kempa","1. BGC Paderborn e.V.","SM2: Kempa, Kurt",{"$f":"VLOOKUP(A1679,bangolf_kategorien!$A$2:$B$11,2,FALSE)","v":"SM2"}]
["dv",955,"Marina","Kempa","1. BGC Wolfsburg","SW2: Kempa, Marina",{"$f":"VLOOKUP(A1680,bangolf_kategorien!$A$2:$B$11,2,FALSE)","v":"SW2"}]
["ob",30988,"Norbert","Kempa","1. BGC Wolfsburg","SM1: Kempa, Norbert",{"$f":"VLOOKUP(A1681,bangolf_kategorien!$A$2:$B$11,2,FALSE)","v":"SM1"}]
["hv",26658,"Manfred","Kempen","MSC Bad Godesberg e.V.","SM2: Kempen, Manfred",{"$f":"VLOOKUP(A1682,bangolf_kategorien!$A$2:$B$11,2,FALSE)","v":"SM2"}]
["hs",36920,"Markus","Kempf","BGSV Kerpen e.V.","H: Kempf, Markus",{"$f":"VLOOKUP(A1683,bangolf_kategorien!$A$2:$B$11,2,FALSE)","v":"H"}]
["ds",37775,"Christin","Kemsies","BGV Bergisch Land 1962 / 63 e.V.","D: Kemsies, Christin",{"$f":"VLOOKUP(A1684,bangolf_kategorien!$A$2:$B$11,2,FALSE)","v":"D"}]
["hv",38620,"Lutz","Kemsies","Reinickendorfer MGC e.V.","SM2: Kemsies, Lutz",{"$f":"VLOOKUP(A1685,bangolf_kategorien!$A$2:$B$11,2,FALSE)","v":"SM2"}]
["dv",66655,"Regine","Kemsies","Reinickendorfer MGC e.V.","SW2: Kemsies, Regine",{"$f":"VLOOKUP(A1686,bangolf_kategorien!$A$2:$B$11,2,FALSE)","v":"SW2"}]
["ob",41862,"Thomas","Kemsies","BGV Bergisch Land 1962 / 63 e.V.","SM1: Kemsies, Thomas",{"$f":"VLOOKUP(A1687,bangolf_kategorien!$A$2:$B$11,2,FALSE)","v":"SM1"}]
["ob",42407,"Udo","Keppler","MGSC Wernau e.V.","SM1: Keppler, Udo",{"$f":"VLOOKUP(A1688,bangolf_kategorien!$A$2:$B$11,2,FALSE)","v":"SM1"}]
["hv",66536,"Jürgen","Kerk","Hamburger MC von 1965 e.V.","SM2: Kerk, Jürgen",{"$f":"VLOOKUP(A1689,bangolf_kategorien!$A$2:$B$11,2,FALSE)","v":"SM2"}]
["hv",67352,"Uwe","Kersch","MGC Heven e.V.","SM2: Kersch, Uwe",{"$f":"VLOOKUP(A1690,bangolf_kategorien!$A$2:$B$11,2,FALSE)","v":"SM2"}]
["hs",67069,"Toni","Kersek","MSK Neheim-Hüsten e.V.","H: Kersek, Toni",{"$f":"VLOOKUP(A1691,bangolf_kategorien!$A$2:$B$11,2,FALSE)","v":"H"}]
["hv",5596,"Kurt","Kersting","1. MGC Kassel 1964 e.V.","SM2: Kersting, Kurt",{"$f":"VLOOKUP(A1692,bangolf_kategorien!$A$2:$B$11,2,FALSE)","v":"SM2"}]
["hv",27324,"Peter","Kesselmeier","1. MGC Paderborn e.V.","SM2: Kesselmeier, Peter",{"$f":"VLOOKUP(A1693,bangolf_kategorien!$A$2:$B$11,2,FALSE)","v":"SM2"}]
["ds",3209188,"Nadine","Kestel","Hobby","D: Kestel, Nadine",{"$f":"VLOOKUP(A1694,bangolf_kategorien!$A$2:$B$11,2,FALSE)","v":"D"}]
["ob",66397,"Jens","Kesting","Kölner Miniatur Golf Club e.V.","SM1: Kesting, Jens",{"$f":"VLOOKUP(A1695,bangolf_kategorien!$A$2:$B$11,2,FALSE)","v":"SM1"}]
["ob",48508,"Andreas","Kiefer","Tempelhofer MV Berlin e.V.","SM1: Kiefer, Andreas",{"$f":"VLOOKUP(A1696,bangolf_kategorien!$A$2:$B$11,2,FALSE)","v":"SM1"}]
["hs",67056,"Fabian","Kiefer","MGC Heringen 1997 e.V.","H: Kiefer, Fabian",{"$f":"VLOOKUP(A1697,bangolf_kategorien!$A$2:$B$11,2,FALSE)","v":"H"}]
["hv",36169,"Peter","Kiehl","MGC Bad Soden-Salmünster","SM2: Kiehl, Peter",{"$f":"VLOOKUP(A1698,bangolf_kategorien!$A$2:$B$11,2,FALSE)","v":"SM2"}]
["hs",66748,"Stephan","Kiesling","1. BGC Hannover e.V.","H: Kiesling, Stephan",{"$f":"VLOOKUP(A1699,bangolf_kategorien!$A$2:$B$11,2,FALSE)","v":"H"}]
["hv",4114,"Detlev","Kiesow","TSV Kücknitz Abt. Bahnengolf","SM2: Kiesow, Detlev",{"$f":"VLOOKUP(A1700,bangolf_kategorien!$A$2:$B$11,2,FALSE)","v":"SM2"}]
["hv",38332,"Georg","Kießling","BGC Schweinfurt e.V.","SM2: Kießling, Georg",{"$f":"VLOOKUP(A1701,bangolf_kategorien!$A$2:$B$11,2,FALSE)","v":"SM2"}]
["dv",34130,"Christine","Killmaier","Miniaturgolf Sportclub Schriesheim e.V","SW2: Killmaier, Christine",{"$f":"VLOOKUP(A1702,bangolf_kategorien!$A$2:$B$11,2,FALSE)","v":"SW2"}]
["ob",40792,"Thilo","Killmaier","Miniaturgolf Sportclub Schriesheim e.V","SM1: Killmaier, Thilo",{"$f":"VLOOKUP(A1703,bangolf_kategorien!$A$2:$B$11,2,FALSE)","v":"SM1"}]
["ob",41160,"Oliver","Kindermann","1. MGC Ludwigshafen e.V.","SM1: Kindermann, Oliver",{"$f":"VLOOKUP(A1704,bangolf_kategorien!$A$2:$B$11,2,FALSE)","v":"SM1"}]
["hv",155,"Jörg Rainer","Kindt","MSV Bad Kreuznach","SM2: Kindt, Jörg Rainer",{"$f":"VLOOKUP(A1705,bangolf_kategorien!$A$2:$B$11,2,FALSE)","v":"SM2"}]
["hv",2066678,"Bernd","Kinnemann","Hobby","SM2: Kinnemann, Bernd",{"$f":"VLOOKUP(A1706,bangolf_kategorien!$A$2:$B$11,2,FALSE)","v":"SM2"}]
["hv",48544,"Jörg","Kinnemann","1. MGC 1970 Göttingen e.V.","SM2: Kinnemann, Jörg",{"$f":"VLOOKUP(A1707,bangolf_kategorien!$A$2:$B$11,2,FALSE)","v":"SM2"}]
["ob",42971,"Rainer","Kirberg","HMC Büttgen e.V.","SM1: Kirberg, Rainer",{"$f":"VLOOKUP(A1708,bangolf_kategorien!$A$2:$B$11,2,FALSE)","v":"SM1"}]
["ob",29886,"Manfred","Kirch","1. BGC Wesseling 1975 e.V.","SM1: Kirch, Manfred",{"$f":"VLOOKUP(A1709,bangolf_kategorien!$A$2:$B$11,2,FALSE)","v":"SM1"}]
["hj",66058,"Alexander","Kirchhofer","MGF Ottobrunn e.V.","JM: Kirchhofer, Alexander",{"$f":"VLOOKUP(A1710,bangolf_kategorien!$A$2:$B$11,2,FALSE)","v":"JM"}]
["dv",6110,"Dagmar","Kirchhoff-Freund","MGC Freizeitzentrum Biebertal","SW2: Kirchhoff-Freund, Dagmar",{"$f":"VLOOKUP(A1711,bangolf_kategorien!$A$2:$B$11,2,FALSE)","v":"SW2"}]
["dv",22103,"Helga","Kirgasser","MC Neuwied","SW2: Kirgasser, Helga",{"$f":"VLOOKUP(A1712,bangolf_kategorien!$A$2:$B$11,2,FALSE)","v":"SW2"}]
["ob",36810,"Josef","Kirner","MGC Bad Feilnbach e.V.","SM1: Kirner, Josef",{"$f":"VLOOKUP(A1713,bangolf_kategorien!$A$2:$B$11,2,FALSE)","v":"SM1"}]
["hs",51586,"Stefan","Kirpal","BGC Bad Nenndorf e.V.","H: Kirpal, Stefan",{"$f":"VLOOKUP(A1714,bangolf_kategorien!$A$2:$B$11,2,FALSE)","v":"H"}]
["ob",38456,"Michael","Kirschke","Reinickendorfer MGC e.V.","SM1: Kirschke, Michael",{"$f":"VLOOKUP(A1715,bangolf_kategorien!$A$2:$B$11,2,FALSE)","v":"SM1"}]
["hs",67338,"Tobias","Kirscht","Hamburger MC von 1965 e.V.","H: Kirscht, Tobias",{"$f":"VLOOKUP(A1716,bangolf_kategorien!$A$2:$B$11,2,FALSE)","v":"H"}]
["dv",36686,"Rotraud","Kirstein","MSC Herscheid 1963 e.V.","SW2: Kirstein, Rotraud",{"$f":"VLOOKUP(A1717,bangolf_kategorien!$A$2:$B$11,2,FALSE)","v":"SW2"}]
["hv",64051,"Emil","Kisel","MGF Steinbruch Kempten","SM2: Kisel, Emil",{"$f":"VLOOKUP(A1718,bangolf_kategorien!$A$2:$B$11,2,FALSE)","v":"SM2"}]
["hv",4892,"Franz","Kissenkötter","1. MGC Köln 1961 e.V.","SM2: Kissenkötter, Franz",{"$f":"VLOOKUP(A1719,bangolf_kategorien!$A$2:$B$11,2,FALSE)","v":"SM2"}]
["pa",67184,"Lukas","Kitzeder","MSG Kempten e.V.","SCHM: Kitzeder, Lukas",{"$f":"VLOOKUP(A1720,bangolf_kategorien!$A$2:$B$11,2,FALSE)","v":"SCHM"}]
["hs",41439,"Stefan","Kitzeder","MSG Kempten e.V.","H: Kitzeder, Stefan",{"$f":"VLOOKUP(A1721,bangolf_kategorien!$A$2:$B$11,2,FALSE)","v":"H"}]
["hs",37762,"Michael","Kitzing","1. Bahnengolf-Club Singen e.V.","H: Kitzing, Michael",{"$f":"VLOOKUP(A1722,bangolf_kategorien!$A$2:$B$11,2,FALSE)","v":"H"}]
["ob",36924,"Bernd","Klann","MGC Dormagen-Brechten e.V.","SM1: Klann, Bernd",{"$f":"VLOOKUP(A1723,bangolf_kategorien!$A$2:$B$11,2,FALSE)","v":"SM1"}]
["hv",3832,"Gerd","Klär","Freizeit Club Bliesen e.V.","SM2: Klär, Gerd",{"$f":"VLOOKUP(A1724,bangolf_kategorien!$A$2:$B$11,2,FALSE)","v":"SM2"}]
["hv",67327,"Heribert","Klarhold","1. BGC Paderborn e.V.","SM2: Klarhold, Heribert",{"$f":"VLOOKUP(A1725,bangolf_kategorien!$A$2:$B$11,2,FALSE)","v":"SM2"}]
["hv",25842,"Heinz","Kläsgen","MGC Freizeitzentrum Biebertal","SM2: Kläsgen, Heinz",{"$f":"VLOOKUP(A1726,bangolf_kategorien!$A$2:$B$11,2,FALSE)","v":"SM2"}]
["hs",34826,"Oleg","Klassen","SG Arheilgen Abt. Bahnengolf","H: Klassen, Oleg",{"$f":"VLOOKUP(A1727,bangolf_kategorien!$A$2:$B$11,2,FALSE)","v":"H"}]
["dj",66582,"Liana","Klaus","BGC Bremen e.V.","JW: Klaus, Liana",{"$f":"VLOOKUP(A1728,bangolf_kategorien!$A$2:$B$11,2,FALSE)","v":"JW"}]
["ob",66581,"Sven","Klaus","BGC Bremen e.V.","SM1: Klaus, Sven",{"$f":"VLOOKUP(A1729,bangolf_kategorien!$A$2:$B$11,2,FALSE)","v":"SM1"}]
["hs",66597,"Thomas","Klaus","1. BGC Landshut e.V.","H: Klaus, Thomas",{"$f":"VLOOKUP(A1730,bangolf_kategorien!$A$2:$B$11,2,FALSE)","v":"H"}]
["hv",24092,"Hannes","Klee","MSC Bensheim-Auerbach e.V.",{"$f":"CONCATENATE(G1731,\": \",D1731,\", \",C1731)","v":"SM2: Klee, Hannes"},{"$f":"VLOOKUP(A1731,bangolf_kategorien!$A$2:$B$11,2,FALSE)","v":"SM2"}]
["hs",36946,"Michael","Klee","1. KC Homburg-Saar 1967 e.V.","H: Klee, Michael",{"$f":"VLOOKUP(A1732,bangolf_kategorien!$A$2:$B$11,2,FALSE)","v":"H"}]
["ob",36072,"Wolfgang","Klee","1. KC Homburg-Saar 1967 e.V.","SM1: Klee, Wolfgang",{"$f":"VLOOKUP(A1733,bangolf_kategorien!$A$2:$B$11,2,FALSE)","v":"SM1"}]
["hs",3216551,"Andrej","Kleer","Hobby","H: Kleer, Andrej",{"$f":"VLOOKUP(A1734,bangolf_kategorien!$A$2:$B$11,2,FALSE)","v":"H"}]
["dv",34755,"Sigrid","Kleiber","SSV Ulm 1846 Abt. Bahnengolf","SW2: Kleiber, Sigrid",{"$f":"VLOOKUP(A1735,bangolf_kategorien!$A$2:$B$11,2,FALSE)","v":"SW2"}]
["dv",34653,"Antje","Klein","SC Gut Heil Neumünster e.V.","SW2: Klein, Antje",{"$f":"VLOOKUP(A1736,bangolf_kategorien!$A$2:$B$11,2,FALSE)","v":"SW2"}]
["ob",42309,"Chris","Klein","1. KC Homburg-Saar 1967 e.V.","SM1: Klein, Chris",{"$f":"VLOOKUP(A1737,bangolf_kategorien!$A$2:$B$11,2,FALSE)","v":"SM1"}]
["ob",46240,"Detlef","Klein","MGC Bad Salzuflen e.V.","SM1: Klein, Detlef",{"$f":"VLOOKUP(A1738,bangolf_kategorien!$A$2:$B$11,2,FALSE)","v":"SM1"}]
["hv",7074,"Heinz Günter","Klein","1.KGC Mönchengladbach e.V.","SM2: Klein, Heinz Günter",{"$f":"VLOOKUP(A1739,bangolf_kategorien!$A$2:$B$11,2,FALSE)","v":"SM2"}]
["hv",4762,"Helge","Klein","MSC Bad Godesberg e.V.","SM2: Klein, Helge",{"$f":"VLOOKUP(A1740,bangolf_kategorien!$A$2:$B$11,2,FALSE)","v":"SM2"}]
["og",42305,"Kerstin","Klein","MGC Bad Salzuflen e.V.","SW1: Klein, Kerstin",{"$f":"VLOOKUP(A1741,bangolf_kategorien!$A$2:$B$11,2,FALSE)","v":"SW1"}]
["hs",48337,"Marcel","Klein","MGC putter Künzell 1970 e.V.","H: Klein, Marcel",{"$f":"VLOOKUP(A1742,bangolf_kategorien!$A$2:$B$11,2,FALSE)","v":"H"}]
["hs",3224655,"Markus","Klein","Hobby","H: Klein, Markus",{"$f":"VLOOKUP(A1743,bangolf_kategorien!$A$2:$B$11,2,FALSE)","v":"H"}]
["hs",38406,"Max","Klein","1. KC Homburg-Saar 1967 e.V.","H: Klein, Max",{"$f":"VLOOKUP(A1744,bangolf_kategorien!$A$2:$B$11,2,FALSE)","v":"H"}]
["hv",19531,"Peter","Klein","MC Ilvesheim e.V.","SM2: Klein, Peter",{"$f":"VLOOKUP(A1745,bangolf_kategorien!$A$2:$B$11,2,FALSE)","v":"SM2"}]
["hs",2066583,"Philipp","Klein","Hobby","H: Klein, Philipp",{"$f":"VLOOKUP(A1746,bangolf_kategorien!$A$2:$B$11,2,FALSE)","v":"H"}]
["og",36474,"Sabine","Klein","HMC Büttgen e.V.","SW1: Klein, Sabine",{"$f":"VLOOKUP(A1747,bangolf_kategorien!$A$2:$B$11,2,FALSE)","v":"SW1"}]
["ob",40219,"Theo","Klein","SSC Halver e.V.","SM1: Klein, Theo",{"$f":"VLOOKUP(A1748,bangolf_kategorien!$A$2:$B$11,2,FALSE)","v":"SM1"}]
["ob",29324,"Wolfgang","Klein","1. MGSV Netphen e.V.","SM1: Klein, Wolfgang",{"$f":"VLOOKUP(A1749,bangolf_kategorien!$A$2:$B$11,2,FALSE)","v":"SM1"}]
["ob",38606,"Bernward","Kleiner","1. BGC Hannover e.V.","SM1: Kleiner, Bernward",{"$f":"VLOOKUP(A1750,bangolf_kategorien!$A$2:$B$11,2,FALSE)","v":"SM1"}]
["hs",38519,"Philipp","Kleiner","MSK Neheim-Hüsten e.V.","H: Kleiner, Philipp",{"$f":"VLOOKUP(A1751,bangolf_kategorien!$A$2:$B$11,2,FALSE)","v":"H"}]
["og",38607,"Sabine","Kleiner","1. BGC Hannover e.V.","SW1: Kleiner, Sabine",{"$f":"VLOOKUP(A1752,bangolf_kategorien!$A$2:$B$11,2,FALSE)","v":"SW1"}]
["hs",38462,"Tristan","Kleiner","1. BGC Wolfsburg","H: Kleiner, Tristan",{"$f":"VLOOKUP(A1753,bangolf_kategorien!$A$2:$B$11,2,FALSE)","v":"H"}]
["pa",66947,"Robin","Kleinke","SSC Attendorn e.V.","SCHM: Kleinke, Robin",{"$f":"VLOOKUP(A1754,bangolf_kategorien!$A$2:$B$11,2,FALSE)","v":"SCHM"}]
["hv",3211947,"Werner","Kleist","Hobby","SM2: Kleist, Werner",{"$f":"VLOOKUP(A1755,bangolf_kategorien!$A$2:$B$11,2,FALSE)","v":"SM2"}]
["hs",37962,"Marc Dominik","Klemm","1. KC Homburg-Saar 1967 e.V.","H: Klemm, Marc Dominik",{"$f":"VLOOKUP(A1756,bangolf_kategorien!$A$2:$B$11,2,FALSE)","v":"H"}]
["hs",34738,"Andreas","Klemps","TV Niederstetten 1862 e.V.  Abt. Minigolf","H: Klemps, Andreas",{"$f":"VLOOKUP(A1757,bangolf_kategorien!$A$2:$B$11,2,FALSE)","v":"H"}]
["dv",3106434,"Ursula","Klepp","Hobby","SW2: Klepp, Ursula",{"$f":"VLOOKUP(A1758,bangolf_kategorien!$A$2:$B$11,2,FALSE)","v":"SW2"}]
["pa",67232,"Felix","Klepzig","Minigolfclub Karlshagen e.V.","SCHM: Klepzig, Felix",{"$f":"VLOOKUP(A1759,bangolf_kategorien!$A$2:$B$11,2,FALSE)","v":"SCHM"}]
["hv",6025,"Erich","Kleyer","BGSV Castrop e.V. 1961","SM2: Kleyer, Erich",{"$f":"VLOOKUP(A1760,bangolf_kategorien!$A$2:$B$11,2,FALSE)","v":"SM2"}]
["hv",182,"Michael","Kleyer","BGSV Castrop e.V. 1961","SM2: Kleyer, Michael",{"$f":"VLOOKUP(A1761,bangolf_kategorien!$A$2:$B$11,2,FALSE)","v":"SM2"}]
["dv",66510,"Martina","Kling","BGSC Bochum 1978 e.V.","SW2: Kling, Martina",{"$f":"VLOOKUP(A1762,bangolf_kategorien!$A$2:$B$11,2,FALSE)","v":"SW2"}]
["hv",66511,"Peter","Kling","BGSC Bochum 1978 e.V.","SM2: Kling, Peter",{"$f":"VLOOKUP(A1763,bangolf_kategorien!$A$2:$B$11,2,FALSE)","v":"SM2"}]
["hv",24658,"Wilfried","Klipp","BV Sennestadt","SM2: Klipp, Wilfried",{"$f":"VLOOKUP(A1764,bangolf_kategorien!$A$2:$B$11,2,FALSE)","v":"SM2"}]
["og",45786,"Astrid","Klöckener","MSK Neheim-Hüsten e.V.","SW1: Klöckener, Astrid",{"$f":"VLOOKUP(A1765,bangolf_kategorien!$A$2:$B$11,2,FALSE)","v":"SW1"}]
["pa",66309,"Lauro","Klöckener","MSK Neheim-Hüsten e.V.","SCHM: Klöckener, Lauro",{"$f":"VLOOKUP(A1766,bangolf_kategorien!$A$2:$B$11,2,FALSE)","v":"SCHM"}]
["ob",45785,"Sven","Klöckener","MSK Neheim-Hüsten e.V.","SM1: Klöckener, Sven",{"$f":"VLOOKUP(A1767,bangolf_kategorien!$A$2:$B$11,2,FALSE)","v":"SM1"}]
["dv",5257,"Katharina","Klöhn","MGC Murnau am Staffelsee e.V.","SW2: Klöhn, Katharina",{"$f":"VLOOKUP(A1768,bangolf_kategorien!$A$2:$B$11,2,FALSE)","v":"SW2"}]
["ob",45781,"Olaf","Kloke","MSK Neheim-Hüsten e.V.","SM1: Kloke, Olaf",{"$f":"VLOOKUP(A1769,bangolf_kategorien!$A$2:$B$11,2,FALSE)","v":"SM1"}]
["hs",33504,"Sebastian","Klosek","BGC Bad Nenndorf e.V.","H: Klosek, Sebastian",{"$f":"VLOOKUP(A1770,bangolf_kategorien!$A$2:$B$11,2,FALSE)","v":"H"}]
["hs",33187,"Christian","Klotz","1. MGC Süßen e.V.","H: Klotz, Christian",{"$f":"VLOOKUP(A1771,bangolf_kategorien!$A$2:$B$11,2,FALSE)","v":"H"}]
["og",35375,"Sandra","Klotz","1. MGC Süßen e.V.","SW1: Klotz, Sandra",{"$f":"VLOOKUP(A1772,bangolf_kategorien!$A$2:$B$11,2,FALSE)","v":"SW1"}]
["hs",65955,"Sascha","Klotz","BGSV Aßlar 1987 e.V.","H: Klotz, Sascha",{"$f":"VLOOKUP(A1773,bangolf_kategorien!$A$2:$B$11,2,FALSE)","v":"H"}]
["ob",34459,"Olaf","Kluck","MGC Nümbrecht e.V.","SM1: Kluck, Olaf",{"$f":"VLOOKUP(A1774,bangolf_kategorien!$A$2:$B$11,2,FALSE)","v":"SM1"}]
["hv",3792,"Peter","Kluge","BGC Goslar e.V.","SM2: Kluge, Peter",{"$f":"VLOOKUP(A1775,bangolf_kategorien!$A$2:$B$11,2,FALSE)","v":"SM2"}]
["ob",43187,"Joachim","Knapp","SG Arheilgen Abt. Bahnengolf","SM1: Knapp, Joachim",{"$f":"VLOOKUP(A1776,bangolf_kategorien!$A$2:$B$11,2,FALSE)","v":"SM1"}]
["ob",21452,"Markus","Knauer","BGC Bremen e.V.","SM1: Knauer, Markus",{"$f":"VLOOKUP(A1777,bangolf_kategorien!$A$2:$B$11,2,FALSE)","v":"SM1"}]
["hs",38039,"Nico","Knäulein","MGV Ansbach e.V.","H: Knäulein, Nico",{"$f":"VLOOKUP(A1778,bangolf_kategorien!$A$2:$B$11,2,FALSE)","v":"H"}]
["dv",42756,"Monika","Knetsch","MGC Bad Bodendorf e.V.","SW2: Knetsch, Monika",{"$f":"VLOOKUP(A1779,bangolf_kategorien!$A$2:$B$11,2,FALSE)","v":"SW2"}]
["ds",34707,"Corina","Knezevic","BGC Neutraubling e.V.","D: Knezevic, Corina",{"$f":"VLOOKUP(A1780,bangolf_kategorien!$A$2:$B$11,2,FALSE)","v":"D"}]
["ds",36090,"Vanessea","Knezevic","BGC Neutraubling e.V.","D: Knezevic, Vanessea",{"$f":"VLOOKUP(A1781,bangolf_kategorien!$A$2:$B$11,2,FALSE)","v":"D"}]
["ds",3216768,"Katja","Knies","Hobby","D: Knies, Katja",{"$f":"VLOOKUP(A1782,bangolf_kategorien!$A$2:$B$11,2,FALSE)","v":"D"}]
["og",41828,"Katja","Kniesch","1. BGC Hannover e.V.","SW1: Kniesch, Katja",{"$f":"VLOOKUP(A1783,bangolf_kategorien!$A$2:$B$11,2,FALSE)","v":"SW1"}]
["hv",35356,"Dieter","Knietsch","1. MGC Peine von 1965 e.V.","SM2: Knietsch, Dieter",{"$f":"VLOOKUP(A1784,bangolf_kategorien!$A$2:$B$11,2,FALSE)","v":"SM2"}]
["dv",35357,"Teresa","Knietsch","1. MGC Peine von 1965 e.V.","SW2: Knietsch, Teresa",{"$f":"VLOOKUP(A1785,bangolf_kategorien!$A$2:$B$11,2,FALSE)","v":"SW2"}]
["ob",25352,"Ralf","Knippschild","1. MSC Wesel 6.6.1966 e.V.","SM1: Knippschild, Ralf",{"$f":"VLOOKUP(A1786,bangolf_kategorien!$A$2:$B$11,2,FALSE)","v":"SM1"}]
["hs",38155,"Jan","Knoblauch","BGSC \"Gut Schlag\" Gladbeck e.V.","H: Knoblauch, Jan",{"$f":"VLOOKUP(A1787,bangolf_kategorien!$A$2:$B$11,2,FALSE)","v":"H"}]
["dv",35266,"Bianca","Knoll","MC Ilvesheim e.V.","SW2: Knoll, Bianca",{"$f":"VLOOKUP(A1788,bangolf_kategorien!$A$2:$B$11,2,FALSE)","v":"SW2"}]
["hv",46684,"Wolfgang","Knoll","MC Ilvesheim e.V.","SM2: Knoll, Wolfgang",{"$f":"VLOOKUP(A1789,bangolf_kategorien!$A$2:$B$11,2,FALSE)","v":"SM2"}]
["ds",48641,"Nicole","Knöll-Grünenthal","TSV Pfungstadt Abt. Bahnengolf e.V.","D: Knöll-Grünenthal, Nicole",{"$f":"VLOOKUP(A1790,bangolf_kategorien!$A$2:$B$11,2,FALSE)","v":"D"}]
["hs",3216752,"Jan","Knop","Hobby","H: Knop, Jan",{"$f":"VLOOKUP(A1791,bangolf_kategorien!$A$2:$B$11,2,FALSE)","v":"H"}]
["ob",29869,"Dietmar","Knorr","BGC Schloß Paffendorf e.V.","SM1: Knorr, Dietmar",{"$f":"VLOOKUP(A1792,bangolf_kategorien!$A$2:$B$11,2,FALSE)","v":"SM1"}]
["hv",3216851,"Wolfgang","Knothe","Hobby","SM2: Knothe, Wolfgang",{"$f":"VLOOKUP(A1793,bangolf_kategorien!$A$2:$B$11,2,FALSE)","v":"SM2"}]
["hv",3935,"Helmut","Knott","BSV 86 München e.V.","SM2: Knott, Helmut",{"$f":"VLOOKUP(A1794,bangolf_kategorien!$A$2:$B$11,2,FALSE)","v":"SM2"}]
["dv",46124,"Irene","Knott","BSV 86 München e.V.",{"$f":"CONCATENATE(G1795,\": \",D1795,\", \",C1795)","v":"SW2: Knott, Irene"},{"$f":"VLOOKUP(A1795,bangolf_kategorien!$A$2:$B$11,2,FALSE)","v":"SW2"}]
["ob",67164,"Stefan","Knull","BV Sennestadt","SM1: Knull, Stefan",{"$f":"VLOOKUP(A1796,bangolf_kategorien!$A$2:$B$11,2,FALSE)","v":"SM1"}]
["hv",34163,"Michael","Knüppel","MGC Heringen 1997 e.V.","SM2: Knüppel, Michael",{"$f":"VLOOKUP(A1797,bangolf_kategorien!$A$2:$B$11,2,FALSE)","v":"SM2"}]
["ob",25613,"Uwe","Knust","BGC Bad Nenndorf e.V.","SM1: Knust, Uwe",{"$f":"VLOOKUP(A1798,bangolf_kategorien!$A$2:$B$11,2,FALSE)","v":"SM1"}]
["hs",38359,"Andre","Kobbe","1. BGC Wolfsburg","H: Kobbe, Andre",{"$f":"VLOOKUP(A1799,bangolf_kategorien!$A$2:$B$11,2,FALSE)","v":"H"}]
["og",38595,"Marlies","Kobbe","1. BGC Wolfsburg","SW1: Kobbe, Marlies",{"$f":"VLOOKUP(A1800,bangolf_kategorien!$A$2:$B$11,2,FALSE)","v":"SW1"}]
["hs",38374,"Philip","Kobbe","1. BGC Wolfsburg","H: Kobbe, Philip",{"$f":"VLOOKUP(A1801,bangolf_kategorien!$A$2:$B$11,2,FALSE)","v":"H"}]
["hv",38596,"Wolfgang","Kobbe","1. BGC Wolfsburg","SM2: Kobbe, Wolfgang",{"$f":"VLOOKUP(A1802,bangolf_kategorien!$A$2:$B$11,2,FALSE)","v":"SM2"}]
["og",66636,"Marion","Kober","MSC Bensheim-Auerbach e.V.","SW1: Kober, Marion",{"$f":"VLOOKUP(A1803,bangolf_kategorien!$A$2:$B$11,2,FALSE)","v":"SW1"}]
["hj",66641,"Patrick","Kober","MSC Bensheim-Auerbach e.V.","JM: Kober, Patrick",{"$f":"VLOOKUP(A1804,bangolf_kategorien!$A$2:$B$11,2,FALSE)","v":"JM"}]
["ob",21472,"Markus","Köberle","1. MGC Ladenburg e.V.","SM1: Köberle, Markus",{"$f":"VLOOKUP(A1805,bangolf_kategorien!$A$2:$B$11,2,FALSE)","v":"SM1"}]
["og",27565,"Alice","Kobisch","1. MGC Mainz e.V.","SW1: Kobisch, Alice",{"$f":"VLOOKUP(A1806,bangolf_kategorien!$A$2:$B$11,2,FALSE)","v":"SW1"}]
["ob",27551,"Roman","Kobisch","1. MGC Mainz e.V.","SM1: Kobisch, Roman",{"$f":"VLOOKUP(A1807,bangolf_kategorien!$A$2:$B$11,2,FALSE)","v":"SM1"}]
["ob",47206,"Konrad","Koböck","MGF Hammer e.V.","SM1: Koböck, Konrad",{"$f":"VLOOKUP(A1808,bangolf_kategorien!$A$2:$B$11,2,FALSE)","v":"SM1"}]
["ob",45575,"Robert","Koböck","MGF Hammer e.V.","SM1: Koböck, Robert",{"$f":"VLOOKUP(A1809,bangolf_kategorien!$A$2:$B$11,2,FALSE)","v":"SM1"}]
["og",43836,"Anja","Koch","MGC Brunsbüttel e.V.","SW1: Koch, Anja",{"$f":"VLOOKUP(A1810,bangolf_kategorien!$A$2:$B$11,2,FALSE)","v":"SW1"}]
["pa",67381,"Dennis","Koch","BGSV Bad Homburg","SCHM: Koch, Dennis",{"$f":"VLOOKUP(A1811,bangolf_kategorien!$A$2:$B$11,2,FALSE)","v":"SCHM"}]
["ob",52103,"Jens","Koch","BGC Kiel West e.V.","SM1: Koch, Jens",{"$f":"VLOOKUP(A1812,bangolf_kategorien!$A$2:$B$11,2,FALSE)","v":"SM1"}]
["ob",67375,"Jürgen","Koch","1.KGC Mönchengladbach e.V.","SM1: Koch, Jürgen",{"$f":"VLOOKUP(A1813,bangolf_kategorien!$A$2:$B$11,2,FALSE)","v":"SM1"}]
["hs",66490,"Kevin","Koch","VFB 21 Neugattersleben e. V.","H: Koch, Kevin",{"$f":"VLOOKUP(A1814,bangolf_kategorien!$A$2:$B$11,2,FALSE)","v":"H"}]
["ob",2404,"Olaf","Koch","MGF Steinbruch Kempten","SM1: Koch, Olaf",{"$f":"VLOOKUP(A1815,bangolf_kategorien!$A$2:$B$11,2,FALSE)","v":"SM1"}]
["hv",37984,"Peter","Koch","1. MGC Mannheim 1968 e.V.","SM2: Koch, Peter",{"$f":"VLOOKUP(A1816,bangolf_kategorien!$A$2:$B$11,2,FALSE)","v":"SM2"}]
["ob",67380,"Rolf","Koch","BGSV Bad Homburg","SM1: Koch, Rolf",{"$f":"VLOOKUP(A1817,bangolf_kategorien!$A$2:$B$11,2,FALSE)","v":"SM1"}]
["ob",27674,"Klaus","Kocks","BGV Backumer Tal Herten e.V.","SM1: Kocks, Klaus",{"$f":"VLOOKUP(A1818,bangolf_kategorien!$A$2:$B$11,2,FALSE)","v":"SM1"}]
["hv",3613,"Gerhard","Kofler","MGC Monrepos e.V.","SM2: Kofler, Gerhard",{"$f":"VLOOKUP(A1819,bangolf_kategorien!$A$2:$B$11,2,FALSE)","v":"SM2"}]
["ds",47324,"Simone","Kohfeld","MSC Bensheim-Auerbach e.V.","D: Kohfeld, Simone",{"$f":"VLOOKUP(A1820,bangolf_kategorien!$A$2:$B$11,2,FALSE)","v":"D"}]
["hs",35075,"Sven","Kohl","MGC Bad Soden-Salmünster","H: Kohl, Sven",{"$f":"VLOOKUP(A1821,bangolf_kategorien!$A$2:$B$11,2,FALSE)","v":"H"}]
["hv",35098,"Bernd","Kohler","SV 1890 e.V. Dreieichenhain, Abt. Bahnengolf","SM2: Kohler, Bernd",{"$f":"VLOOKUP(A1822,bangolf_kategorien!$A$2:$B$11,2,FALSE)","v":"SM2"}]
["ob",66573,"Jürgen","Köhler","MTV Seesen Abt. Bahnengolf","SM1: Köhler, Jürgen",{"$f":"VLOOKUP(A1823,bangolf_kategorien!$A$2:$B$11,2,FALSE)","v":"SM1"}]
["hv",18496,"Ulrich","Köhler","BSV 86 München e.V.","SM2: Köhler, Ulrich",{"$f":"VLOOKUP(A1824,bangolf_kategorien!$A$2:$B$11,2,FALSE)","v":"SM2"}]
["hj",66064,"Lukas","Kohlhaas","1. MGC Mainz e.V.","JM: Kohlhaas, Lukas",{"$f":"VLOOKUP(A1825,bangolf_kategorien!$A$2:$B$11,2,FALSE)","v":"JM"}]
["hv",50852,"Michael","Kohlhage","SSC Attendorn e.V.","SM2: Kohlhage, Michael",{"$f":"VLOOKUP(A1826,bangolf_kategorien!$A$2:$B$11,2,FALSE)","v":"SM2"}]
["ob",49559,"Michael","Kohnke","BGC Schloß Paffendorf e.V.","SM1: Kohnke, Michael",{"$f":"VLOOKUP(A1827,bangolf_kategorien!$A$2:$B$11,2,FALSE)","v":"SM1"}]
["hs",34583,"Gabriel","Kolb","BIG ASPERG e.V.","H: Kolb, Gabriel",{"$f":"VLOOKUP(A1828,bangolf_kategorien!$A$2:$B$11,2,FALSE)","v":"H"}]
["hv",4492,"Max","Koll","MC 62 Lüdenscheid e.V.","SM2: Koll, Max",{"$f":"VLOOKUP(A1829,bangolf_kategorien!$A$2:$B$11,2,FALSE)","v":"SM2"}]
["dv",36379,"Renate","Koll","MC 62 Lüdenscheid e.V.","SW2: Koll, Renate",{"$f":"VLOOKUP(A1830,bangolf_kategorien!$A$2:$B$11,2,FALSE)","v":"SW2"}]
["dv",67137,"Jutta","Kolloff","1. MGC Peine von 1965 e.V.","SW2: Kolloff, Jutta",{"$f":"VLOOKUP(A1831,bangolf_kategorien!$A$2:$B$11,2,FALSE)","v":"SW2"}]
["hv",61900,"Johann","Komurka","1. MGC Ladenburg e.V.","SM2: Komurka, Johann",{"$f":"VLOOKUP(A1832,bangolf_kategorien!$A$2:$B$11,2,FALSE)","v":"SM2"}]
["ob",66181,"Bernd","Könemann","TSV Salzgitter e.V. Abt. Bahnengolf","SM1: Könemann, Bernd",{"$f":"VLOOKUP(A1833,bangolf_kategorien!$A$2:$B$11,2,FALSE)","v":"SM1"}]
["og",66182,"Nicole","Könemann","TSV Salzgitter e.V. Abt. Bahnengolf","SW1: Könemann, Nicole",{"$f":"VLOOKUP(A1834,bangolf_kategorien!$A$2:$B$11,2,FALSE)","v":"SW1"}]
["hj",66968,"Joshua","Könen","MGC Bad Bodendorf e.V.","JM: Könen, Joshua",{"$f":"VLOOKUP(A1835,bangolf_kategorien!$A$2:$B$11,2,FALSE)","v":"JM"}]
["hs",66151,"Stephan","Konieczny","MSC Bensheim-Auerbach e.V.","H: Konieczny, Stephan",{"$f":"VLOOKUP(A1836,bangolf_kategorien!$A$2:$B$11,2,FALSE)","v":"H"}]
["og",36196,"Beate","König","1. Minigolf-Club Rheinhausen e.V.","SW1: König, Beate",{"$f":"VLOOKUP(A1837,bangolf_kategorien!$A$2:$B$11,2,FALSE)","v":"SW1"}]
["ob",36548,"Bert","König","1. Minigolf-Club Rheinhausen e.V.","SM1: König, Bert",{"$f":"VLOOKUP(A1838,bangolf_kategorien!$A$2:$B$11,2,FALSE)","v":"SM1"}]
["hv",66051,"Erich","König","SSC Attendorn e.V.","SM2: König, Erich",{"$f":"VLOOKUP(A1839,bangolf_kategorien!$A$2:$B$11,2,FALSE)","v":"SM2"}]
["ob",36549,"Frank","König","1. Minigolf-Club Rheinhausen e.V.","SM1: König, Frank",{"$f":"VLOOKUP(A1840,bangolf_kategorien!$A$2:$B$11,2,FALSE)","v":"SM1"}]
["dv",6233,"Hannelore","König","1. MSC Hamburg-Neu Wulmstorf","SW2: König, Hannelore",{"$f":"VLOOKUP(A1841,bangolf_kategorien!$A$2:$B$11,2,FALSE)","v":"SW2"}]
["hv",21380,"Helmut","König","VfM Bottrop e.V.","SM2: König, Helmut",{"$f":"VLOOKUP(A1842,bangolf_kategorien!$A$2:$B$11,2,FALSE)","v":"SM2"}]
["dv",67057,"Irmtraud","König","MGC Heringen 1997 e.V.","SW2: König, Irmtraud",{"$f":"VLOOKUP(A1843,bangolf_kategorien!$A$2:$B$11,2,FALSE)","v":"SW2"}]
["ds",67119,"Jasmin","König","MGV Ansbach e.V.","D: König, Jasmin",{"$f":"VLOOKUP(A1844,bangolf_kategorien!$A$2:$B$11,2,FALSE)","v":"D"}]
["hs",65818,"Kevin","König","1. Bahnengolf-Club Singen e.V.","H: König, Kevin",{"$f":"VLOOKUP(A1845,bangolf_kategorien!$A$2:$B$11,2,FALSE)","v":"H"}]
["pa",67109,"Lukas","König","MGV Ansbach e.V.","SCHM: König, Lukas",{"$f":"VLOOKUP(A1846,bangolf_kategorien!$A$2:$B$11,2,FALSE)","v":"SCHM"}]
["hs",67027,"Rene","König","MGV Ansbach e.V.","H: König, Rene",{"$f":"VLOOKUP(A1847,bangolf_kategorien!$A$2:$B$11,2,FALSE)","v":"H"}]
["hv",4539,"Wolfgang","König","1. MSC Hamburg-Neu Wulmstorf","SM2: König, Wolfgang",{"$f":"VLOOKUP(A1848,bangolf_kategorien!$A$2:$B$11,2,FALSE)","v":"SM2"}]
["dv",5696,"Ingeborg","Könnecke","MGF Ottobrunn e.V.","SW2: Könnecke, Ingeborg",{"$f":"VLOOKUP(A1849,bangolf_kategorien!$A$2:$B$11,2,FALSE)","v":"SW2"}]
["ob",66646,"Frank","Konschak","MGC Rot-Weiß Wanne-Eickel e.V.","SM1: Konschak, Frank",{"$f":"VLOOKUP(A1850,bangolf_kategorien!$A$2:$B$11,2,FALSE)","v":"SM1"}]
["ob",37380,"Alfred","Konstanzer","1. MGC Metzingen e.V.","SM1: Konstanzer, Alfred",{"$f":"VLOOKUP(A1851,bangolf_kategorien!$A$2:$B$11,2,FALSE)","v":"SM1"}]
["ob",37506,"Günther","Konstanzer","1. MGC Hechingen","SM1: Konstanzer, Günther",{"$f":"VLOOKUP(A1852,bangolf_kategorien!$A$2:$B$11,2,FALSE)","v":"SM1"}]
["ds",3216790,"Valerie","Korek","Hobby","D: Korek, Valerie",{"$f":"VLOOKUP(A1853,bangolf_kategorien!$A$2:$B$11,2,FALSE)","v":"D"}]
["hv",5842,"Dieter","Körner","MGC Monrepos e.V.","SM2: Körner, Dieter",{"$f":"VLOOKUP(A1854,bangolf_kategorien!$A$2:$B$11,2,FALSE)","v":"SM2"}]
["pa",66828,"Nils","Körner","TSV Pfungstadt Abt. Bahnengolf e.V.","SCHM: Körner, Nils",{"$f":"VLOOKUP(A1855,bangolf_kategorien!$A$2:$B$11,2,FALSE)","v":"SCHM"}]
["ob",3138574,"Jürgen","Kosching","Hobby","SM1: Kosching, Jürgen",{"$f":"VLOOKUP(A1856,bangolf_kategorien!$A$2:$B$11,2,FALSE)","v":"SM1"}]
["hv",61974,"Hans","Koslowski","1. BGC Celle von 1964 e.V.","SM2: Koslowski, Hans",{"$f":"VLOOKUP(A1857,bangolf_kategorien!$A$2:$B$11,2,FALSE)","v":"SM2"}]
["hv",44601,"Helmut","Kosmowski","MGF Hilzingen 80 e.V.","SM2: Kosmowski, Helmut",{"$f":"VLOOKUP(A1858,bangolf_kategorien!$A$2:$B$11,2,FALSE)","v":"SM2"}]
["ob",23976,"Klaus","Kossmann","MSK Neheim-Hüsten e.V.",{"$f":"CONCATENATE(G1859,\": \",D1859,\", \",C1859)","v":"SM1: Kossmann, Klaus"},{"$f":"VLOOKUP(A1859,bangolf_kategorien!$A$2:$B$11,2,FALSE)","v":"SM1"}]
["hv",36868,"Mario","Kostack","MSG Kempten e.V.","SM2: Kostack, Mario",{"$f":"VLOOKUP(A1860,bangolf_kategorien!$A$2:$B$11,2,FALSE)","v":"SM2"}]
["dv",3212021,"Lia","Kothe","Hobby","SW2: Kothe, Lia",{"$f":"VLOOKUP(A1861,bangolf_kategorien!$A$2:$B$11,2,FALSE)","v":"SW2"}]
["ds",67152,"Sabine","Kottek","MGC Heven e.V.","D: Kottek, Sabine",{"$f":"VLOOKUP(A1862,bangolf_kategorien!$A$2:$B$11,2,FALSE)","v":"D"}]
["og",42073,"Manuela","Köttel","ASV Pegnitz, Abt. Minigolf","SW1: Köttel, Manuela",{"$f":"VLOOKUP(A1863,bangolf_kategorien!$A$2:$B$11,2,FALSE)","v":"SW1"}]
["ob",44870,"Martin","Köttel","ASV Pegnitz, Abt. Minigolf","SM1: Köttel, Martin",{"$f":"VLOOKUP(A1864,bangolf_kategorien!$A$2:$B$11,2,FALSE)","v":"SM1"}]
["ob",67179,"Chris","Kougioumtzidis","MGC Rot-Weiß Wanne-Eickel e.V.","SM1: Kougioumtzidis, Chris",{"$f":"VLOOKUP(A1865,bangolf_kategorien!$A$2:$B$11,2,FALSE)","v":"SM1"}]
["ds",44018,"Elke","Kowatsch","BGC Bad Berneck e.V.","D: Kowatsch, Elke",{"$f":"VLOOKUP(A1866,bangolf_kategorien!$A$2:$B$11,2,FALSE)","v":"D"}]
["ob",31769,"Michael","Koziol","BGS Hardenberg-Pötter e.V.","SM1: Koziol, Michael",{"$f":"VLOOKUP(A1867,bangolf_kategorien!$A$2:$B$11,2,FALSE)","v":"SM1"}]
["ds",46426,"Tanja","Koziol","MGC Bad Hersfeld","D: Koziol, Tanja",{"$f":"VLOOKUP(A1868,bangolf_kategorien!$A$2:$B$11,2,FALSE)","v":"D"}]
["hv",5722,"Paul","Kraas","1. MGSV Netphen e.V.","SM2: Kraas, Paul",{"$f":"VLOOKUP(A1869,bangolf_kategorien!$A$2:$B$11,2,FALSE)","v":"SM2"}]
["hv",67077,"Herwart","Kraaz","MTV Seesen Abt. Bahnengolf","SM2: Kraaz, Herwart",{"$f":"VLOOKUP(A1870,bangolf_kategorien!$A$2:$B$11,2,FALSE)","v":"SM2"}]
["dv",25778,"Kristin","Kraft-Efinger","HMC Büttgen e.V.","SW2: Kraft-Efinger, Kristin",{"$f":"VLOOKUP(A1871,bangolf_kategorien!$A$2:$B$11,2,FALSE)","v":"SW2"}]
["hv",20342,"Norbert","Kramer","1. MGC Mainz e.V.","SM2: Kramer, Norbert",{"$f":"VLOOKUP(A1872,bangolf_kategorien!$A$2:$B$11,2,FALSE)","v":"SM2"}]
["og",50644,"Bärbel","Krämer","MSC Blau-Weiß 2003 München e.V.","SW1: Krämer, Bärbel",{"$f":"VLOOKUP(A1873,bangolf_kategorien!$A$2:$B$11,2,FALSE)","v":"SW1"}]
["ob",44705,"Mathias","Krämer","MSC Blau-Weiß 2003 München e.V.","SM1: Krämer, Mathias",{"$f":"VLOOKUP(A1874,bangolf_kategorien!$A$2:$B$11,2,FALSE)","v":"SM1"}]
["hs",38200,"Sebastian","Krämer","MSC Blau-Weiß 2003 München e.V.","H: Krämer, Sebastian",{"$f":"VLOOKUP(A1875,bangolf_kategorien!$A$2:$B$11,2,FALSE)","v":"H"}]
["og",43336,"Bettina","Krane","MSK Neheim-Hüsten e.V.","SW1: Krane, Bettina",{"$f":"VLOOKUP(A1876,bangolf_kategorien!$A$2:$B$11,2,FALSE)","v":"SW1"}]
["ob",30374,"Jörg","Krane","MSK Neheim-Hüsten e.V.","SM1: Krane, Jörg",{"$f":"VLOOKUP(A1877,bangolf_kategorien!$A$2:$B$11,2,FALSE)","v":"SM1"}]
["dj",66222,"Melissa","Krane","MSK Neheim-Hüsten e.V.","JW: Krane, Melissa",{"$f":"VLOOKUP(A1878,bangolf_kategorien!$A$2:$B$11,2,FALSE)","v":"JW"}]
["ds",38393,"Michaela","Krane","1. BGC Wolfsburg","D: Krane, Michaela",{"$f":"VLOOKUP(A1879,bangolf_kategorien!$A$2:$B$11,2,FALSE)","v":"D"}]
["ob",40222,"Ralf","Krane","MSK Neheim-Hüsten e.V.","SM1: Krane, Ralf",{"$f":"VLOOKUP(A1880,bangolf_kategorien!$A$2:$B$11,2,FALSE)","v":"SM1"}]
["ob",26070,"Stephan","Kraus","Bochumer Minigolf-Club 1960 e.V.","SM1: Kraus, Stephan",{"$f":"VLOOKUP(A1881,bangolf_kategorien!$A$2:$B$11,2,FALSE)","v":"SM1"}]
["hv",24877,"Achim","Krause","BGC Dormagen e.V.","SM2: Krause, Achim",{"$f":"VLOOKUP(A1882,bangolf_kategorien!$A$2:$B$11,2,FALSE)","v":"SM2"}]
["hs",36157,"Dennis","Krause","MGC Millennium Lorsch e.V.","H: Krause, Dennis",{"$f":"VLOOKUP(A1883,bangolf_kategorien!$A$2:$B$11,2,FALSE)","v":"H"}]
["ob",48931,"Dirk","Krause","1. BGC Celle von 1964 e.V.","SM1: Krause, Dirk",{"$f":"VLOOKUP(A1884,bangolf_kategorien!$A$2:$B$11,2,FALSE)","v":"SM1"}]
["hs",67021,"Michel","Krause","Tempelhofer MV Berlin e.V.","H: Krause, Michel",{"$f":"VLOOKUP(A1885,bangolf_kategorien!$A$2:$B$11,2,FALSE)","v":"H"}]
["ob",51058,"Michael","Krauß","MSV Bad Kreuznach","SM1: Krauß, Michael",{"$f":"VLOOKUP(A1886,bangolf_kategorien!$A$2:$B$11,2,FALSE)","v":"SM1"}]
["dj",66160,"Selina","Krauss","1. MGC Mainz e.V.","JW: Krauss, Selina",{"$f":"VLOOKUP(A1887,bangolf_kategorien!$A$2:$B$11,2,FALSE)","v":"JW"}]
["hv",66158,"Siegfried","Krauss","1. MGC Mainz e.V.","SM2: Krauss, Siegfried",{"$f":"VLOOKUP(A1888,bangolf_kategorien!$A$2:$B$11,2,FALSE)","v":"SM2"}]
["og",66159,"Silvia","Krauss","1. MGC Mainz e.V.","SW1: Krauss, Silvia",{"$f":"VLOOKUP(A1889,bangolf_kategorien!$A$2:$B$11,2,FALSE)","v":"SW1"}]
["hj",66161,"Silvio","Krauss","1. MGC Mainz e.V.","JM: Krauss, Silvio",{"$f":"VLOOKUP(A1890,bangolf_kategorien!$A$2:$B$11,2,FALSE)","v":"JM"}]
["hs",33755,"Philip","Krautheuser","1. Porzer MGC Grün-Weiß 1969 e.V.","H: Krautheuser, Philip",{"$f":"VLOOKUP(A1891,bangolf_kategorien!$A$2:$B$11,2,FALSE)","v":"H"}]
["dv",62949,"Hildegard","Krawutschke","Niendorfer MC v. 1963 e.V.","SW2: Krawutschke, Hildegard",{"$f":"VLOOKUP(A1892,bangolf_kategorien!$A$2:$B$11,2,FALSE)","v":"SW2"}]
["hs",957,"Christian","Krebs","1. MGC 1970 Göttingen e.V.","H: Krebs, Christian",{"$f":"VLOOKUP(A1893,bangolf_kategorien!$A$2:$B$11,2,FALSE)","v":"H"}]
["hs",66917,"Tobias","Kreddig","BSC Ennepetal e.V.","H: Kreddig, Tobias",{"$f":"VLOOKUP(A1894,bangolf_kategorien!$A$2:$B$11,2,FALSE)","v":"H"}]
["og",3212024,"Andrea","Kreider-Roser","Hobby","SW1: Kreider-Roser, Andrea",{"$f":"VLOOKUP(A1895,bangolf_kategorien!$A$2:$B$11,2,FALSE)","v":"SW1"}]
["og",38545,"Antje","Kreisheimer","MGC \"Stahlquelle\" Bad Bocklet","SW1: Kreisheimer, Antje",{"$f":"VLOOKUP(A1896,bangolf_kategorien!$A$2:$B$11,2,FALSE)","v":"SW1"}]
["ob",38546,"Günther","Kreisheimer","MGC \"Stahlquelle\" Bad Bocklet","SM1: Kreisheimer, Günther",{"$f":"VLOOKUP(A1897,bangolf_kategorien!$A$2:$B$11,2,FALSE)","v":"SM1"}]
["hs",36641,"Rene","Kreitz","1. MGC 1970 Göttingen e.V.","H: Kreitz, Rene",{"$f":"VLOOKUP(A1898,bangolf_kategorien!$A$2:$B$11,2,FALSE)","v":"H"}]
["hv",66877,"Dieter","Kretschmer","Hamburger MC von 1965 e.V.","SM2: Kretschmer, Dieter",{"$f":"VLOOKUP(A1899,bangolf_kategorien!$A$2:$B$11,2,FALSE)","v":"SM2"}]
["hs",3216761,"Marco","Kretschmer","Hobby","H: Kretschmer, Marco",{"$f":"VLOOKUP(A1900,bangolf_kategorien!$A$2:$B$11,2,FALSE)","v":"H"}]
["hv",34823,"Bernhard","Kreutter","MGF Waldshut 74 e.V.","SM2: Kreutter, Bernhard",{"$f":"VLOOKUP(A1901,bangolf_kategorien!$A$2:$B$11,2,FALSE)","v":"SM2"}]
["hs",30925,"Andreas","Kreuzer","ASV Pegnitz, Abt. Minigolf","H: Kreuzer, Andreas",{"$f":"VLOOKUP(A1902,bangolf_kategorien!$A$2:$B$11,2,FALSE)","v":"H"}]
["hs",24111,"Tobias","Kreuzer","ASV Pegnitz, Abt. Minigolf","H: Kreuzer, Tobias",{"$f":"VLOOKUP(A1903,bangolf_kategorien!$A$2:$B$11,2,FALSE)","v":"H"}]
["ds",36156,"Tina","Kreuzer-Morgenstern","ASV Pegnitz, Abt. Minigolf","D: Kreuzer-Morgenstern, Tina",{"$f":"VLOOKUP(A1904,bangolf_kategorien!$A$2:$B$11,2,FALSE)","v":"D"}]
["hv",42126,"Gerhard","Krickhahn","MGC Rot-Weiß Wanne-Eickel e.V.","SM2: Krickhahn, Gerhard",{"$f":"VLOOKUP(A1905,bangolf_kategorien!$A$2:$B$11,2,FALSE)","v":"SM2"}]
["hv",35781,"Andreas","Krieger","BGSV Bad Homburg","SM2: Krieger, Andreas",{"$f":"VLOOKUP(A1906,bangolf_kategorien!$A$2:$B$11,2,FALSE)","v":"SM2"}]
["hv",33310,"Gerhard","Krieger","1. MGC München-Feldmoching e.V.","SM2: Krieger, Gerhard",{"$f":"VLOOKUP(A1907,bangolf_kategorien!$A$2:$B$11,2,FALSE)","v":"SM2"}]
["hj",67089,"Leon","Krieger","HMC Büttgen e.V.","JM: Krieger, Leon",{"$f":"VLOOKUP(A1908,bangolf_kategorien!$A$2:$B$11,2,FALSE)","v":"JM"}]
["ds",3175186,"Simone","Krieger","Hobby","D: Krieger, Simone",{"$f":"VLOOKUP(A1909,bangolf_kategorien!$A$2:$B$11,2,FALSE)","v":"D"}]
["ds",67353,"Simone","Krieger","HMC Büttgen e.V.","D: Krieger, Simone",{"$f":"VLOOKUP(A1910,bangolf_kategorien!$A$2:$B$11,2,FALSE)","v":"D"}]
["hs",38453,"Thomas","Krieger","1. MGC München-Feldmoching e.V.","H: Krieger, Thomas",{"$f":"VLOOKUP(A1911,bangolf_kategorien!$A$2:$B$11,2,FALSE)","v":"H"}]
["hv",66265,"Wolfgang","Krieger","Minigolf Wölfe Rheinstetten 02","SM2: Krieger, Wolfgang",{"$f":"VLOOKUP(A1912,bangolf_kategorien!$A$2:$B$11,2,FALSE)","v":"SM2"}]
["og",40965,"Susanne","Kritsch","1. BGC Hannover e.V.","SW1: Kritsch, Susanne",{"$f":"VLOOKUP(A1913,bangolf_kategorien!$A$2:$B$11,2,FALSE)","v":"SW1"}]
["hs",34432,"David-Alexander","Kröger","MSV 05 Bad Münder / Springe e.V.","H: Kröger, David-Alexander",{"$f":"VLOOKUP(A1914,bangolf_kategorien!$A$2:$B$11,2,FALSE)","v":"H"}]
["hv",3168,"Erich","Kröger","MGC Brunsbüttel e.V.","SM2: Kröger, Erich",{"$f":"VLOOKUP(A1915,bangolf_kategorien!$A$2:$B$11,2,FALSE)","v":"SM2"}]
["dv",3116,"Maren","Kröger","MGC Brunsbüttel e.V.","SW2: Kröger, Maren",{"$f":"VLOOKUP(A1916,bangolf_kategorien!$A$2:$B$11,2,FALSE)","v":"SW2"}]
["hv",36528,"Wolfgang","Kröger","TSV Kücknitz Abt. Bahnengolf","SM2: Kröger, Wolfgang",{"$f":"VLOOKUP(A1917,bangolf_kategorien!$A$2:$B$11,2,FALSE)","v":"SM2"}]
["ob",45122,"Gerd","Krohmer","MGF 77 Sickenhausen e.V.","SM1: Krohmer, Gerd",{"$f":"VLOOKUP(A1918,bangolf_kategorien!$A$2:$B$11,2,FALSE)","v":"SM1"}]
["dv",40017,"Helene","Kröll","1. Porzer MGC Grün-Weiß 1969 e.V.","SW2: Kröll, Helene",{"$f":"VLOOKUP(A1919,bangolf_kategorien!$A$2:$B$11,2,FALSE)","v":"SW2"}]
["hv",3365,"Johann","Kröll","1. Porzer MGC Grün-Weiß 1969 e.V.","SM2: Kröll, Johann",{"$f":"VLOOKUP(A1920,bangolf_kategorien!$A$2:$B$11,2,FALSE)","v":"SM2"}]
["ob",35332,"Manfred","Kronenberg","Minigolfclub Karlshagen e.V.","SM1: Kronenberg, Manfred",{"$f":"VLOOKUP(A1921,bangolf_kategorien!$A$2:$B$11,2,FALSE)","v":"SM1"}]
["pa",64901,"Florian","Kronschnabl","1. Münchener MGC e.V.","SCHM: Kronschnabl, Florian",{"$f":"VLOOKUP(A1922,bangolf_kategorien!$A$2:$B$11,2,FALSE)","v":"SCHM"}]
["ob",36647,"Manfred","Kronschnabl","1. Münchener MGC e.V.",{"$f":"CONCATENATE(G1923,\": \",D1923,\", \",C1923)","v":"SM1: Kronschnabl, Manfred"},{"$f":"VLOOKUP(A1923,bangolf_kategorien!$A$2:$B$11,2,FALSE)","v":"SM1"}]
["ds",66824,"Susann","Kronschnabl","1. Münchener MGC e.V.","D: Kronschnabl, Susann",{"$f":"VLOOKUP(A1924,bangolf_kategorien!$A$2:$B$11,2,FALSE)","v":"D"}]
["ob",67078,"Theo","Kronschnabl","BGC Illertissen e.V.","SM1: Kronschnabl, Theo",{"$f":"VLOOKUP(A1925,bangolf_kategorien!$A$2:$B$11,2,FALSE)","v":"SM1"}]
["hv",17833,"Erwin","Kroßa","BV Sennestadt","SM2: Kroßa, Erwin",{"$f":"VLOOKUP(A1926,bangolf_kategorien!$A$2:$B$11,2,FALSE)","v":"SM2"}]
["hv",17986,"Dietger","Krost","1. BGC Wolfsburg","SM2: Krost, Dietger",{"$f":"VLOOKUP(A1927,bangolf_kategorien!$A$2:$B$11,2,FALSE)","v":"SM2"}]
["ob",66558,"Bernhard","Krug","1. BGC Landshut e.V.","SM1: Krug, Bernhard",{"$f":"VLOOKUP(A1928,bangolf_kategorien!$A$2:$B$11,2,FALSE)","v":"SM1"}]
["hv",17741,"Reinhard","Krüger","1. MSC Hamburg-Neu Wulmstorf","SM2: Krüger, Reinhard",{"$f":"VLOOKUP(A1929,bangolf_kategorien!$A$2:$B$11,2,FALSE)","v":"SM2"}]
["hs",3112589,"Sebastian","Krüger","Hobby","H: Krüger, Sebastian",{"$f":"VLOOKUP(A1930,bangolf_kategorien!$A$2:$B$11,2,FALSE)","v":"H"}]
["hv",35890,"Siegfried","Krüger","BGSC Bochum 1978 e.V.","SM2: Krüger, Siegfried",{"$f":"VLOOKUP(A1931,bangolf_kategorien!$A$2:$B$11,2,FALSE)","v":"SM2"}]
["hv",66657,"Karl-Heinz","Krull","1. MGC 1970 Göttingen e.V.","SM2: Krull, Karl-Heinz",{"$f":"VLOOKUP(A1932,bangolf_kategorien!$A$2:$B$11,2,FALSE)","v":"SM2"}]
["hs",958,"Michael","Krull","1. MGC 1970 Göttingen e.V.","H: Krull, Michael",{"$f":"VLOOKUP(A1933,bangolf_kategorien!$A$2:$B$11,2,FALSE)","v":"H"}]
["og",42429,"Patricia","Krumay","TSV Pfungstadt Abt. Bahnengolf e.V.","SW1: Krumay, Patricia",{"$f":"VLOOKUP(A1934,bangolf_kategorien!$A$2:$B$11,2,FALSE)","v":"SW1"}]
["ob",36856,"Kai","Krumm","HMC Büttgen e.V.","SM1: Krumm, Kai",{"$f":"VLOOKUP(A1935,bangolf_kategorien!$A$2:$B$11,2,FALSE)","v":"SM1"}]
["og",65839,"Melanie","Krumm","HMC Büttgen e.V.","SW1: Krumm, Melanie",{"$f":"VLOOKUP(A1936,bangolf_kategorien!$A$2:$B$11,2,FALSE)","v":"SW1"}]
["ob",47258,"André","Kruse","MGC Bad Salzuflen e.V.","SM1: Kruse, André",{"$f":"VLOOKUP(A1937,bangolf_kategorien!$A$2:$B$11,2,FALSE)","v":"SM1"}]
["ob",67169,"Klaus-Bernd","Kruse","MGC Millennium Lorsch e.V.","SM1: Kruse, Klaus-Bernd",{"$f":"VLOOKUP(A1938,bangolf_kategorien!$A$2:$B$11,2,FALSE)","v":"SM1"}]
["ob",46951,"Manuel","Kruse","BGC Northeim e.V.","SM1: Kruse, Manuel",{"$f":"VLOOKUP(A1939,bangolf_kategorien!$A$2:$B$11,2,FALSE)","v":"SM1"}]
["hv",40300,"Manfred","Krusenbaum","VfM Bottrop e.V.","SM2: Krusenbaum, Manfred",{"$f":"VLOOKUP(A1940,bangolf_kategorien!$A$2:$B$11,2,FALSE)","v":"SM2"}]
["og",50855,"Nicole","Krux","1. Porzer MGC Grün-Weiß 1969 e.V.","SW1: Krux, Nicole",{"$f":"VLOOKUP(A1941,bangolf_kategorien!$A$2:$B$11,2,FALSE)","v":"SW1"}]
["hs",67017,"Maurice","Krzyza","BGSC Bochum 1978 e.V.","H: Krzyza, Maurice",{"$f":"VLOOKUP(A1942,bangolf_kategorien!$A$2:$B$11,2,FALSE)","v":"H"}]
["hs",35655,"Sebastian","Kube","MGC Dormagen-Brechten e.V.","H: Kube, Sebastian",{"$f":"VLOOKUP(A1943,bangolf_kategorien!$A$2:$B$11,2,FALSE)","v":"H"}]
["hs",65952,"Kai","Kübler","BGC Bad Mergentheim e.V.","H: Kübler, Kai",{"$f":"VLOOKUP(A1944,bangolf_kategorien!$A$2:$B$11,2,FALSE)","v":"H"}]
["dv",3194191,"Elke","Kubzda","Hobby","SW2: Kubzda, Elke",{"$f":"VLOOKUP(A1945,bangolf_kategorien!$A$2:$B$11,2,FALSE)","v":"SW2"}]
["dv",66836,"Elke","Kubzda","MGV Bremen e.V.","SW2: Kubzda, Elke",{"$f":"VLOOKUP(A1946,bangolf_kategorien!$A$2:$B$11,2,FALSE)","v":"SW2"}]
["hv",66045,"Manfred","Kubzda","MGV Bremen e.V.","SM2: Kubzda, Manfred",{"$f":"VLOOKUP(A1947,bangolf_kategorien!$A$2:$B$11,2,FALSE)","v":"SM2"}]
["hs",37790,"Jannik","Kuchenbuch","1. MGC Mainz e.V.","H: Kuchenbuch, Jannik",{"$f":"VLOOKUP(A1948,bangolf_kategorien!$A$2:$B$11,2,FALSE)","v":"H"}]
["hs",66228,"Nico","Kücükalemdar","BGC Schloß Paffendorf e.V.","H: Kücükalemdar, Nico",{"$f":"VLOOKUP(A1949,bangolf_kategorien!$A$2:$B$11,2,FALSE)","v":"H"}]
["hv",37693,"Helmut","Kühbauch","1. MGC Metzingen e.V.","SM2: Kühbauch, Helmut",{"$f":"VLOOKUP(A1950,bangolf_kategorien!$A$2:$B$11,2,FALSE)","v":"SM2"}]
["hv",17549,"Dieter","Kuhl","Minigolfunion Neviges-Odenthal 1968 e.V.","SM2: Kuhl, Dieter",{"$f":"VLOOKUP(A1951,bangolf_kategorien!$A$2:$B$11,2,FALSE)","v":"SM2"}]
["dv",62879,"Magdalena","Kuhl","Minigolfunion Neviges-Odenthal 1968 e.V.","SW2: Kuhl, Magdalena",{"$f":"VLOOKUP(A1952,bangolf_kategorien!$A$2:$B$11,2,FALSE)","v":"SW2"}]
["ob",29326,"Peter","Kuhlenberg","1. MGSV Netphen e.V.","SM1: Kuhlenberg, Peter",{"$f":"VLOOKUP(A1953,bangolf_kategorien!$A$2:$B$11,2,FALSE)","v":"SM1"}]
["hs",66350,"Giuseppe","Kühmstädt","BGSV Castrop e.V. 1961","H: Kühmstädt, Giuseppe",{"$f":"VLOOKUP(A1954,bangolf_kategorien!$A$2:$B$11,2,FALSE)","v":"H"}]
["ob",44146,"André","Kuhn","1. MGC 1970 Göttingen e.V.","SM1: Kuhn, André",{"$f":"VLOOKUP(A1955,bangolf_kategorien!$A$2:$B$11,2,FALSE)","v":"SM1"}]
["hs",65929,"Dustin","Kuhn","1. MGV Spandau Berlin e.V.","H: Kuhn, Dustin",{"$f":"VLOOKUP(A1956,bangolf_kategorien!$A$2:$B$11,2,FALSE)","v":"H"}]
["ob",66860,"Marco","Kühn","MGC Rot-Weiß Wanne-Eickel e.V.","SM1: Kühn, Marco",{"$f":"VLOOKUP(A1957,bangolf_kategorien!$A$2:$B$11,2,FALSE)","v":"SM1"}]
["hs",3216893,"Kjell","Kühne","Hobby","H: Kühne, Kjell",{"$f":"VLOOKUP(A1958,bangolf_kategorien!$A$2:$B$11,2,FALSE)","v":"H"}]
["hv",40132,"Ingo","Kuhnert","MGC Wertheim 91 e.V.","SM2: Kuhnert, Ingo",{"$f":"VLOOKUP(A1959,bangolf_kategorien!$A$2:$B$11,2,FALSE)","v":"SM2"}]
["hs",45671,"Stefan","Küll","MGC Bad Salzuflen e.V.","H: Küll, Stefan",{"$f":"VLOOKUP(A1960,bangolf_kategorien!$A$2:$B$11,2,FALSE)","v":"H"}]
["hs",40126,"Christian","Kullick","Tempelhofer MV Berlin e.V.","H: Kullick, Christian",{"$f":"VLOOKUP(A1961,bangolf_kategorien!$A$2:$B$11,2,FALSE)","v":"H"}]
["hv",20595,"Robert","Kullick","Tempelhofer MV Berlin e.V.","SM2: Kullick, Robert",{"$f":"VLOOKUP(A1962,bangolf_kategorien!$A$2:$B$11,2,FALSE)","v":"SM2"}]
["hs",66042,"Ingo","Kullmann","MSV Bad Kreuznach","H: Kullmann, Ingo",{"$f":"VLOOKUP(A1963,bangolf_kategorien!$A$2:$B$11,2,FALSE)","v":"H"}]
["hv",44774,"Peter","Kulse","MGC Olympia Kiel e.V.","SM2: Kulse, Peter",{"$f":"VLOOKUP(A1964,bangolf_kategorien!$A$2:$B$11,2,FALSE)","v":"SM2"}]
["ob",21411,"Wolfgang","Kunert","1. MGC Bamberg e.V.","SM1: Kunert, Wolfgang",{"$f":"VLOOKUP(A1965,bangolf_kategorien!$A$2:$B$11,2,FALSE)","v":"SM1"}]
["hv",38351,"Herbert","Kunimünch","BSV Inzlingen 1979 e.V.","SM2: Kunimünch, Herbert",{"$f":"VLOOKUP(A1966,bangolf_kategorien!$A$2:$B$11,2,FALSE)","v":"SM2"}]
["dv",38352,"Monika","Kunimünch","BSV Inzlingen 1979 e.V.","SW2: Kunimünch, Monika",{"$f":"VLOOKUP(A1967,bangolf_kategorien!$A$2:$B$11,2,FALSE)","v":"SW2"}]
["ds",67316,"Jennifer","Kunisch","BGC Bad Mergentheim e.V.","D: Kunisch, Jennifer",{"$f":"VLOOKUP(A1968,bangolf_kategorien!$A$2:$B$11,2,FALSE)","v":"D"}]
["ob",30336,"Jens-Michael","Künnecke","BGC Northeim e.V.","SM1: Künnecke, Jens-Michael",{"$f":"VLOOKUP(A1969,bangolf_kategorien!$A$2:$B$11,2,FALSE)","v":"SM1"}]
["ob",33427,"Andreas","Kunstmann","Elbhavelland e.V., Abt. Minigolfsport","SM1: Kunstmann, Andreas",{"$f":"VLOOKUP(A1970,bangolf_kategorien!$A$2:$B$11,2,FALSE)","v":"SM1"}]
["hs",33425,"Marcel","Kunstmann","Elbhavelland e.V., Abt. Minigolfsport","H: Kunstmann, Marcel",{"$f":"VLOOKUP(A1971,bangolf_kategorien!$A$2:$B$11,2,FALSE)","v":"H"}]
["ob",30521,"Markus","Kuntermann","KSV Baltrum e.V.","SM1: Kuntermann, Markus",{"$f":"VLOOKUP(A1972,bangolf_kategorien!$A$2:$B$11,2,FALSE)","v":"SM1"}]
["ob",38162,"Holger","Kuntz","1. MGC Saar 68 St. Ingbert e.V.","SM1: Kuntz, Holger",{"$f":"VLOOKUP(A1973,bangolf_kategorien!$A$2:$B$11,2,FALSE)","v":"SM1"}]
["ob",66428,"Jürgen","Kuntze","TSV Pfungstadt Abt. Bahnengolf e.V.","SM1: Kuntze, Jürgen",{"$f":"VLOOKUP(A1974,bangolf_kategorien!$A$2:$B$11,2,FALSE)","v":"SM1"}]
["ds",66139,"Lisa","Kuntze","TSV Pfungstadt Abt. Bahnengolf e.V.","D: Kuntze, Lisa",{"$f":"VLOOKUP(A1975,bangolf_kategorien!$A$2:$B$11,2,FALSE)","v":"D"}]
["hv",5225,"Bernd","Kunz","MGC Olympia Kiel e.V.","SM2: Kunz, Bernd",{"$f":"VLOOKUP(A1976,bangolf_kategorien!$A$2:$B$11,2,FALSE)","v":"SM2"}]
["dv",25024,"Helga","Kunz","MGC Olympia Kiel e.V.","SW2: Kunz, Helga",{"$f":"VLOOKUP(A1977,bangolf_kategorien!$A$2:$B$11,2,FALSE)","v":"SW2"}]
["ob",66519,"Peter","Kunz","1. MGC Kassel 1964 e.V.","SM1: Kunz, Peter",{"$f":"VLOOKUP(A1978,bangolf_kategorien!$A$2:$B$11,2,FALSE)","v":"SM1"}]
["ds",66977,"Simone","Kunz","1. MGC Kassel 1964 e.V.","D: Kunz, Simone",{"$f":"VLOOKUP(A1979,bangolf_kategorien!$A$2:$B$11,2,FALSE)","v":"D"}]
["hv",6538,"Hans-Peter","Künzel","1. MGC Ludwigshafen e.V.","SM2: Künzel, Hans-Peter",{"$f":"VLOOKUP(A1980,bangolf_kategorien!$A$2:$B$11,2,FALSE)","v":"SM2"}]
["hs",66855,"Thorsten","Kurkowski","1. MGC Gelsenkirchen e.V.","H: Kurkowski, Thorsten",{"$f":"VLOOKUP(A1981,bangolf_kategorien!$A$2:$B$11,2,FALSE)","v":"H"}]
["hv",3209181,"Michael","Kurland","Hobby","SM2: Kurland, Michael",{"$f":"VLOOKUP(A1982,bangolf_kategorien!$A$2:$B$11,2,FALSE)","v":"SM2"}]
["hs",37998,"Patrick","Kurtz","BGSC Bochum 1978 e.V.","H: Kurtz, Patrick",{"$f":"VLOOKUP(A1983,bangolf_kategorien!$A$2:$B$11,2,FALSE)","v":"H"}]
["hv",38084,"Rainer","Kurtz","BGSC Bochum 1978 e.V.","SM2: Kurtz, Rainer",{"$f":"VLOOKUP(A1984,bangolf_kategorien!$A$2:$B$11,2,FALSE)","v":"SM2"}]
["hs",34665,"Jochen","Kurz","1. MGC Metzingen e.V.","H: Kurz, Jochen",{"$f":"VLOOKUP(A1985,bangolf_kategorien!$A$2:$B$11,2,FALSE)","v":"H"}]
["hs",41007,"Mikael","Kurzweg","Bochumer Minigolf-Club 1960 e.V.","H: Kurzweg, Mikael",{"$f":"VLOOKUP(A1986,bangolf_kategorien!$A$2:$B$11,2,FALSE)","v":"H"}]
["hs",66103,"Raphael","Kuschel","MGC Dormagen-Brechten e.V.",{"$f":"CONCATENATE(G1987,\": \",D1987,\", \",C1987)","v":"H: Kuschel, Raphael"},{"$f":"VLOOKUP(A1987,bangolf_kategorien!$A$2:$B$11,2,FALSE)","v":"H"}]
["ob",3202770,"Sven","Kuschmann","Hobby","SM1: Kuschmann, Sven",{"$f":"VLOOKUP(A1988,bangolf_kategorien!$A$2:$B$11,2,FALSE)","v":"SM1"}]
["hv",23321,"Jürgen","Kuß","1. MGC Mannheim 1968 e.V.","SM2: Kuß, Jürgen",{"$f":"VLOOKUP(A1989,bangolf_kategorien!$A$2:$B$11,2,FALSE)","v":"SM2"}]
["hv",46027,"Bernd","Kussnereit","MGC Homburger Land e.V.","SM2: Kussnereit, Bernd",{"$f":"VLOOKUP(A1990,bangolf_kategorien!$A$2:$B$11,2,FALSE)","v":"SM2"}]
["hv",5956,"Helmut","Kuttig","Minigolfunion Neviges-Odenthal 1968 e.V.","SM2: Kuttig, Helmut",{"$f":"VLOOKUP(A1991,bangolf_kategorien!$A$2:$B$11,2,FALSE)","v":"SM2"}]
["dv",25371,"Andrea","Laber","BIG ASPERG e.V.","SW2: Laber, Andrea",{"$f":"VLOOKUP(A1992,bangolf_kategorien!$A$2:$B$11,2,FALSE)","v":"SW2"}]
["hv",25372,"Emil","Laber","BIG ASPERG e.V.","SM2: Laber, Emil",{"$f":"VLOOKUP(A1993,bangolf_kategorien!$A$2:$B$11,2,FALSE)","v":"SM2"}]
["pa",67363,"Daniele","Labita","BSV 86 München e.V.","SCHM: Labita, Daniele",{"$f":"VLOOKUP(A1994,bangolf_kategorien!$A$2:$B$11,2,FALSE)","v":"SCHM"}]
["hs",3093542,"Arne","Labitzke","Hobby","H: Labitzke, Arne",{"$f":"VLOOKUP(A1995,bangolf_kategorien!$A$2:$B$11,2,FALSE)","v":"H"}]
["ob",35816,"Gerald","Lachmayer","MGSC Wernau e.V.","SM1: Lachmayer, Gerald",{"$f":"VLOOKUP(A1996,bangolf_kategorien!$A$2:$B$11,2,FALSE)","v":"SM1"}]
["og",49742,"Britta","Lagerquist","MGC Olympia Kiel e.V.","SW1: Lagerquist, Britta",{"$f":"VLOOKUP(A1997,bangolf_kategorien!$A$2:$B$11,2,FALSE)","v":"SW1"}]
["hs",29677,"René","Lagerquist","MGC Olympia Kiel e.V.","H: Lagerquist, René",{"$f":"VLOOKUP(A1998,bangolf_kategorien!$A$2:$B$11,2,FALSE)","v":"H"}]
["ob",41848,"Stefan","Lahann","1. MSC Hamburg-Neu Wulmstorf","SM1: Lahann, Stefan",{"$f":"VLOOKUP(A1999,bangolf_kategorien!$A$2:$B$11,2,FALSE)","v":"SM1"}]
["dv",65072,"Cornelia","Lais","1. Münchener MGC e.V.","SW2: Lais, Cornelia",{"$f":"VLOOKUP(A2000,bangolf_kategorien!$A$2:$B$11,2,FALSE)","v":"SW2"}]
["hv",5260,"Peter","Lais","1. Münchener MGC e.V.","SM2: Lais, Peter",{"$f":"VLOOKUP(A2001,bangolf_kategorien!$A$2:$B$11,2,FALSE)","v":"SM2"}]
["ob",29247,"Andreas","Lammers","VfM Bottrop e.V.","SM1: Lammers, Andreas",{"$f":"VLOOKUP(A2002,bangolf_kategorien!$A$2:$B$11,2,FALSE)","v":"SM1"}]
["hs",30743,"Christian","Lampert","1. BGC Wesseling 1975 e.V.","H: Lampert, Christian",{"$f":"VLOOKUP(A2003,bangolf_kategorien!$A$2:$B$11,2,FALSE)","v":"H"}]
["hv",60472,"Herbert","Landefeld","BGC Hamm 1959 e.V.","SM2: Landefeld, Herbert",{"$f":"VLOOKUP(A2004,bangolf_kategorien!$A$2:$B$11,2,FALSE)","v":"SM2"}]
["dv",63347,"Regina","Landefeld","BGC Hamm 1959 e.V.","SW2: Landefeld, Regina",{"$f":"VLOOKUP(A2005,bangolf_kategorien!$A$2:$B$11,2,FALSE)","v":"SW2"}]
["ds",3210819,"Anne","Landgraf","Hobby","D: Landgraf, Anne",{"$f":"VLOOKUP(A2006,bangolf_kategorien!$A$2:$B$11,2,FALSE)","v":"D"}]
["dv",31613,"Christa","Landl","BSV 86 München e.V.","SW2: Landl, Christa",{"$f":"VLOOKUP(A2007,bangolf_kategorien!$A$2:$B$11,2,FALSE)","v":"SW2"}]
["hv",6879,"Helmut","Landl","BSV 86 München e.V.","SM2: Landl, Helmut",{"$f":"VLOOKUP(A2008,bangolf_kategorien!$A$2:$B$11,2,FALSE)","v":"SM2"}]
["hs",35806,"Martin","Lanfer","MGC Dormagen-Brechten e.V.","H: Lanfer, Martin",{"$f":"VLOOKUP(A2009,bangolf_kategorien!$A$2:$B$11,2,FALSE)","v":"H"}]
["ob",46037,"Ewald","Lang","MSC Bad Godesberg e.V.","SM1: Lang, Ewald",{"$f":"VLOOKUP(A2010,bangolf_kategorien!$A$2:$B$11,2,FALSE)","v":"SM1"}]
["hs",30907,"Jürgen","Lang","1. MGC Mitterteich-Großbüchlberg","H: Lang, Jürgen",{"$f":"VLOOKUP(A2011,bangolf_kategorien!$A$2:$B$11,2,FALSE)","v":"H"}]
["ob",34780,"Jürgen","Lang","1. MGC Süßen e.V.","SM1: Lang, Jürgen",{"$f":"VLOOKUP(A2012,bangolf_kategorien!$A$2:$B$11,2,FALSE)","v":"SM1"}]
["hv",37857,"Michael","Lang","BGC Bildstock e.V.","SM2: Lang, Michael",{"$f":"VLOOKUP(A2013,bangolf_kategorien!$A$2:$B$11,2,FALSE)","v":"SM2"}]
["ds",64182,"Ramona","Lang","1. MGC Mitterteich-Großbüchlberg","D: Lang, Ramona",{"$f":"VLOOKUP(A2014,bangolf_kategorien!$A$2:$B$11,2,FALSE)","v":"D"}]
["hj",38064,"Timo","Lang","MSC Bad Godesberg e.V.","JM: Lang, Timo",{"$f":"VLOOKUP(A2015,bangolf_kategorien!$A$2:$B$11,2,FALSE)","v":"JM"}]
["hv",12503,"Dieter","Lange","MGC \"AS\" Witten 1963 e.V.","SM2: Lange, Dieter",{"$f":"VLOOKUP(A2016,bangolf_kategorien!$A$2:$B$11,2,FALSE)","v":"SM2"}]
["hv",17614,"Friedrich","Lange","1.KGC Mönchengladbach e.V.","SM2: Lange, Friedrich",{"$f":"VLOOKUP(A2017,bangolf_kategorien!$A$2:$B$11,2,FALSE)","v":"SM2"}]
["hj",879,"Kevin","Lange","BGC Diepholz e.V.","JM: Lange, Kevin",{"$f":"VLOOKUP(A2018,bangolf_kategorien!$A$2:$B$11,2,FALSE)","v":"JM"}]
["dv",17112,"Maria","Lange","MGC \"AS\" Witten 1963 e.V.","SW2: Lange, Maria",{"$f":"VLOOKUP(A2019,bangolf_kategorien!$A$2:$B$11,2,FALSE)","v":"SW2"}]
["dv",17615,"Marlene","Lange","1.KGC Mönchengladbach e.V.","SW2: Lange, Marlene",{"$f":"VLOOKUP(A2020,bangolf_kategorien!$A$2:$B$11,2,FALSE)","v":"SW2"}]
["hs",37204,"Phillipp","Lange","BGSV Castrop e.V. 1961","H: Lange, Phillipp",{"$f":"VLOOKUP(A2021,bangolf_kategorien!$A$2:$B$11,2,FALSE)","v":"H"}]
["hv",66415,"Wilfried","Lange","BGSV Castrop e.V. 1961","SM2: Lange, Wilfried",{"$f":"VLOOKUP(A2022,bangolf_kategorien!$A$2:$B$11,2,FALSE)","v":"SM2"}]
["hv",66132,"Uwe","Langemann","SV Glückauf 1901 Gebhardshagen e.V.","SM2: Langemann, Uwe",{"$f":"VLOOKUP(A2023,bangolf_kategorien!$A$2:$B$11,2,FALSE)","v":"SM2"}]
["ds",33485,"Bianca","Langenbacher","1. MGC Tuttlingen e.V.","D: Langenbacher, Bianca",{"$f":"VLOOKUP(A2024,bangolf_kategorien!$A$2:$B$11,2,FALSE)","v":"D"}]
["pa",67288,"Nick","Langer","1. MGC Kassel 1964 e.V.","SCHM: Langer, Nick",{"$f":"VLOOKUP(A2025,bangolf_kategorien!$A$2:$B$11,2,FALSE)","v":"SCHM"}]
["ob",66571,"Viktor","Langer","MGC Ingolstadt e.V.","SM1: Langer, Viktor",{"$f":"VLOOKUP(A2026,bangolf_kategorien!$A$2:$B$11,2,FALSE)","v":"SM1"}]
["ob",29043,"Waldemar","Langer","1. BGC Landshut e.V.","SM1: Langer, Waldemar",{"$f":"VLOOKUP(A2027,bangolf_kategorien!$A$2:$B$11,2,FALSE)","v":"SM1"}]
["hj",66570,"Yannick","Langer","MGC Ingolstadt e.V.","JM: Langer, Yannick",{"$f":"VLOOKUP(A2028,bangolf_kategorien!$A$2:$B$11,2,FALSE)","v":"JM"}]
["ob",35700,"Martin","Langfeld","1. MGC Metzingen e.V.","SM1: Langfeld, Martin",{"$f":"VLOOKUP(A2029,bangolf_kategorien!$A$2:$B$11,2,FALSE)","v":"SM1"}]
["hv",34921,"Heinz","Langner","TSV 1848 Flöha","SM2: Langner, Heinz",{"$f":"VLOOKUP(A2030,bangolf_kategorien!$A$2:$B$11,2,FALSE)","v":"SM2"}]
["hs",3214569,"Luca","Lanwert","Hobby","H: Lanwert, Luca",{"$f":"VLOOKUP(A2031,bangolf_kategorien!$A$2:$B$11,2,FALSE)","v":"H"}]
["ds",902,"Janina","Laskowski","1. BGC Hannover e.V.","D: Laskowski, Janina",{"$f":"VLOOKUP(A2032,bangolf_kategorien!$A$2:$B$11,2,FALSE)","v":"D"}]
["hv",44812,"Günter","Lassen","MSC Herscheid 1963 e.V.","SM2: Lassen, Günter",{"$f":"VLOOKUP(A2033,bangolf_kategorien!$A$2:$B$11,2,FALSE)","v":"SM2"}]
["ds",50101,"Tanja","Lauber-Selka","MSK Neheim-Hüsten e.V.","D: Lauber-Selka, Tanja",{"$f":"VLOOKUP(A2034,bangolf_kategorien!$A$2:$B$11,2,FALSE)","v":"D"}]
["ob",41392,"Holger","Lauble","MGF Waldshut 74 e.V.","SM1: Lauble, Holger",{"$f":"VLOOKUP(A2035,bangolf_kategorien!$A$2:$B$11,2,FALSE)","v":"SM1"}]
["hv",6368,"Ekkehard","Lauer","OMGC Ingolstadt e.V.","SM2: Lauer, Ekkehard",{"$f":"VLOOKUP(A2036,bangolf_kategorien!$A$2:$B$11,2,FALSE)","v":"SM2"}]
["hj",66996,"Magnus","Lauf","MGF Magdeburg 1995 e.V.","JM: Lauf, Magnus",{"$f":"VLOOKUP(A2037,bangolf_kategorien!$A$2:$B$11,2,FALSE)","v":"JM"}]
["og",67321,"Anja","Laurenz","Osnabrücker M.-C. von 1963 e.V.","SW1: Laurenz, Anja",{"$f":"VLOOKUP(A2038,bangolf_kategorien!$A$2:$B$11,2,FALSE)","v":"SW1"}]
["ob",67322,"Gunter","Laurenz","Osnabrücker M.-C. von 1963 e.V.","SM1: Laurenz, Gunter",{"$f":"VLOOKUP(A2039,bangolf_kategorien!$A$2:$B$11,2,FALSE)","v":"SM1"}]
["hv",66198,"Horst","Laurenz","MSG Kempten e.V.","SM2: Laurenz, Horst",{"$f":"VLOOKUP(A2040,bangolf_kategorien!$A$2:$B$11,2,FALSE)","v":"SM2"}]
["ds",34469,"Aylin","Lauterfeld","TSV Pfungstadt Abt. Bahnengolf e.V.","D: Lauterfeld, Aylin",{"$f":"VLOOKUP(A2041,bangolf_kategorien!$A$2:$B$11,2,FALSE)","v":"D"}]
["ob",33131,"Alexander","Laux","MGC Traben-Trarbach","SM1: Laux, Alexander",{"$f":"VLOOKUP(A2042,bangolf_kategorien!$A$2:$B$11,2,FALSE)","v":"SM1"}]
["hs",35659,"Marcel","Laux","MGC Traben-Trarbach","H: Laux, Marcel",{"$f":"VLOOKUP(A2043,bangolf_kategorien!$A$2:$B$11,2,FALSE)","v":"H"}]
["ds",38368,"Galina","Lebedeva","MGF Ottobrunn e.V.","D: Lebedeva, Galina",{"$f":"VLOOKUP(A2044,bangolf_kategorien!$A$2:$B$11,2,FALSE)","v":"D"}]
["og",47498,"Ilona","Lechler","MGC Schwaikheim e.V.","SW1: Lechler, Ilona",{"$f":"VLOOKUP(A2045,bangolf_kategorien!$A$2:$B$11,2,FALSE)","v":"SW1"}]
["pa",67187,"Justin","Lechtenfeld","MGC Rot-Weiß Wanne-Eickel e.V.","SCHM: Lechtenfeld, Justin",{"$f":"VLOOKUP(A2046,bangolf_kategorien!$A$2:$B$11,2,FALSE)","v":"SCHM"}]
["hs",64869,"Hans-Josef","Lefkes","BGC Uerdingen e.V.","H: Lefkes, Hans-Josef",{"$f":"VLOOKUP(A2047,bangolf_kategorien!$A$2:$B$11,2,FALSE)","v":"H"}]
["ob",48696,"Valentino","Legisa","BGSC \"Gut Schlag\" Gladbeck e.V.","SM1: Legisa, Valentino",{"$f":"VLOOKUP(A2048,bangolf_kategorien!$A$2:$B$11,2,FALSE)","v":"SM1"}]
["hv",23055,"Detlef","Lehmann","Bochumer Minigolf-Club 1960 e.V.","SM2: Lehmann, Detlef",{"$f":"VLOOKUP(A2049,bangolf_kategorien!$A$2:$B$11,2,FALSE)","v":"SM2"}]
["hs",67372,"Niclas","Lehmann","SC Olympia Dortmund e.V.","H: Lehmann, Niclas",{"$f":"VLOOKUP(A2050,bangolf_kategorien!$A$2:$B$11,2,FALSE)","v":"H"}]
["hv",66356,"Reiner","Lehmann","MGC \"Stahlquelle\" Bad Bocklet",{"$f":"CONCATENATE(G2051,\": \",D2051,\", \",C2051)","v":"SM2: Lehmann, Reiner"},{"$f":"VLOOKUP(A2051,bangolf_kategorien!$A$2:$B$11,2,FALSE)","v":"SM2"}]
["og",3119658,"Annett","Leibiger","Hobby","SW1: Leibiger, Annett",{"$f":"VLOOKUP(A2052,bangolf_kategorien!$A$2:$B$11,2,FALSE)","v":"SW1"}]
["hs",32627,"Kevin","Leickel","MGC Olympia Kiel e.V.","H: Leickel, Kevin",{"$f":"VLOOKUP(A2053,bangolf_kategorien!$A$2:$B$11,2,FALSE)","v":"H"}]
["ob",35756,"Andreas","Leidlein","1. MGC Gelsenkirchen e.V.","SM1: Leidlein, Andreas",{"$f":"VLOOKUP(A2054,bangolf_kategorien!$A$2:$B$11,2,FALSE)","v":"SM1"}]
["hs",3216764,"André","Leipholz","Hobby","H: Leipholz, André",{"$f":"VLOOKUP(A2055,bangolf_kategorien!$A$2:$B$11,2,FALSE)","v":"H"}]
["hv",66327,"Adam","Leist","Minigolf Wölfe Rheinstetten 02","SM2: Leist, Adam",{"$f":"VLOOKUP(A2056,bangolf_kategorien!$A$2:$B$11,2,FALSE)","v":"SM2"}]
["hv",62202,"Dieter","Lemanczyk","1. MSC Hamburg-Neu Wulmstorf","SM2: Lemanczyk, Dieter",{"$f":"VLOOKUP(A2057,bangolf_kategorien!$A$2:$B$11,2,FALSE)","v":"SM2"}]
["ob",41235,"Hans","Lemanczyk","1. MSC Hamburg-Neu Wulmstorf","SM1: Lemanczyk, Hans",{"$f":"VLOOKUP(A2058,bangolf_kategorien!$A$2:$B$11,2,FALSE)","v":"SM1"}]
["hs",29671,"André","Lemke","MGC Olympia Kiel e.V.","H: Lemke, André",{"$f":"VLOOKUP(A2059,bangolf_kategorien!$A$2:$B$11,2,FALSE)","v":"H"}]
["og",41266,"Cornelia","Lemke","MGC Olympia Kiel e.V.","SW1: Lemke, Cornelia",{"$f":"VLOOKUP(A2060,bangolf_kategorien!$A$2:$B$11,2,FALSE)","v":"SW1"}]
["ob",28673,"Kai","Lemke","MGC Olympia Kiel e.V.","SM1: Lemke, Kai",{"$f":"VLOOKUP(A2061,bangolf_kategorien!$A$2:$B$11,2,FALSE)","v":"SM1"}]
["ds",34585,"Sabrina","Lemke","MGC Olympia Kiel e.V.","D: Lemke, Sabrina",{"$f":"VLOOKUP(A2062,bangolf_kategorien!$A$2:$B$11,2,FALSE)","v":"D"}]
["ob",67207,"Thomas","Lemke","Kölner Miniatur Golf Club e.V.","SM1: Lemke, Thomas",{"$f":"VLOOKUP(A2063,bangolf_kategorien!$A$2:$B$11,2,FALSE)","v":"SM1"}]
["ob",44385,"Andreas","Lemm","MGC Freizeitzentrum Biebertal","SM1: Lemm, Andreas",{"$f":"VLOOKUP(A2064,bangolf_kategorien!$A$2:$B$11,2,FALSE)","v":"SM1"}]
["ob",67390,"Georg","Lemm","Kölner Miniatur Golf Club e.V.","SM1: Lemm, Georg",{"$f":"VLOOKUP(A2065,bangolf_kategorien!$A$2:$B$11,2,FALSE)","v":"SM1"}]
["ds",36891,"Anglique","Lempenauer","MGF Steinbruch Kempten","D: Lempenauer, Anglique",{"$f":"VLOOKUP(A2066,bangolf_kategorien!$A$2:$B$11,2,FALSE)","v":"D"}]
["og",3260602,"Ute","Lendner","Hobby","SW1: Lendner, Ute",{"$f":"VLOOKUP(A2067,bangolf_kategorien!$A$2:$B$11,2,FALSE)","v":"SW1"}]
["hv",67220,"Georg","Lendzian","SC Olympia Dortmund e.V.","SM2: Lendzian, Georg",{"$f":"VLOOKUP(A2068,bangolf_kategorien!$A$2:$B$11,2,FALSE)","v":"SM2"}]
["ds",29795,"Katharina","Lenertz","MSC Herscheid 1963 e.V.","D: Lenertz, Katharina",{"$f":"VLOOKUP(A2069,bangolf_kategorien!$A$2:$B$11,2,FALSE)","v":"D"}]
["hs",66434,"Markus","Lenertz","MSC Herscheid 1963 e.V.","H: Lenertz, Markus",{"$f":"VLOOKUP(A2070,bangolf_kategorien!$A$2:$B$11,2,FALSE)","v":"H"}]
["hs",38613,"Andre","Lenger","MGC Bad Salzuflen e.V.","H: Lenger, Andre",{"$f":"VLOOKUP(A2071,bangolf_kategorien!$A$2:$B$11,2,FALSE)","v":"H"}]
["hv",61716,"Rolf","Lenk","MGC \"AS\" Witten 1963 e.V.","SM2: Lenk, Rolf",{"$f":"VLOOKUP(A2072,bangolf_kategorien!$A$2:$B$11,2,FALSE)","v":"SM2"}]
["ob",26539,"Axel","Lenz","MGF Hilzingen 80 e.V.","SM1: Lenz, Axel",{"$f":"VLOOKUP(A2073,bangolf_kategorien!$A$2:$B$11,2,FALSE)","v":"SM1"}]
["hv",38115,"Jürgen","Lenz","HMC Büttgen e.V.","SM2: Lenz, Jürgen",{"$f":"VLOOKUP(A2074,bangolf_kategorien!$A$2:$B$11,2,FALSE)","v":"SM2"}]
["dv",38038,"Susanne","Lenz-Fregin","PTSV Hof, Abt. Minigolf","SW2: Lenz-Fregin, Susanne",{"$f":"VLOOKUP(A2075,bangolf_kategorien!$A$2:$B$11,2,FALSE)","v":"SW2"}]
["hv",67315,"Heinz Peter","Leonhardt","MGC Bad Homburg vdH e.V.","SM2: Leonhardt, Heinz Peter",{"$f":"VLOOKUP(A2076,bangolf_kategorien!$A$2:$B$11,2,FALSE)","v":"SM2"}]
["hs",36564,"Björn","Lepa","TSV Salzgitter e.V. Abt. Bahnengolf","H: Lepa, Björn",{"$f":"VLOOKUP(A2077,bangolf_kategorien!$A$2:$B$11,2,FALSE)","v":"H"}]
["hs",35504,"Gerrit","Lerch","MC Ilvesheim e.V.","H: Lerch, Gerrit",{"$f":"VLOOKUP(A2078,bangolf_kategorien!$A$2:$B$11,2,FALSE)","v":"H"}]
["ob",34317,"Oliver","Lerch","BGSV Bad Homburg","SM1: Lerch, Oliver",{"$f":"VLOOKUP(A2079,bangolf_kategorien!$A$2:$B$11,2,FALSE)","v":"SM1"}]
["ob",66401,"Jörg","Leske","Tempelhofer MV Berlin e.V.","SM1: Leske, Jörg",{"$f":"VLOOKUP(A2080,bangolf_kategorien!$A$2:$B$11,2,FALSE)","v":"SM1"}]
["dv",5776,"Irena","Lesnik","SSV Ulm 1846 Abt. Bahnengolf","SW2: Lesnik, Irena",{"$f":"VLOOKUP(A2081,bangolf_kategorien!$A$2:$B$11,2,FALSE)","v":"SW2"}]
["hv",33676,"Erich","Less","BGC Schweinfurt e.V.","SM2: Less, Erich",{"$f":"VLOOKUP(A2082,bangolf_kategorien!$A$2:$B$11,2,FALSE)","v":"SM2"}]
["ob",40048,"Michael","Leßner","Bochumer Minigolf-Club 1960 e.V.","SM1: Leßner, Michael",{"$f":"VLOOKUP(A2083,bangolf_kategorien!$A$2:$B$11,2,FALSE)","v":"SM1"}]
["ob",30039,"Reinhard","Letzel","BGC Rheinau-Freistett e.V.","SM1: Letzel, Reinhard",{"$f":"VLOOKUP(A2084,bangolf_kategorien!$A$2:$B$11,2,FALSE)","v":"SM1"}]
["hv",3756,"Hans-Winfried","Leuchtenberger","VfM e.V. Berlin","SM2: Leuchtenberger, Hans-Winfried",{"$f":"VLOOKUP(A2085,bangolf_kategorien!$A$2:$B$11,2,FALSE)","v":"SM2"}]
["dv",4072,"Sigrid","Leuchtenberger","VfM e.V. Berlin","SW2: Leuchtenberger, Sigrid",{"$f":"VLOOKUP(A2086,bangolf_kategorien!$A$2:$B$11,2,FALSE)","v":"SW2"}]
["hs",51324,"Marcus","Leuthäußer","MGV Bremen e.V.","H: Leuthäußer, Marcus",{"$f":"VLOOKUP(A2087,bangolf_kategorien!$A$2:$B$11,2,FALSE)","v":"H"}]
["hs",36908,"Philipp","Lewin","MSK Neheim-Hüsten e.V.","H: Lewin, Philipp",{"$f":"VLOOKUP(A2088,bangolf_kategorien!$A$2:$B$11,2,FALSE)","v":"H"}]
["dv",66907,"Karin","Leyer","SV 1890 e.V. Dreieichenhain, Abt. Bahnengolf","SW2: Leyer, Karin",{"$f":"VLOOKUP(A2089,bangolf_kategorien!$A$2:$B$11,2,FALSE)","v":"SW2"}]
["og",66351,"Heike","Liberoudis","BGC Bremen e.V.","SW1: Liberoudis, Heike",{"$f":"VLOOKUP(A2090,bangolf_kategorien!$A$2:$B$11,2,FALSE)","v":"SW1"}]
["hs",37633,"Jan Peter","Lichtenberg","1. KC Homburg-Saar 1967 e.V.","H: Lichtenberg, Jan Peter",{"$f":"VLOOKUP(A2091,bangolf_kategorien!$A$2:$B$11,2,FALSE)","v":"H"}]
["hv",23239,"Kurt","Lichtenberg","BSV 82 Ohlsbach e.V.","SM2: Lichtenberg, Kurt",{"$f":"VLOOKUP(A2092,bangolf_kategorien!$A$2:$B$11,2,FALSE)","v":"SM2"}]
["hv",65975,"Hans-Jürgen","Lichterfeld","MGC Bergisch Gladbach Gierath e.V.","SM2: Lichterfeld, Hans-Jürgen",{"$f":"VLOOKUP(A2093,bangolf_kategorien!$A$2:$B$11,2,FALSE)","v":"SM2"}]
["hs",3106619,"Matthias","Lieb","Hobby","H: Lieb, Matthias",{"$f":"VLOOKUP(A2094,bangolf_kategorien!$A$2:$B$11,2,FALSE)","v":"H"}]
["hs",65873,"Johannes","Lieber","1. KC Homburg-Saar 1967 e.V.","H: Lieber, Johannes",{"$f":"VLOOKUP(A2095,bangolf_kategorien!$A$2:$B$11,2,FALSE)","v":"H"}]
["hv",23980,"Bernhard","Liebetrau","Miniaturgolf Sportclub Schriesheim e.V","SM2: Liebetrau, Bernhard",{"$f":"VLOOKUP(A2096,bangolf_kategorien!$A$2:$B$11,2,FALSE)","v":"SM2"}]
["ob",30138,"Axel","Liebig","SSC Attendorn e.V.","SM1: Liebig, Axel",{"$f":"VLOOKUP(A2097,bangolf_kategorien!$A$2:$B$11,2,FALSE)","v":"SM1"}]
["ds",67157,"Diana","Liebig","1. BGC Hannover e.V.","D: Liebig, Diana",{"$f":"VLOOKUP(A2098,bangolf_kategorien!$A$2:$B$11,2,FALSE)","v":"D"}]
["pa",67158,"Jan","Liebig","1. BGC Hannover e.V.","SCHM: Liebig, Jan",{"$f":"VLOOKUP(A2099,bangolf_kategorien!$A$2:$B$11,2,FALSE)","v":"SCHM"}]
["hs",48671,"Sven","Liebig","1. BGC Hannover e.V.","H: Liebig, Sven",{"$f":"VLOOKUP(A2100,bangolf_kategorien!$A$2:$B$11,2,FALSE)","v":"H"}]
["hv",42408,"Manfred","Liebstückel","MGC Wertheim 91 e.V.","SM2: Liebstückel, Manfred",{"$f":"VLOOKUP(A2101,bangolf_kategorien!$A$2:$B$11,2,FALSE)","v":"SM2"}]
["dv",42417,"Ruth","Liebstückel","MGC Wertheim 91 e.V.","SW2: Liebstückel, Ruth",{"$f":"VLOOKUP(A2102,bangolf_kategorien!$A$2:$B$11,2,FALSE)","v":"SW2"}]
["hv",27921,"Peter","Liedhegener","MSK Neheim-Hüsten e.V.","SM2: Liedhegener, Peter",{"$f":"VLOOKUP(A2103,bangolf_kategorien!$A$2:$B$11,2,FALSE)","v":"SM2"}]
["hs",65928,"Tobias","Limbacher","TV Niederstetten 1862 e.V.  Abt. Minigolf","H: Limbacher, Tobias",{"$f":"VLOOKUP(A2104,bangolf_kategorien!$A$2:$B$11,2,FALSE)","v":"H"}]
["og",42074,"Andrea","Limpius","TG Höchberg von 1862 Bahnengolf e.V.","SW1: Limpius, Andrea",{"$f":"VLOOKUP(A2105,bangolf_kategorien!$A$2:$B$11,2,FALSE)","v":"SW1"}]
["hs",44172,"Matthias","Limpius","TG Höchberg von 1862 Bahnengolf e.V.","H: Limpius, Matthias",{"$f":"VLOOKUP(A2106,bangolf_kategorien!$A$2:$B$11,2,FALSE)","v":"H"}]
["ds",66148,"Simone","Limpius","TG Höchberg von 1862 Bahnengolf e.V.","D: Limpius, Simone",{"$f":"VLOOKUP(A2107,bangolf_kategorien!$A$2:$B$11,2,FALSE)","v":"D"}]
["hv",5966,"Werner","Limpius","TG Höchberg von 1862 Bahnengolf e.V.","SM2: Limpius, Werner",{"$f":"VLOOKUP(A2108,bangolf_kategorien!$A$2:$B$11,2,FALSE)","v":"SM2"}]
["hv",36091,"Alfred","Lindauer","OMGC Ingolstadt e.V.","SM2: Lindauer, Alfred",{"$f":"VLOOKUP(A2109,bangolf_kategorien!$A$2:$B$11,2,FALSE)","v":"SM2"}]
["hv",25107,"Jürgen","Linde","SSC Attendorn e.V.","SM2: Linde, Jürgen",{"$f":"VLOOKUP(A2110,bangolf_kategorien!$A$2:$B$11,2,FALSE)","v":"SM2"}]
["hj",66253,"Lukas","Lindemann","BGSV Bad Homburg","JM: Lindemann, Lukas",{"$f":"VLOOKUP(A2111,bangolf_kategorien!$A$2:$B$11,2,FALSE)","v":"JM"}]
["ob",66254,"Oliver","Lindemann","BGSV Bad Homburg","SM1: Lindemann, Oliver",{"$f":"VLOOKUP(A2112,bangolf_kategorien!$A$2:$B$11,2,FALSE)","v":"SM1"}]
["ds",40203,"Mareike","Lindenberg","1. BGC Celle von 1964 e.V.","D: Lindenberg, Mareike",{"$f":"VLOOKUP(A2113,bangolf_kategorien!$A$2:$B$11,2,FALSE)","v":"D"}]
["hs",3216891,"Johannes","Lindmeyer","Hobby","H: Lindmeyer, Johannes",{"$f":"VLOOKUP(A2114,bangolf_kategorien!$A$2:$B$11,2,FALSE)","v":"H"}]
["ob",40475,"Bernhard","Lindner","1. NMC Kelheim e.V.",{"$f":"CONCATENATE(G2115,\": \",D2115,\", \",C2115)","v":"SM1: Lindner, Bernhard"},{"$f":"VLOOKUP(A2115,bangolf_kategorien!$A$2:$B$11,2,FALSE)","v":"SM1"}]
["ob",9959,"Fritz","Lindner","ASV Pegnitz, Abt. Minigolf","SM1: Lindner, Fritz",{"$f":"VLOOKUP(A2116,bangolf_kategorien!$A$2:$B$11,2,FALSE)","v":"SM1"}]
["hv",41825,"Gisbert","Lindner","BGC Neutraubling e.V.","SM2: Lindner, Gisbert",{"$f":"VLOOKUP(A2117,bangolf_kategorien!$A$2:$B$11,2,FALSE)","v":"SM2"}]
["hv",3229040,"Eberhard","Lindow","Hobby","SM2: Lindow, Eberhard",{"$f":"VLOOKUP(A2118,bangolf_kategorien!$A$2:$B$11,2,FALSE)","v":"SM2"}]
["fa",66396,"Christin","Lingemann","Osnabrücker M.-C. von 1963 e.V.","SCHW: Lingemann, Christin",{"$f":"VLOOKUP(A2119,bangolf_kategorien!$A$2:$B$11,2,FALSE)","v":"SCHW"}]
["ob",48947,"Konrad","Lingemann","Osnabrücker M.-C. von 1963 e.V.","SM1: Lingemann, Konrad",{"$f":"VLOOKUP(A2120,bangolf_kategorien!$A$2:$B$11,2,FALSE)","v":"SM1"}]
["ds",37136,"Sarah","Lingemann","VfB Osnabrück e.V.","D: Lingemann, Sarah",{"$f":"VLOOKUP(A2121,bangolf_kategorien!$A$2:$B$11,2,FALSE)","v":"D"}]
["og",65182,"Betina","Linke","1. Bahnengolf-Club Singen e.V.","SW1: Linke, Betina",{"$f":"VLOOKUP(A2122,bangolf_kategorien!$A$2:$B$11,2,FALSE)","v":"SW1"}]
["hv",37973,"Horst","Linke","1. Bahnengolf-Club Singen e.V.","SM2: Linke, Horst",{"$f":"VLOOKUP(A2123,bangolf_kategorien!$A$2:$B$11,2,FALSE)","v":"SM2"}]
["ds",37415,"Christina","Linke-König","1. Bahnengolf-Club Singen e.V.","D: Linke-König, Christina",{"$f":"VLOOKUP(A2124,bangolf_kategorien!$A$2:$B$11,2,FALSE)","v":"D"}]
["hj",66747,"Matti","Linker","CGC Rauschenberg e.V.","JM: Linker, Matti",{"$f":"VLOOKUP(A2125,bangolf_kategorien!$A$2:$B$11,2,FALSE)","v":"JM"}]
["hv",63137,"Manfred","Lippert","MSV Bad Kreuznach","SM2: Lippert, Manfred",{"$f":"VLOOKUP(A2126,bangolf_kategorien!$A$2:$B$11,2,FALSE)","v":"SM2"}]
["ds",65442,"Brigitte","Lischke","OMGC Ingolstadt e.V.","D: Lischke, Brigitte",{"$f":"VLOOKUP(A2127,bangolf_kategorien!$A$2:$B$11,2,FALSE)","v":"D"}]
["hs",33730,"Martin","Lischke","OMGC Ingolstadt e.V.","H: Lischke, Martin",{"$f":"VLOOKUP(A2128,bangolf_kategorien!$A$2:$B$11,2,FALSE)","v":"H"}]
["dv",36053,"Ingeborg","Littmann","MGS Hildesheim e.V.","SW2: Littmann, Ingeborg",{"$f":"VLOOKUP(A2129,bangolf_kategorien!$A$2:$B$11,2,FALSE)","v":"SW2"}]
["hv",29299,"Heinz","Löbel","OMGC Ingolstadt e.V.","SM2: Löbel, Heinz",{"$f":"VLOOKUP(A2130,bangolf_kategorien!$A$2:$B$11,2,FALSE)","v":"SM2"}]
["hv",36844,"Gerhard","Lödige","1. MGC Paderborn e.V.","SM2: Lödige, Gerhard",{"$f":"VLOOKUP(A2131,bangolf_kategorien!$A$2:$B$11,2,FALSE)","v":"SM2"}]
["dv",36853,"Maria","Lödige","1. MGC Paderborn e.V.","SW2: Lödige, Maria",{"$f":"VLOOKUP(A2132,bangolf_kategorien!$A$2:$B$11,2,FALSE)","v":"SW2"}]
["hv",6464,"Manfred","Loewe","BSC Ennepetal e.V.","SM2: Loewe, Manfred",{"$f":"VLOOKUP(A2133,bangolf_kategorien!$A$2:$B$11,2,FALSE)","v":"SM2"}]
["ob",41993,"Volker","Loferski","MGC Lippe-Detmold e.V.","SM1: Loferski, Volker",{"$f":"VLOOKUP(A2134,bangolf_kategorien!$A$2:$B$11,2,FALSE)","v":"SM1"}]
["hv",66736,"Harry","Löffler","1. BGC Landshut e.V.","SM2: Löffler, Harry",{"$f":"VLOOKUP(A2135,bangolf_kategorien!$A$2:$B$11,2,FALSE)","v":"SM2"}]
["hv",30914,"Alfred","Lohe","BGSC \"Gut Schlag\" Gladbeck e.V.","SM2: Lohe, Alfred",{"$f":"VLOOKUP(A2136,bangolf_kategorien!$A$2:$B$11,2,FALSE)","v":"SM2"}]
["dv",36543,"Angelika","Lohe","BGSC \"Gut Schlag\" Gladbeck e.V.","SW2: Lohe, Angelika",{"$f":"VLOOKUP(A2137,bangolf_kategorien!$A$2:$B$11,2,FALSE)","v":"SW2"}]
["hs",36001,"Christian","Lohmann","BGC Hamm 1959 e.V.","H: Lohmann, Christian",{"$f":"VLOOKUP(A2138,bangolf_kategorien!$A$2:$B$11,2,FALSE)","v":"H"}]
["dv",36678,"Helga","Lohmann","BGC Hamm 1959 e.V.","SW2: Lohmann, Helga",{"$f":"VLOOKUP(A2139,bangolf_kategorien!$A$2:$B$11,2,FALSE)","v":"SW2"}]
["hv",36000,"Udo","Lohmann","BGC Hamm 1959 e.V.","SM2: Lohmann, Udo",{"$f":"VLOOKUP(A2140,bangolf_kategorien!$A$2:$B$11,2,FALSE)","v":"SM2"}]
["dj",66289,"Milene-Marie","Lohmeyer","BGV Backumer Tal Herten e.V.","JW: Lohmeyer, Milene-Marie",{"$f":"VLOOKUP(A2141,bangolf_kategorien!$A$2:$B$11,2,FALSE)","v":"JW"}]
["hj",66688,"Fabian","Lohn","1. MSC Wesel 6.6.1966 e.V.","JM: Lohn, Fabian",{"$f":"VLOOKUP(A2142,bangolf_kategorien!$A$2:$B$11,2,FALSE)","v":"JM"}]
["ds",66770,"Liane","Lohn","MGC Rot-Weiß Wanne-Eickel e.V.","D: Lohn, Liane",{"$f":"VLOOKUP(A2143,bangolf_kategorien!$A$2:$B$11,2,FALSE)","v":"D"}]
["ob",47063,"Thomas","Lohöfener","BV Sennestadt","SM1: Lohöfener, Thomas",{"$f":"VLOOKUP(A2144,bangolf_kategorien!$A$2:$B$11,2,FALSE)","v":"SM1"}]
["dv",49463,"Elke","Löhr","BGSC Bochum 1978 e.V.","SW2: Löhr, Elke",{"$f":"VLOOKUP(A2145,bangolf_kategorien!$A$2:$B$11,2,FALSE)","v":"SW2"}]
["hv",45633,"Michael","Löhr","BGSC Bochum 1978 e.V.","SM2: Löhr, Michael",{"$f":"VLOOKUP(A2146,bangolf_kategorien!$A$2:$B$11,2,FALSE)","v":"SM2"}]
["hv",4788,"Roland","Löhrlein","1. FMGC Lichtenfels 1961 e.V.","SM2: Löhrlein, Roland",{"$f":"VLOOKUP(A2147,bangolf_kategorien!$A$2:$B$11,2,FALSE)","v":"SM2"}]
["hs",66834,"Martin","Loibl","1. Berliner Miniaturgolf-Sportclub e.V. 1960","H: Loibl, Martin",{"$f":"VLOOKUP(A2148,bangolf_kategorien!$A$2:$B$11,2,FALSE)","v":"H"}]
["hs",33631,"Thomas","Lojewski","MGC Murnau am Staffelsee e.V.","H: Lojewski, Thomas",{"$f":"VLOOKUP(A2149,bangolf_kategorien!$A$2:$B$11,2,FALSE)","v":"H"}]
["ob",66958,"Peter","Lorch","1. MGC Mainz e.V.","SM1: Lorch, Peter",{"$f":"VLOOKUP(A2150,bangolf_kategorien!$A$2:$B$11,2,FALSE)","v":"SM1"}]
["hv",33781,"Hermann","Lorenz","MGC Wetzlar e.V.","SM2: Lorenz, Hermann",{"$f":"VLOOKUP(A2151,bangolf_kategorien!$A$2:$B$11,2,FALSE)","v":"SM2"}]
["hs",35306,"Patrick","Lorenz","SG Arheilgen Abt. Bahnengolf","H: Lorenz, Patrick",{"$f":"VLOOKUP(A2152,bangolf_kategorien!$A$2:$B$11,2,FALSE)","v":"H"}]
["hs",35306,"Patrick","Lorenz","SG Arheilgen Abt. Bahnengolf","H: Lorenz, Patrick",{"$f":"VLOOKUP(A2153,bangolf_kategorien!$A$2:$B$11,2,FALSE)","v":"H"}]
["dv",33862,"Sigrid Anni","Lorenz","MGC Wetzlar e.V.","SW2: Lorenz, Sigrid Anni",{"$f":"VLOOKUP(A2154,bangolf_kategorien!$A$2:$B$11,2,FALSE)","v":"SW2"}]
["hv",33338,"Uwe","Lorenz","MC \"Möve\" Cuxhaven-Sahlenburg e.V.","SM2: Lorenz, Uwe",{"$f":"VLOOKUP(A2155,bangolf_kategorien!$A$2:$B$11,2,FALSE)","v":"SM2"}]
["hv",5852,"Hans-Herbert","Lorgie","MGC Olympia Kiel e.V.","SM2: Lorgie, Hans-Herbert",{"$f":"VLOOKUP(A2156,bangolf_kategorien!$A$2:$B$11,2,FALSE)","v":"SM2"}]
["ds",46048,"Melanie","Lorgie","MGC Olympia Kiel e.V.","D: Lorgie, Melanie",{"$f":"VLOOKUP(A2157,bangolf_kategorien!$A$2:$B$11,2,FALSE)","v":"D"}]
["dv",41253,"Regina","Lorgie","MGC Olympia Kiel e.V.","SW2: Lorgie, Regina",{"$f":"VLOOKUP(A2158,bangolf_kategorien!$A$2:$B$11,2,FALSE)","v":"SW2"}]
["ob",27300,"Thomas","Losch","1. BGC Hannover e.V.","SM1: Losch, Thomas",{"$f":"VLOOKUP(A2159,bangolf_kategorien!$A$2:$B$11,2,FALSE)","v":"SM1"}]
["hs",36171,"Dennis","Löschmann","Tempelhofer MV Berlin e.V.","H: Löschmann, Dennis",{"$f":"VLOOKUP(A2160,bangolf_kategorien!$A$2:$B$11,2,FALSE)","v":"H"}]
["ob",34157,"Michael","Lotz","MGC Bad Soden-Salmünster","SM1: Lotz, Michael",{"$f":"VLOOKUP(A2161,bangolf_kategorien!$A$2:$B$11,2,FALSE)","v":"SM1"}]
["ob",66395,"Hans","Louven","MC Georgsmarienhütte e.V.","SM1: Louven, Hans",{"$f":"VLOOKUP(A2162,bangolf_kategorien!$A$2:$B$11,2,FALSE)","v":"SM1"}]
["dv",60488,"Eva","Löwer","1. MGC Kassel 1964 e.V.","SW2: Löwer, Eva",{"$f":"VLOOKUP(A2163,bangolf_kategorien!$A$2:$B$11,2,FALSE)","v":"SW2"}]
["hv",5594,"Herbert","Löwer","1. MGC Kassel 1964 e.V.","SM2: Löwer, Herbert",{"$f":"VLOOKUP(A2164,bangolf_kategorien!$A$2:$B$11,2,FALSE)","v":"SM2"}]
["dv",3194738,"Anke","Lück","Hobby","SW2: Lück, Anke",{"$f":"VLOOKUP(A2165,bangolf_kategorien!$A$2:$B$11,2,FALSE)","v":"SW2"}]
["og",45994,"Bettina","Luckei","1. MGC Lohfelden 1997 e.V.","SW1: Luckei, Bettina",{"$f":"VLOOKUP(A2166,bangolf_kategorien!$A$2:$B$11,2,FALSE)","v":"SW1"}]
["hv",45995,"Manfred","Luckei","1. MGC Lohfelden 1997 e.V.","SM2: Luckei, Manfred",{"$f":"VLOOKUP(A2167,bangolf_kategorien!$A$2:$B$11,2,FALSE)","v":"SM2"}]
["ds",67406,"Carmen Ariane","Luczyk","BV Sennestadt","D: Luczyk, Carmen Ariane",{"$f":"VLOOKUP(A2168,bangolf_kategorien!$A$2:$B$11,2,FALSE)","v":"D"}]
["hs",37293,"Dominik","Ludwig","BGC Goslar e.V.","H: Ludwig, Dominik",{"$f":"VLOOKUP(A2169,bangolf_kategorien!$A$2:$B$11,2,FALSE)","v":"H"}]
["og",1501,"Kornelia","Ludwig","BGC Goslar e.V.","SW1: Ludwig, Kornelia",{"$f":"VLOOKUP(A2170,bangolf_kategorien!$A$2:$B$11,2,FALSE)","v":"SW1"}]
["hs",37295,"Sven","Ludwig","BGC Goslar e.V.","H: Ludwig, Sven",{"$f":"VLOOKUP(A2171,bangolf_kategorien!$A$2:$B$11,2,FALSE)","v":"H"}]
["hs",67373,"Niklas","Ludzay","SC Olympia Dortmund e.V.","H: Ludzay, Niklas",{"$f":"VLOOKUP(A2172,bangolf_kategorien!$A$2:$B$11,2,FALSE)","v":"H"}]
["ob",41227,"Robert","Lugauer","MGC Ingolstadt e.V.","SM1: Lugauer, Robert",{"$f":"VLOOKUP(A2173,bangolf_kategorien!$A$2:$B$11,2,FALSE)","v":"SM1"}]
["hv",3261,"Werner","Lührs","VfL Lüneburg Abt. Bahnengolf","SM2: Lührs, Werner",{"$f":"VLOOKUP(A2174,bangolf_kategorien!$A$2:$B$11,2,FALSE)","v":"SM2"}]
["hs",33613,"Marcel","Lukat","MGC Brunsbüttel e.V.","H: Lukat, Marcel",{"$f":"VLOOKUP(A2175,bangolf_kategorien!$A$2:$B$11,2,FALSE)","v":"H"}]
["ds",3216789,"Sabina","Lukowski","Hobby","D: Lukowski, Sabina",{"$f":"VLOOKUP(A2176,bangolf_kategorien!$A$2:$B$11,2,FALSE)","v":"D"}]
["ob",40720,"Dirk","Lumma","HMC Büttgen e.V.","SM1: Lumma, Dirk",{"$f":"VLOOKUP(A2177,bangolf_kategorien!$A$2:$B$11,2,FALSE)","v":"SM1"}]
["ds",3216784,"Christiane","Lupitzki","Hobby","D: Lupitzki, Christiane",{"$f":"VLOOKUP(A2178,bangolf_kategorien!$A$2:$B$11,2,FALSE)","v":"D"}]
["hv",5586,"Horst","Luther","MGC Ostheim / Rhön e.V.",{"$f":"CONCATENATE(G2179,\": \",D2179,\", \",C2179)","v":"SM2: Luther, Horst"},{"$f":"VLOOKUP(A2179,bangolf_kategorien!$A$2:$B$11,2,FALSE)","v":"SM2"}]
["hv",21946,"Winfried","Lüttenberg","1. Essener CGC \"Blau-Gold\" e.V.","SM2: Lüttenberg, Winfried",{"$f":"VLOOKUP(A2180,bangolf_kategorien!$A$2:$B$11,2,FALSE)","v":"SM2"}]
["hv",38641,"Herbert","Luttmann","VfB Osnabrück e.V.","SM2: Luttmann, Herbert",{"$f":"VLOOKUP(A2181,bangolf_kategorien!$A$2:$B$11,2,FALSE)","v":"SM2"}]
["hv",40232,"Helmut","Lutz","SSC Attendorn e.V.","SM2: Lutz, Helmut",{"$f":"VLOOKUP(A2182,bangolf_kategorien!$A$2:$B$11,2,FALSE)","v":"SM2"}]
["ob",22917,"Hugo","Lutz","1. Bahnengolf-Club Singen e.V.","SM1: Lutz, Hugo",{"$f":"VLOOKUP(A2183,bangolf_kategorien!$A$2:$B$11,2,FALSE)","v":"SM1"}]
["dv",22913,"Martina","Lutz","1. Bahnengolf-Club Singen e.V.","SW2: Lutz, Martina",{"$f":"VLOOKUP(A2184,bangolf_kategorien!$A$2:$B$11,2,FALSE)","v":"SW2"}]
["dv",45123,"Angelika","Luz","1. MGC Metzingen e.V.","SW2: Luz, Angelika",{"$f":"VLOOKUP(A2185,bangolf_kategorien!$A$2:$B$11,2,FALSE)","v":"SW2"}]
["hs",34902,"Daniel","Maar","BGSV Castrop e.V. 1961","H: Maar, Daniel",{"$f":"VLOOKUP(A2186,bangolf_kategorien!$A$2:$B$11,2,FALSE)","v":"H"}]
["og",43835,"Bettina","Maaß","MGC Brunsbüttel e.V.","SW1: Maaß, Bettina",{"$f":"VLOOKUP(A2187,bangolf_kategorien!$A$2:$B$11,2,FALSE)","v":"SW1"}]
["ob",43837,"Herbert","Maaß","MGC Brunsbüttel e.V.","SM1: Maaß, Herbert",{"$f":"VLOOKUP(A2188,bangolf_kategorien!$A$2:$B$11,2,FALSE)","v":"SM1"}]
["ds",66036,"Vanessa","Maaß","MGC Brunsbüttel e.V.","D: Maaß, Vanessa",{"$f":"VLOOKUP(A2189,bangolf_kategorien!$A$2:$B$11,2,FALSE)","v":"D"}]
["hv",3216848,"Klaus","Madlinger","Hobby","SM2: Madlinger, Klaus",{"$f":"VLOOKUP(A2190,bangolf_kategorien!$A$2:$B$11,2,FALSE)","v":"SM2"}]
["ob",67167,"Stefan","Maes","BGS Hardenberg-Pötter e.V.","SM1: Maes, Stefan",{"$f":"VLOOKUP(A2191,bangolf_kategorien!$A$2:$B$11,2,FALSE)","v":"SM1"}]
["hv",38127,"Friedel","Maesel","MC 62 Lüdenscheid e.V.","SM2: Maesel, Friedel",{"$f":"VLOOKUP(A2192,bangolf_kategorien!$A$2:$B$11,2,FALSE)","v":"SM2"}]
["hs",66970,"Omar","Maggi","SG Arheilgen Abt. Bahnengolf","H: Maggi, Omar",{"$f":"VLOOKUP(A2193,bangolf_kategorien!$A$2:$B$11,2,FALSE)","v":"H"}]
["ob",30185,"Thomas","Magin","1. MGC Ludwigshafen e.V.","SM1: Magin, Thomas",{"$f":"VLOOKUP(A2194,bangolf_kategorien!$A$2:$B$11,2,FALSE)","v":"SM1"}]
["hv",49672,"Josef","Mahl","1. BGC Garmisch-Partenkirchen","SM2: Mahl, Josef",{"$f":"VLOOKUP(A2195,bangolf_kategorien!$A$2:$B$11,2,FALSE)","v":"SM2"}]
["hs",67278,"Simon","Mahl","1. BGC Garmisch-Partenkirchen","H: Mahl, Simon",{"$f":"VLOOKUP(A2196,bangolf_kategorien!$A$2:$B$11,2,FALSE)","v":"H"}]
["fa",67194,"Lina","Mahnkopf","BGC Bremen e.V.","SCHW: Mahnkopf, Lina",{"$f":"VLOOKUP(A2197,bangolf_kategorien!$A$2:$B$11,2,FALSE)","v":"SCHW"}]
["og",66568,"Elke","Maier","1. Münchener MGC e.V.","SW1: Maier, Elke",{"$f":"VLOOKUP(A2198,bangolf_kategorien!$A$2:$B$11,2,FALSE)","v":"SW1"}]
["ob",47032,"Josef","Maier","MGC Wolnzach e.V.","SM1: Maier, Josef",{"$f":"VLOOKUP(A2199,bangolf_kategorien!$A$2:$B$11,2,FALSE)","v":"SM1"}]
["ob",36823,"Niklas","Maier","MGC Unterschneidheim e.V.","SM1: Maier, Niklas",{"$f":"VLOOKUP(A2200,bangolf_kategorien!$A$2:$B$11,2,FALSE)","v":"SM1"}]
["ob",66822,"Volker","Maier","MGF Ottobrunn e.V.","SM1: Maier, Volker",{"$f":"VLOOKUP(A2201,bangolf_kategorien!$A$2:$B$11,2,FALSE)","v":"SM1"}]
["hs",66497,"Anton","Maierhofer","MGF Ottobrunn e.V.","H: Maierhofer, Anton",{"$f":"VLOOKUP(A2202,bangolf_kategorien!$A$2:$B$11,2,FALSE)","v":"H"}]
["ds",66943,"Sandra","Mainka","1. MGC Kassel 1964 e.V.","D: Mainka, Sandra",{"$f":"VLOOKUP(A2203,bangolf_kategorien!$A$2:$B$11,2,FALSE)","v":"D"}]
["ds",67043,"Ramona","Maisch","MGC Monrepos e.V.","D: Maisch, Ramona",{"$f":"VLOOKUP(A2204,bangolf_kategorien!$A$2:$B$11,2,FALSE)","v":"D"}]
["hs",67044,"Thomas","Maisch","MGC Monrepos e.V.","H: Maisch, Thomas",{"$f":"VLOOKUP(A2205,bangolf_kategorien!$A$2:$B$11,2,FALSE)","v":"H"}]
["ob",37360,"Frank","Maldei","BGSC \"Gut Schlag\" Gladbeck e.V.","SM1: Maldei, Frank",{"$f":"VLOOKUP(A2206,bangolf_kategorien!$A$2:$B$11,2,FALSE)","v":"SM1"}]
["ob",49850,"Ralf","Malirs","SV Lurup Abt. Bahnengolf","SM1: Malirs, Ralf",{"$f":"VLOOKUP(A2207,bangolf_kategorien!$A$2:$B$11,2,FALSE)","v":"SM1"}]
["ob",37865,"Joachim","Mally","SV 1890 e.V. Dreieichenhain, Abt. Bahnengolf","SM1: Mally, Joachim",{"$f":"VLOOKUP(A2208,bangolf_kategorien!$A$2:$B$11,2,FALSE)","v":"SM1"}]
["ob",25785,"Norman","Mandel","HMC Büttgen e.V.","SM1: Mandel, Norman",{"$f":"VLOOKUP(A2209,bangolf_kategorien!$A$2:$B$11,2,FALSE)","v":"SM1"}]
["ob",50926,"Frank","Manderscheid","1. MGC Ludwigshafen e.V.","SM1: Manderscheid, Frank",{"$f":"VLOOKUP(A2210,bangolf_kategorien!$A$2:$B$11,2,FALSE)","v":"SM1"}]
["hv",6693,"Hans","Manderscheid","Freizeit Club Bliesen e.V.","SM2: Manderscheid, Hans",{"$f":"VLOOKUP(A2211,bangolf_kategorien!$A$2:$B$11,2,FALSE)","v":"SM2"}]
["ds",35634,"Manuela","Manderscheid","VfB Limbach 2000 e.V.","D: Manderscheid, Manuela",{"$f":"VLOOKUP(A2212,bangolf_kategorien!$A$2:$B$11,2,FALSE)","v":"D"}]
["dv",4846,"Marianne","Manderscheid","VfB Limbach 2000 e.V.","SW2: Manderscheid, Marianne",{"$f":"VLOOKUP(A2213,bangolf_kategorien!$A$2:$B$11,2,FALSE)","v":"SW2"}]
["hv",3796,"Hans-Joachim","Mann","MGC Murnau am Staffelsee e.V.","SM2: Mann, Hans-Joachim",{"$f":"VLOOKUP(A2214,bangolf_kategorien!$A$2:$B$11,2,FALSE)","v":"SM2"}]
["ob",38500,"Stefan","Manthey","MSC Bad Godesberg e.V.","SM1: Manthey, Stefan",{"$f":"VLOOKUP(A2215,bangolf_kategorien!$A$2:$B$11,2,FALSE)","v":"SM1"}]
["og",40944,"Susanne","Manz","BGC Illertissen e.V.","SW1: Manz, Susanne",{"$f":"VLOOKUP(A2216,bangolf_kategorien!$A$2:$B$11,2,FALSE)","v":"SW1"}]
["pa",67046,"Tim","Manz","VfM e.V. Berlin","SCHM: Manz, Tim",{"$f":"VLOOKUP(A2217,bangolf_kategorien!$A$2:$B$11,2,FALSE)","v":"SCHM"}]
["hv",4967,"Udo","Manz","1. MGC Mannheim 1968 e.V.","SM2: Manz, Udo",{"$f":"VLOOKUP(A2218,bangolf_kategorien!$A$2:$B$11,2,FALSE)","v":"SM2"}]
["hv",45029,"Wolfgang","Manz","BGC Illertissen e.V.","SM2: Manz, Wolfgang",{"$f":"VLOOKUP(A2219,bangolf_kategorien!$A$2:$B$11,2,FALSE)","v":"SM2"}]
["hv",3194220,"Siegfried","Marburger","Hobby","SM2: Marburger, Siegfried",{"$f":"VLOOKUP(A2220,bangolf_kategorien!$A$2:$B$11,2,FALSE)","v":"SM2"}]
["ob",67386,"Andreas","Marggraf","MGC Bad Salzuflen e.V.","SM1: Marggraf, Andreas",{"$f":"VLOOKUP(A2221,bangolf_kategorien!$A$2:$B$11,2,FALSE)","v":"SM1"}]
["ob",42687,"Christian","Marinello","MC \"Möve\" Cuxhaven-Sahlenburg e.V.","SM1: Marinello, Christian",{"$f":"VLOOKUP(A2222,bangolf_kategorien!$A$2:$B$11,2,FALSE)","v":"SM1"}]
["hs",25593,"Sascha","Mark","1. Bahnengolf-Club Singen e.V.","H: Mark, Sascha",{"$f":"VLOOKUP(A2223,bangolf_kategorien!$A$2:$B$11,2,FALSE)","v":"H"}]
["hv",65657,"Max","Märkl","BGC Neutraubling e.V.","SM2: Märkl, Max",{"$f":"VLOOKUP(A2224,bangolf_kategorien!$A$2:$B$11,2,FALSE)","v":"SM2"}]
["ob",45267,"Leif","Markmann","MGC Olympia Kiel e.V.","SM1: Markmann, Leif",{"$f":"VLOOKUP(A2225,bangolf_kategorien!$A$2:$B$11,2,FALSE)","v":"SM1"}]
["hv",50930,"Jürgen","Marschall","Freizeit Club Bliesen e.V.","SM2: Marschall, Jürgen",{"$f":"VLOOKUP(A2226,bangolf_kategorien!$A$2:$B$11,2,FALSE)","v":"SM2"}]
["hv",33471,"Heinz","Marterer","1. BGC Garmisch-Partenkirchen","SM2: Marterer, Heinz",{"$f":"VLOOKUP(A2227,bangolf_kategorien!$A$2:$B$11,2,FALSE)","v":"SM2"}]
["og",42045,"Sabine","Marterer-Schleser","1. MGC München-Feldmoching e.V.","SW1: Marterer-Schleser, Sabine",{"$f":"VLOOKUP(A2228,bangolf_kategorien!$A$2:$B$11,2,FALSE)","v":"SW1"}]
["hv",66957,"Christian","Marth","1. MGC Mainz e.V.","SM2: Marth, Christian",{"$f":"VLOOKUP(A2229,bangolf_kategorien!$A$2:$B$11,2,FALSE)","v":"SM2"}]
["og",35692,"Bärbel","Martin","MGC Olympia Kiel e.V.","SW1: Martin, Bärbel",{"$f":"VLOOKUP(A2230,bangolf_kategorien!$A$2:$B$11,2,FALSE)","v":"SW1"}]
["ob",36222,"Sven","Martinez Moreno","1. Minigolf-Club Rheinhausen e.V.","SM1: Martinez Moreno, Sven",{"$f":"VLOOKUP(A2231,bangolf_kategorien!$A$2:$B$11,2,FALSE)","v":"SM1"}]
["hs",47173,"Ingo","Marx","1. MSC Hamburg-Neu Wulmstorf","H: Marx, Ingo",{"$f":"VLOOKUP(A2232,bangolf_kategorien!$A$2:$B$11,2,FALSE)","v":"H"}]
["hs",38469,"Eric","Marzian","Minigolfclub Karlshagen e.V.","H: Marzian, Eric",{"$f":"VLOOKUP(A2233,bangolf_kategorien!$A$2:$B$11,2,FALSE)","v":"H"}]
["hv",67365,"Claus","Maschauer","MGC Bad Homburg vdH e.V.","SM2: Maschauer, Claus",{"$f":"VLOOKUP(A2234,bangolf_kategorien!$A$2:$B$11,2,FALSE)","v":"SM2"}]
["dv",67364,"Diana","Maschauer","MGC Bad Homburg vdH e.V.","SW2: Maschauer, Diana",{"$f":"VLOOKUP(A2235,bangolf_kategorien!$A$2:$B$11,2,FALSE)","v":"SW2"}]
["ob",40721,"Dirk","Maschotta","Minigolfunion Neviges-Odenthal 1968 e.V.","SM1: Maschotta, Dirk",{"$f":"VLOOKUP(A2236,bangolf_kategorien!$A$2:$B$11,2,FALSE)","v":"SM1"}]
["ob",40718,"Jürgen","Maschotta","Minigolfunion Neviges-Odenthal 1968 e.V.","SM1: Maschotta, Jürgen",{"$f":"VLOOKUP(A2237,bangolf_kategorien!$A$2:$B$11,2,FALSE)","v":"SM1"}]
["hv",33685,"Karl","Matejka","MGC Wertheim 91 e.V.","SM2: Matejka, Karl",{"$f":"VLOOKUP(A2238,bangolf_kategorien!$A$2:$B$11,2,FALSE)","v":"SM2"}]
["hv",36982,"Friedhelm","Matern","MSC Bensheim-Auerbach e.V.","SM2: Matern, Friedhelm",{"$f":"VLOOKUP(A2239,bangolf_kategorien!$A$2:$B$11,2,FALSE)","v":"SM2"}]
["hv",6331,"Peter","Matern","1. MC Weinheim e.V.","SM2: Matern, Peter",{"$f":"VLOOKUP(A2240,bangolf_kategorien!$A$2:$B$11,2,FALSE)","v":"SM2"}]
["hv",42640,"Erwin","Materne","1. BGC Bad Füssing e.V.","SM2: Materne, Erwin",{"$f":"VLOOKUP(A2241,bangolf_kategorien!$A$2:$B$11,2,FALSE)","v":"SM2"}]
["hs",37435,"Alexander","Mathes","MGC \"Stahlquelle\" Bad Bocklet","H: Mathes, Alexander",{"$f":"VLOOKUP(A2242,bangolf_kategorien!$A$2:$B$11,2,FALSE)","v":"H"}]
["fa",67064,"Lena","Mathes","MGC \"Stahlquelle\" Bad Bocklet",{"$f":"CONCATENATE(G2243,\": \",D2243,\", \",C2243)","v":"SCHW: Mathes, Lena"},{"$f":"VLOOKUP(A2243,bangolf_kategorien!$A$2:$B$11,2,FALSE)","v":"SCHW"}]
["pa",66724,"Nico","Mathes","MGC \"Stahlquelle\" Bad Bocklet","SCHM: Mathes, Nico",{"$f":"VLOOKUP(A2244,bangolf_kategorien!$A$2:$B$11,2,FALSE)","v":"SCHM"}]
["ob",3185484,"Bernd","Matthä","Hobby","SM1: Matthä, Bernd",{"$f":"VLOOKUP(A2245,bangolf_kategorien!$A$2:$B$11,2,FALSE)","v":"SM1"}]
["ob",64161,"Bernd","Matthä","MGC Ostheim / Rhön e.V.","SM1: Matthä, Bernd",{"$f":"VLOOKUP(A2246,bangolf_kategorien!$A$2:$B$11,2,FALSE)","v":"SM1"}]
["hs",38151,"David","Matthäi","BG Pfullingen","H: Matthäi, David",{"$f":"VLOOKUP(A2247,bangolf_kategorien!$A$2:$B$11,2,FALSE)","v":"H"}]
["hs",3194212,"Dirk","Matthes","Hobby","H: Matthes, Dirk",{"$f":"VLOOKUP(A2248,bangolf_kategorien!$A$2:$B$11,2,FALSE)","v":"H"}]
["dv",65803,"Angelika","Matthies","MGC \"AS\" Witten 1963 e.V.","SW2: Matthies, Angelika",{"$f":"VLOOKUP(A2249,bangolf_kategorien!$A$2:$B$11,2,FALSE)","v":"SW2"}]
["hv",65804,"Bernd","Matthies","MGC \"AS\" Witten 1963 e.V.","SM2: Matthies, Bernd",{"$f":"VLOOKUP(A2250,bangolf_kategorien!$A$2:$B$11,2,FALSE)","v":"SM2"}]
["hs",3218783,"Fabio Oliver","Matthies","Hobby","H: Matthies, Fabio Oliver",{"$f":"VLOOKUP(A2251,bangolf_kategorien!$A$2:$B$11,2,FALSE)","v":"H"}]
["hv",26604,"Klaus","Mattick","Hobby","SM2: Mattick, Klaus",{"$f":"VLOOKUP(A2252,bangolf_kategorien!$A$2:$B$11,2,FALSE)","v":"SM2"}]
["ds",29278,"Veronika","Mattick","Hobby","D: Mattick, Veronika",{"$f":"VLOOKUP(A2253,bangolf_kategorien!$A$2:$B$11,2,FALSE)","v":"D"}]
["ob",28038,"Ralf","Mätz","BGC Rheinau-Freistett e.V.","SM1: Mätz, Ralf",{"$f":"VLOOKUP(A2254,bangolf_kategorien!$A$2:$B$11,2,FALSE)","v":"SM1"}]
["pa",66875,"Bastian","Mau","MGC Bad Homburg vdH e.V.","SCHM: Mau, Bastian",{"$f":"VLOOKUP(A2255,bangolf_kategorien!$A$2:$B$11,2,FALSE)","v":"SCHM"}]
["hs",35865,"Dennis","Mau","1. Minigolf-Club Rheinhausen e.V.","H: Mau, Dennis",{"$f":"VLOOKUP(A2256,bangolf_kategorien!$A$2:$B$11,2,FALSE)","v":"H"}]
["pa",66874,"Felix","Mau","MGC Bad Homburg vdH e.V.","SCHM: Mau, Felix",{"$f":"VLOOKUP(A2257,bangolf_kategorien!$A$2:$B$11,2,FALSE)","v":"SCHM"}]
["ob",48353,"Jürgen","Mau","1. Minigolf-Club Rheinhausen e.V.","SM1: Mau, Jürgen",{"$f":"VLOOKUP(A2258,bangolf_kategorien!$A$2:$B$11,2,FALSE)","v":"SM1"}]
["hv",6782,"Ernst","Mauél","1. MGC Mainz e.V.","SM2: Mauél, Ernst",{"$f":"VLOOKUP(A2259,bangolf_kategorien!$A$2:$B$11,2,FALSE)","v":"SM2"}]
["hs",38580,"Raik","Mauersberger","MGF Magdeburg 1995 e.V.","H: Mauersberger, Raik",{"$f":"VLOOKUP(A2260,bangolf_kategorien!$A$2:$B$11,2,FALSE)","v":"H"}]
["hj",66039,"Moritz","Maul","SG Arheilgen Abt. Bahnengolf","JM: Maul, Moritz",{"$f":"VLOOKUP(A2261,bangolf_kategorien!$A$2:$B$11,2,FALSE)","v":"JM"}]
["ob",34481,"Claus","Maurer","1. MGC Mannheim 1968 e.V.","SM1: Maurer, Claus",{"$f":"VLOOKUP(A2262,bangolf_kategorien!$A$2:$B$11,2,FALSE)","v":"SM1"}]
["hv",5100,"Franz","Maurer","1. MGC Ludwigshafen e.V.","SM2: Maurer, Franz",{"$f":"VLOOKUP(A2263,bangolf_kategorien!$A$2:$B$11,2,FALSE)","v":"SM2"}]
["ob",37831,"Christian","Mauser","TSV Arendsee e.V.","SM1: Mauser, Christian",{"$f":"VLOOKUP(A2264,bangolf_kategorien!$A$2:$B$11,2,FALSE)","v":"SM1"}]
["dv",66699,"Roswitha","Maute","1. MGC Hechingen","SW2: Maute, Roswitha",{"$f":"VLOOKUP(A2265,bangolf_kategorien!$A$2:$B$11,2,FALSE)","v":"SW2"}]
["ob",42368,"Bernd","May","1. MGC Ladenburg e.V.","SM1: May, Bernd",{"$f":"VLOOKUP(A2266,bangolf_kategorien!$A$2:$B$11,2,FALSE)","v":"SM1"}]
["ob",66848,"Max","Mayer","1. CGC Blau-Gelb Grötzingen","SM1: Mayer, Max",{"$f":"VLOOKUP(A2267,bangolf_kategorien!$A$2:$B$11,2,FALSE)","v":"SM1"}]
["fa",3114567,"Ursula","Mayer","Hobby","SCHW: Mayer, Ursula",{"$f":"VLOOKUP(A2268,bangolf_kategorien!$A$2:$B$11,2,FALSE)","v":"SCHW"}]
["ob",45271,"Gerd","Mayerhofer","1. MGC Süßen e.V.","SM1: Mayerhofer, Gerd",{"$f":"VLOOKUP(A2269,bangolf_kategorien!$A$2:$B$11,2,FALSE)","v":"SM1"}]
["hv",9823,"Herbert","Mazzoli","1. MGC Köln 1961 e.V.","SM2: Mazzoli, Herbert",{"$f":"VLOOKUP(A2270,bangolf_kategorien!$A$2:$B$11,2,FALSE)","v":"SM2"}]
["ds",67254,"Janine","Medding","1. MGV Spandau Berlin e.V.","D: Medding, Janine",{"$f":"VLOOKUP(A2271,bangolf_kategorien!$A$2:$B$11,2,FALSE)","v":"D"}]
["hs",67253,"Marlon","Medding","1. MGV Spandau Berlin e.V.","H: Medding, Marlon",{"$f":"VLOOKUP(A2272,bangolf_kategorien!$A$2:$B$11,2,FALSE)","v":"H"}]
["hs",50149,"Marco","Meffert","MGC Dormagen-Brechten e.V.","H: Meffert, Marco",{"$f":"VLOOKUP(A2273,bangolf_kategorien!$A$2:$B$11,2,FALSE)","v":"H"}]
["hj",66216,"Christopher","Mehl","MC Ilvesheim e.V.","JM: Mehl, Christopher",{"$f":"VLOOKUP(A2274,bangolf_kategorien!$A$2:$B$11,2,FALSE)","v":"JM"}]
["ob",66329,"Tino","Mehlhorn","Kölner Miniatur Golf Club e.V.","SM1: Mehlhorn, Tino",{"$f":"VLOOKUP(A2275,bangolf_kategorien!$A$2:$B$11,2,FALSE)","v":"SM1"}]
["ob",40719,"Achim","Meier","Minigolfunion Neviges-Odenthal 1968 e.V.","SM1: Meier, Achim",{"$f":"VLOOKUP(A2276,bangolf_kategorien!$A$2:$B$11,2,FALSE)","v":"SM1"}]
["hv",36229,"Manfred","Meier","BGC Kiel West e.V.","SM2: Meier, Manfred",{"$f":"VLOOKUP(A2277,bangolf_kategorien!$A$2:$B$11,2,FALSE)","v":"SM2"}]
["og",38562,"Marianne","Meier","MGC Unterschneidheim e.V.","SW1: Meier, Marianne",{"$f":"VLOOKUP(A2278,bangolf_kategorien!$A$2:$B$11,2,FALSE)","v":"SW1"}]
["hv",17103,"Uwe","Meier","BGSV Kerpen e.V.","SM2: Meier, Uwe",{"$f":"VLOOKUP(A2279,bangolf_kategorien!$A$2:$B$11,2,FALSE)","v":"SM2"}]
["hv",47267,"Ralf","Meierkord","MGC Bad Salzuflen e.V.","SM2: Meierkord, Ralf",{"$f":"VLOOKUP(A2280,bangolf_kategorien!$A$2:$B$11,2,FALSE)","v":"SM2"}]
["dv",36232,"Hiltraut","Meissner","MC Flora Elmshorn e.V.","SW2: Meissner, Hiltraut",{"$f":"VLOOKUP(A2281,bangolf_kategorien!$A$2:$B$11,2,FALSE)","v":"SW2"}]
["hs",66188,"Lars","Meißner","MGC Wetzlar e.V.","H: Meißner, Lars",{"$f":"VLOOKUP(A2282,bangolf_kategorien!$A$2:$B$11,2,FALSE)","v":"H"}]
["hv",61096,"Manfred","Meißner","1. MGC Peine von 1965 e.V.","SM2: Meißner, Manfred",{"$f":"VLOOKUP(A2283,bangolf_kategorien!$A$2:$B$11,2,FALSE)","v":"SM2"}]
["hv",50463,"Hans-Peter","Meister","1. MGC Ludwigshafen e.V.","SM2: Meister, Hans-Peter",{"$f":"VLOOKUP(A2284,bangolf_kategorien!$A$2:$B$11,2,FALSE)","v":"SM2"}]
["hs",31912,"Markus","Meister","1. MGC Ludwigshafen e.V.","H: Meister, Markus",{"$f":"VLOOKUP(A2285,bangolf_kategorien!$A$2:$B$11,2,FALSE)","v":"H"}]
["hv",29300,"Werner","Meixner","MGF Hammer e.V.","SM2: Meixner, Werner",{"$f":"VLOOKUP(A2286,bangolf_kategorien!$A$2:$B$11,2,FALSE)","v":"SM2"}]
["pa",3108937,"Silas","Melzer","Hobby","SCHM: Melzer, Silas",{"$f":"VLOOKUP(A2287,bangolf_kategorien!$A$2:$B$11,2,FALSE)","v":"SCHM"}]
["ob",3212022,"Ludwig","Memminger","Hobby","SM1: Memminger, Ludwig",{"$f":"VLOOKUP(A2288,bangolf_kategorien!$A$2:$B$11,2,FALSE)","v":"SM1"}]
["og",66823,"Desirée","Mende","MGF Ottobrunn e.V.","SW1: Mende, Desirée",{"$f":"VLOOKUP(A2289,bangolf_kategorien!$A$2:$B$11,2,FALSE)","v":"SW1"}]
["hv",66705,"Günter","Mendyk","MGC Dortmund Syburg e.V.","SM2: Mendyk, Günter",{"$f":"VLOOKUP(A2290,bangolf_kategorien!$A$2:$B$11,2,FALSE)","v":"SM2"}]
["hv",6066,"Harald","Menzel","1. Minigolf-Club Rheinhausen e.V.","SM2: Menzel, Harald",{"$f":"VLOOKUP(A2291,bangolf_kategorien!$A$2:$B$11,2,FALSE)","v":"SM2"}]
["ds",36022,"Melanie","Menzel","1. Essener CGC \"Blau-Gold\" e.V.","D: Menzel, Melanie",{"$f":"VLOOKUP(A2292,bangolf_kategorien!$A$2:$B$11,2,FALSE)","v":"D"}]
["hs",1077,"Patrick","Menzel","TSV Salzgitter e.V. Abt. Bahnengolf","H: Menzel, Patrick",{"$f":"VLOOKUP(A2293,bangolf_kategorien!$A$2:$B$11,2,FALSE)","v":"H"}]
["hv",9558,"Bernhard","Merges","MSV Bad Kreuznach","SM2: Merges, Bernhard",{"$f":"VLOOKUP(A2294,bangolf_kategorien!$A$2:$B$11,2,FALSE)","v":"SM2"}]
["dv",66483,"Karin","Merkens","BGSV Castrop e.V. 1961","SW2: Merkens, Karin",{"$f":"VLOOKUP(A2295,bangolf_kategorien!$A$2:$B$11,2,FALSE)","v":"SW2"}]
["ob",45439,"Carsten","Mertens","1.KGC Mönchengladbach e.V.","SM1: Mertens, Carsten",{"$f":"VLOOKUP(A2296,bangolf_kategorien!$A$2:$B$11,2,FALSE)","v":"SM1"}]
["ds",3216553,"Peggy","Mertmann","Hobby","D: Mertmann, Peggy",{"$f":"VLOOKUP(A2297,bangolf_kategorien!$A$2:$B$11,2,FALSE)","v":"D"}]
["hv",35707,"Karl-Heinz","Mertsch","1. MGC Kassel 1964 e.V.","SM2: Mertsch, Karl-Heinz",{"$f":"VLOOKUP(A2298,bangolf_kategorien!$A$2:$B$11,2,FALSE)","v":"SM2"}]
["ob",33679,"Peter","Merz","BGC Schweinfurt e.V.","SM1: Merz, Peter",{"$f":"VLOOKUP(A2299,bangolf_kategorien!$A$2:$B$11,2,FALSE)","v":"SM1"}]
["hv",3186080,"Gerhard","Meßner","Hobby","SM2: Meßner, Gerhard",{"$f":"VLOOKUP(A2300,bangolf_kategorien!$A$2:$B$11,2,FALSE)","v":"SM2"}]
["dv",3186081,"Uta","Meßner","Hobby","SW2: Meßner, Uta",{"$f":"VLOOKUP(A2301,bangolf_kategorien!$A$2:$B$11,2,FALSE)","v":"SW2"}]
["ob",37881,"Claus","Methner","1. MGC Metzingen e.V.","SM1: Methner, Claus",{"$f":"VLOOKUP(A2302,bangolf_kategorien!$A$2:$B$11,2,FALSE)","v":"SM1"}]
["ob",35351,"Marc","Mette","1. MGC Gelsenkirchen e.V.","SM1: Mette, Marc",{"$f":"VLOOKUP(A2303,bangolf_kategorien!$A$2:$B$11,2,FALSE)","v":"SM1"}]
["ob",50336,"Marcus","Mettler","MCE Sindelfingen e.V.","SM1: Mettler, Marcus",{"$f":"VLOOKUP(A2304,bangolf_kategorien!$A$2:$B$11,2,FALSE)","v":"SM1"}]
["hs",36983,"Marc","Metz","MGC Bad Homburg vdH e.V.","H: Metz, Marc",{"$f":"VLOOKUP(A2305,bangolf_kategorien!$A$2:$B$11,2,FALSE)","v":"H"}]
["og",66505,"Bettina","Meyer","MCE Sindelfingen e.V.","SW1: Meyer, Bettina",{"$f":"VLOOKUP(A2306,bangolf_kategorien!$A$2:$B$11,2,FALSE)","v":"SW1"}]
["ds",67298,"Britta","Meyer","KSV Baltrum e.V.",{"$f":"CONCATENATE(G2307,\": \",D2307,\", \",C2307)","v":"D: Meyer, Britta"},{"$f":"VLOOKUP(A2307,bangolf_kategorien!$A$2:$B$11,2,FALSE)","v":"D"}]
["dv",65621,"Christa","Meyer","1. BGC Paderborn e.V.","SW2: Meyer, Christa",{"$f":"VLOOKUP(A2308,bangolf_kategorien!$A$2:$B$11,2,FALSE)","v":"SW2"}]
["hv",37944,"Dieter","Meyer","SV Lurup Abt. Bahnengolf","SM2: Meyer, Dieter",{"$f":"VLOOKUP(A2309,bangolf_kategorien!$A$2:$B$11,2,FALSE)","v":"SM2"}]
["ob",29486,"Josef","Meyer","BGC Dormagen e.V.","SM1: Meyer, Josef",{"$f":"VLOOKUP(A2310,bangolf_kategorien!$A$2:$B$11,2,FALSE)","v":"SM1"}]
["ob",41492,"Klaus","Meyer","MSC Bad Godesberg e.V.","SM1: Meyer, Klaus",{"$f":"VLOOKUP(A2311,bangolf_kategorien!$A$2:$B$11,2,FALSE)","v":"SM1"}]
["hj",37700,"Marcus","Meyer","MCE Sindelfingen e.V.","JM: Meyer, Marcus",{"$f":"VLOOKUP(A2312,bangolf_kategorien!$A$2:$B$11,2,FALSE)","v":"JM"}]
["og",66816,"Marita","Meyer","MGV Bremen e.V.","SW1: Meyer, Marita",{"$f":"VLOOKUP(A2313,bangolf_kategorien!$A$2:$B$11,2,FALSE)","v":"SW1"}]
["ob",37065,"Matthias","Meyer","MSV 05 Bad Münder / Springe e.V.","SM1: Meyer, Matthias",{"$f":"VLOOKUP(A2314,bangolf_kategorien!$A$2:$B$11,2,FALSE)","v":"SM1"}]
["hs",67085,"Michael","Meyer","1. Minigolf-Club Rheinhausen e.V.","H: Meyer, Michael",{"$f":"VLOOKUP(A2315,bangolf_kategorien!$A$2:$B$11,2,FALSE)","v":"H"}]
["ds",24684,"Monique","Meyer","BGV Backumer Tal Herten e.V.","D: Meyer, Monique",{"$f":"VLOOKUP(A2316,bangolf_kategorien!$A$2:$B$11,2,FALSE)","v":"D"}]
["hv",36748,"Rolf","Meyer","VfM Bottrop e.V.","SM2: Meyer, Rolf",{"$f":"VLOOKUP(A2317,bangolf_kategorien!$A$2:$B$11,2,FALSE)","v":"SM2"}]
["ob",29467,"Werner","Meyer","MCE Sindelfingen e.V.","SM1: Meyer, Werner",{"$f":"VLOOKUP(A2318,bangolf_kategorien!$A$2:$B$11,2,FALSE)","v":"SM1"}]
["hv",67117,"Werner","Meyer","SG Arheilgen Abt. Bahnengolf","SM2: Meyer, Werner",{"$f":"VLOOKUP(A2319,bangolf_kategorien!$A$2:$B$11,2,FALSE)","v":"SM2"}]
["hs",3239470,"Miroslaw","Michalski","Hobby","H: Michalski, Miroslaw",{"$f":"VLOOKUP(A2320,bangolf_kategorien!$A$2:$B$11,2,FALSE)","v":"H"}]
["hs",67403,"Miroslaw","Michalski","MGC Dormagen-Brechten e.V.","H: Michalski, Miroslaw",{"$f":"VLOOKUP(A2321,bangolf_kategorien!$A$2:$B$11,2,FALSE)","v":"H"}]
["hv",64086,"Adolf","Michel","BGC Schweinfurt e.V.","SM2: Michel, Adolf",{"$f":"VLOOKUP(A2322,bangolf_kategorien!$A$2:$B$11,2,FALSE)","v":"SM2"}]
["hs",66389,"Nils","Michel","1. MSC Wesel 6.6.1966 e.V.","H: Michel, Nils",{"$f":"VLOOKUP(A2323,bangolf_kategorien!$A$2:$B$11,2,FALSE)","v":"H"}]
["ob",33682,"Ralf","Michel","MGC Wertheim 91 e.V.","SM1: Michel, Ralf",{"$f":"VLOOKUP(A2324,bangolf_kategorien!$A$2:$B$11,2,FALSE)","v":"SM1"}]
["hv",66899,"Roland","Michel","1. MSC Wesel 6.6.1966 e.V.","SM2: Michel, Roland",{"$f":"VLOOKUP(A2325,bangolf_kategorien!$A$2:$B$11,2,FALSE)","v":"SM2"}]
["og",41683,"Claudia","Michenfelder","BIG ASPERG e.V.","SW1: Michenfelder, Claudia",{"$f":"VLOOKUP(A2326,bangolf_kategorien!$A$2:$B$11,2,FALSE)","v":"SW1"}]
["dv",33337,"Sigrid","Michna","MC \"Möve\" Cuxhaven-Sahlenburg e.V.","SW2: Michna, Sigrid",{"$f":"VLOOKUP(A2327,bangolf_kategorien!$A$2:$B$11,2,FALSE)","v":"SW2"}]
["hv",33336,"Wolfgang","Michna","MC \"Möve\" Cuxhaven-Sahlenburg e.V.","SM2: Michna, Wolfgang",{"$f":"VLOOKUP(A2328,bangolf_kategorien!$A$2:$B$11,2,FALSE)","v":"SM2"}]
["ob",67307,"Horst","Miebach","MGC Nümbrecht e.V.","SM1: Miebach, Horst",{"$f":"VLOOKUP(A2329,bangolf_kategorien!$A$2:$B$11,2,FALSE)","v":"SM1"}]
["ob",30858,"Jörg","Mielenz","BGV Bergisch Land 1962 / 63 e.V.","SM1: Mielenz, Jörg",{"$f":"VLOOKUP(A2330,bangolf_kategorien!$A$2:$B$11,2,FALSE)","v":"SM1"}]
["hs",30714,"Frederick","Mießner","MGC Murnau am Staffelsee e.V.","H: Mießner, Frederick",{"$f":"VLOOKUP(A2331,bangolf_kategorien!$A$2:$B$11,2,FALSE)","v":"H"}]
["ob",67257,"Frank","Milbers","1. MGC Mannheim 1968 e.V.","SM1: Milbers, Frank",{"$f":"VLOOKUP(A2332,bangolf_kategorien!$A$2:$B$11,2,FALSE)","v":"SM1"}]
["og",67266,"Monika","Milbers","1. MGC Mannheim 1968 e.V.","SW1: Milbers, Monika",{"$f":"VLOOKUP(A2333,bangolf_kategorien!$A$2:$B$11,2,FALSE)","v":"SW1"}]
["hv",8613,"Klaus","Mildenberger","1. CGC Blau-Gelb Grötzingen","SM2: Mildenberger, Klaus",{"$f":"VLOOKUP(A2334,bangolf_kategorien!$A$2:$B$11,2,FALSE)","v":"SM2"}]
["hs",65828,"Maximilian","Millhoff","SSC Attendorn e.V.","H: Millhoff, Maximilian",{"$f":"VLOOKUP(A2335,bangolf_kategorien!$A$2:$B$11,2,FALSE)","v":"H"}]
["hs",3202281,"Henrik","Minta","Hobby","H: Minta, Henrik",{"$f":"VLOOKUP(A2336,bangolf_kategorien!$A$2:$B$11,2,FALSE)","v":"H"}]
["ob",42588,"Andreas","Minuth","1. BGC Wolfsburg","SM1: Minuth, Andreas",{"$f":"VLOOKUP(A2337,bangolf_kategorien!$A$2:$B$11,2,FALSE)","v":"SM1"}]
["dv",4622,"Hanna","Minuth","1. BGC Wolfsburg","SW2: Minuth, Hanna",{"$f":"VLOOKUP(A2338,bangolf_kategorien!$A$2:$B$11,2,FALSE)","v":"SW2"}]
["hv",4621,"Karl-Heinz","Minuth","1. BGC Wolfsburg","SM2: Minuth, Karl-Heinz",{"$f":"VLOOKUP(A2339,bangolf_kategorien!$A$2:$B$11,2,FALSE)","v":"SM2"}]
["ob",25538,"Volker","Missonnier","1. MGC Mainz e.V.","SM1: Missonnier, Volker",{"$f":"VLOOKUP(A2340,bangolf_kategorien!$A$2:$B$11,2,FALSE)","v":"SM1"}]
["ob",28918,"Udo","Mitscher","MGC Traben-Trarbach","SM1: Mitscher, Udo",{"$f":"VLOOKUP(A2341,bangolf_kategorien!$A$2:$B$11,2,FALSE)","v":"SM1"}]
["og",36005,"Claudia","Mitschke","MGC Bad Salzuflen e.V.","SW1: Mitschke, Claudia",{"$f":"VLOOKUP(A2342,bangolf_kategorien!$A$2:$B$11,2,FALSE)","v":"SW1"}]
["ob",38040,"Frank","Mitschke","SSC Halver e.V.","SM1: Mitschke, Frank",{"$f":"VLOOKUP(A2343,bangolf_kategorien!$A$2:$B$11,2,FALSE)","v":"SM1"}]
["ds",66976,"Nadja","Mittelhammer","1. MC Weinheim e.V.","D: Mittelhammer, Nadja",{"$f":"VLOOKUP(A2344,bangolf_kategorien!$A$2:$B$11,2,FALSE)","v":"D"}]
["hs",38539,"Stefan","Mittelhammer","1. MC Weinheim e.V.","H: Mittelhammer, Stefan",{"$f":"VLOOKUP(A2345,bangolf_kategorien!$A$2:$B$11,2,FALSE)","v":"H"}]
["ob",27214,"Norbert","Mitterle","TG Höchberg von 1862 Bahnengolf e.V.","SM1: Mitterle, Norbert",{"$f":"VLOOKUP(A2346,bangolf_kategorien!$A$2:$B$11,2,FALSE)","v":"SM1"}]
["hv",35154,"Alfred","Mix","BSV 86 München e.V.","SM2: Mix, Alfred",{"$f":"VLOOKUP(A2347,bangolf_kategorien!$A$2:$B$11,2,FALSE)","v":"SM2"}]
["ob",50242,"Joachim","Möbis","BGSV Castrop e.V. 1961","SM1: Möbis, Joachim",{"$f":"VLOOKUP(A2348,bangolf_kategorien!$A$2:$B$11,2,FALSE)","v":"SM1"}]
["og",38091,"Christine","Möbs","MGC Ingolstadt e.V.","SW1: Möbs, Christine",{"$f":"VLOOKUP(A2349,bangolf_kategorien!$A$2:$B$11,2,FALSE)","v":"SW1"}]
["ob",38090,"Lothar","Möbs","MGC Ingolstadt e.V.","SM1: Möbs, Lothar",{"$f":"VLOOKUP(A2350,bangolf_kategorien!$A$2:$B$11,2,FALSE)","v":"SM1"}]
["hv",22203,"Rüdiger","Möck","MGC Millennium Lorsch e.V.","SM2: Möck, Rüdiger",{"$f":"VLOOKUP(A2351,bangolf_kategorien!$A$2:$B$11,2,FALSE)","v":"SM2"}]
["ds",34386,"Jasmin","Möckel","MGC Bad Soden-Salmünster","D: Möckel, Jasmin",{"$f":"VLOOKUP(A2352,bangolf_kategorien!$A$2:$B$11,2,FALSE)","v":"D"}]
["hv",33787,"Jürgen","Möckel","MGC Bad Soden-Salmünster","SM2: Möckel, Jürgen",{"$f":"VLOOKUP(A2353,bangolf_kategorien!$A$2:$B$11,2,FALSE)","v":"SM2"}]
["dv",33788,"Jutta","Möckel","MGC Bad Soden-Salmünster","SW2: Möckel, Jutta",{"$f":"VLOOKUP(A2354,bangolf_kategorien!$A$2:$B$11,2,FALSE)","v":"SW2"}]
["ob",38376,"Bernd","Möhler","TV Niederstetten 1862 e.V.  Abt. Minigolf","SM1: Möhler, Bernd",{"$f":"VLOOKUP(A2355,bangolf_kategorien!$A$2:$B$11,2,FALSE)","v":"SM1"}]
["hj",65870,"Julian","Möhler","MGC Schwaikheim e.V.","JM: Möhler, Julian",{"$f":"VLOOKUP(A2356,bangolf_kategorien!$A$2:$B$11,2,FALSE)","v":"JM"}]
["hs",38152,"Manuel","Möhler","MGC Schwaikheim e.V.","H: Möhler, Manuel",{"$f":"VLOOKUP(A2357,bangolf_kategorien!$A$2:$B$11,2,FALSE)","v":"H"}]
["hs",49769,"Wilfried","Mohr","SC Gut Heil Neumünster e.V.","H: Mohr, Wilfried",{"$f":"VLOOKUP(A2358,bangolf_kategorien!$A$2:$B$11,2,FALSE)","v":"H"}]
["hv",40845,"Jakob","Mois","MGC Murnau am Staffelsee e.V.","SM2: Mois, Jakob",{"$f":"VLOOKUP(A2359,bangolf_kategorien!$A$2:$B$11,2,FALSE)","v":"SM2"}]
["ds",67231,"Michelle","Moldenhauer","BGC Oberhausen e.V.","D: Moldenhauer, Michelle",{"$f":"VLOOKUP(A2360,bangolf_kategorien!$A$2:$B$11,2,FALSE)","v":"D"}]
["dv",5649,"Heidi","Moll","CGC Rauschenberg e.V.","SW2: Moll, Heidi",{"$f":"VLOOKUP(A2361,bangolf_kategorien!$A$2:$B$11,2,FALSE)","v":"SW2"}]
["ob",30348,"Maik","Moll","1. CGC Blau-Gelb Grötzingen","SM1: Moll, Maik",{"$f":"VLOOKUP(A2362,bangolf_kategorien!$A$2:$B$11,2,FALSE)","v":"SM1"}]
["hs",37921,"David","Möller","MSK Olching e.V.","H: Möller, David",{"$f":"VLOOKUP(A2363,bangolf_kategorien!$A$2:$B$11,2,FALSE)","v":"H"}]
["hv",17358,"Egon","Möller","BGC Bad Berneck e.V.","SM2: Möller, Egon",{"$f":"VLOOKUP(A2364,bangolf_kategorien!$A$2:$B$11,2,FALSE)","v":"SM2"}]
["hv",3551,"Friedrich-Wilhelm","Möller","BGC Diepholz e.V.","SM2: Möller, Friedrich-Wilhelm",{"$f":"VLOOKUP(A2365,bangolf_kategorien!$A$2:$B$11,2,FALSE)","v":"SM2"}]
["hs",33192,"Markus","Möller","VfB Osnabrück e.V.","H: Möller, Markus",{"$f":"VLOOKUP(A2366,bangolf_kategorien!$A$2:$B$11,2,FALSE)","v":"H"}]
["hv",17359,"Wolfgang","Möller","MGC Brunsbüttel e.V.","SM2: Möller, Wolfgang",{"$f":"VLOOKUP(A2367,bangolf_kategorien!$A$2:$B$11,2,FALSE)","v":"SM2"}]
["hs",37430,"Karel jr.","Molnár","BGS Hardenberg-Pötter e.V.","H: Molnár, Karel jr.",{"$f":"VLOOKUP(A2368,bangolf_kategorien!$A$2:$B$11,2,FALSE)","v":"H"}]
["og",31014,"Marion","Mombauer","BGC Uerdingen e.V.","SW1: Mombauer, Marion",{"$f":"VLOOKUP(A2369,bangolf_kategorien!$A$2:$B$11,2,FALSE)","v":"SW1"}]
["pa",67202,"Felix Leon","Mönnig","CGC Rauschenberg e.V.","SCHM: Mönnig, Felix Leon",{"$f":"VLOOKUP(A2370,bangolf_kategorien!$A$2:$B$11,2,FALSE)","v":"SCHM"}]
["ob",26414,"Richard","Mönning","1. MGC Epe 1978 e.V.",{"$f":"CONCATENATE(G2371,\": \",D2371,\", \",C2371)","v":"SM1: Mönning, Richard"},{"$f":"VLOOKUP(A2371,bangolf_kategorien!$A$2:$B$11,2,FALSE)","v":"SM1"}]
["hs",38208,"Tobias","Montberg","1. MSC Wesel 6.6.1966 e.V.","H: Montberg, Tobias",{"$f":"VLOOKUP(A2372,bangolf_kategorien!$A$2:$B$11,2,FALSE)","v":"H"}]
["ob",36103,"Michael","Montes","MSK Neheim-Hüsten e.V.","SM1: Montes, Michael",{"$f":"VLOOKUP(A2373,bangolf_kategorien!$A$2:$B$11,2,FALSE)","v":"SM1"}]
["hv",12100,"Hans","Mordhorst","VfM e.V. Berlin","SM2: Mordhorst, Hans",{"$f":"VLOOKUP(A2374,bangolf_kategorien!$A$2:$B$11,2,FALSE)","v":"SM2"}]
["dv",17884,"Rosemarie","Mordhorst","VfM e.V. Berlin","SW2: Mordhorst, Rosemarie",{"$f":"VLOOKUP(A2375,bangolf_kategorien!$A$2:$B$11,2,FALSE)","v":"SW2"}]
["ob",67348,"Ruggiero","Morelli","1. MGC Ludwigshafen e.V.","SM1: Morelli, Ruggiero",{"$f":"VLOOKUP(A2376,bangolf_kategorien!$A$2:$B$11,2,FALSE)","v":"SM1"}]
["og",25840,"Angela","Morgenstern","BGS Hardenberg-Pötter e.V.","SW1: Morgenstern, Angela",{"$f":"VLOOKUP(A2377,bangolf_kategorien!$A$2:$B$11,2,FALSE)","v":"SW1"}]
["hv",66745,"Peter","Morgenstern","Biskirchener BGV e.V.","SM2: Morgenstern, Peter",{"$f":"VLOOKUP(A2378,bangolf_kategorien!$A$2:$B$11,2,FALSE)","v":"SM2"}]
["og",36599,"Brigitte","Morhardt","1. MGC Metzingen e.V.","SW1: Morhardt, Brigitte",{"$f":"VLOOKUP(A2379,bangolf_kategorien!$A$2:$B$11,2,FALSE)","v":"SW1"}]
["ob",67020,"Rainer","Moritz","BGC Schweinfurt e.V.","SM1: Moritz, Rainer",{"$f":"VLOOKUP(A2380,bangolf_kategorien!$A$2:$B$11,2,FALSE)","v":"SM1"}]
["hj",66564,"Daniel","Mörixbauer","1. MGC Süßen e.V.","JM: Mörixbauer, Daniel",{"$f":"VLOOKUP(A2381,bangolf_kategorien!$A$2:$B$11,2,FALSE)","v":"JM"}]
["ob",66727,"Jürgen","Mörixbauer","1. MGC Süßen e.V.","SM1: Mörixbauer, Jürgen",{"$f":"VLOOKUP(A2382,bangolf_kategorien!$A$2:$B$11,2,FALSE)","v":"SM1"}]
["dv",12835,"Gisela","Morsch","MSV Berliner Bär e.V.","SW2: Morsch, Gisela",{"$f":"VLOOKUP(A2383,bangolf_kategorien!$A$2:$B$11,2,FALSE)","v":"SW2"}]
["hv",3477,"Kurt","Morsch","MSV Berliner Bär e.V.","SM2: Morsch, Kurt",{"$f":"VLOOKUP(A2384,bangolf_kategorien!$A$2:$B$11,2,FALSE)","v":"SM2"}]
["ob",37807,"Detlef","Morschick","BGC Dormagen e.V.","SM1: Morschick, Detlef",{"$f":"VLOOKUP(A2385,bangolf_kategorien!$A$2:$B$11,2,FALSE)","v":"SM1"}]
["hs",37808,"Kevin","Morschick","BGC Dormagen e.V.","H: Morschick, Kevin",{"$f":"VLOOKUP(A2386,bangolf_kategorien!$A$2:$B$11,2,FALSE)","v":"H"}]
["hs",38414,"Markus","Mosch","1. MGC Paderborn e.V.","H: Mosch, Markus",{"$f":"VLOOKUP(A2387,bangolf_kategorien!$A$2:$B$11,2,FALSE)","v":"H"}]
["ob",42254,"Rüdiger","Moser","VfM Bottrop e.V.","SM1: Moser, Rüdiger",{"$f":"VLOOKUP(A2388,bangolf_kategorien!$A$2:$B$11,2,FALSE)","v":"SM1"}]
["hj",66421,"Colin","Mössinger","BGSV Kerpen e.V.","JM: Mössinger, Colin",{"$f":"VLOOKUP(A2389,bangolf_kategorien!$A$2:$B$11,2,FALSE)","v":"JM"}]
["hj",66420,"Gereth Neville","Mössinger","BGSV Kerpen e.V.","JM: Mössinger, Gereth Neville",{"$f":"VLOOKUP(A2390,bangolf_kategorien!$A$2:$B$11,2,FALSE)","v":"JM"}]
["hv",36162,"Philipp","Most","MGC \"Stahlquelle\" Bad Bocklet","SM2: Most, Philipp",{"$f":"VLOOKUP(A2391,bangolf_kategorien!$A$2:$B$11,2,FALSE)","v":"SM2"}]
["hs",38557,"Alexander","Mrohs","Niendorfer MC v. 1963 e.V.","H: Mrohs, Alexander",{"$f":"VLOOKUP(A2392,bangolf_kategorien!$A$2:$B$11,2,FALSE)","v":"H"}]
["hj",67032,"Moritz","Mrozek","BSC Ennepetal e.V.","JM: Mrozek, Moritz",{"$f":"VLOOKUP(A2393,bangolf_kategorien!$A$2:$B$11,2,FALSE)","v":"JM"}]
["ob",28527,"Martin","Much","MSK Neheim-Hüsten e.V.","SM1: Much, Martin",{"$f":"VLOOKUP(A2394,bangolf_kategorien!$A$2:$B$11,2,FALSE)","v":"SM1"}]
["hs",40247,"Jan","Muckenhaupt","SSC Attendorn e.V.","H: Muckenhaupt, Jan",{"$f":"VLOOKUP(A2395,bangolf_kategorien!$A$2:$B$11,2,FALSE)","v":"H"}]
["hv",43491,"Willy","Mühlberg","SV Lurup Abt. Bahnengolf","SM2: Mühlberg, Willy",{"$f":"VLOOKUP(A2396,bangolf_kategorien!$A$2:$B$11,2,FALSE)","v":"SM2"}]
["ob",29511,"Dirk","Mühlenbeck","HMC Büttgen e.V.","SM1: Mühlenbeck, Dirk",{"$f":"VLOOKUP(A2397,bangolf_kategorien!$A$2:$B$11,2,FALSE)","v":"SM1"}]
["ob",49369,"Dirk","Mühling","MGC Heven e.V.","SM1: Mühling, Dirk",{"$f":"VLOOKUP(A2398,bangolf_kategorien!$A$2:$B$11,2,FALSE)","v":"SM1"}]
["dv",49363,"Irene","Mühling","MGC Heven e.V.","SW2: Mühling, Irene",{"$f":"VLOOKUP(A2399,bangolf_kategorien!$A$2:$B$11,2,FALSE)","v":"SW2"}]
["hv",66557,"Peter","Mühlstein","1. BGC Landshut e.V.","SM2: Mühlstein, Peter",{"$f":"VLOOKUP(A2400,bangolf_kategorien!$A$2:$B$11,2,FALSE)","v":"SM2"}]
["dv",67226,"Renate","Mühlstein","1. BGC Landshut e.V.","SW2: Mühlstein, Renate",{"$f":"VLOOKUP(A2401,bangolf_kategorien!$A$2:$B$11,2,FALSE)","v":"SW2"}]
["dv",65620,"Karin","Mulfinger","MGF Ottobrunn e.V.","SW2: Mulfinger, Karin",{"$f":"VLOOKUP(A2402,bangolf_kategorien!$A$2:$B$11,2,FALSE)","v":"SW2"}]
["hv",38076,"Peter","Mulfinger","MGF Ottobrunn e.V.","SM2: Mulfinger, Peter",{"$f":"VLOOKUP(A2403,bangolf_kategorien!$A$2:$B$11,2,FALSE)","v":"SM2"}]
["ob",20828,"Hans Dieter","Müllen","MGC Traben-Trarbach","SM1: Müllen, Hans Dieter",{"$f":"VLOOKUP(A2404,bangolf_kategorien!$A$2:$B$11,2,FALSE)","v":"SM1"}]
["ob",45151,"Alexander","Müller","1. MGC Metzingen e.V.","SM1: Müller, Alexander",{"$f":"VLOOKUP(A2405,bangolf_kategorien!$A$2:$B$11,2,FALSE)","v":"SM1"}]
["hv",40912,"Axel","Müller","1. KC Homburg-Saar 1967 e.V.","SM2: Müller, Axel",{"$f":"VLOOKUP(A2406,bangolf_kategorien!$A$2:$B$11,2,FALSE)","v":"SM2"}]
["hs",35740,"Benjamin","Müller","MGC Traben-Trarbach","H: Müller, Benjamin",{"$f":"VLOOKUP(A2407,bangolf_kategorien!$A$2:$B$11,2,FALSE)","v":"H"}]
["hv",33080,"Berndt","Müller","MCE Sindelfingen e.V.","SM2: Müller, Berndt",{"$f":"VLOOKUP(A2408,bangolf_kategorien!$A$2:$B$11,2,FALSE)","v":"SM2"}]
["hs",32762,"Björn","Müller","MC \"Möve\" Cuxhaven-Sahlenburg e.V.","H: Müller, Björn",{"$f":"VLOOKUP(A2409,bangolf_kategorien!$A$2:$B$11,2,FALSE)","v":"H"}]
["hs",3194213,"Daniel","Müller","Hobby","H: Müller, Daniel",{"$f":"VLOOKUP(A2410,bangolf_kategorien!$A$2:$B$11,2,FALSE)","v":"H"}]
["hs",48182,"Dirk","Müller","MGC Freizeitzentrum Biebertal","H: Müller, Dirk",{"$f":"VLOOKUP(A2411,bangolf_kategorien!$A$2:$B$11,2,FALSE)","v":"H"}]
["dv",34489,"Elli","Müller","MSC Bad Godesberg e.V.","SW2: Müller, Elli",{"$f":"VLOOKUP(A2412,bangolf_kategorien!$A$2:$B$11,2,FALSE)","v":"SW2"}]
["hs",67245,"Frank","Müller","MGC Heven e.V.","H: Müller, Frank",{"$f":"VLOOKUP(A2413,bangolf_kategorien!$A$2:$B$11,2,FALSE)","v":"H"}]
["hv",27319,"Friedrich","Müller","1. MGC Paderborn e.V.","SM2: Müller, Friedrich",{"$f":"VLOOKUP(A2414,bangolf_kategorien!$A$2:$B$11,2,FALSE)","v":"SM2"}]
["hv",61373,"Günter","Müller","1. MGC Mannheim 1968 e.V.","SM2: Müller, Günter",{"$f":"VLOOKUP(A2415,bangolf_kategorien!$A$2:$B$11,2,FALSE)","v":"SM2"}]
["hv",4754,"Heinz","Müller","BGC Schloß Paffendorf e.V.","SM2: Müller, Heinz",{"$f":"VLOOKUP(A2416,bangolf_kategorien!$A$2:$B$11,2,FALSE)","v":"SM2"}]
["dv",66028,"Helga","Müller","MGC Bergisch Gladbach Gierath e.V.","SW2: Müller, Helga",{"$f":"VLOOKUP(A2417,bangolf_kategorien!$A$2:$B$11,2,FALSE)","v":"SW2"}]
["ds",38397,"Janina","Müller","MSV Berliner Bär e.V.","D: Müller, Janina",{"$f":"VLOOKUP(A2418,bangolf_kategorien!$A$2:$B$11,2,FALSE)","v":"D"}]
["hv",66029,"Josef","Müller","MGC Bergisch Gladbach Gierath e.V.","SM2: Müller, Josef",{"$f":"VLOOKUP(A2419,bangolf_kategorien!$A$2:$B$11,2,FALSE)","v":"SM2"}]
["ob",26535,"Klaus","Müller","MGF Hilzingen 80 e.V.","SM1: Müller, Klaus",{"$f":"VLOOKUP(A2420,bangolf_kategorien!$A$2:$B$11,2,FALSE)","v":"SM1"}]
["ds",34616,"Laura","Müller","1. MGC Ludwigshafen e.V.","D: Müller, Laura",{"$f":"VLOOKUP(A2421,bangolf_kategorien!$A$2:$B$11,2,FALSE)","v":"D"}]
["hs",66682,"Marco","Müller","1. MGC Kassel 1964 e.V.","H: Müller, Marco",{"$f":"VLOOKUP(A2422,bangolf_kategorien!$A$2:$B$11,2,FALSE)","v":"H"}]
["ob",65865,"Markus","Müller","Minigolfunion Neviges-Odenthal 1968 e.V.","SM1: Müller, Markus",{"$f":"VLOOKUP(A2423,bangolf_kategorien!$A$2:$B$11,2,FALSE)","v":"SM1"}]
["ob",45001,"Michael","Müller","MC 62 Lüdenscheid e.V.","SM1: Müller, Michael",{"$f":"VLOOKUP(A2424,bangolf_kategorien!$A$2:$B$11,2,FALSE)","v":"SM1"}]
["ob",46141,"Michael","Müller","MGC Bad Feilnbach e.V.","SM1: Müller, Michael",{"$f":"VLOOKUP(A2425,bangolf_kategorien!$A$2:$B$11,2,FALSE)","v":"SM1"}]
["hv",66176,"Michael","Müller","SC Bad Münder Abt. Bahnengolf","SM2: Müller, Michael",{"$f":"VLOOKUP(A2426,bangolf_kategorien!$A$2:$B$11,2,FALSE)","v":"SM2"}]
["ds",38398,"Nicole","Müller","MSV Berliner Bär e.V.","D: Müller, Nicole",{"$f":"VLOOKUP(A2427,bangolf_kategorien!$A$2:$B$11,2,FALSE)","v":"D"}]
["hs",33774,"Patrick","Müller","MSC Bad Godesberg e.V.","H: Müller, Patrick",{"$f":"VLOOKUP(A2428,bangolf_kategorien!$A$2:$B$11,2,FALSE)","v":"H"}]
["ob",40622,"Peter","Müller","Miniaturgolf Sportclub Schriesheim e.V","SM1: Müller, Peter",{"$f":"VLOOKUP(A2429,bangolf_kategorien!$A$2:$B$11,2,FALSE)","v":"SM1"}]
["ob",46389,"Ralf","Müller","Reinickendorfer MGC e.V.","SM1: Müller, Ralf",{"$f":"VLOOKUP(A2430,bangolf_kategorien!$A$2:$B$11,2,FALSE)","v":"SM1"}]
["hs",36660,"Roger","Müller","VfL Lohbrügge Abt. Bahnengolf","H: Müller, Roger",{"$f":"VLOOKUP(A2431,bangolf_kategorien!$A$2:$B$11,2,FALSE)","v":"H"}]
["og",3221420,"Sabine","Müller","Hobby","SW1: Müller, Sabine",{"$f":"VLOOKUP(A2432,bangolf_kategorien!$A$2:$B$11,2,FALSE)","v":"SW1"}]
["hs",34023,"Sascha","Müller","BGC Bildstock e.V.","H: Müller, Sascha",{"$f":"VLOOKUP(A2433,bangolf_kategorien!$A$2:$B$11,2,FALSE)","v":"H"}]
["ob",29586,"Stefan","Müller","BGSV Kerpen e.V.","SM1: Müller, Stefan",{"$f":"VLOOKUP(A2434,bangolf_kategorien!$A$2:$B$11,2,FALSE)","v":"SM1"}]
["hv",66322,"Uwe","Müller","MGC Rot-Weiß Wanne-Eickel e.V.",{"$f":"CONCATENATE(G2435,\": \",D2435,\", \",C2435)","v":"SM2: Müller, Uwe"},{"$f":"VLOOKUP(A2435,bangolf_kategorien!$A$2:$B$11,2,FALSE)","v":"SM2"}]
["ob",41049,"Volker","Müller","1. CKF Dudweiler e.V.","SM1: Müller, Volker",{"$f":"VLOOKUP(A2436,bangolf_kategorien!$A$2:$B$11,2,FALSE)","v":"SM1"}]
["hv",18367,"Wolfgang","Müller","VfL Lüneburg Abt. Bahnengolf","SM2: Müller, Wolfgang",{"$f":"VLOOKUP(A2437,bangolf_kategorien!$A$2:$B$11,2,FALSE)","v":"SM2"}]
["hj",38330,"Yannick","Müller","OMGC Ingolstadt e.V.","JM: Müller, Yannick",{"$f":"VLOOKUP(A2438,bangolf_kategorien!$A$2:$B$11,2,FALSE)","v":"JM"}]
["hv",43367,"Michael","Müllner","MC Ilvesheim e.V.","SM2: Müllner, Michael",{"$f":"VLOOKUP(A2439,bangolf_kategorien!$A$2:$B$11,2,FALSE)","v":"SM2"}]
["hs",66475,"Stephan","Mumberg","BSC Ennepetal e.V.","H: Mumberg, Stephan",{"$f":"VLOOKUP(A2440,bangolf_kategorien!$A$2:$B$11,2,FALSE)","v":"H"}]
["dj",65375,"Anna Lena","Münch","1. KC Homburg-Saar 1967 e.V.","JW: Münch, Anna Lena",{"$f":"VLOOKUP(A2441,bangolf_kategorien!$A$2:$B$11,2,FALSE)","v":"JW"}]
["hs",3211954,"Gregor","Münch","Hobby","H: Münch, Gregor",{"$f":"VLOOKUP(A2442,bangolf_kategorien!$A$2:$B$11,2,FALSE)","v":"H"}]
["hv",46494,"Roman","Münch","1. KC Homburg-Saar 1967 e.V.","SM2: Münch, Roman",{"$f":"VLOOKUP(A2443,bangolf_kategorien!$A$2:$B$11,2,FALSE)","v":"SM2"}]
["pa",67175,"Farin","Münchhoff","MGC Ingolstadt e.V.","SCHM: Münchhoff, Farin",{"$f":"VLOOKUP(A2444,bangolf_kategorien!$A$2:$B$11,2,FALSE)","v":"SCHM"}]
["ob",50851,"Dirk","Mundorf","1. Porzer MGC Grün-Weiß 1969 e.V.","SM1: Mundorf, Dirk",{"$f":"VLOOKUP(A2445,bangolf_kategorien!$A$2:$B$11,2,FALSE)","v":"SM1"}]
["pa",67408,"Lukas Sanjah","Mundorf","1. Porzer MGC Grün-Weiß 1969 e.V.","SCHM: Mundorf, Lukas Sanjah",{"$f":"VLOOKUP(A2446,bangolf_kategorien!$A$2:$B$11,2,FALSE)","v":"SCHM"}]
["hv",61685,"Heribert","Münker","SG Arheilgen Abt. Bahnengolf","SM2: Münker, Heribert",{"$f":"VLOOKUP(A2447,bangolf_kategorien!$A$2:$B$11,2,FALSE)","v":"SM2"}]
["hv",25741,"Christian","Münster","Minigolf-Club Diessen","SM2: Münster, Christian",{"$f":"VLOOKUP(A2448,bangolf_kategorien!$A$2:$B$11,2,FALSE)","v":"SM2"}]
["hv",44517,"Raimund","Mürhoff","1. MGC Paderborn e.V.","SM2: Mürhoff, Raimund",{"$f":"VLOOKUP(A2449,bangolf_kategorien!$A$2:$B$11,2,FALSE)","v":"SM2"}]
["hs",67122,"Pascal","Mutsch","1. MGC Metzingen e.V.","H: Mutsch, Pascal",{"$f":"VLOOKUP(A2450,bangolf_kategorien!$A$2:$B$11,2,FALSE)","v":"H"}]
["ob",1641,"Frank","Mylius","MGV Bremen e.V.","SM1: Mylius, Frank",{"$f":"VLOOKUP(A2451,bangolf_kategorien!$A$2:$B$11,2,FALSE)","v":"SM1"}]
["hs",1090,"Hendrik","Mylius","MGV Bremen e.V.","H: Mylius, Hendrik",{"$f":"VLOOKUP(A2452,bangolf_kategorien!$A$2:$B$11,2,FALSE)","v":"H"}]
["og",40898,"Marion","Mylius","MGV Bremen e.V.","SW1: Mylius, Marion",{"$f":"VLOOKUP(A2453,bangolf_kategorien!$A$2:$B$11,2,FALSE)","v":"SW1"}]
["ob",40393,"Uwe","Mylius","BGC Bremen e.V.","SM1: Mylius, Uwe",{"$f":"VLOOKUP(A2454,bangolf_kategorien!$A$2:$B$11,2,FALSE)","v":"SM1"}]
["hv",26399,"Norbert","Naber","1. MGC Epe 1978 e.V.","SM2: Naber, Norbert",{"$f":"VLOOKUP(A2455,bangolf_kategorien!$A$2:$B$11,2,FALSE)","v":"SM2"}]
["hs",32405,"Dirk","Nacke","1. MGC Gelsenkirchen e.V.","H: Nacke, Dirk",{"$f":"VLOOKUP(A2456,bangolf_kategorien!$A$2:$B$11,2,FALSE)","v":"H"}]
["hs",36011,"Heiko","Nägele","MGC Schwaikheim e.V.","H: Nägele, Heiko",{"$f":"VLOOKUP(A2457,bangolf_kategorien!$A$2:$B$11,2,FALSE)","v":"H"}]
["og",42569,"Sabine","Nagl","1. BGC Landshut e.V.","SW1: Nagl, Sabine",{"$f":"VLOOKUP(A2458,bangolf_kategorien!$A$2:$B$11,2,FALSE)","v":"SW1"}]
["ob",42563,"Udo","Nagl","1. BGC Landshut e.V.","SM1: Nagl, Udo",{"$f":"VLOOKUP(A2459,bangolf_kategorien!$A$2:$B$11,2,FALSE)","v":"SM1"}]
["ob",36824,"Martin","Nagler","MGC Unterschneidheim e.V.","SM1: Nagler, Martin",{"$f":"VLOOKUP(A2460,bangolf_kategorien!$A$2:$B$11,2,FALSE)","v":"SM1"}]
["hv",33110,"Xaver","Nagler","MGC Unterschneidheim e.V.","SM2: Nagler, Xaver",{"$f":"VLOOKUP(A2461,bangolf_kategorien!$A$2:$B$11,2,FALSE)","v":"SM2"}]
["hv",35773,"Wolf-Dieter","Nähler","1. MGC Köln 1961 e.V.","SM2: Nähler, Wolf-Dieter",{"$f":"VLOOKUP(A2462,bangolf_kategorien!$A$2:$B$11,2,FALSE)","v":"SM2"}]
["hs",67007,"Daniel","Naujocks","MGC Dortmund Syburg e.V.","H: Naujocks, Daniel",{"$f":"VLOOKUP(A2463,bangolf_kategorien!$A$2:$B$11,2,FALSE)","v":"H"}]
["ob",45049,"Dirk Willi","Nebe","BGSC \"Gut Schlag\" Gladbeck e.V.","SM1: Nebe, Dirk Willi",{"$f":"VLOOKUP(A2464,bangolf_kategorien!$A$2:$B$11,2,FALSE)","v":"SM1"}]
["hs",3233963,"Jakob","Nebel","Hobby","H: Nebel, Jakob",{"$f":"VLOOKUP(A2465,bangolf_kategorien!$A$2:$B$11,2,FALSE)","v":"H"}]
["ob",29219,"Kurt","Nees","MGC Schwaikheim e.V.","SM1: Nees, Kurt",{"$f":"VLOOKUP(A2466,bangolf_kategorien!$A$2:$B$11,2,FALSE)","v":"SM1"}]
["hv",3938,"Rudolf","Nefzger","BSV 86 München e.V.","SM2: Nefzger, Rudolf",{"$f":"VLOOKUP(A2467,bangolf_kategorien!$A$2:$B$11,2,FALSE)","v":"SM2"}]
["hv",66624,"Ernst-Georg","Negwer","BGC Schweinfurt e.V.","SM2: Negwer, Ernst-Georg",{"$f":"VLOOKUP(A2468,bangolf_kategorien!$A$2:$B$11,2,FALSE)","v":"SM2"}]
["dv",66623,"Ursula","Negwer","BGC Schweinfurt e.V.","SW2: Negwer, Ursula",{"$f":"VLOOKUP(A2469,bangolf_kategorien!$A$2:$B$11,2,FALSE)","v":"SW2"}]
["ob",27505,"Stefan","Neidig","1. MGC Mannheim 1968 e.V.","SM1: Neidig, Stefan",{"$f":"VLOOKUP(A2470,bangolf_kategorien!$A$2:$B$11,2,FALSE)","v":"SM1"}]
["hj",66269,"Niklas","Nell","MGC Bad Waldsee 1990 e.V.","JM: Nell, Niklas",{"$f":"VLOOKUP(A2471,bangolf_kategorien!$A$2:$B$11,2,FALSE)","v":"JM"}]
["ob",33042,"Roland","Nell","MGC Bad Waldsee 1990 e.V.","SM1: Nell, Roland",{"$f":"VLOOKUP(A2472,bangolf_kategorien!$A$2:$B$11,2,FALSE)","v":"SM1"}]
["ds",66967,"Sarah","Nellen","1. BGC Hannover e.V.","D: Nellen, Sarah",{"$f":"VLOOKUP(A2473,bangolf_kategorien!$A$2:$B$11,2,FALSE)","v":"D"}]
["hs",66360,"Benjamin","Nelles","1. MGC Kassel 1964 e.V.","H: Nelles, Benjamin",{"$f":"VLOOKUP(A2474,bangolf_kategorien!$A$2:$B$11,2,FALSE)","v":"H"}]
["hv",3108938,"Roland","Nestle","Hobby","SM2: Nestle, Roland",{"$f":"VLOOKUP(A2475,bangolf_kategorien!$A$2:$B$11,2,FALSE)","v":"SM2"}]
["dv",45733,"Ingrid","Netzband","1. MGC Metzingen e.V.","SW2: Netzband, Ingrid",{"$f":"VLOOKUP(A2476,bangolf_kategorien!$A$2:$B$11,2,FALSE)","v":"SW2"}]
["ob",37027,"Andreas","Neuburger","SSV Ulm 1846 Abt. Bahnengolf","SM1: Neuburger, Andreas",{"$f":"VLOOKUP(A2477,bangolf_kategorien!$A$2:$B$11,2,FALSE)","v":"SM1"}]
["ds",37611,"Erika","Neuburger","SSV Ulm 1846 Abt. Bahnengolf","D: Neuburger, Erika",{"$f":"VLOOKUP(A2478,bangolf_kategorien!$A$2:$B$11,2,FALSE)","v":"D"}]
["hj",66301,"Dennis","Neudert","BGC Illertissen e.V.","JM: Neudert, Dennis",{"$f":"VLOOKUP(A2479,bangolf_kategorien!$A$2:$B$11,2,FALSE)","v":"JM"}]
["ob",43062,"Oliver","Neudert","BGC Illertissen e.V.","SM1: Neudert, Oliver",{"$f":"VLOOKUP(A2480,bangolf_kategorien!$A$2:$B$11,2,FALSE)","v":"SM1"}]
["hs",37047,"Marvin","Neufeld","BGS Hardenberg-Pötter e.V.","H: Neufeld, Marvin",{"$f":"VLOOKUP(A2481,bangolf_kategorien!$A$2:$B$11,2,FALSE)","v":"H"}]
["ob",48942,"Dieter","Neuhäuser","VfB Osnabrück e.V.","SM1: Neuhäuser, Dieter",{"$f":"VLOOKUP(A2482,bangolf_kategorien!$A$2:$B$11,2,FALSE)","v":"SM1"}]
["ob",25784,"Michael","Neuland","MGC Dormagen-Brechten e.V.","SM1: Neuland, Michael",{"$f":"VLOOKUP(A2483,bangolf_kategorien!$A$2:$B$11,2,FALSE)","v":"SM1"}]
["dv",67153,"Angelika","Neumann","1. BGC Wolfsburg","SW2: Neumann, Angelika",{"$f":"VLOOKUP(A2484,bangolf_kategorien!$A$2:$B$11,2,FALSE)","v":"SW2"}]
["dv",33165,"Bärbel","Neumann","Tempelhofer MV Berlin e.V.","SW2: Neumann, Bärbel",{"$f":"VLOOKUP(A2485,bangolf_kategorien!$A$2:$B$11,2,FALSE)","v":"SW2"}]
["hs",29733,"Björn","Neumann","MC \"Möve\" Cuxhaven-Sahlenburg e.V.","H: Neumann, Björn",{"$f":"VLOOKUP(A2486,bangolf_kategorien!$A$2:$B$11,2,FALSE)","v":"H"}]
["dv",32906,"Brigitte","Neumann","SC Bad Münder Abt. Bahnengolf","SW2: Neumann, Brigitte",{"$f":"VLOOKUP(A2487,bangolf_kategorien!$A$2:$B$11,2,FALSE)","v":"SW2"}]
["ob",37667,"Christian","Neumann","MGC Murnau am Staffelsee e.V.","SM1: Neumann, Christian",{"$f":"VLOOKUP(A2488,bangolf_kategorien!$A$2:$B$11,2,FALSE)","v":"SM1"}]
["ob",42783,"Josef","Neumann","OMGC Ingolstadt e.V.","SM1: Neumann, Josef",{"$f":"VLOOKUP(A2489,bangolf_kategorien!$A$2:$B$11,2,FALSE)","v":"SM1"}]
["ds",32139,"Kathrin","Neumann","1. MGC Mainz e.V.","D: Neumann, Kathrin",{"$f":"VLOOKUP(A2490,bangolf_kategorien!$A$2:$B$11,2,FALSE)","v":"D"}]
["hs",38363,"Kevin","Neumann","1. BGC Celle von 1964 e.V.","H: Neumann, Kevin",{"$f":"VLOOKUP(A2491,bangolf_kategorien!$A$2:$B$11,2,FALSE)","v":"H"}]
["hs",37955,"Lukas","Neumann","1. MGC Mainz e.V.","H: Neumann, Lukas",{"$f":"VLOOKUP(A2492,bangolf_kategorien!$A$2:$B$11,2,FALSE)","v":"H"}]
["hs",67079,"Lukas","Neumann","SG  Weiterstadt 1886 e.V.","H: Neumann, Lukas",{"$f":"VLOOKUP(A2493,bangolf_kategorien!$A$2:$B$11,2,FALSE)","v":"H"}]
["hv",37168,"Michael","Neumann","Minigolf Wölfe Rheinstetten 02","SM2: Neumann, Michael",{"$f":"VLOOKUP(A2494,bangolf_kategorien!$A$2:$B$11,2,FALSE)","v":"SM2"}]
["ob",37668,"Michael","Neumann","MGC Murnau am Staffelsee e.V.","SM1: Neumann, Michael",{"$f":"VLOOKUP(A2495,bangolf_kategorien!$A$2:$B$11,2,FALSE)","v":"SM1"}]
["ob",66340,"Reiner","Neumann","BGC Bremen e.V.","SM1: Neumann, Reiner",{"$f":"VLOOKUP(A2496,bangolf_kategorien!$A$2:$B$11,2,FALSE)","v":"SM1"}]
["hs",67405,"Ruben","Neumann","BV Sennestadt","H: Neumann, Ruben",{"$f":"VLOOKUP(A2497,bangolf_kategorien!$A$2:$B$11,2,FALSE)","v":"H"}]
["dv",65576,"Sabine","Neumann","1. BGC Celle von 1964 e.V.","SW2: Neumann, Sabine",{"$f":"VLOOKUP(A2498,bangolf_kategorien!$A$2:$B$11,2,FALSE)","v":"SW2"}]
["hv",35213,"Uwe","Neumann","BGC Bremen e.V.",{"$f":"CONCATENATE(G2499,\": \",D2499,\", \",C2499)","v":"SM2: Neumann, Uwe"},{"$f":"VLOOKUP(A2499,bangolf_kategorien!$A$2:$B$11,2,FALSE)","v":"SM2"}]
["hs",65850,"Niklas","Neumayer","MGF Ottobrunn e.V.","H: Neumayer, Niklas",{"$f":"VLOOKUP(A2500,bangolf_kategorien!$A$2:$B$11,2,FALSE)","v":"H"}]
["ob",66589,"Stephan","Neunzig","1. Münchener MGC e.V.","SM1: Neunzig, Stephan",{"$f":"VLOOKUP(A2501,bangolf_kategorien!$A$2:$B$11,2,FALSE)","v":"SM1"}]
["ob",28030,"Ralf","Neuwald","Miniaturgolf Sportclub Schriesheim e.V","SM1: Neuwald, Ralf",{"$f":"VLOOKUP(A2502,bangolf_kategorien!$A$2:$B$11,2,FALSE)","v":"SM1"}]
["hv",65599,"Dietmar","Neuwirth","BGC Illertissen e.V.","SM2: Neuwirth, Dietmar",{"$f":"VLOOKUP(A2503,bangolf_kategorien!$A$2:$B$11,2,FALSE)","v":"SM2"}]
["hj",65600,"Fabian","Neuwirth","BGC Illertissen e.V.","JM: Neuwirth, Fabian",{"$f":"VLOOKUP(A2504,bangolf_kategorien!$A$2:$B$11,2,FALSE)","v":"JM"}]
["ob",37473,"Waldemar","Neuwirth","1. MSC Wesel 6.6.1966 e.V.","SM1: Neuwirth, Waldemar",{"$f":"VLOOKUP(A2505,bangolf_kategorien!$A$2:$B$11,2,FALSE)","v":"SM1"}]
["dj",67215,"Quynh Le","Ngoc","BGC Bad Mergentheim e.V.","JW: Ngoc, Quynh Le",{"$f":"VLOOKUP(A2506,bangolf_kategorien!$A$2:$B$11,2,FALSE)","v":"JW"}]
["hs",66071,"Thomas","Nichter","BIG ASPERG e.V.","H: Nichter, Thomas",{"$f":"VLOOKUP(A2507,bangolf_kategorien!$A$2:$B$11,2,FALSE)","v":"H"}]
["hv",37288,"Dieter","Nickel","PTSV Hof, Abt. Minigolf","SM2: Nickel, Dieter",{"$f":"VLOOKUP(A2508,bangolf_kategorien!$A$2:$B$11,2,FALSE)","v":"SM2"}]
["hs",38005,"Dustin","Nickel","MGC Wetzlar e.V.","H: Nickel, Dustin",{"$f":"VLOOKUP(A2509,bangolf_kategorien!$A$2:$B$11,2,FALSE)","v":"H"}]
["hv",46152,"Gerhard","Nickel","MGC Wetzlar e.V.","SM2: Nickel, Gerhard",{"$f":"VLOOKUP(A2510,bangolf_kategorien!$A$2:$B$11,2,FALSE)","v":"SM2"}]
["hs",46042,"Holger","Nickel","MGC Homburger Land e.V.","H: Nickel, Holger",{"$f":"VLOOKUP(A2511,bangolf_kategorien!$A$2:$B$11,2,FALSE)","v":"H"}]
["ob",48138,"Alfred","Nickerl","1. MGC München-Feldmoching e.V.","SM1: Nickerl, Alfred",{"$f":"VLOOKUP(A2512,bangolf_kategorien!$A$2:$B$11,2,FALSE)","v":"SM1"}]
["pa",66601,"David","Nickerl","1. MGC München-Feldmoching e.V.","SCHM: Nickerl, David",{"$f":"VLOOKUP(A2513,bangolf_kategorien!$A$2:$B$11,2,FALSE)","v":"SCHM"}]
["hs",46446,"Matthias","Nickerl","MGC Veitshöchheim","H: Nickerl, Matthias",{"$f":"VLOOKUP(A2514,bangolf_kategorien!$A$2:$B$11,2,FALSE)","v":"H"}]
["hv",40306,"Richard","Niebler","BGC Neutraubling e.V.","SM2: Niebler, Richard",{"$f":"VLOOKUP(A2515,bangolf_kategorien!$A$2:$B$11,2,FALSE)","v":"SM2"}]
["ob",66206,"Jörg","Niebuhr","SV Glückauf 1901 Gebhardshagen e.V.","SM1: Niebuhr, Jörg",{"$f":"VLOOKUP(A2516,bangolf_kategorien!$A$2:$B$11,2,FALSE)","v":"SM1"}]
["hv",11191,"Dieter","Niederdräing","MGC Felderbachtal 1964 e.V.","SM2: Niederdräing, Dieter",{"$f":"VLOOKUP(A2517,bangolf_kategorien!$A$2:$B$11,2,FALSE)","v":"SM2"}]
["ob",42044,"Andreas","Niedermeir","1. MGC München-Feldmoching e.V.","SM1: Niedermeir, Andreas",{"$f":"VLOOKUP(A2518,bangolf_kategorien!$A$2:$B$11,2,FALSE)","v":"SM1"}]
["ob",42046,"Martin","Niedermeir","1. MGC München-Feldmoching e.V.","SM1: Niedermeir, Martin",{"$f":"VLOOKUP(A2519,bangolf_kategorien!$A$2:$B$11,2,FALSE)","v":"SM1"}]
["hv",37610,"Roland","Niedl","BGC Illertissen e.V.","SM2: Niedl, Roland",{"$f":"VLOOKUP(A2520,bangolf_kategorien!$A$2:$B$11,2,FALSE)","v":"SM2"}]
["ob",45006,"Thorsten","Niemann","MGC Bad Oldesloe e.V.","SM1: Niemann, Thorsten",{"$f":"VLOOKUP(A2521,bangolf_kategorien!$A$2:$B$11,2,FALSE)","v":"SM1"}]
["ob",52000,"Uwe","Niemtschke","TSV Arendsee e.V.","SM1: Niemtschke, Uwe",{"$f":"VLOOKUP(A2522,bangolf_kategorien!$A$2:$B$11,2,FALSE)","v":"SM1"}]
["ds",67022,"Jacqueline","Niepel","MGC Rot-Weiß Wanne-Eickel e.V.","D: Niepel, Jacqueline",{"$f":"VLOOKUP(A2523,bangolf_kategorien!$A$2:$B$11,2,FALSE)","v":"D"}]
["og",66579,"Susanne","Niepel","MGC Rot-Weiß Wanne-Eickel e.V.","SW1: Niepel, Susanne",{"$f":"VLOOKUP(A2524,bangolf_kategorien!$A$2:$B$11,2,FALSE)","v":"SW1"}]
["hv",67392,"Jean-Luc","Nihoul","BGS Hardenberg-Pötter e.V.","SM2: Nihoul, Jean-Luc",{"$f":"VLOOKUP(A2525,bangolf_kategorien!$A$2:$B$11,2,FALSE)","v":"SM2"}]
["fa",66991,"Jana","Nikolaus","1. BGC Rodalben 1977 e.V.","SCHW: Nikolaus, Jana",{"$f":"VLOOKUP(A2526,bangolf_kategorien!$A$2:$B$11,2,FALSE)","v":"SCHW"}]
["hs",30626,"Maik","Nikolaus","1. MGC Ludwigshafen e.V.","H: Nikolaus, Maik",{"$f":"VLOOKUP(A2527,bangolf_kategorien!$A$2:$B$11,2,FALSE)","v":"H"}]
["ds",34408,"Sandra","Nikolaus","1. BGC Rodalben 1977 e.V.","D: Nikolaus, Sandra",{"$f":"VLOOKUP(A2528,bangolf_kategorien!$A$2:$B$11,2,FALSE)","v":"D"}]
["dv",3216772,"Antje","Nils","Hobby","SW2: Nils, Antje",{"$f":"VLOOKUP(A2529,bangolf_kategorien!$A$2:$B$11,2,FALSE)","v":"SW2"}]
["ds",67311,"Britta","Nischk","MGC Bad Homburg vdH e.V.","D: Nischk, Britta",{"$f":"VLOOKUP(A2530,bangolf_kategorien!$A$2:$B$11,2,FALSE)","v":"D"}]
["dv",37550,"Erika","Nischk","MGC Bad Homburg vdH e.V.","SW2: Nischk, Erika",{"$f":"VLOOKUP(A2531,bangolf_kategorien!$A$2:$B$11,2,FALSE)","v":"SW2"}]
["ob",37551,"Michael","Nischk","MGC Bad Homburg vdH e.V.","SM1: Nischk, Michael",{"$f":"VLOOKUP(A2532,bangolf_kategorien!$A$2:$B$11,2,FALSE)","v":"SM1"}]
["hs",45189,"Holger","Nitsche","BGV Backumer Tal Herten e.V.","H: Nitsche, Holger",{"$f":"VLOOKUP(A2533,bangolf_kategorien!$A$2:$B$11,2,FALSE)","v":"H"}]
["ob",26342,"Peter","Nitzki","MSV Berliner Bär e.V.","SM1: Nitzki, Peter",{"$f":"VLOOKUP(A2534,bangolf_kategorien!$A$2:$B$11,2,FALSE)","v":"SM1"}]
["ob",43542,"Thomas","Nix","BIG ASPERG e.V.","SM1: Nix, Thomas",{"$f":"VLOOKUP(A2535,bangolf_kategorien!$A$2:$B$11,2,FALSE)","v":"SM1"}]
["hs",67214,"Danny","Noack","Minigolfclub Karlshagen e.V.","H: Noack, Danny",{"$f":"VLOOKUP(A2536,bangolf_kategorien!$A$2:$B$11,2,FALSE)","v":"H"}]
["hv",34191,"Günter","Noack","1. MGC Mainz e.V.","SM2: Noack, Günter",{"$f":"VLOOKUP(A2537,bangolf_kategorien!$A$2:$B$11,2,FALSE)","v":"SM2"}]
["hs",31269,"Marcel","Noack","1. MGC Mainz e.V.","H: Noack, Marcel",{"$f":"VLOOKUP(A2538,bangolf_kategorien!$A$2:$B$11,2,FALSE)","v":"H"}]
["pa",66971,"Nevio","Noack","Minigolfclub Karlshagen e.V.","SCHM: Noack, Nevio",{"$f":"VLOOKUP(A2539,bangolf_kategorien!$A$2:$B$11,2,FALSE)","v":"SCHM"}]
["og",23516,"Christiane","Noch","Tempelhofer MV Berlin e.V.","SW1: Noch, Christiane",{"$f":"VLOOKUP(A2540,bangolf_kategorien!$A$2:$B$11,2,FALSE)","v":"SW1"}]
["hv",23517,"Frank","Noch","Tempelhofer MV Berlin e.V.","SM2: Noch, Frank",{"$f":"VLOOKUP(A2541,bangolf_kategorien!$A$2:$B$11,2,FALSE)","v":"SM2"}]
["hv",66840,"Gerd","Nocon","1. MSC Wesel 6.6.1966 e.V.","SM2: Nocon, Gerd",{"$f":"VLOOKUP(A2542,bangolf_kategorien!$A$2:$B$11,2,FALSE)","v":"SM2"}]
["ob",35738,"Harald","Nohr","1. BGC Celle von 1964 e.V.","SM1: Nohr, Harald",{"$f":"VLOOKUP(A2543,bangolf_kategorien!$A$2:$B$11,2,FALSE)","v":"SM1"}]
["hv",456,"Gerhard","Noll","1. MGC Mannheim 1968 e.V.","SM2: Noll, Gerhard",{"$f":"VLOOKUP(A2544,bangolf_kategorien!$A$2:$B$11,2,FALSE)","v":"SM2"}]
["dv",30053,"Sigrid","Noll","1. MGC Mannheim 1968 e.V.","SW2: Noll, Sigrid",{"$f":"VLOOKUP(A2545,bangolf_kategorien!$A$2:$B$11,2,FALSE)","v":"SW2"}]
["dv",32951,"Sylvia","Nolte","SC Bad Münder Abt. Bahnengolf","SW2: Nolte, Sylvia",{"$f":"VLOOKUP(A2546,bangolf_kategorien!$A$2:$B$11,2,FALSE)","v":"SW2"}]
["pa",67028,"Johannes","Nöth","MGV Ansbach e.V.","SCHM: Nöth, Johannes",{"$f":"VLOOKUP(A2547,bangolf_kategorien!$A$2:$B$11,2,FALSE)","v":"SCHM"}]
["ob",67026,"Michael","Nöth","MGV Ansbach e.V.","SM1: Nöth, Michael",{"$f":"VLOOKUP(A2548,bangolf_kategorien!$A$2:$B$11,2,FALSE)","v":"SM1"}]
["ob",38541,"Alfred","Nowak","BGSC Bochum 1978 e.V.","SM1: Nowak, Alfred",{"$f":"VLOOKUP(A2549,bangolf_kategorien!$A$2:$B$11,2,FALSE)","v":"SM1"}]
["dv",21500,"Marion","Nowak","MSK Neheim-Hüsten e.V.","SW2: Nowak, Marion",{"$f":"VLOOKUP(A2550,bangolf_kategorien!$A$2:$B$11,2,FALSE)","v":"SW2"}]
["hv",5511,"Wilfried","Nowak","MSK Neheim-Hüsten e.V.","SM2: Nowak, Wilfried",{"$f":"VLOOKUP(A2551,bangolf_kategorien!$A$2:$B$11,2,FALSE)","v":"SM2"}]
["hs",3216750,"Mischa","Nowicki","Hobby","H: Nowicki, Mischa",{"$f":"VLOOKUP(A2552,bangolf_kategorien!$A$2:$B$11,2,FALSE)","v":"H"}]
["ob",30639,"Peter","Nowsky","1. MGC 1970 Göttingen e.V.","SM1: Nowsky, Peter",{"$f":"VLOOKUP(A2553,bangolf_kategorien!$A$2:$B$11,2,FALSE)","v":"SM1"}]
["og",66272,"Beatrix","Numberger","1. Münchener MGC e.V.","SW1: Numberger, Beatrix",{"$f":"VLOOKUP(A2554,bangolf_kategorien!$A$2:$B$11,2,FALSE)","v":"SW1"}]
["hv",43054,"Martin","Nuri-Kälble","BSV 82 Ohlsbach e.V.","SM2: Nuri-Kälble, Martin",{"$f":"VLOOKUP(A2555,bangolf_kategorien!$A$2:$B$11,2,FALSE)","v":"SM2"}]
["hv",33491,"Rolf","Nutzenberger","1. MGC Mannheim 1968 e.V.","SM2: Nutzenberger, Rolf",{"$f":"VLOOKUP(A2556,bangolf_kategorien!$A$2:$B$11,2,FALSE)","v":"SM2"}]
["hv",33385,"Hermann","Oberding","Biskirchener BGV e.V.","SM2: Oberding, Hermann",{"$f":"VLOOKUP(A2557,bangolf_kategorien!$A$2:$B$11,2,FALSE)","v":"SM2"}]
["ob",42510,"Frank","Oberhofer","MGF Hammer e.V.","SM1: Oberhofer, Frank",{"$f":"VLOOKUP(A2558,bangolf_kategorien!$A$2:$B$11,2,FALSE)","v":"SM1"}]
["hv",67002,"Klaus Peter","Oberländer","1. BGC Bad Füssing e.V.","SM2: Oberländer, Klaus Peter",{"$f":"VLOOKUP(A2559,bangolf_kategorien!$A$2:$B$11,2,FALSE)","v":"SM2"}]
["dv",67003,"Wilma","Oberländer","1. BGC Bad Füssing e.V.","SW2: Oberländer, Wilma",{"$f":"VLOOKUP(A2560,bangolf_kategorien!$A$2:$B$11,2,FALSE)","v":"SW2"}]
["dv",3222846,"Brunhilde","Ochs","Hobby","SW2: Ochs, Brunhilde",{"$f":"VLOOKUP(A2561,bangolf_kategorien!$A$2:$B$11,2,FALSE)","v":"SW2"}]
["hs",3111929,"Christian","Ochs","Hobby","H: Ochs, Christian",{"$f":"VLOOKUP(A2562,bangolf_kategorien!$A$2:$B$11,2,FALSE)","v":"H"}]
["hs",50194,"Matthias","Ockerblohm","BGC 90 Ottobrunn e.V.",{"$f":"CONCATENATE(G2563,\": \",D2563,\", \",C2563)","v":"H: Ockerblohm, Matthias"},{"$f":"VLOOKUP(A2563,bangolf_kategorien!$A$2:$B$11,2,FALSE)","v":"H"}]
["hs",36180,"Felix","Oehl","MV Lankwitzer Dragons e.V.","H: Oehl, Felix",{"$f":"VLOOKUP(A2564,bangolf_kategorien!$A$2:$B$11,2,FALSE)","v":"H"}]
["ds",35180,"Manuela","Oelschlegel","SC Bastion Rot Weiß Lippstadt e.V.","D: Oelschlegel, Manuela",{"$f":"VLOOKUP(A2565,bangolf_kategorien!$A$2:$B$11,2,FALSE)","v":"D"}]
["hv",40827,"Torsten","Offner","Hamburger MC von 1965 e.V.","SM2: Offner, Torsten",{"$f":"VLOOKUP(A2566,bangolf_kategorien!$A$2:$B$11,2,FALSE)","v":"SM2"}]
["ob",66701,"Roland","Ohletz","BGC Uerdingen e.V.","SM1: Ohletz, Roland",{"$f":"VLOOKUP(A2567,bangolf_kategorien!$A$2:$B$11,2,FALSE)","v":"SM1"}]
["dv",38373,"Jutta","Ohly","1. MGC Metzingen e.V.","SW2: Ohly, Jutta",{"$f":"VLOOKUP(A2568,bangolf_kategorien!$A$2:$B$11,2,FALSE)","v":"SW2"}]
["ob",29928,"Hans-Peter","Ohm","1. BGC Wolfsburg","SM1: Ohm, Hans-Peter",{"$f":"VLOOKUP(A2569,bangolf_kategorien!$A$2:$B$11,2,FALSE)","v":"SM1"}]
["dv",35023,"Edith","Oitzinger","BV Sennestadt","SW2: Oitzinger, Edith",{"$f":"VLOOKUP(A2570,bangolf_kategorien!$A$2:$B$11,2,FALSE)","v":"SW2"}]
["dv",45418,"Carola","Oklmann","SSV Ulm 1846 Abt. Bahnengolf","SW2: Oklmann, Carola",{"$f":"VLOOKUP(A2571,bangolf_kategorien!$A$2:$B$11,2,FALSE)","v":"SW2"}]
["hv",5184,"Emil","Oklmann","SSV Ulm 1846 Abt. Bahnengolf","SM2: Oklmann, Emil",{"$f":"VLOOKUP(A2572,bangolf_kategorien!$A$2:$B$11,2,FALSE)","v":"SM2"}]
["hv",30123,"Michael","Olböter","1. Essener CGC \"Blau-Gold\" e.V.","SM2: Olböter, Michael",{"$f":"VLOOKUP(A2573,bangolf_kategorien!$A$2:$B$11,2,FALSE)","v":"SM2"}]
["hj",66809,"Torben","Oldhafer","TSV Salzgitter e.V. Abt. Bahnengolf","JM: Oldhafer, Torben",{"$f":"VLOOKUP(A2574,bangolf_kategorien!$A$2:$B$11,2,FALSE)","v":"JM"}]
["dv",35803,"Brigitte","Opitz","1. MGC Peine von 1965 e.V.","SW2: Opitz, Brigitte",{"$f":"VLOOKUP(A2575,bangolf_kategorien!$A$2:$B$11,2,FALSE)","v":"SW2"}]
["ob",42114,"Stefan","Opitz","1. BGC Hannover e.V.","SM1: Opitz, Stefan",{"$f":"VLOOKUP(A2576,bangolf_kategorien!$A$2:$B$11,2,FALSE)","v":"SM1"}]
["hs",34733,"David","Oppermann","BSC Ennepetal e.V.","H: Oppermann, David",{"$f":"VLOOKUP(A2577,bangolf_kategorien!$A$2:$B$11,2,FALSE)","v":"H"}]
["hv",22422,"Ralf","Oppermann","BSC Ennepetal e.V.","SM2: Oppermann, Ralf",{"$f":"VLOOKUP(A2578,bangolf_kategorien!$A$2:$B$11,2,FALSE)","v":"SM2"}]
["ob",29740,"Arne","Oppmann","MSV Würzburg-Löwenbrücke e.V.","SM1: Oppmann, Arne",{"$f":"VLOOKUP(A2579,bangolf_kategorien!$A$2:$B$11,2,FALSE)","v":"SM1"}]
["ob",40264,"Harald","Orth","MSV Bad Kreuznach","SM1: Orth, Harald",{"$f":"VLOOKUP(A2580,bangolf_kategorien!$A$2:$B$11,2,FALSE)","v":"SM1"}]
["ob",29215,"Ingo","Ortner","MGC Schwaikheim e.V.","SM1: Ortner, Ingo",{"$f":"VLOOKUP(A2581,bangolf_kategorien!$A$2:$B$11,2,FALSE)","v":"SM1"}]
["ob",45103,"Michael","Oseit","1. MC Weinheim e.V.","SM1: Oseit, Michael",{"$f":"VLOOKUP(A2582,bangolf_kategorien!$A$2:$B$11,2,FALSE)","v":"SM1"}]
["hv",26349,"Jörn","Osnabrügge","1. MGC Ludwigshafen e.V.","SM2: Osnabrügge, Jörn",{"$f":"VLOOKUP(A2583,bangolf_kategorien!$A$2:$B$11,2,FALSE)","v":"SM2"}]
["hv",3358,"Karl-Heinz","Oster","1. Porzer MGC Grün-Weiß 1969 e.V.","SM2: Oster, Karl-Heinz",{"$f":"VLOOKUP(A2584,bangolf_kategorien!$A$2:$B$11,2,FALSE)","v":"SM2"}]
["dv",40298,"Christel","Öster","1. BGC München e.V.","SW2: Öster, Christel",{"$f":"VLOOKUP(A2585,bangolf_kategorien!$A$2:$B$11,2,FALSE)","v":"SW2"}]
["hs",40261,"Thomas","Öster","1. BGC München e.V.","H: Öster, Thomas",{"$f":"VLOOKUP(A2586,bangolf_kategorien!$A$2:$B$11,2,FALSE)","v":"H"}]
["og",66338,"Gabriele","Osthushenrich","1. BGC Hannover e.V.","SW1: Osthushenrich, Gabriele",{"$f":"VLOOKUP(A2587,bangolf_kategorien!$A$2:$B$11,2,FALSE)","v":"SW1"}]
["pa",67161,"Joost","Otersen","BGC Bremen e.V.","SCHM: Otersen, Joost",{"$f":"VLOOKUP(A2588,bangolf_kategorien!$A$2:$B$11,2,FALSE)","v":"SCHM"}]
["hs",31031,"Andy","Ott","BGV Backumer Tal Herten e.V.","H: Ott, Andy",{"$f":"VLOOKUP(A2589,bangolf_kategorien!$A$2:$B$11,2,FALSE)","v":"H"}]
["hv",28292,"Berni","Ott","MGC 85 Bönnigheim","SM2: Ott, Berni",{"$f":"VLOOKUP(A2590,bangolf_kategorien!$A$2:$B$11,2,FALSE)","v":"SM2"}]
["hs",31026,"David","Ott","BGV Backumer Tal Herten e.V.","H: Ott, David",{"$f":"VLOOKUP(A2591,bangolf_kategorien!$A$2:$B$11,2,FALSE)","v":"H"}]
["dv",43707,"Gerda","Ott","MGC 85 Bönnigheim","SW2: Ott, Gerda",{"$f":"VLOOKUP(A2592,bangolf_kategorien!$A$2:$B$11,2,FALSE)","v":"SW2"}]
["hs",30224,"Hans-Jörg","Ott","BGC Bad Berneck e.V.","H: Ott, Hans-Jörg",{"$f":"VLOOKUP(A2593,bangolf_kategorien!$A$2:$B$11,2,FALSE)","v":"H"}]
["hv",9296,"Norbert","Ott","BGV Backumer Tal Herten e.V.","SM2: Ott, Norbert",{"$f":"VLOOKUP(A2594,bangolf_kategorien!$A$2:$B$11,2,FALSE)","v":"SM2"}]
["hs",36193,"Philipp","Ott","BGSV Castrop e.V. 1961","H: Ott, Philipp",{"$f":"VLOOKUP(A2595,bangolf_kategorien!$A$2:$B$11,2,FALSE)","v":"H"}]
["hs",66821,"Erwin","Ottaviani","BGS Hardenberg-Pötter e.V.","H: Ottaviani, Erwin",{"$f":"VLOOKUP(A2596,bangolf_kategorien!$A$2:$B$11,2,FALSE)","v":"H"}]
["ob",29114,"Dirk","Otten","TSV Salzgitter e.V. Abt. Bahnengolf","SM1: Otten, Dirk",{"$f":"VLOOKUP(A2597,bangolf_kategorien!$A$2:$B$11,2,FALSE)","v":"SM1"}]
["og",28901,"Sabine","Otten","1. BGC Wolfsburg","SW1: Otten, Sabine",{"$f":"VLOOKUP(A2598,bangolf_kategorien!$A$2:$B$11,2,FALSE)","v":"SW1"}]
["ds",66950,"Elena","Ott-Fink","BGV Backumer Tal Herten e.V.","D: Ott-Fink, Elena",{"$f":"VLOOKUP(A2599,bangolf_kategorien!$A$2:$B$11,2,FALSE)","v":"D"}]
["ob",48281,"Stefan","Ottinger","MGC Murnau am Staffelsee e.V.","SM1: Ottinger, Stefan",{"$f":"VLOOKUP(A2600,bangolf_kategorien!$A$2:$B$11,2,FALSE)","v":"SM1"}]
["hv",151,"Herbert","Otto","MGC Rot-Weiß Wanne-Eickel e.V.","SM2: Otto, Herbert",{"$f":"VLOOKUP(A2601,bangolf_kategorien!$A$2:$B$11,2,FALSE)","v":"SM2"}]
["dv",25020,"Karin","Otto","MGC Olympia Kiel e.V.","SW2: Otto, Karin",{"$f":"VLOOKUP(A2602,bangolf_kategorien!$A$2:$B$11,2,FALSE)","v":"SW2"}]
["hv",6524,"Kuno","Otto","MGC Olympia Kiel e.V.","SM2: Otto, Kuno",{"$f":"VLOOKUP(A2603,bangolf_kategorien!$A$2:$B$11,2,FALSE)","v":"SM2"}]
["ds",32793,"Meike","Otto","MGC Olympia Kiel e.V.","D: Otto, Meike",{"$f":"VLOOKUP(A2604,bangolf_kategorien!$A$2:$B$11,2,FALSE)","v":"D"}]
["hv",36024,"Wolfgang","Otto","MSV Berliner Bär e.V.","SM2: Otto, Wolfgang",{"$f":"VLOOKUP(A2605,bangolf_kategorien!$A$2:$B$11,2,FALSE)","v":"SM2"}]
["og",67173,"Petra","Ovzarek","1. CGC Blau-Gelb Grötzingen","SW1: Ovzarek, Petra",{"$f":"VLOOKUP(A2606,bangolf_kategorien!$A$2:$B$11,2,FALSE)","v":"SW1"}]
["ob",67174,"Wolfgang","Ovzarek","1. CGC Blau-Gelb Grötzingen","SM1: Ovzarek, Wolfgang",{"$f":"VLOOKUP(A2607,bangolf_kategorien!$A$2:$B$11,2,FALSE)","v":"SM1"}]
["hs",67291,"Taner","Özdeniz","MGC Bad Soden-Salmünster","H: Özdeniz, Taner",{"$f":"VLOOKUP(A2608,bangolf_kategorien!$A$2:$B$11,2,FALSE)","v":"H"}]
["hv",36770,"Kurt","Paar","MGC Bad Soden-Salmünster","SM2: Paar, Kurt",{"$f":"VLOOKUP(A2609,bangolf_kategorien!$A$2:$B$11,2,FALSE)","v":"SM2"}]
["hj",66565,"Ben","Paffrath","MGC Heven e.V.","JM: Paffrath, Ben",{"$f":"VLOOKUP(A2610,bangolf_kategorien!$A$2:$B$11,2,FALSE)","v":"JM"}]
["hv",33511,"Siegfried","Paffrath","MGC Heven e.V.","SM2: Paffrath, Siegfried",{"$f":"VLOOKUP(A2611,bangolf_kategorien!$A$2:$B$11,2,FALSE)","v":"SM2"}]
["og",28473,"Gabi","Pahl","1. BGC Celle von 1964 e.V.","SW1: Pahl, Gabi",{"$f":"VLOOKUP(A2612,bangolf_kategorien!$A$2:$B$11,2,FALSE)","v":"SW1"}]
["hv",61978,"Heinz","Pahl","1. BGC Celle von 1964 e.V.","SM2: Pahl, Heinz",{"$f":"VLOOKUP(A2613,bangolf_kategorien!$A$2:$B$11,2,FALSE)","v":"SM2"}]
["hv",21494,"Horst","Pahl","MSK Neheim-Hüsten e.V.","SM2: Pahl, Horst",{"$f":"VLOOKUP(A2614,bangolf_kategorien!$A$2:$B$11,2,FALSE)","v":"SM2"}]
["og",37072,"Kathi","Pajonk","TSV Arendsee e.V.","SW1: Pajonk, Kathi",{"$f":"VLOOKUP(A2615,bangolf_kategorien!$A$2:$B$11,2,FALSE)","v":"SW1"}]
["hs",37073,"Kim-Kevin","Pajonk","TSV Arendsee e.V.","H: Pajonk, Kim-Kevin",{"$f":"VLOOKUP(A2616,bangolf_kategorien!$A$2:$B$11,2,FALSE)","v":"H"}]
["hv",5757,"Klaus Peter","Palm","1. KC Homburg-Saar 1967 e.V.","SM2: Palm, Klaus Peter",{"$f":"VLOOKUP(A2617,bangolf_kategorien!$A$2:$B$11,2,FALSE)","v":"SM2"}]
["hs",35611,"Olaf","Paltian","1. MGC Ludwigshafen e.V.","H: Paltian, Olaf",{"$f":"VLOOKUP(A2618,bangolf_kategorien!$A$2:$B$11,2,FALSE)","v":"H"}]
["hs",50042,"Christian","Pannek","1. MGC Mainz e.V.","H: Pannek, Christian",{"$f":"VLOOKUP(A2619,bangolf_kategorien!$A$2:$B$11,2,FALSE)","v":"H"}]
["og",67331,"Christina","Pape","Elbhavelland e.V., Abt. Minigolfsport","SW1: Pape, Christina",{"$f":"VLOOKUP(A2620,bangolf_kategorien!$A$2:$B$11,2,FALSE)","v":"SW1"}]
["hv",67330,"Jürgen","Pape","Elbhavelland e.V., Abt. Minigolfsport","SM2: Pape, Jürgen",{"$f":"VLOOKUP(A2621,bangolf_kategorien!$A$2:$B$11,2,FALSE)","v":"SM2"}]
["hs",37578,"Marc","Pape","1. KC Homburg-Saar 1967 e.V.","H: Pape, Marc",{"$f":"VLOOKUP(A2622,bangolf_kategorien!$A$2:$B$11,2,FALSE)","v":"H"}]
["hj",66902,"Robert-Alexander","Pape","Elbhavelland e.V., Abt. Minigolfsport","JM: Pape, Robert-Alexander",{"$f":"VLOOKUP(A2623,bangolf_kategorien!$A$2:$B$11,2,FALSE)","v":"JM"}]
["ob",36258,"Ronald","Pape","MGV Bremen e.V.","SM1: Pape, Ronald",{"$f":"VLOOKUP(A2624,bangolf_kategorien!$A$2:$B$11,2,FALSE)","v":"SM1"}]
["hv",67289,"Ulrich","Pape","MSV Bad Kreuznach","SM2: Pape, Ulrich",{"$f":"VLOOKUP(A2625,bangolf_kategorien!$A$2:$B$11,2,FALSE)","v":"SM2"}]
["og",9750,"Sylvia","Pape-Münch","1. KC Homburg-Saar 1967 e.V.","SW1: Pape-Münch, Sylvia",{"$f":"VLOOKUP(A2626,bangolf_kategorien!$A$2:$B$11,2,FALSE)","v":"SW1"}]
["hv",28746,"Karsten","Parbst","VfL Lohbrügge Abt. Bahnengolf",{"$f":"CONCATENATE(G2627,\": \",D2627,\", \",C2627)","v":"SM2: Parbst, Karsten"},{"$f":"VLOOKUP(A2627,bangolf_kategorien!$A$2:$B$11,2,FALSE)","v":"SM2"}]
["dv",30259,"Monika","Parbst","VfL Lohbrügge Abt. Bahnengolf","SW2: Parbst, Monika",{"$f":"VLOOKUP(A2628,bangolf_kategorien!$A$2:$B$11,2,FALSE)","v":"SW2"}]
["og",33393,"Susanne","Parr","MSC Bensheim-Auerbach e.V.","SW1: Parr, Susanne",{"$f":"VLOOKUP(A2629,bangolf_kategorien!$A$2:$B$11,2,FALSE)","v":"SW1"}]
["hv",21298,"Walter","Parr","SV 1890 e.V. Dreieichenhain, Abt. Bahnengolf","SM2: Parr, Walter",{"$f":"VLOOKUP(A2630,bangolf_kategorien!$A$2:$B$11,2,FALSE)","v":"SM2"}]
["ob",3194197,"Thomas","Paschen","Hobby","SM1: Paschen, Thomas",{"$f":"VLOOKUP(A2631,bangolf_kategorien!$A$2:$B$11,2,FALSE)","v":"SM1"}]
["ob",44244,"Sven","Pastwa","SC Olympia Dortmund e.V.","SM1: Pastwa, Sven",{"$f":"VLOOKUP(A2632,bangolf_kategorien!$A$2:$B$11,2,FALSE)","v":"SM1"}]
["ob",51850,"Bernhard","Patan","BIG ASPERG e.V.","SM1: Patan, Bernhard",{"$f":"VLOOKUP(A2633,bangolf_kategorien!$A$2:$B$11,2,FALSE)","v":"SM1"}]
["hs",40114,"Daniel","Patan","1. MGC Süßen e.V.","H: Patan, Daniel",{"$f":"VLOOKUP(A2634,bangolf_kategorien!$A$2:$B$11,2,FALSE)","v":"H"}]
["dj",66771,"Franziska","Patan","BIG ASPERG e.V.","JW: Patan, Franziska",{"$f":"VLOOKUP(A2635,bangolf_kategorien!$A$2:$B$11,2,FALSE)","v":"JW"}]
["og",55130,"Sabine","Patan","BIG ASPERG e.V.","SW1: Patan, Sabine",{"$f":"VLOOKUP(A2636,bangolf_kategorien!$A$2:$B$11,2,FALSE)","v":"SW1"}]
["hs",3202314,"Ralf","Paternusch","Hobby","H: Paternusch, Ralf",{"$f":"VLOOKUP(A2637,bangolf_kategorien!$A$2:$B$11,2,FALSE)","v":"H"}]
["hs",35530,"Marcel","Patorra","BGC Bad Nenndorf e.V.","H: Patorra, Marcel",{"$f":"VLOOKUP(A2638,bangolf_kategorien!$A$2:$B$11,2,FALSE)","v":"H"}]
["hs",66577,"Michael","Pätz","1. BGC Bad Füssing e.V.","H: Pätz, Michael",{"$f":"VLOOKUP(A2639,bangolf_kategorien!$A$2:$B$11,2,FALSE)","v":"H"}]
["hs",46006,"Markus","Patzelt","BGSV Kerpen e.V.","H: Patzelt, Markus",{"$f":"VLOOKUP(A2640,bangolf_kategorien!$A$2:$B$11,2,FALSE)","v":"H"}]
["ob",67213,"Gerd","Paul","MGC Bad Homburg vdH e.V.","SM1: Paul, Gerd",{"$f":"VLOOKUP(A2641,bangolf_kategorien!$A$2:$B$11,2,FALSE)","v":"SM1"}]
["og",3221423,"Karin","Paulisch","Hobby","SW1: Paulisch, Karin",{"$f":"VLOOKUP(A2642,bangolf_kategorien!$A$2:$B$11,2,FALSE)","v":"SW1"}]
["hs",49350,"Achim","Paulsen","MGC Olympia Kiel e.V.","H: Paulsen, Achim",{"$f":"VLOOKUP(A2643,bangolf_kategorien!$A$2:$B$11,2,FALSE)","v":"H"}]
["ob",33153,"Lars","Paulsen","MGC Harrislee-Wassersleben","SM1: Paulsen, Lars",{"$f":"VLOOKUP(A2644,bangolf_kategorien!$A$2:$B$11,2,FALSE)","v":"SM1"}]
["dv",25987,"Renate","Paulus","1. CKF Dudweiler e.V.","SW2: Paulus, Renate",{"$f":"VLOOKUP(A2645,bangolf_kategorien!$A$2:$B$11,2,FALSE)","v":"SW2"}]
["ob",50354,"Steffen","Paulus","KGC Bad Urach e.V.","SM1: Paulus, Steffen",{"$f":"VLOOKUP(A2646,bangolf_kategorien!$A$2:$B$11,2,FALSE)","v":"SM1"}]
["dv",36042,"Cornelia","Päuser","1. MGC Kassel 1964 e.V.","SW2: Päuser, Cornelia",{"$f":"VLOOKUP(A2647,bangolf_kategorien!$A$2:$B$11,2,FALSE)","v":"SW2"}]
["hv",4744,"Rudolf","Pavlas","MSV Bad Kreuznach","SM2: Pavlas, Rudolf",{"$f":"VLOOKUP(A2648,bangolf_kategorien!$A$2:$B$11,2,FALSE)","v":"SM2"}]
["hj",66726,"Nicolas","Pawelka","Miniaturgolf Sportclub Schriesheim e.V","JM: Pawelka, Nicolas",{"$f":"VLOOKUP(A2649,bangolf_kategorien!$A$2:$B$11,2,FALSE)","v":"JM"}]
["ob",66223,"Stephan","Pawelka","Miniaturgolf Sportclub Schriesheim e.V","SM1: Pawelka, Stephan",{"$f":"VLOOKUP(A2650,bangolf_kategorien!$A$2:$B$11,2,FALSE)","v":"SM1"}]
["hs",34757,"Sebastian","Peffer","Niendorfer MC v. 1963 e.V.","H: Peffer, Sebastian",{"$f":"VLOOKUP(A2651,bangolf_kategorien!$A$2:$B$11,2,FALSE)","v":"H"}]
["hv",34562,"Willi","Peffer","1. BGC Wesseling 1975 e.V.","SM2: Peffer, Willi",{"$f":"VLOOKUP(A2652,bangolf_kategorien!$A$2:$B$11,2,FALSE)","v":"SM2"}]
["og",34464,"Regina","Peffermann","1. Porzer MGC Grün-Weiß 1969 e.V.","SW1: Peffermann, Regina",{"$f":"VLOOKUP(A2653,bangolf_kategorien!$A$2:$B$11,2,FALSE)","v":"SW1"}]
["ob",33490,"Kurt","Peinelt","1. MGC Ludwigshafen e.V.","SM1: Peinelt, Kurt",{"$f":"VLOOKUP(A2654,bangolf_kategorien!$A$2:$B$11,2,FALSE)","v":"SM1"}]
["hs",35571,"Igor","Pekrul","MGC putter Künzell 1970 e.V.","H: Pekrul, Igor",{"$f":"VLOOKUP(A2655,bangolf_kategorien!$A$2:$B$11,2,FALSE)","v":"H"}]
["ds",36243,"Tanja","Pekrul","MGC putter Künzell 1970 e.V.","D: Pekrul, Tanja",{"$f":"VLOOKUP(A2656,bangolf_kategorien!$A$2:$B$11,2,FALSE)","v":"D"}]
["og",66596,"Doris","Pellkofer","BGC Hamm 1959 e.V.","SW1: Pellkofer, Doris",{"$f":"VLOOKUP(A2657,bangolf_kategorien!$A$2:$B$11,2,FALSE)","v":"SW1"}]
["hv",66595,"Jürgen","Pellkofer","BGC Hamm 1959 e.V.","SM2: Pellkofer, Jürgen",{"$f":"VLOOKUP(A2658,bangolf_kategorien!$A$2:$B$11,2,FALSE)","v":"SM2"}]
["hs",37558,"Daniel","Peppler","Reinickendorfer MGC e.V.","H: Peppler, Daniel",{"$f":"VLOOKUP(A2659,bangolf_kategorien!$A$2:$B$11,2,FALSE)","v":"H"}]
["ob",27520,"Peter","Perle","1. MGC Mannheim 1968 e.V.","SM1: Perle, Peter",{"$f":"VLOOKUP(A2660,bangolf_kategorien!$A$2:$B$11,2,FALSE)","v":"SM1"}]
["ob",40366,"Klaus","Perlich","OMGC Ingolstadt e.V.","SM1: Perlich, Klaus",{"$f":"VLOOKUP(A2661,bangolf_kategorien!$A$2:$B$11,2,FALSE)","v":"SM1"}]
["hs",67040,"Tobias","Peschke","MGC Rot-Weiß Wanne-Eickel e.V.","H: Peschke, Tobias",{"$f":"VLOOKUP(A2662,bangolf_kategorien!$A$2:$B$11,2,FALSE)","v":"H"}]
["hs",32976,"Magnus","Pester","MGC putter Künzell 1970 e.V.","H: Pester, Magnus",{"$f":"VLOOKUP(A2663,bangolf_kategorien!$A$2:$B$11,2,FALSE)","v":"H"}]
["ob",26809,"Manfred","Pester","TSV Pfungstadt Abt. Bahnengolf e.V.","SM1: Pester, Manfred",{"$f":"VLOOKUP(A2664,bangolf_kategorien!$A$2:$B$11,2,FALSE)","v":"SM1"}]
["hs",32975,"Philipp","Pester","SG Arheilgen Abt. Bahnengolf","H: Pester, Philipp",{"$f":"VLOOKUP(A2665,bangolf_kategorien!$A$2:$B$11,2,FALSE)","v":"H"}]
["hv",45445,"Alois","Peter","MGC Bad Waldsee 1990 e.V.","SM2: Peter, Alois",{"$f":"VLOOKUP(A2666,bangolf_kategorien!$A$2:$B$11,2,FALSE)","v":"SM2"}]
["hs",50128,"Timo","Peter","BIG ASPERG e.V.","H: Peter, Timo",{"$f":"VLOOKUP(A2667,bangolf_kategorien!$A$2:$B$11,2,FALSE)","v":"H"}]
["hv",7607,"Uwe","Peter","1. BGC Celle von 1964 e.V.","SM2: Peter, Uwe",{"$f":"VLOOKUP(A2668,bangolf_kategorien!$A$2:$B$11,2,FALSE)","v":"SM2"}]
["dv",65722,"Dora-Gisela","Petermann","SC Wermelskirchen 1976 e.V.","SW2: Petermann, Dora-Gisela",{"$f":"VLOOKUP(A2669,bangolf_kategorien!$A$2:$B$11,2,FALSE)","v":"SW2"}]
["dj",3216569,"Luisa","Petermann","Hobby","JW: Petermann, Luisa",{"$f":"VLOOKUP(A2670,bangolf_kategorien!$A$2:$B$11,2,FALSE)","v":"JW"}]
["hv",65723,"Rainer","Petermann","SC Wermelskirchen 1976 e.V.","SM2: Petermann, Rainer",{"$f":"VLOOKUP(A2671,bangolf_kategorien!$A$2:$B$11,2,FALSE)","v":"SM2"}]
["hv",37020,"Hartmut","Peters","SC Gut Heil Neumünster e.V.","SM2: Peters, Hartmut",{"$f":"VLOOKUP(A2672,bangolf_kategorien!$A$2:$B$11,2,FALSE)","v":"SM2"}]
["hj",66949,"Moritz","Peters","Hamburger MC von 1965 e.V.","JM: Peters, Moritz",{"$f":"VLOOKUP(A2673,bangolf_kategorien!$A$2:$B$11,2,FALSE)","v":"JM"}]
["ob",66924,"Detlef","Petersen","1. BGC Hannover e.V.","SM1: Petersen, Detlef",{"$f":"VLOOKUP(A2674,bangolf_kategorien!$A$2:$B$11,2,FALSE)","v":"SM1"}]
["hs",67371,"Robin","Petersen","SC Olympia Dortmund e.V.","H: Petersen, Robin",{"$f":"VLOOKUP(A2675,bangolf_kategorien!$A$2:$B$11,2,FALSE)","v":"H"}]
["hv",67292,"Reinhold","Petersik","TV Niederstetten 1862 e.V.  Abt. Minigolf","SM2: Petersik, Reinhold",{"$f":"VLOOKUP(A2676,bangolf_kategorien!$A$2:$B$11,2,FALSE)","v":"SM2"}]
["hs",66820,"Mickael","Petit","BGS Hardenberg-Pötter e.V.","H: Petit, Mickael",{"$f":"VLOOKUP(A2677,bangolf_kategorien!$A$2:$B$11,2,FALSE)","v":"H"}]
["hv",62294,"Jobst","Petrina","TV Trappenkamp e.V. - Minigolf -","SM2: Petrina, Jobst",{"$f":"VLOOKUP(A2678,bangolf_kategorien!$A$2:$B$11,2,FALSE)","v":"SM2"}]
["hv",35459,"Herbert","Peucker","SV Glückauf 1901 Gebhardshagen e.V.","SM2: Peucker, Herbert",{"$f":"VLOOKUP(A2679,bangolf_kategorien!$A$2:$B$11,2,FALSE)","v":"SM2"}]
["dv",36821,"Karin","Peucker","SV Glückauf 1901 Gebhardshagen e.V.","SW2: Peucker, Karin",{"$f":"VLOOKUP(A2680,bangolf_kategorien!$A$2:$B$11,2,FALSE)","v":"SW2"}]
["hv",43327,"Hans-Jürgen","Peuker","BGC Dormagen e.V.","SM2: Peuker, Hans-Jürgen",{"$f":"VLOOKUP(A2681,bangolf_kategorien!$A$2:$B$11,2,FALSE)","v":"SM2"}]
["hs",37241,"Mirko","Peuker","BGC Dormagen e.V.","H: Peuker, Mirko",{"$f":"VLOOKUP(A2682,bangolf_kategorien!$A$2:$B$11,2,FALSE)","v":"H"}]
["ds",37242,"Vanessa","Peuker","MGC Dormagen-Brechten e.V.","D: Peuker, Vanessa",{"$f":"VLOOKUP(A2683,bangolf_kategorien!$A$2:$B$11,2,FALSE)","v":"D"}]
["hv",24619,"Lutz","Pfeffer","Kölner Miniatur Golf Club e.V.","SM2: Pfeffer, Lutz",{"$f":"VLOOKUP(A2684,bangolf_kategorien!$A$2:$B$11,2,FALSE)","v":"SM2"}]
["hv",66167,"Reinhard","Pfeffer","MC Georgsmarienhütte e.V.","SM2: Pfeffer, Reinhard",{"$f":"VLOOKUP(A2685,bangolf_kategorien!$A$2:$B$11,2,FALSE)","v":"SM2"}]
["hv",22574,"Roland","Pfeffer","SV 1890 e.V. Dreieichenhain, Abt. Bahnengolf","SM2: Pfeffer, Roland",{"$f":"VLOOKUP(A2686,bangolf_kategorien!$A$2:$B$11,2,FALSE)","v":"SM2"}]
["hv",17476,"Werner","Pfeffer","1. MGC Mannheim 1968 e.V.","SM2: Pfeffer, Werner",{"$f":"VLOOKUP(A2687,bangolf_kategorien!$A$2:$B$11,2,FALSE)","v":"SM2"}]
["ob",67104,"Norbert","Pfeifer","MGV Ansbach e.V.","SM1: Pfeifer, Norbert",{"$f":"VLOOKUP(A2688,bangolf_kategorien!$A$2:$B$11,2,FALSE)","v":"SM1"}]
["hv",31259,"Holger","Pfeiffer","Biskirchener BGV e.V.","SM2: Pfeiffer, Holger",{"$f":"VLOOKUP(A2689,bangolf_kategorien!$A$2:$B$11,2,FALSE)","v":"SM2"}]
["og",34951,"Cynthia","Pfingst","1. BGC Leipzig e.V.","SW1: Pfingst, Cynthia",{"$f":"VLOOKUP(A2690,bangolf_kategorien!$A$2:$B$11,2,FALSE)","v":"SW1"}]
["hs",30926,"Thomas","Pfister","ASV Pegnitz, Abt. Minigolf",{"$f":"CONCATENATE(G2691,\": \",D2691,\", \",C2691)","v":"H: Pfister, Thomas"},{"$f":"VLOOKUP(A2691,bangolf_kategorien!$A$2:$B$11,2,FALSE)","v":"H"}]
["ob",3209189,"Alexander","Pförtsch","Hobby","SM1: Pförtsch, Alexander",{"$f":"VLOOKUP(A2692,bangolf_kategorien!$A$2:$B$11,2,FALSE)","v":"SM1"}]
["dv",47213,"Heiderose","Pfriem","1. MGC Peine von 1965 e.V.","SW2: Pfriem, Heiderose",{"$f":"VLOOKUP(A2693,bangolf_kategorien!$A$2:$B$11,2,FALSE)","v":"SW2"}]
["hv",12405,"Klaus","Pfriem","1. MGC Peine von 1965 e.V.","SM2: Pfriem, Klaus",{"$f":"VLOOKUP(A2694,bangolf_kategorien!$A$2:$B$11,2,FALSE)","v":"SM2"}]
["ob",66052,"Andreas","Philipp","VfM e.V. Berlin","SM1: Philipp, Andreas",{"$f":"VLOOKUP(A2695,bangolf_kategorien!$A$2:$B$11,2,FALSE)","v":"SM1"}]
["hs",29801,"Simon","Philipp","MGF Hilzingen 80 e.V.","H: Philipp, Simon",{"$f":"VLOOKUP(A2696,bangolf_kategorien!$A$2:$B$11,2,FALSE)","v":"H"}]
["hs",67024,"Lukas","Philippus","BGSV Bad Homburg","H: Philippus, Lukas",{"$f":"VLOOKUP(A2697,bangolf_kategorien!$A$2:$B$11,2,FALSE)","v":"H"}]
["hv",30834,"Bernhard","Pianka","BV Sennestadt","SM2: Pianka, Bernhard",{"$f":"VLOOKUP(A2698,bangolf_kategorien!$A$2:$B$11,2,FALSE)","v":"SM2"}]
["hv",45614,"Klaus","Pichler","MGC 85 Bönnigheim","SM2: Pichler, Klaus",{"$f":"VLOOKUP(A2699,bangolf_kategorien!$A$2:$B$11,2,FALSE)","v":"SM2"}]
["ds",38272,"Maike","Pichol","BGV Backumer Tal Herten e.V.","D: Pichol, Maike",{"$f":"VLOOKUP(A2700,bangolf_kategorien!$A$2:$B$11,2,FALSE)","v":"D"}]
["dj",66184,"Michelle","Pichol","BGV Backumer Tal Herten e.V.","JW: Pichol, Michelle",{"$f":"VLOOKUP(A2701,bangolf_kategorien!$A$2:$B$11,2,FALSE)","v":"JW"}]
["hs",31032,"Thorsten","Pichol","BGV Backumer Tal Herten e.V.","H: Pichol, Thorsten",{"$f":"VLOOKUP(A2702,bangolf_kategorien!$A$2:$B$11,2,FALSE)","v":"H"}]
["ob",42849,"Markus","Piechota","SSC Attendorn e.V.","SM1: Piechota, Markus",{"$f":"VLOOKUP(A2703,bangolf_kategorien!$A$2:$B$11,2,FALSE)","v":"SM1"}]
["dv",36538,"Rosemarie","Piechotta","MGC Dortmund Syburg e.V.","SW2: Piechotta, Rosemarie",{"$f":"VLOOKUP(A2704,bangolf_kategorien!$A$2:$B$11,2,FALSE)","v":"SW2"}]
["hv",41953,"Armando","Piedigaci","SC Wermelskirchen 1976 e.V.","SM2: Piedigaci, Armando",{"$f":"VLOOKUP(A2705,bangolf_kategorien!$A$2:$B$11,2,FALSE)","v":"SM2"}]
["ob",65977,"Werner","Piehl","MGC Bergisch Gladbach Gierath e.V.","SM1: Piehl, Werner",{"$f":"VLOOKUP(A2706,bangolf_kategorien!$A$2:$B$11,2,FALSE)","v":"SM1"}]
["hs",37859,"Sebastian","Piekorz","1. MGC Mainz e.V.","H: Piekorz, Sebastian",{"$f":"VLOOKUP(A2707,bangolf_kategorien!$A$2:$B$11,2,FALSE)","v":"H"}]
["hv",37860,"Wolfgang","Piekorz","BGC Bad Mergentheim e.V.","SM2: Piekorz, Wolfgang",{"$f":"VLOOKUP(A2708,bangolf_kategorien!$A$2:$B$11,2,FALSE)","v":"SM2"}]
["hs",36637,"Markus","Pieper","MGC Traben-Trarbach","H: Pieper, Markus",{"$f":"VLOOKUP(A2709,bangolf_kategorien!$A$2:$B$11,2,FALSE)","v":"H"}]
["hs",43980,"Oliver","Pieper","MGC Traben-Trarbach","H: Pieper, Oliver",{"$f":"VLOOKUP(A2710,bangolf_kategorien!$A$2:$B$11,2,FALSE)","v":"H"}]
["ds",35658,"Sabrina","Pieper","MGC Traben-Trarbach","D: Pieper, Sabrina",{"$f":"VLOOKUP(A2711,bangolf_kategorien!$A$2:$B$11,2,FALSE)","v":"D"}]
["hv",5324,"Ulrich","Pieper","MGC Traben-Trarbach","SM2: Pieper, Ulrich",{"$f":"VLOOKUP(A2712,bangolf_kategorien!$A$2:$B$11,2,FALSE)","v":"SM2"}]
["ob",66129,"Andreas","Pieplau","MGC Millennium Lorsch e.V.","SM1: Pieplau, Andreas",{"$f":"VLOOKUP(A2713,bangolf_kategorien!$A$2:$B$11,2,FALSE)","v":"SM1"}]
["hv",38267,"Armin","Piest","MGC Brunsbüttel e.V.","SM2: Piest, Armin",{"$f":"VLOOKUP(A2714,bangolf_kategorien!$A$2:$B$11,2,FALSE)","v":"SM2"}]
["ob",36654,"Harald","Pietsch","1. MGC Gelsenkirchen e.V.","SM1: Pietsch, Harald",{"$f":"VLOOKUP(A2715,bangolf_kategorien!$A$2:$B$11,2,FALSE)","v":"SM1"}]
["hv",38243,"Peter","Pilz","MGF Ottobrunn e.V.","SM2: Pilz, Peter",{"$f":"VLOOKUP(A2716,bangolf_kategorien!$A$2:$B$11,2,FALSE)","v":"SM2"}]
["hv",50457,"Karl-Heinz","Pindor","BGV Backumer Tal Herten e.V.","SM2: Pindor, Karl-Heinz",{"$f":"VLOOKUP(A2717,bangolf_kategorien!$A$2:$B$11,2,FALSE)","v":"SM2"}]
["og",35460,"Viola","Piper","SV Glückauf 1901 Gebhardshagen e.V.","SW1: Piper, Viola",{"$f":"VLOOKUP(A2718,bangolf_kategorien!$A$2:$B$11,2,FALSE)","v":"SW1"}]
["ob",38279,"Matthias","Pipke","BGSC Bochum 1978 e.V.","SM1: Pipke, Matthias",{"$f":"VLOOKUP(A2719,bangolf_kategorien!$A$2:$B$11,2,FALSE)","v":"SM1"}]
["hv",33364,"Wolfgang","Pirrung","1. KC Homburg-Saar 1967 e.V.","SM2: Pirrung, Wolfgang",{"$f":"VLOOKUP(A2720,bangolf_kategorien!$A$2:$B$11,2,FALSE)","v":"SM2"}]
["hv",29305,"Gerhard","Pischel","MGC Wolnzach e.V.","SM2: Pischel, Gerhard",{"$f":"VLOOKUP(A2721,bangolf_kategorien!$A$2:$B$11,2,FALSE)","v":"SM2"}]
["ob",36237,"Gerhard","Pitterle","MGC Bad Feilnbach e.V.","SM1: Pitterle, Gerhard",{"$f":"VLOOKUP(A2722,bangolf_kategorien!$A$2:$B$11,2,FALSE)","v":"SM1"}]
["hv",46458,"Rolf","Pittner","BV Sennestadt","SM2: Pittner, Rolf",{"$f":"VLOOKUP(A2723,bangolf_kategorien!$A$2:$B$11,2,FALSE)","v":"SM2"}]
["hv",40567,"Siegfried","Pitz","1. CGC Blau-Gelb Grötzingen","SM2: Pitz, Siegfried",{"$f":"VLOOKUP(A2724,bangolf_kategorien!$A$2:$B$11,2,FALSE)","v":"SM2"}]
["ob",48880,"Joachim","Plack","KGC Bad Urach e.V.","SM1: Plack, Joachim",{"$f":"VLOOKUP(A2725,bangolf_kategorien!$A$2:$B$11,2,FALSE)","v":"SM1"}]
["ob",3212056,"Gerhard","Planck","Hobby","SM1: Planck, Gerhard",{"$f":"VLOOKUP(A2726,bangolf_kategorien!$A$2:$B$11,2,FALSE)","v":"SM1"}]
["hs",36206,"Daniel","Platz","Freizeit Club Bliesen e.V.","H: Platz, Daniel",{"$f":"VLOOKUP(A2727,bangolf_kategorien!$A$2:$B$11,2,FALSE)","v":"H"}]
["ob",31933,"Stefan","Pleger","BGC Bad Nenndorf e.V.","SM1: Pleger, Stefan",{"$f":"VLOOKUP(A2728,bangolf_kategorien!$A$2:$B$11,2,FALSE)","v":"SM1"}]
["ob",67136,"Steffen","Plep","MGC Bad Bodendorf e.V.","SM1: Plep, Steffen",{"$f":"VLOOKUP(A2729,bangolf_kategorien!$A$2:$B$11,2,FALSE)","v":"SM1"}]
["ob",43572,"Stefan","Plieninger","1. BGC Landshut e.V.","SM1: Plieninger, Stefan",{"$f":"VLOOKUP(A2730,bangolf_kategorien!$A$2:$B$11,2,FALSE)","v":"SM1"}]
["og",67265,"Andrea","Ploch","CGC Rauschenberg e.V.","SW1: Ploch, Andrea",{"$f":"VLOOKUP(A2731,bangolf_kategorien!$A$2:$B$11,2,FALSE)","v":"SW1"}]
["dv",26514,"Christiane","Ploem","MSV Bad Kreuznach","SW2: Ploem, Christiane",{"$f":"VLOOKUP(A2732,bangolf_kategorien!$A$2:$B$11,2,FALSE)","v":"SW2"}]
["hv",40689,"Hans","Ploem","MSV Bad Kreuznach","SM2: Ploem, Hans",{"$f":"VLOOKUP(A2733,bangolf_kategorien!$A$2:$B$11,2,FALSE)","v":"SM2"}]
["hv",10662,"Günther","Plötz","Tempelhofer MV Berlin e.V.","SM2: Plötz, Günther",{"$f":"VLOOKUP(A2734,bangolf_kategorien!$A$2:$B$11,2,FALSE)","v":"SM2"}]
["ob",66693,"Michael","Pohler","Minigolf-Club Diessen","SM1: Pohler, Michael",{"$f":"VLOOKUP(A2735,bangolf_kategorien!$A$2:$B$11,2,FALSE)","v":"SM1"}]
["hv",6076,"Necdet","Polat","SV Lurup Abt. Bahnengolf","SM2: Polat, Necdet",{"$f":"VLOOKUP(A2736,bangolf_kategorien!$A$2:$B$11,2,FALSE)","v":"SM2"}]
["hs",67162,"Ivo-René","Polpitz","BGC Northeim e.V.","H: Polpitz, Ivo-René",{"$f":"VLOOKUP(A2737,bangolf_kategorien!$A$2:$B$11,2,FALSE)","v":"H"}]
["ob",66105,"Steffen","Poltermann","MGC Millennium Lorsch e.V.","SM1: Poltermann, Steffen",{"$f":"VLOOKUP(A2738,bangolf_kategorien!$A$2:$B$11,2,FALSE)","v":"SM1"}]
["dv",67240,"Christine","Pommer","1. BGC Hannover e.V.","SW2: Pommer, Christine",{"$f":"VLOOKUP(A2739,bangolf_kategorien!$A$2:$B$11,2,FALSE)","v":"SW2"}]
["hs",67239,"Jan","Pommer","1. BGC Hannover e.V.","H: Pommer, Jan",{"$f":"VLOOKUP(A2740,bangolf_kategorien!$A$2:$B$11,2,FALSE)","v":"H"}]
["dv",65823,"Ilona","Pommereit","SV Glückauf 1901 Gebhardshagen e.V.","SW2: Pommereit, Ilona",{"$f":"VLOOKUP(A2741,bangolf_kategorien!$A$2:$B$11,2,FALSE)","v":"SW2"}]
["ob",44073,"Michael","Ponellis","1. MSC Wesel 6.6.1966 e.V.","SM1: Ponellis, Michael",{"$f":"VLOOKUP(A2742,bangolf_kategorien!$A$2:$B$11,2,FALSE)","v":"SM1"}]
["hs",66794,"Ivan","Popleteev","MGC putter Künzell 1970 e.V.","H: Popleteev, Ivan",{"$f":"VLOOKUP(A2743,bangolf_kategorien!$A$2:$B$11,2,FALSE)","v":"H"}]
["hv",37658,"Alfred","Pöppe","BGSC Bochum 1978 e.V.","SM2: Pöppe, Alfred",{"$f":"VLOOKUP(A2744,bangolf_kategorien!$A$2:$B$11,2,FALSE)","v":"SM2"}]
["dv",36981,"Birgit","Pöppe","BGSC Bochum 1978 e.V.","SW2: Pöppe, Birgit",{"$f":"VLOOKUP(A2745,bangolf_kategorien!$A$2:$B$11,2,FALSE)","v":"SW2"}]
["hs",36776,"Fabian","Pöppe","BGSC Bochum 1978 e.V.","H: Pöppe, Fabian",{"$f":"VLOOKUP(A2746,bangolf_kategorien!$A$2:$B$11,2,FALSE)","v":"H"}]
["dv",36696,"Barbara","Pörrer","OMGC Ingolstadt e.V.","SW2: Pörrer, Barbara",{"$f":"VLOOKUP(A2747,bangolf_kategorien!$A$2:$B$11,2,FALSE)","v":"SW2"}]
["hv",5270,"Heinz","Pörrer","TG Höchberg von 1862 Bahnengolf e.V.","SM2: Pörrer, Heinz",{"$f":"VLOOKUP(A2748,bangolf_kategorien!$A$2:$B$11,2,FALSE)","v":"SM2"}]
["hs",49243,"Alexander","Porsch","ASV Pegnitz, Abt. Minigolf","H: Porsch, Alexander",{"$f":"VLOOKUP(A2749,bangolf_kategorien!$A$2:$B$11,2,FALSE)","v":"H"}]
["og",49887,"Heike","Poser","1. BGC Hannover e.V.","SW1: Poser, Heike",{"$f":"VLOOKUP(A2750,bangolf_kategorien!$A$2:$B$11,2,FALSE)","v":"SW1"}]
["ob",49886,"Stefan","Poser","1. BGC Hannover e.V.","SM1: Poser, Stefan",{"$f":"VLOOKUP(A2751,bangolf_kategorien!$A$2:$B$11,2,FALSE)","v":"SM1"}]
["hv",33993,"Jürgen","Praedel","MGC Rot-Weiß Wanne-Eickel e.V.","SM2: Praedel, Jürgen",{"$f":"VLOOKUP(A2752,bangolf_kategorien!$A$2:$B$11,2,FALSE)","v":"SM2"}]
["ob",43697,"Gerald","Prause","1. MGC 1970 Göttingen e.V.","SM1: Prause, Gerald",{"$f":"VLOOKUP(A2753,bangolf_kategorien!$A$2:$B$11,2,FALSE)","v":"SM1"}]
["hs",3260601,"Lars","Prediger","Hobby","H: Prediger, Lars",{"$f":"VLOOKUP(A2754,bangolf_kategorien!$A$2:$B$11,2,FALSE)","v":"H"}]
["hs",66608,"Lars","Prediger","VfL Lüneburg Abt. Bahnengolf",{"$f":"CONCATENATE(G2755,\": \",D2755,\", \",C2755)","v":"H: Prediger, Lars"},{"$f":"VLOOKUP(A2755,bangolf_kategorien!$A$2:$B$11,2,FALSE)","v":"H"}]
["hv",67415,"Robert","Preißler","MSG Kempten e.V.","SM2: Preißler, Robert",{"$f":"VLOOKUP(A2756,bangolf_kategorien!$A$2:$B$11,2,FALSE)","v":"SM2"}]
["hv",38577,"Stephan","Preißmann","BGSV Bad Homburg","SM2: Preißmann, Stephan",{"$f":"VLOOKUP(A2757,bangolf_kategorien!$A$2:$B$11,2,FALSE)","v":"SM2"}]
["hs",37322,"David","Pren","1. MSC Wesel 6.6.1966 e.V.","H: Pren, David",{"$f":"VLOOKUP(A2758,bangolf_kategorien!$A$2:$B$11,2,FALSE)","v":"H"}]
["ob",67151,"Wolfgang","Presser","MGC Heven e.V.","SM1: Presser, Wolfgang",{"$f":"VLOOKUP(A2759,bangolf_kategorien!$A$2:$B$11,2,FALSE)","v":"SM1"}]
["hj",66981,"Gerald","Pressmar-Danne","1. MC Weinheim e.V.","JM: Pressmar-Danne, Gerald",{"$f":"VLOOKUP(A2760,bangolf_kategorien!$A$2:$B$11,2,FALSE)","v":"JM"}]
["hv",6767,"Walter","Pribuß","BGC Illertissen e.V.","SM2: Pribuß, Walter",{"$f":"VLOOKUP(A2761,bangolf_kategorien!$A$2:$B$11,2,FALSE)","v":"SM2"}]
["hv",36550,"Heinz","Pribyl","1. Minigolf-Club Rheinhausen e.V.","SM2: Pribyl, Heinz",{"$f":"VLOOKUP(A2762,bangolf_kategorien!$A$2:$B$11,2,FALSE)","v":"SM2"}]
["og",66671,"Gudrun","Priedigkeit","BGC Uerdingen e.V.","SW1: Priedigkeit, Gudrun",{"$f":"VLOOKUP(A2763,bangolf_kategorien!$A$2:$B$11,2,FALSE)","v":"SW1"}]
["ob",66670,"Ulrich","Priedigkeit","BGC Uerdingen e.V.","SM1: Priedigkeit, Ulrich",{"$f":"VLOOKUP(A2764,bangolf_kategorien!$A$2:$B$11,2,FALSE)","v":"SM1"}]
["ds",30201,"Stephanie","Pries","Preetzer TSV von 1861 e.V. Abt. Minigolf","D: Pries, Stephanie",{"$f":"VLOOKUP(A2765,bangolf_kategorien!$A$2:$B$11,2,FALSE)","v":"D"}]
["ds",66841,"Anne-Katrin","Prill","Minigolfclub Karlshagen e.V.","D: Prill, Anne-Katrin",{"$f":"VLOOKUP(A2766,bangolf_kategorien!$A$2:$B$11,2,FALSE)","v":"D"}]
["hv",66529,"Norbert","Probost","MGC Wetzlar e.V.","SM2: Probost, Norbert",{"$f":"VLOOKUP(A2767,bangolf_kategorien!$A$2:$B$11,2,FALSE)","v":"SM2"}]
["hv",17592,"Herbert","Probst","BGC Bildstock e.V.","SM2: Probst, Herbert",{"$f":"VLOOKUP(A2768,bangolf_kategorien!$A$2:$B$11,2,FALSE)","v":"SM2"}]
["hv",66484,"Franz jr.","Proschko","1. BGC Bad Füssing e.V.","SM2: Proschko, Franz jr.",{"$f":"VLOOKUP(A2769,bangolf_kategorien!$A$2:$B$11,2,FALSE)","v":"SM2"}]
["hs",26092,"Michael","Proschko","1. BGC Bad Füssing e.V.","H: Proschko, Michael",{"$f":"VLOOKUP(A2770,bangolf_kategorien!$A$2:$B$11,2,FALSE)","v":"H"}]
["hs",35158,"Dominik","Prüßner","MGC Bad Salzuflen e.V.","H: Prüßner, Dominik",{"$f":"VLOOKUP(A2771,bangolf_kategorien!$A$2:$B$11,2,FALSE)","v":"H"}]
["hv",10566,"Johann","Pscherer jun.","MSK Olching e.V.","SM2: Pscherer jun., Johann",{"$f":"VLOOKUP(A2772,bangolf_kategorien!$A$2:$B$11,2,FALSE)","v":"SM2"}]
["hs",30634,"Rudolf","Pull","1. MGC Mainz e.V.","H: Pull, Rudolf",{"$f":"VLOOKUP(A2773,bangolf_kategorien!$A$2:$B$11,2,FALSE)","v":"H"}]
["hv",66528,"Gerhard","Puschner","BGC Bad Mergentheim e.V.","SM2: Puschner, Gerhard",{"$f":"VLOOKUP(A2774,bangolf_kategorien!$A$2:$B$11,2,FALSE)","v":"SM2"}]
["og",67180,"Ly","Puschner","BGC Bad Mergentheim e.V.","SW1: Puschner, Ly",{"$f":"VLOOKUP(A2775,bangolf_kategorien!$A$2:$B$11,2,FALSE)","v":"SW1"}]
["dv",5509,"Marianne","Quade","MGC Bad Salzuflen e.V.","SW2: Quade, Marianne",{"$f":"VLOOKUP(A2776,bangolf_kategorien!$A$2:$B$11,2,FALSE)","v":"SW2"}]
["ob",44691,"Frank","Quandt","TSV Salzgitter e.V. Abt. Bahnengolf","SM1: Quandt, Frank",{"$f":"VLOOKUP(A2777,bangolf_kategorien!$A$2:$B$11,2,FALSE)","v":"SM1"}]
["ob",24081,"Jürgen","Quandt","HMC Büttgen e.V.","SM1: Quandt, Jürgen",{"$f":"VLOOKUP(A2778,bangolf_kategorien!$A$2:$B$11,2,FALSE)","v":"SM1"}]
["ob",37784,"Thorsten","Quantz","MGC Heringen 1997 e.V.","SM1: Quantz, Thorsten",{"$f":"VLOOKUP(A2779,bangolf_kategorien!$A$2:$B$11,2,FALSE)","v":"SM1"}]
["hv",22150,"Andreas","Quelle","BSV 86 München e.V.","SM2: Quelle, Andreas",{"$f":"VLOOKUP(A2780,bangolf_kategorien!$A$2:$B$11,2,FALSE)","v":"SM2"}]
["ob",38420,"Martin","Quickels","MGC Rot-Weiß Wanne-Eickel e.V.","SM1: Quickels, Martin",{"$f":"VLOOKUP(A2781,bangolf_kategorien!$A$2:$B$11,2,FALSE)","v":"SM1"}]
["dv",61546,"Ruth","Quitsch","SV Lurup Abt. Bahnengolf","SW2: Quitsch, Ruth",{"$f":"VLOOKUP(A2782,bangolf_kategorien!$A$2:$B$11,2,FALSE)","v":"SW2"}]
["hv",62816,"Sieghardt","Quitsch","SV Lurup Abt. Bahnengolf","SM2: Quitsch, Sieghardt",{"$f":"VLOOKUP(A2783,bangolf_kategorien!$A$2:$B$11,2,FALSE)","v":"SM2"}]
["hv",66373,"Dieter","Rach","1. MGC Paderborn e.V.","SM2: Rach, Dieter",{"$f":"VLOOKUP(A2784,bangolf_kategorien!$A$2:$B$11,2,FALSE)","v":"SM2"}]
["ob",66551,"Armin","Rachl","MSG Kempten e.V.","SM1: Rachl, Armin",{"$f":"VLOOKUP(A2785,bangolf_kategorien!$A$2:$B$11,2,FALSE)","v":"SM1"}]
["ds",66550,"Conny","Rachl","MSG Kempten e.V.","D: Rachl, Conny",{"$f":"VLOOKUP(A2786,bangolf_kategorien!$A$2:$B$11,2,FALSE)","v":"D"}]
["hs",66549,"Florian","Rachl","MSG Kempten e.V.","H: Rachl, Florian",{"$f":"VLOOKUP(A2787,bangolf_kategorien!$A$2:$B$11,2,FALSE)","v":"H"}]
["hs",38625,"Marcus","Rade","MGC \"AS\" Witten 1963 e.V.","H: Rade, Marcus",{"$f":"VLOOKUP(A2788,bangolf_kategorien!$A$2:$B$11,2,FALSE)","v":"H"}]
["og",66862,"Birgit","Rademacher","MGC Rot-Weiß Wanne-Eickel e.V.","SW1: Rademacher, Birgit",{"$f":"VLOOKUP(A2789,bangolf_kategorien!$A$2:$B$11,2,FALSE)","v":"SW1"}]
["fa",66861,"Lina","Rademacher","MGC Rot-Weiß Wanne-Eickel e.V.","SCHW: Rademacher, Lina",{"$f":"VLOOKUP(A2790,bangolf_kategorien!$A$2:$B$11,2,FALSE)","v":"SCHW"}]
["hv",34051,"Wolfgang","Rademacher","1. MGC 1970 Göttingen e.V.","SM2: Rademacher, Wolfgang",{"$f":"VLOOKUP(A2791,bangolf_kategorien!$A$2:$B$11,2,FALSE)","v":"SM2"}]
["dv",37656,"Sonja","Radocaj","MSK Olching e.V.","SW2: Radocaj, Sonja",{"$f":"VLOOKUP(A2792,bangolf_kategorien!$A$2:$B$11,2,FALSE)","v":"SW2"}]
["hv",4855,"Wolfgang","Radtke","MGC Rot-Weiß Wanne-Eickel e.V.","SM2: Radtke, Wolfgang",{"$f":"VLOOKUP(A2793,bangolf_kategorien!$A$2:$B$11,2,FALSE)","v":"SM2"}]
["hs",48343,"Mark","Radziejewski","MGC putter Künzell 1970 e.V.","H: Radziejewski, Mark",{"$f":"VLOOKUP(A2794,bangolf_kategorien!$A$2:$B$11,2,FALSE)","v":"H"}]
["hs",36793,"Dustin","Raffler","1. Essener CGC \"Blau-Gold\" e.V.","H: Raffler, Dustin",{"$f":"VLOOKUP(A2795,bangolf_kategorien!$A$2:$B$11,2,FALSE)","v":"H"}]
["hv",10650,"Walther","Raffler","1. Essener CGC \"Blau-Gold\" e.V.","SM2: Raffler, Walther",{"$f":"VLOOKUP(A2796,bangolf_kategorien!$A$2:$B$11,2,FALSE)","v":"SM2"}]
["hs",31752,"Timur","Rahman","MGC putter Künzell 1970 e.V.","H: Rahman, Timur",{"$f":"VLOOKUP(A2797,bangolf_kategorien!$A$2:$B$11,2,FALSE)","v":"H"}]
["dv",4654,"Brunhilde","Rahmlow","SV Lurup Abt. Bahnengolf","SW2: Rahmlow, Brunhilde",{"$f":"VLOOKUP(A2798,bangolf_kategorien!$A$2:$B$11,2,FALSE)","v":"SW2"}]
["og",46295,"Gabriele","Rahmlow","SV Lurup Abt. Bahnengolf","SW1: Rahmlow, Gabriele",{"$f":"VLOOKUP(A2799,bangolf_kategorien!$A$2:$B$11,2,FALSE)","v":"SW1"}]
["ob",66633,"Wolfgang","Raimann","MGC Bergisch Gladbach Gierath e.V.","SM1: Raimann, Wolfgang",{"$f":"VLOOKUP(A2800,bangolf_kategorien!$A$2:$B$11,2,FALSE)","v":"SM1"}]
["ds",27206,"Bianca","Raith","MGC Oberkochen e.V.","D: Raith, Bianca",{"$f":"VLOOKUP(A2801,bangolf_kategorien!$A$2:$B$11,2,FALSE)","v":"D"}]
["ob",43192,"Richard","Raith","MGC Oberkochen e.V.","SM1: Raith, Richard",{"$f":"VLOOKUP(A2802,bangolf_kategorien!$A$2:$B$11,2,FALSE)","v":"SM1"}]
["hs",32862,"Tobias","Ramcke","MC Tigers Künsebeck e.V.","H: Ramcke, Tobias",{"$f":"VLOOKUP(A2803,bangolf_kategorien!$A$2:$B$11,2,FALSE)","v":"H"}]
["hs",37213,"René","Ramming","BGC Bad Berneck e.V.","H: Ramming, René",{"$f":"VLOOKUP(A2804,bangolf_kategorien!$A$2:$B$11,2,FALSE)","v":"H"}]
["hv",45764,"Eduard","Rankel","MGC Bad Bodendorf e.V.","SM2: Rankel, Eduard",{"$f":"VLOOKUP(A2805,bangolf_kategorien!$A$2:$B$11,2,FALSE)","v":"SM2"}]
["hv",37655,"Roland","Ranzinger","MGC Ingolstadt e.V.","SM2: Ranzinger, Roland",{"$f":"VLOOKUP(A2806,bangolf_kategorien!$A$2:$B$11,2,FALSE)","v":"SM2"}]
["ob",44276,"Michael","Rapp","MGF Hammer e.V.","SM1: Rapp, Michael",{"$f":"VLOOKUP(A2807,bangolf_kategorien!$A$2:$B$11,2,FALSE)","v":"SM1"}]
["hs",44728,"Benjamin","Raschke","BGC Bremen e.V.","H: Raschke, Benjamin",{"$f":"VLOOKUP(A2808,bangolf_kategorien!$A$2:$B$11,2,FALSE)","v":"H"}]
["ob",66379,"Jörg","Raschke","Biskirchener BGV e.V.","SM1: Raschke, Jörg",{"$f":"VLOOKUP(A2809,bangolf_kategorien!$A$2:$B$11,2,FALSE)","v":"SM1"}]
["hs",36567,"Marcel","Raschke","BGC Diepholz e.V.","H: Raschke, Marcel",{"$f":"VLOOKUP(A2810,bangolf_kategorien!$A$2:$B$11,2,FALSE)","v":"H"}]
["ds",884,"Isabell","Raschke-Dejoks","BGC Diepholz e.V.","D: Raschke-Dejoks, Isabell",{"$f":"VLOOKUP(A2811,bangolf_kategorien!$A$2:$B$11,2,FALSE)","v":"D"}]
["dv",34086,"Claudia","Rassler","Minigolfunion Neviges-Odenthal 1968 e.V.","SW2: Rassler, Claudia",{"$f":"VLOOKUP(A2812,bangolf_kategorien!$A$2:$B$11,2,FALSE)","v":"SW2"}]
["hv",34099,"Gerhard","Rassler","Minigolfunion Neviges-Odenthal 1968 e.V.","SM2: Rassler, Gerhard",{"$f":"VLOOKUP(A2813,bangolf_kategorien!$A$2:$B$11,2,FALSE)","v":"SM2"}]
["pa",67309,"Lucas","Rastetter","1. CGC Blau-Gelb Grötzingen","SCHM: Rastetter, Lucas",{"$f":"VLOOKUP(A2814,bangolf_kategorien!$A$2:$B$11,2,FALSE)","v":"SCHM"}]
["hv",65851,"Robert","Rastetter","Minigolf Wölfe Rheinstetten 02","SM2: Rastetter, Robert",{"$f":"VLOOKUP(A2815,bangolf_kategorien!$A$2:$B$11,2,FALSE)","v":"SM2"}]
["ob",31213,"Thomas","Rastetter","1. CGC Blau-Gelb Grötzingen","SM1: Rastetter, Thomas",{"$f":"VLOOKUP(A2816,bangolf_kategorien!$A$2:$B$11,2,FALSE)","v":"SM1"}]
["og",43263,"Elke","Rath","SG Arheilgen Abt. Bahnengolf","SW1: Rath, Elke",{"$f":"VLOOKUP(A2817,bangolf_kategorien!$A$2:$B$11,2,FALSE)","v":"SW1"}]
["ob",65824,"Markus","Rath","SV Glückauf 1901 Gebhardshagen e.V.","SM1: Rath, Markus",{"$f":"VLOOKUP(A2818,bangolf_kategorien!$A$2:$B$11,2,FALSE)","v":"SM1"}]
["ob",23693,"Udo","Rathje","MGC Olympia Kiel e.V.",{"$f":"CONCATENATE(G2819,\": \",D2819,\", \",C2819)","v":"SM1: Rathje, Udo"},{"$f":"VLOOKUP(A2819,bangolf_kategorien!$A$2:$B$11,2,FALSE)","v":"SM1"}]
["ob",51902,"Oliver","Rathjens","1. MSC Wesel 6.6.1966 e.V.","SM1: Rathjens, Oliver",{"$f":"VLOOKUP(A2820,bangolf_kategorien!$A$2:$B$11,2,FALSE)","v":"SM1"}]
["ds",67138,"Eva","Rättig","SV Glückauf 1901 Gebhardshagen e.V.","D: Rättig, Eva",{"$f":"VLOOKUP(A2821,bangolf_kategorien!$A$2:$B$11,2,FALSE)","v":"D"}]
["ob",42343,"Josef","Rauch","MGC Ingolstadt e.V.","SM1: Rauch, Josef",{"$f":"VLOOKUP(A2822,bangolf_kategorien!$A$2:$B$11,2,FALSE)","v":"SM1"}]
["hs",26213,"Stephan","Rauh-Buchwald","BGC Illertissen e.V.","H: Rauh-Buchwald, Stephan",{"$f":"VLOOKUP(A2823,bangolf_kategorien!$A$2:$B$11,2,FALSE)","v":"H"}]
["ob",42585,"Martin","Rausch","MGC putter Künzell 1970 e.V.","SM1: Rausch, Martin",{"$f":"VLOOKUP(A2824,bangolf_kategorien!$A$2:$B$11,2,FALSE)","v":"SM1"}]
["hv",47353,"Joachim","Rautenberg","MGC Heven e.V.","SM2: Rautenberg, Joachim",{"$f":"VLOOKUP(A2825,bangolf_kategorien!$A$2:$B$11,2,FALSE)","v":"SM2"}]
["ob",66721,"Stefan","Rebstock","Hamburger MC von 1965 e.V.","SM1: Rebstock, Stefan",{"$f":"VLOOKUP(A2826,bangolf_kategorien!$A$2:$B$11,2,FALSE)","v":"SM1"}]
["ob",37325,"Jens","Rechenmacher","VfB Osnabrück e.V.","SM1: Rechenmacher, Jens",{"$f":"VLOOKUP(A2827,bangolf_kategorien!$A$2:$B$11,2,FALSE)","v":"SM1"}]
["hs",37978,"Sven","Reckmann","SC Bastion Rot Weiß Lippstadt e.V.","H: Reckmann, Sven",{"$f":"VLOOKUP(A2828,bangolf_kategorien!$A$2:$B$11,2,FALSE)","v":"H"}]
["ds",36015,"Kerstin","Reder","TSV Kücknitz Abt. Bahnengolf","D: Reder, Kerstin",{"$f":"VLOOKUP(A2829,bangolf_kategorien!$A$2:$B$11,2,FALSE)","v":"D"}]
["ob",50224,"Andreas","Reese","MSK Neheim-Hüsten e.V.","SM1: Reese, Andreas",{"$f":"VLOOKUP(A2830,bangolf_kategorien!$A$2:$B$11,2,FALSE)","v":"SM1"}]
["ds",37501,"Maike","Reese","MGC Felderbachtal 1964 e.V.","D: Reese, Maike",{"$f":"VLOOKUP(A2831,bangolf_kategorien!$A$2:$B$11,2,FALSE)","v":"D"}]
["hv",6208,"Bernd","Reh","BGS Hardenberg-Pötter e.V.","SM2: Reh, Bernd",{"$f":"VLOOKUP(A2832,bangolf_kategorien!$A$2:$B$11,2,FALSE)","v":"SM2"}]
["ob",43640,"Norbert","Rehfeld","BGV Bergisch Land 1962 / 63 e.V.","SM1: Rehfeld, Norbert",{"$f":"VLOOKUP(A2833,bangolf_kategorien!$A$2:$B$11,2,FALSE)","v":"SM1"}]
["hv",44515,"Klaus","Rehse","1. MGC Paderborn e.V.","SM2: Rehse, Klaus",{"$f":"VLOOKUP(A2834,bangolf_kategorien!$A$2:$B$11,2,FALSE)","v":"SM2"}]
["og",34994,"Sabine","Rehse","BGSC Bochum 1978 e.V.","SW1: Rehse, Sabine",{"$f":"VLOOKUP(A2835,bangolf_kategorien!$A$2:$B$11,2,FALSE)","v":"SW1"}]
["hs",65945,"Alexander","Reich","1. BGC Landshut e.V.","H: Reich, Alexander",{"$f":"VLOOKUP(A2836,bangolf_kategorien!$A$2:$B$11,2,FALSE)","v":"H"}]
["hs",32470,"Matthias","Reiche","1. BGC Leipzig e.V.","H: Reiche, Matthias",{"$f":"VLOOKUP(A2837,bangolf_kategorien!$A$2:$B$11,2,FALSE)","v":"H"}]
["hs",3222465,"Sven","Reichenbächer","Hobby","H: Reichenbächer, Sven",{"$f":"VLOOKUP(A2838,bangolf_kategorien!$A$2:$B$11,2,FALSE)","v":"H"}]
["hs",37198,"Bastian","Reichert","TV Niederstetten 1862 e.V.  Abt. Minigolf","H: Reichert, Bastian",{"$f":"VLOOKUP(A2839,bangolf_kategorien!$A$2:$B$11,2,FALSE)","v":"H"}]
["hv",34727,"Hermann","Reichert","TV Niederstetten 1862 e.V.  Abt. Minigolf","SM2: Reichert, Hermann",{"$f":"VLOOKUP(A2840,bangolf_kategorien!$A$2:$B$11,2,FALSE)","v":"SM2"}]
["ob",34731,"Michael","Reichert","MGC Unterschneidheim e.V.","SM1: Reichert, Michael",{"$f":"VLOOKUP(A2841,bangolf_kategorien!$A$2:$B$11,2,FALSE)","v":"SM1"}]
["ob",40054,"Thomas","Reichert","TV Niederstetten 1862 e.V.  Abt. Minigolf","SM1: Reichert, Thomas",{"$f":"VLOOKUP(A2842,bangolf_kategorien!$A$2:$B$11,2,FALSE)","v":"SM1"}]
["pa",67023,"Ben","Reichle","BSV Inzlingen 1979 e.V.","SCHM: Reichle, Ben",{"$f":"VLOOKUP(A2843,bangolf_kategorien!$A$2:$B$11,2,FALSE)","v":"SCHM"}]
["ob",42375,"Dirk","Reichle","1. MGC Ladenburg e.V.","SM1: Reichle, Dirk",{"$f":"VLOOKUP(A2844,bangolf_kategorien!$A$2:$B$11,2,FALSE)","v":"SM1"}]
["dv",32876,"Heidi","Reichle","BSV Inzlingen 1979 e.V.","SW2: Reichle, Heidi",{"$f":"VLOOKUP(A2845,bangolf_kategorien!$A$2:$B$11,2,FALSE)","v":"SW2"}]
["hs",26125,"Matthias","Reichle","BSV Inzlingen 1979 e.V.","H: Reichle, Matthias",{"$f":"VLOOKUP(A2846,bangolf_kategorien!$A$2:$B$11,2,FALSE)","v":"H"}]
["hs",43382,"Stefan","Reichle","BSV Inzlingen 1979 e.V.","H: Reichle, Stefan",{"$f":"VLOOKUP(A2847,bangolf_kategorien!$A$2:$B$11,2,FALSE)","v":"H"}]
["hv",3975,"Urs","Reichle","BSV Inzlingen 1979 e.V.","SM2: Reichle, Urs",{"$f":"VLOOKUP(A2848,bangolf_kategorien!$A$2:$B$11,2,FALSE)","v":"SM2"}]
["ob",46907,"Jens","Reimann","SV Glückauf 1901 Gebhardshagen e.V.","SM1: Reimann, Jens",{"$f":"VLOOKUP(A2849,bangolf_kategorien!$A$2:$B$11,2,FALSE)","v":"SM1"}]
["dv",17220,"Inge","Reimer","VfM Bottrop e.V.","SW2: Reimer, Inge",{"$f":"VLOOKUP(A2850,bangolf_kategorien!$A$2:$B$11,2,FALSE)","v":"SW2"}]
["hv",18172,"Werner","Reimer","VfM Bottrop e.V.","SM2: Reimer, Werner",{"$f":"VLOOKUP(A2851,bangolf_kategorien!$A$2:$B$11,2,FALSE)","v":"SM2"}]
["ob",40617,"Franz","Reimling","MC Ilvesheim e.V.","SM1: Reimling, Franz",{"$f":"VLOOKUP(A2852,bangolf_kategorien!$A$2:$B$11,2,FALSE)","v":"SM1"}]
["hs",49312,"Andy","Rein","1. BGC Rodalben 1977 e.V.","H: Rein, Andy",{"$f":"VLOOKUP(A2853,bangolf_kategorien!$A$2:$B$11,2,FALSE)","v":"H"}]
["hv",5691,"Heinz","Rein","BG Pfullingen","SM2: Rein, Heinz",{"$f":"VLOOKUP(A2854,bangolf_kategorien!$A$2:$B$11,2,FALSE)","v":"SM2"}]
["fa",66993,"Leonie","Rein","1. BGC Rodalben 1977 e.V.","SCHW: Rein, Leonie",{"$f":"VLOOKUP(A2855,bangolf_kategorien!$A$2:$B$11,2,FALSE)","v":"SCHW"}]
["hv",6215,"Franz-Josef","Reinartz","1.KGC Mönchengladbach e.V.","SM2: Reinartz, Franz-Josef",{"$f":"VLOOKUP(A2856,bangolf_kategorien!$A$2:$B$11,2,FALSE)","v":"SM2"}]
["dv",3211285,"Monika","Reiners","Hobby","SW2: Reiners, Monika",{"$f":"VLOOKUP(A2857,bangolf_kategorien!$A$2:$B$11,2,FALSE)","v":"SW2"}]
["hs",3185488,"André","Reinhardt","Hobby","H: Reinhardt, André",{"$f":"VLOOKUP(A2858,bangolf_kategorien!$A$2:$B$11,2,FALSE)","v":"H"}]
["hs",67337,"André","Reinhardt","MGC Ostheim / Rhön e.V.","H: Reinhardt, André",{"$f":"VLOOKUP(A2859,bangolf_kategorien!$A$2:$B$11,2,FALSE)","v":"H"}]
["ob",36966,"Günther","Reinhardt","1. Essener CGC \"Blau-Gold\" e.V.","SM1: Reinhardt, Günther",{"$f":"VLOOKUP(A2860,bangolf_kategorien!$A$2:$B$11,2,FALSE)","v":"SM1"}]
["hv",6838,"Manfred","Reinhardt","BGC Heilbronn e.V.","SM2: Reinhardt, Manfred",{"$f":"VLOOKUP(A2861,bangolf_kategorien!$A$2:$B$11,2,FALSE)","v":"SM2"}]
["og",44862,"Andrea","Reinicke","MC \"Möve\" Cuxhaven-Sahlenburg e.V.","SW1: Reinicke, Andrea",{"$f":"VLOOKUP(A2862,bangolf_kategorien!$A$2:$B$11,2,FALSE)","v":"SW1"}]
["hv",42691,"Frank","Reinicke","MC \"Möve\" Cuxhaven-Sahlenburg e.V.","SM2: Reinicke, Frank",{"$f":"VLOOKUP(A2863,bangolf_kategorien!$A$2:$B$11,2,FALSE)","v":"SM2"}]
["hv",42690,"Michael","Reinicke","MC \"Möve\" Cuxhaven-Sahlenburg e.V.","SM2: Reinicke, Michael",{"$f":"VLOOKUP(A2864,bangolf_kategorien!$A$2:$B$11,2,FALSE)","v":"SM2"}]
["ds",49802,"Corina","Reinisch","BGC Neutraubling e.V.","D: Reinisch, Corina",{"$f":"VLOOKUP(A2865,bangolf_kategorien!$A$2:$B$11,2,FALSE)","v":"D"}]
["dv",4076,"Hildegard","Reinisch","BGC Neutraubling e.V.","SW2: Reinisch, Hildegard",{"$f":"VLOOKUP(A2866,bangolf_kategorien!$A$2:$B$11,2,FALSE)","v":"SW2"}]
["hv",4065,"Klaus","Reinisch","BGC Neutraubling e.V.","SM2: Reinisch, Klaus",{"$f":"VLOOKUP(A2867,bangolf_kategorien!$A$2:$B$11,2,FALSE)","v":"SM2"}]
["pa",64926,"Klaus Richard Friedrich","Reinisch","BGC Neutraubling e.V.","SCHM: Reinisch, Klaus Richard Friedrich",{"$f":"VLOOKUP(A2868,bangolf_kategorien!$A$2:$B$11,2,FALSE)","v":"SCHM"}]
["ob",43664,"Roman","Reinisch","BGC Neutraubling e.V.","SM1: Reinisch, Roman",{"$f":"VLOOKUP(A2869,bangolf_kategorien!$A$2:$B$11,2,FALSE)","v":"SM1"}]
["pa",63580,"Tim","Reinisch","BGC Neutraubling e.V.","SCHM: Reinisch, Tim",{"$f":"VLOOKUP(A2870,bangolf_kategorien!$A$2:$B$11,2,FALSE)","v":"SCHM"}]
["hv",50558,"Jürgen","Reinshagen","MGC Bergisch Gladbach Gierath e.V.","SM2: Reinshagen, Jürgen",{"$f":"VLOOKUP(A2871,bangolf_kategorien!$A$2:$B$11,2,FALSE)","v":"SM2"}]
["dv",4138,"Anneliese","Reisdorff","MGC Bad Bodendorf e.V.","SW2: Reisdorff, Anneliese",{"$f":"VLOOKUP(A2872,bangolf_kategorien!$A$2:$B$11,2,FALSE)","v":"SW2"}]
["hv",45515,"Hans","Reisdorff","MGC Bad Bodendorf e.V.","SM2: Reisdorff, Hans",{"$f":"VLOOKUP(A2873,bangolf_kategorien!$A$2:$B$11,2,FALSE)","v":"SM2"}]
["hs",48140,"Alexander","Reiss","BGC Illertissen e.V.","H: Reiss, Alexander",{"$f":"VLOOKUP(A2874,bangolf_kategorien!$A$2:$B$11,2,FALSE)","v":"H"}]
["og",30685,"Karin","Reiss","BIG ASPERG e.V.","SW1: Reiss, Karin",{"$f":"VLOOKUP(A2875,bangolf_kategorien!$A$2:$B$11,2,FALSE)","v":"SW1"}]
["ob",48968,"Wolfgang","Reiss","1. NMC Kelheim e.V.","SM1: Reiss, Wolfgang",{"$f":"VLOOKUP(A2876,bangolf_kategorien!$A$2:$B$11,2,FALSE)","v":"SM1"}]
["ds",33172,"Maria-Ina","Reißmann","MGV Eibenstock","D: Reißmann, Maria-Ina",{"$f":"VLOOKUP(A2877,bangolf_kategorien!$A$2:$B$11,2,FALSE)","v":"D"}]
["ob",32817,"Volkmar","Reißmann","MGV Eibenstock","SM1: Reißmann, Volkmar",{"$f":"VLOOKUP(A2878,bangolf_kategorien!$A$2:$B$11,2,FALSE)","v":"SM1"}]
["ds",66612,"Lea","Reitemeier","MGC Rot-Weiß Wanne-Eickel e.V.","D: Reitemeier, Lea",{"$f":"VLOOKUP(A2879,bangolf_kategorien!$A$2:$B$11,2,FALSE)","v":"D"}]
["hv",66613,"Michael","Reitemeier","MGC Rot-Weiß Wanne-Eickel e.V.","SM2: Reitemeier, Michael",{"$f":"VLOOKUP(A2880,bangolf_kategorien!$A$2:$B$11,2,FALSE)","v":"SM2"}]
["ob",45574,"Josef","Reiter","MGF Hammer e.V.","SM1: Reiter, Josef",{"$f":"VLOOKUP(A2881,bangolf_kategorien!$A$2:$B$11,2,FALSE)","v":"SM1"}]
["dv",18338,"Anni","Remscheidt","SSC Attendorn e.V.","SW2: Remscheidt, Anni",{"$f":"VLOOKUP(A2882,bangolf_kategorien!$A$2:$B$11,2,FALSE)","v":"SW2"}]
["hv",18339,"Klaus","Remscheidt","SSC Attendorn e.V.",{"$f":"CONCATENATE(G2883,\": \",D2883,\", \",C2883)","v":"SM2: Remscheidt, Klaus"},{"$f":"VLOOKUP(A2883,bangolf_kategorien!$A$2:$B$11,2,FALSE)","v":"SM2"}]
["ob",51479,"Thomas","Remscheidt","SSC Attendorn e.V.","SM1: Remscheidt, Thomas",{"$f":"VLOOKUP(A2884,bangolf_kategorien!$A$2:$B$11,2,FALSE)","v":"SM1"}]
["hv",66850,"Uwe","Rennert","TSV 1848 Flöha","SM2: Rennert, Uwe",{"$f":"VLOOKUP(A2885,bangolf_kategorien!$A$2:$B$11,2,FALSE)","v":"SM2"}]
["ob",67222,"Christopher","Ressing","BGC Oberhausen e.V.","SM1: Ressing, Christopher",{"$f":"VLOOKUP(A2886,bangolf_kategorien!$A$2:$B$11,2,FALSE)","v":"SM1"}]
["hv",5603,"Wilfried","Reßler","MGC Lippe-Detmold e.V.","SM2: Reßler, Wilfried",{"$f":"VLOOKUP(A2887,bangolf_kategorien!$A$2:$B$11,2,FALSE)","v":"SM2"}]
["dj",66374,"Elina","Rettinger","1. MGC 1970 Göttingen e.V.","JW: Rettinger, Elina",{"$f":"VLOOKUP(A2888,bangolf_kategorien!$A$2:$B$11,2,FALSE)","v":"JW"}]
["ob",66375,"Jürgen","Rettinger","1. MGC 1970 Göttingen e.V.","SM1: Rettinger, Jürgen",{"$f":"VLOOKUP(A2889,bangolf_kategorien!$A$2:$B$11,2,FALSE)","v":"SM1"}]
["og",46595,"Brigitte","Retzlaff","BIG ASPERG e.V.","SW1: Retzlaff, Brigitte",{"$f":"VLOOKUP(A2890,bangolf_kategorien!$A$2:$B$11,2,FALSE)","v":"SW1"}]
["ob",46579,"Manfred","Retzlaff","BIG ASPERG e.V.","SM1: Retzlaff, Manfred",{"$f":"VLOOKUP(A2891,bangolf_kategorien!$A$2:$B$11,2,FALSE)","v":"SM1"}]
["og",37449,"Brigitte","Reul","BGSV Bad Homburg","SW1: Reul, Brigitte",{"$f":"VLOOKUP(A2892,bangolf_kategorien!$A$2:$B$11,2,FALSE)","v":"SW1"}]
["hv",67011,"Kurt","Reuter","1. MGC Lohfelden 1997 e.V.","SM2: Reuter, Kurt",{"$f":"VLOOKUP(A2893,bangolf_kategorien!$A$2:$B$11,2,FALSE)","v":"SM2"}]
["pa",66774,"Raphael","Reuter","1. MGC Lohfelden 1997 e.V.","SCHM: Reuter, Raphael",{"$f":"VLOOKUP(A2894,bangolf_kategorien!$A$2:$B$11,2,FALSE)","v":"SCHM"}]
["hs",66656,"Michel","Rhyn","SG Arheilgen Abt. Bahnengolf","H: Rhyn, Michel",{"$f":"VLOOKUP(A2895,bangolf_kategorien!$A$2:$B$11,2,FALSE)","v":"H"}]
["hs",34628,"Ilario","Ricci","1. BGC Wolfsburg","H: Ricci, Ilario",{"$f":"VLOOKUP(A2896,bangolf_kategorien!$A$2:$B$11,2,FALSE)","v":"H"}]
["ob",27886,"Andreas","Richard","1. MGC Süßen e.V.","SM1: Richard, Andreas",{"$f":"VLOOKUP(A2897,bangolf_kategorien!$A$2:$B$11,2,FALSE)","v":"SM1"}]
["hs",37042,"Andreas","Richard jun.","MGC Schwaikheim e.V.","H: Richard jun., Andreas",{"$f":"VLOOKUP(A2898,bangolf_kategorien!$A$2:$B$11,2,FALSE)","v":"H"}]
["hs",66445,"Adrian","Richter","BSV AOK Leipzig e.V.","H: Richter, Adrian",{"$f":"VLOOKUP(A2899,bangolf_kategorien!$A$2:$B$11,2,FALSE)","v":"H"}]
["og",31089,"Anja","Richter","BGC Uerdingen e.V.","SW1: Richter, Anja",{"$f":"VLOOKUP(A2900,bangolf_kategorien!$A$2:$B$11,2,FALSE)","v":"SW1"}]
["dv",3223739,"Hermine","Richter","Hobby","SW2: Richter, Hermine",{"$f":"VLOOKUP(A2901,bangolf_kategorien!$A$2:$B$11,2,FALSE)","v":"SW2"}]
["hs",34904,"Mike","Richter","MGV Eibenstock","H: Richter, Mike",{"$f":"VLOOKUP(A2902,bangolf_kategorien!$A$2:$B$11,2,FALSE)","v":"H"}]
["hv",47480,"Siegfried","Richter","1.KGC Mönchengladbach e.V.","SM2: Richter, Siegfried",{"$f":"VLOOKUP(A2903,bangolf_kategorien!$A$2:$B$11,2,FALSE)","v":"SM2"}]
["hs",65809,"Tobias","Richter","1. MC Weinheim e.V.","H: Richter, Tobias",{"$f":"VLOOKUP(A2904,bangolf_kategorien!$A$2:$B$11,2,FALSE)","v":"H"}]
["og",31071,"Pia","Riebesam","HMC Büttgen e.V.","SW1: Riebesam, Pia",{"$f":"VLOOKUP(A2905,bangolf_kategorien!$A$2:$B$11,2,FALSE)","v":"SW1"}]
["ob",43517,"Mirko","Riecken","MC Flora Elmshorn e.V.","SM1: Riecken, Mirko",{"$f":"VLOOKUP(A2906,bangolf_kategorien!$A$2:$B$11,2,FALSE)","v":"SM1"}]
["ob",43376,"Kurt","Riedel","1. MGC Tuttlingen e.V.","SM1: Riedel, Kurt",{"$f":"VLOOKUP(A2907,bangolf_kategorien!$A$2:$B$11,2,FALSE)","v":"SM1"}]
["ob",43372,"Ralf","Riedel","1. MGC Tuttlingen e.V.","SM1: Riedel, Ralf",{"$f":"VLOOKUP(A2908,bangolf_kategorien!$A$2:$B$11,2,FALSE)","v":"SM1"}]
["hv",43350,"Wolfgang","Rieder","MGF Waldshut 74 e.V.","SM2: Rieder, Wolfgang",{"$f":"VLOOKUP(A2909,bangolf_kategorien!$A$2:$B$11,2,FALSE)","v":"SM2"}]
["dv",43435,"Elisabeth","Riedl","1. MGC Mitterteich-Großbüchlberg","SW2: Riedl, Elisabeth",{"$f":"VLOOKUP(A2910,bangolf_kategorien!$A$2:$B$11,2,FALSE)","v":"SW2"}]
["hj",66700,"Niklas","Riedlinger","1. MGC Hechingen","JM: Riedlinger, Niklas",{"$f":"VLOOKUP(A2911,bangolf_kategorien!$A$2:$B$11,2,FALSE)","v":"JM"}]
["hv",67369,"Fred","Riegel","Tempelhofer MV Berlin e.V.","SM2: Riegel, Fred",{"$f":"VLOOKUP(A2912,bangolf_kategorien!$A$2:$B$11,2,FALSE)","v":"SM2"}]
["ob",66239,"Erik","Rieger","MGC Bad Soden-Salmünster","SM1: Rieger, Erik",{"$f":"VLOOKUP(A2913,bangolf_kategorien!$A$2:$B$11,2,FALSE)","v":"SM1"}]
["ob",31344,"Markus","Rieker","1. MGC Tuttlingen e.V.","SM1: Rieker, Markus",{"$f":"VLOOKUP(A2914,bangolf_kategorien!$A$2:$B$11,2,FALSE)","v":"SM1"}]
["ob",41463,"Carsten","Riemann","1. MGC 1970 Göttingen e.V.","SM1: Riemann, Carsten",{"$f":"VLOOKUP(A2915,bangolf_kategorien!$A$2:$B$11,2,FALSE)","v":"SM1"}]
["og",66493,"Karin","Riemann","MGC Bad Salzuflen e.V.","SW1: Riemann, Karin",{"$f":"VLOOKUP(A2916,bangolf_kategorien!$A$2:$B$11,2,FALSE)","v":"SW1"}]
["hv",66494,"Lothar","Riemann","MGC Bad Salzuflen e.V.","SM2: Riemann, Lothar",{"$f":"VLOOKUP(A2917,bangolf_kategorien!$A$2:$B$11,2,FALSE)","v":"SM2"}]
["og",42684,"Susanne","Riemann","1. MGC Kassel 1964 e.V.","SW1: Riemann, Susanne",{"$f":"VLOOKUP(A2918,bangolf_kategorien!$A$2:$B$11,2,FALSE)","v":"SW1"}]
["ds",66286,"Vanessa","Riemann","1. MGC Kassel 1964 e.V.","D: Riemann, Vanessa",{"$f":"VLOOKUP(A2919,bangolf_kategorien!$A$2:$B$11,2,FALSE)","v":"D"}]
["ob",36048,"Klaus","Riepe","MGC Harrislee-Wassersleben","SM1: Riepe, Klaus",{"$f":"VLOOKUP(A2920,bangolf_kategorien!$A$2:$B$11,2,FALSE)","v":"SM1"}]
["hv",6783,"Karl-Ludwig","Ries","MSV Bad Kreuznach","SM2: Ries, Karl-Ludwig",{"$f":"VLOOKUP(A2921,bangolf_kategorien!$A$2:$B$11,2,FALSE)","v":"SM2"}]
["dv",33348,"Anke","Riesbeck","Preetzer TSV von 1861 e.V. Abt. Minigolf","SW2: Riesbeck, Anke",{"$f":"VLOOKUP(A2922,bangolf_kategorien!$A$2:$B$11,2,FALSE)","v":"SW2"}]
["hj",67196,"Philipp","Riesch","BGSV Castrop e.V. 1961","JM: Riesch, Philipp",{"$f":"VLOOKUP(A2923,bangolf_kategorien!$A$2:$B$11,2,FALSE)","v":"JM"}]
["hv",42608,"Ulrich","Riesenbeck","1.KGC Mönchengladbach e.V.","SM2: Riesenbeck, Ulrich",{"$f":"VLOOKUP(A2924,bangolf_kategorien!$A$2:$B$11,2,FALSE)","v":"SM2"}]
["hj",66619,"Ole","Riewe","TG Höchberg von 1862 Bahnengolf e.V.","JM: Riewe, Ole",{"$f":"VLOOKUP(A2925,bangolf_kategorien!$A$2:$B$11,2,FALSE)","v":"JM"}]
["hv",37236,"Karl","Ring","MGC Unterschneidheim e.V.","SM2: Ring, Karl",{"$f":"VLOOKUP(A2926,bangolf_kategorien!$A$2:$B$11,2,FALSE)","v":"SM2"}]
["hv",42965,"Norbert","Ring","HMC Büttgen e.V.","SM2: Ring, Norbert",{"$f":"VLOOKUP(A2927,bangolf_kategorien!$A$2:$B$11,2,FALSE)","v":"SM2"}]
["hs",29539,"Daniel","Ringes","HMC Büttgen e.V.","H: Ringes, Daniel",{"$f":"VLOOKUP(A2928,bangolf_kategorien!$A$2:$B$11,2,FALSE)","v":"H"}]
["og",38262,"Angelika Pia","Ringler","1. MGC Tuttlingen e.V.","SW1: Ringler, Angelika Pia",{"$f":"VLOOKUP(A2929,bangolf_kategorien!$A$2:$B$11,2,FALSE)","v":"SW1"}]
["hs",31221,"Andreas","Ringshandl","1. NMC Kelheim e.V.","H: Ringshandl, Andreas",{"$f":"VLOOKUP(A2930,bangolf_kategorien!$A$2:$B$11,2,FALSE)","v":"H"}]
["hs",3194190,"André","Rinke","Hobby","H: Rinke, André",{"$f":"VLOOKUP(A2931,bangolf_kategorien!$A$2:$B$11,2,FALSE)","v":"H"}]
["hv",48112,"Walter","Rinke","MC Flora Elmshorn e.V.","SM2: Rinke, Walter",{"$f":"VLOOKUP(A2932,bangolf_kategorien!$A$2:$B$11,2,FALSE)","v":"SM2"}]
["hs",66410,"Lukas","Rinker","MGC Wetzlar e.V.","H: Rinker, Lukas",{"$f":"VLOOKUP(A2933,bangolf_kategorien!$A$2:$B$11,2,FALSE)","v":"H"}]
["ob",37587,"Hans-Werner","Rischar","1. MGC Saar 68 St. Ingbert e.V.","SM1: Rischar, Hans-Werner",{"$f":"VLOOKUP(A2934,bangolf_kategorien!$A$2:$B$11,2,FALSE)","v":"SM1"}]
["hs",37586,"Joshua","Rischar","1. MGC Saar 68 St. Ingbert e.V.","H: Rischar, Joshua",{"$f":"VLOOKUP(A2935,bangolf_kategorien!$A$2:$B$11,2,FALSE)","v":"H"}]
["ob",65974,"Oliver","Rissling","MGC Bergisch Gladbach Gierath e.V.","SM1: Rissling, Oliver",{"$f":"VLOOKUP(A2936,bangolf_kategorien!$A$2:$B$11,2,FALSE)","v":"SM1"}]
["hs",38165,"Florian","Ristow","MGC 85 Bönnigheim","H: Ristow, Florian",{"$f":"VLOOKUP(A2937,bangolf_kategorien!$A$2:$B$11,2,FALSE)","v":"H"}]
["hv",38371,"Wolfgang","Ristow","1. MGC Paderborn e.V.","SM2: Ristow, Wolfgang",{"$f":"VLOOKUP(A2938,bangolf_kategorien!$A$2:$B$11,2,FALSE)","v":"SM2"}]
["hv",38544,"Klaus","Ritschel","MGC \"Stahlquelle\" Bad Bocklet","SM2: Ritschel, Klaus",{"$f":"VLOOKUP(A2939,bangolf_kategorien!$A$2:$B$11,2,FALSE)","v":"SM2"}]
["hs",33975,"Michael","Ritschel","Miniaturgolf Sportclub Schriesheim e.V","H: Ritschel, Michael",{"$f":"VLOOKUP(A2940,bangolf_kategorien!$A$2:$B$11,2,FALSE)","v":"H"}]
["hv",5020,"Reiner","Ritschel","Miniaturgolf Sportclub Schriesheim e.V","SM2: Ritschel, Reiner",{"$f":"VLOOKUP(A2941,bangolf_kategorien!$A$2:$B$11,2,FALSE)","v":"SM2"}]
["og",36284,"Claudia","Ritschmann","BGC Heilbronn e.V.","SW1: Ritschmann, Claudia",{"$f":"VLOOKUP(A2942,bangolf_kategorien!$A$2:$B$11,2,FALSE)","v":"SW1"}]
["ob",36285,"Uwe","Ritschmann","BGC Heilbronn e.V.","SM1: Ritschmann, Uwe",{"$f":"VLOOKUP(A2943,bangolf_kategorien!$A$2:$B$11,2,FALSE)","v":"SM1"}]
["hs",66773,"Sascha","Ritterbusch","1. MGC Kassel 1964 e.V.","H: Ritterbusch, Sascha",{"$f":"VLOOKUP(A2944,bangolf_kategorien!$A$2:$B$11,2,FALSE)","v":"H"}]
["ob",3212043,"Klaus","Rittmeier","Hobby","SM1: Rittmeier, Klaus",{"$f":"VLOOKUP(A2945,bangolf_kategorien!$A$2:$B$11,2,FALSE)","v":"SM1"}]
["ob",44193,"Thorsten","Ritz","BGSC \"Gut Schlag\" Gladbeck e.V.","SM1: Ritz, Thorsten",{"$f":"VLOOKUP(A2946,bangolf_kategorien!$A$2:$B$11,2,FALSE)","v":"SM1"}]
["ob",43368,"Andreas","Ritzert","MC Ilvesheim e.V.",{"$f":"CONCATENATE(G2947,\": \",D2947,\", \",C2947)","v":"SM1: Ritzert, Andreas"},{"$f":"VLOOKUP(A2947,bangolf_kategorien!$A$2:$B$11,2,FALSE)","v":"SM1"}]
["og",42533,"Bettina","Ritzert","MC Ilvesheim e.V.","SW1: Ritzert, Bettina",{"$f":"VLOOKUP(A2948,bangolf_kategorien!$A$2:$B$11,2,FALSE)","v":"SW1"}]
["dv",33395,"Eva","Rochel","SGC Hagen e.V.","SW2: Rochel, Eva",{"$f":"VLOOKUP(A2949,bangolf_kategorien!$A$2:$B$11,2,FALSE)","v":"SW2"}]
["ob",66915,"Jens","Rockstroh","TSV 1848 Flöha","SM1: Rockstroh, Jens",{"$f":"VLOOKUP(A2950,bangolf_kategorien!$A$2:$B$11,2,FALSE)","v":"SM1"}]
["ob",49852,"Detlef","Rode","SV Lurup Abt. Bahnengolf","SM1: Rode, Detlef",{"$f":"VLOOKUP(A2951,bangolf_kategorien!$A$2:$B$11,2,FALSE)","v":"SM1"}]
["hs",66037,"Andreas","Rödig","MGC Bad Feilnbach e.V.","H: Rödig, Andreas",{"$f":"VLOOKUP(A2952,bangolf_kategorien!$A$2:$B$11,2,FALSE)","v":"H"}]
["hv",19330,"Peter","Rödiger","MGC Wetzlar e.V.","SM2: Rödiger, Peter",{"$f":"VLOOKUP(A2953,bangolf_kategorien!$A$2:$B$11,2,FALSE)","v":"SM2"}]
["hs",34792,"Timo","Roessler","1. MGC Metzingen e.V.","H: Roessler, Timo",{"$f":"VLOOKUP(A2954,bangolf_kategorien!$A$2:$B$11,2,FALSE)","v":"H"}]
["ob",66856,"Heinz-Friedrich","Rogall","MGC Felderbachtal 1964 e.V.","SM1: Rogall, Heinz-Friedrich",{"$f":"VLOOKUP(A2955,bangolf_kategorien!$A$2:$B$11,2,FALSE)","v":"SM1"}]
["ob",37470,"Thomas","Rogge","MV Lankwitzer Dragons e.V.","SM1: Rogge, Thomas",{"$f":"VLOOKUP(A2956,bangolf_kategorien!$A$2:$B$11,2,FALSE)","v":"SM1"}]
["hs",66697,"Jens","Rogler","Minigolfclub Karlshagen e.V.","H: Rogler, Jens",{"$f":"VLOOKUP(A2957,bangolf_kategorien!$A$2:$B$11,2,FALSE)","v":"H"}]
["hv",43860,"Uwe","Rohard","MGC Brunsbüttel e.V.","SM2: Rohard, Uwe",{"$f":"VLOOKUP(A2958,bangolf_kategorien!$A$2:$B$11,2,FALSE)","v":"SM2"}]
["hs",36873,"Dennis","Rohde","TSV Kücknitz Abt. Bahnengolf","H: Rohde, Dennis",{"$f":"VLOOKUP(A2959,bangolf_kategorien!$A$2:$B$11,2,FALSE)","v":"H"}]
["hv",33429,"Gerhard","Röhl","TSV Arendsee e.V.","SM2: Röhl, Gerhard",{"$f":"VLOOKUP(A2960,bangolf_kategorien!$A$2:$B$11,2,FALSE)","v":"SM2"}]
["og",67110,"Sabine","Röhrl","MSK Olching e.V.","SW1: Röhrl, Sabine",{"$f":"VLOOKUP(A2961,bangolf_kategorien!$A$2:$B$11,2,FALSE)","v":"SW1"}]
["hv",67310,"Peter","Roland","MC \"Möve\" Cuxhaven-Sahlenburg e.V.","SM2: Roland, Peter",{"$f":"VLOOKUP(A2962,bangolf_kategorien!$A$2:$B$11,2,FALSE)","v":"SM2"}]
["hv",19228,"Karlheinz","Roller","1. MGC Metzingen e.V.","SM2: Roller, Karlheinz",{"$f":"VLOOKUP(A2963,bangolf_kategorien!$A$2:$B$11,2,FALSE)","v":"SM2"}]
["ob",42632,"Joachim","Romano","1. BGC Bad Füssing e.V.","SM1: Romano, Joachim",{"$f":"VLOOKUP(A2964,bangolf_kategorien!$A$2:$B$11,2,FALSE)","v":"SM1"}]
["dj",65875,"Yelyzaveta","Romanyak","1. BGC Leipzig e.V.","JW: Romanyak, Yelyzaveta",{"$f":"VLOOKUP(A2965,bangolf_kategorien!$A$2:$B$11,2,FALSE)","v":"JW"}]
["ob",44981,"Michael","Romberg","MGC Freizeitzentrum Biebertal","SM1: Romberg, Michael",{"$f":"VLOOKUP(A2966,bangolf_kategorien!$A$2:$B$11,2,FALSE)","v":"SM1"}]
["dv",25686,"Silvia","Romberg","BGC Schloß Paffendorf e.V.","SW2: Romberg, Silvia",{"$f":"VLOOKUP(A2967,bangolf_kategorien!$A$2:$B$11,2,FALSE)","v":"SW2"}]
["hv",6616,"Wolfgang","Romberg","BGC Schloß Paffendorf e.V.","SM2: Romberg, Wolfgang",{"$f":"VLOOKUP(A2968,bangolf_kategorien!$A$2:$B$11,2,FALSE)","v":"SM2"}]
["ds",34766,"Yvonne","Romberg","MGC Freizeitzentrum Biebertal","D: Romberg, Yvonne",{"$f":"VLOOKUP(A2969,bangolf_kategorien!$A$2:$B$11,2,FALSE)","v":"D"}]
["hs",3202726,"Christian","Römer","Hobby","H: Römer, Christian",{"$f":"VLOOKUP(A2970,bangolf_kategorien!$A$2:$B$11,2,FALSE)","v":"H"}]
["ob",37427,"Stephan","Römer","SSC Halver e.V.","SM1: Römer, Stephan",{"$f":"VLOOKUP(A2971,bangolf_kategorien!$A$2:$B$11,2,FALSE)","v":"SM1"}]
["hs",16911,"Wolfgang","Romero","MSC Bad Godesberg e.V.","H: Romero, Wolfgang",{"$f":"VLOOKUP(A2972,bangolf_kategorien!$A$2:$B$11,2,FALSE)","v":"H"}]
["dv",63238,"Anneliese","Roosmann-Diecks","BGC Bremen e.V.","SW2: Roosmann-Diecks, Anneliese",{"$f":"VLOOKUP(A2973,bangolf_kategorien!$A$2:$B$11,2,FALSE)","v":"SW2"}]
["hv",28305,"Andreas","Rösch","MGF 77 Sickenhausen e.V.","SM2: Rösch, Andreas",{"$f":"VLOOKUP(A2974,bangolf_kategorien!$A$2:$B$11,2,FALSE)","v":"SM2"}]
["hv",24416,"Martin","Rösch","1. NMC Kelheim e.V.","SM2: Rösch, Martin",{"$f":"VLOOKUP(A2975,bangolf_kategorien!$A$2:$B$11,2,FALSE)","v":"SM2"}]
["hs",38635,"Benjamin","Rose","BGC Dormagen e.V.","H: Rose, Benjamin",{"$f":"VLOOKUP(A2976,bangolf_kategorien!$A$2:$B$11,2,FALSE)","v":"H"}]
["dv",38636,"Heidemarie","Rose","BGC Dormagen e.V.","SW2: Rose, Heidemarie",{"$f":"VLOOKUP(A2977,bangolf_kategorien!$A$2:$B$11,2,FALSE)","v":"SW2"}]
["hv",65915,"Karl-Wilhelm","Rose","BGC Dormagen e.V.","SM2: Rose, Karl-Wilhelm",{"$f":"VLOOKUP(A2978,bangolf_kategorien!$A$2:$B$11,2,FALSE)","v":"SM2"}]
["hs",35849,"Christian","Roselieb","1. BGC Wolfsburg","H: Roselieb, Christian",{"$f":"VLOOKUP(A2979,bangolf_kategorien!$A$2:$B$11,2,FALSE)","v":"H"}]
["hv",35850,"Manfred","Roselieb","1. MGC 1970 Göttingen e.V.","SM2: Roselieb, Manfred",{"$f":"VLOOKUP(A2980,bangolf_kategorien!$A$2:$B$11,2,FALSE)","v":"SM2"}]
["ob",35560,"Axel","Rosemann","Minigolfunion Neviges-Odenthal 1968 e.V.","SM1: Rosemann, Axel",{"$f":"VLOOKUP(A2981,bangolf_kategorien!$A$2:$B$11,2,FALSE)","v":"SM1"}]
["ds",33650,"Marina","Rosenbach","MGC Traben-Trarbach","D: Rosenbach, Marina",{"$f":"VLOOKUP(A2982,bangolf_kategorien!$A$2:$B$11,2,FALSE)","v":"D"}]
["hv",38213,"Uwe","Rosenbaum","MGF Magdeburg 1995 e.V.","SM2: Rosenbaum, Uwe",{"$f":"VLOOKUP(A2983,bangolf_kategorien!$A$2:$B$11,2,FALSE)","v":"SM2"}]
["hv",66634,"Willi","Rosenberger","MSV Würzburg-Löwenbrücke e.V.","SM2: Rosenberger, Willi",{"$f":"VLOOKUP(A2984,bangolf_kategorien!$A$2:$B$11,2,FALSE)","v":"SM2"}]
["ob",29032,"Detlev","Rösener","MSK Neheim-Hüsten e.V.","SM1: Rösener, Detlev",{"$f":"VLOOKUP(A2985,bangolf_kategorien!$A$2:$B$11,2,FALSE)","v":"SM1"}]
["dv",3522,"Ingeborg","Rosenkranz","OMGC Ingolstadt e.V.","SW2: Rosenkranz, Ingeborg",{"$f":"VLOOKUP(A2986,bangolf_kategorien!$A$2:$B$11,2,FALSE)","v":"SW2"}]
["hv",3194206,"Peter","Rosnau","Hobby","SM2: Rosnau, Peter",{"$f":"VLOOKUP(A2987,bangolf_kategorien!$A$2:$B$11,2,FALSE)","v":"SM2"}]
["hv",36949,"Roland","Rösner","MSK Olching e.V.","SM2: Rösner, Roland",{"$f":"VLOOKUP(A2988,bangolf_kategorien!$A$2:$B$11,2,FALSE)","v":"SM2"}]
["hs",31044,"Markus","Roßmeier","1. BGC Bad Füssing e.V.","H: Roßmeier, Markus",{"$f":"VLOOKUP(A2989,bangolf_kategorien!$A$2:$B$11,2,FALSE)","v":"H"}]
["hs",67414,"Stefan","Rotenstein","1. MGC Peine von 1965 e.V.","H: Rotenstein, Stefan",{"$f":"VLOOKUP(A2990,bangolf_kategorien!$A$2:$B$11,2,FALSE)","v":"H"}]
["hv",38248,"Jürgen","Rotermund","VfL Lüneburg Abt. Bahnengolf","SM2: Rotermund, Jürgen",{"$f":"VLOOKUP(A2991,bangolf_kategorien!$A$2:$B$11,2,FALSE)","v":"SM2"}]
["dj",66952,"Marie Sophie","Rotermund","1. BGC Celle von 1964 e.V.","JW: Rotermund, Marie Sophie",{"$f":"VLOOKUP(A2992,bangolf_kategorien!$A$2:$B$11,2,FALSE)","v":"JW"}]
["hs",66992,"Frank","Roth","1. BGC Rodalben 1977 e.V.","H: Roth, Frank",{"$f":"VLOOKUP(A2993,bangolf_kategorien!$A$2:$B$11,2,FALSE)","v":"H"}]
["ds",37019,"Nathalie-Inez","Roth","TG Höchberg von 1862 Bahnengolf e.V.","D: Roth, Nathalie-Inez",{"$f":"VLOOKUP(A2994,bangolf_kategorien!$A$2:$B$11,2,FALSE)","v":"D"}]
["pa",66880,"Noah","Roth","1. BGC Rodalben 1977 e.V.","SCHM: Roth, Noah",{"$f":"VLOOKUP(A2995,bangolf_kategorien!$A$2:$B$11,2,FALSE)","v":"SCHM"}]
["hv",34054,"Dieter","Rothermel","MSC Bensheim-Auerbach e.V.","SM2: Rothermel, Dieter",{"$f":"VLOOKUP(A2996,bangolf_kategorien!$A$2:$B$11,2,FALSE)","v":"SM2"}]
["dv",34053,"Ute","Rothermel","MSC Bensheim-Auerbach e.V.","SW2: Rothermel, Ute",{"$f":"VLOOKUP(A2997,bangolf_kategorien!$A$2:$B$11,2,FALSE)","v":"SW2"}]
["pa",67000,"Timo","Rotzal","TSV Pfungstadt Abt. Bahnengolf e.V.","SCHM: Rotzal, Timo",{"$f":"VLOOKUP(A2998,bangolf_kategorien!$A$2:$B$11,2,FALSE)","v":"SCHM"}]
["hs",66908,"Sebastian","Rübner","MGC \"Stahlquelle\" Bad Bocklet","H: Rübner, Sebastian",{"$f":"VLOOKUP(A2999,bangolf_kategorien!$A$2:$B$11,2,FALSE)","v":"H"}]
["ob",66803,"Dietmar","Ruck","BGC Schweinfurt e.V.","SM1: Ruck, Dietmar",{"$f":"VLOOKUP(A3000,bangolf_kategorien!$A$2:$B$11,2,FALSE)","v":"SM1"}]
["hs",27788,"Sven","Rücker","MGC Wetzlar e.V.","H: Rücker, Sven",{"$f":"VLOOKUP(A3001,bangolf_kategorien!$A$2:$B$11,2,FALSE)","v":"H"}]
["ob",24182,"Dieter","Rude","1. MGC Ladenburg e.V.","SM1: Rude, Dieter",{"$f":"VLOOKUP(A3002,bangolf_kategorien!$A$2:$B$11,2,FALSE)","v":"SM1"}]
["ds",66287,"Verena","Rude","1. MGC Ladenburg e.V.","D: Rude, Verena",{"$f":"VLOOKUP(A3003,bangolf_kategorien!$A$2:$B$11,2,FALSE)","v":"D"}]
["hv",36630,"Hans","Ruder","Minigolf Wölfe Rheinstetten 02","SM2: Ruder, Hans",{"$f":"VLOOKUP(A3004,bangolf_kategorien!$A$2:$B$11,2,FALSE)","v":"SM2"}]
["ob",42717,"Thomas","Ruff","MGC Ravensburg-Weingarten e.V.","SM1: Ruff, Thomas",{"$f":"VLOOKUP(A3005,bangolf_kategorien!$A$2:$B$11,2,FALSE)","v":"SM1"}]
["fa",67341,"Lisa","Ruft","1. BGC Hannover e.V.","SCHW: Ruft, Lisa",{"$f":"VLOOKUP(A3006,bangolf_kategorien!$A$2:$B$11,2,FALSE)","v":"SCHW"}]
["hs",51306,"Wolfgang","Ruft","1. BGC Hannover e.V.","H: Ruft, Wolfgang",{"$f":"VLOOKUP(A3007,bangolf_kategorien!$A$2:$B$11,2,FALSE)","v":"H"}]
["hv",21226,"Dieter","Rüger","1. MSC Wesel 6.6.1966 e.V.","SM2: Rüger, Dieter",{"$f":"VLOOKUP(A3008,bangolf_kategorien!$A$2:$B$11,2,FALSE)","v":"SM2"}]
["hv",22305,"Klaus","Rüger","BGC Northeim e.V.","SM2: Rüger, Klaus",{"$f":"VLOOKUP(A3009,bangolf_kategorien!$A$2:$B$11,2,FALSE)","v":"SM2"}]
["ds",3212057,"Stefanie","Ruhland","Hobby","D: Ruhland, Stefanie",{"$f":"VLOOKUP(A3010,bangolf_kategorien!$A$2:$B$11,2,FALSE)","v":"D"}]
["hv",36047,"Karl-Heinz","Rühle","MGC Wolnzach e.V.",{"$f":"CONCATENATE(G3011,\": \",D3011,\", \",C3011)","v":"SM2: Rühle, Karl-Heinz"},{"$f":"VLOOKUP(A3011,bangolf_kategorien!$A$2:$B$11,2,FALSE)","v":"SM2"}]
["ob",3209183,"Marcus","Rümenapp","Hobby","SM1: Rümenapp, Marcus",{"$f":"VLOOKUP(A3012,bangolf_kategorien!$A$2:$B$11,2,FALSE)","v":"SM1"}]
["hs",66318,"Christian","Rümmele","1. MGC Metzingen e.V.","H: Rümmele, Christian",{"$f":"VLOOKUP(A3013,bangolf_kategorien!$A$2:$B$11,2,FALSE)","v":"H"}]
["ds",37637,"Anna","Rümmelin","BSV Inzlingen 1979 e.V.","D: Rümmelin, Anna",{"$f":"VLOOKUP(A3014,bangolf_kategorien!$A$2:$B$11,2,FALSE)","v":"D"}]
["og",67225,"Eycke","Rümmelin","BSV Inzlingen 1979 e.V.","SW1: Rümmelin, Eycke",{"$f":"VLOOKUP(A3015,bangolf_kategorien!$A$2:$B$11,2,FALSE)","v":"SW1"}]
["ob",3175194,"Stefan","Rump","Hobby","SM1: Rump, Stefan",{"$f":"VLOOKUP(A3016,bangolf_kategorien!$A$2:$B$11,2,FALSE)","v":"SM1"}]
["dv",62538,"Anneliese","Runge","1. MGC Saar 68 St. Ingbert e.V.","SW2: Runge, Anneliese",{"$f":"VLOOKUP(A3017,bangolf_kategorien!$A$2:$B$11,2,FALSE)","v":"SW2"}]
["hs",66925,"Florian","Rungenhagen","BGV Bergisch Land 1962 / 63 e.V.","H: Rungenhagen, Florian",{"$f":"VLOOKUP(A3018,bangolf_kategorien!$A$2:$B$11,2,FALSE)","v":"H"}]
["hs",49432,"Jürgen","Rupp","MGC Ravensburg-Weingarten e.V.","H: Rupp, Jürgen",{"$f":"VLOOKUP(A3019,bangolf_kategorien!$A$2:$B$11,2,FALSE)","v":"H"}]
["dv",66956,"Petra","Rupp","1. MGC Mainz e.V.","SW2: Rupp, Petra",{"$f":"VLOOKUP(A3020,bangolf_kategorien!$A$2:$B$11,2,FALSE)","v":"SW2"}]
["hv",6727,"Eberhard","Rüppel","MGC Bad Homburg vdH e.V.","SM2: Rüppel, Eberhard",{"$f":"VLOOKUP(A3021,bangolf_kategorien!$A$2:$B$11,2,FALSE)","v":"SM2"}]
["ob",29657,"Frank","Rüter","MSK Neheim-Hüsten e.V.","SM1: Rüter, Frank",{"$f":"VLOOKUP(A3022,bangolf_kategorien!$A$2:$B$11,2,FALSE)","v":"SM1"}]
["hv",65913,"Holger","Ruzicka","BGC Illertissen e.V.","SM2: Ruzicka, Holger",{"$f":"VLOOKUP(A3023,bangolf_kategorien!$A$2:$B$11,2,FALSE)","v":"SM2"}]
["hs",36288,"Patrick","Saar","1. MGC Tuttlingen e.V.","H: Saar, Patrick",{"$f":"VLOOKUP(A3024,bangolf_kategorien!$A$2:$B$11,2,FALSE)","v":"H"}]
["hs",67228,"Heiko","Saathoff","BGC Bad Nenndorf e.V.","H: Saathoff, Heiko",{"$f":"VLOOKUP(A3025,bangolf_kategorien!$A$2:$B$11,2,FALSE)","v":"H"}]
["og",31240,"Petra","Sabath","MGC Einbeck","SW1: Sabath, Petra",{"$f":"VLOOKUP(A3026,bangolf_kategorien!$A$2:$B$11,2,FALSE)","v":"SW1"}]
["ds",3260357,"Simone","Sachs","Hobby","D: Sachs, Simone",{"$f":"VLOOKUP(A3027,bangolf_kategorien!$A$2:$B$11,2,FALSE)","v":"D"}]
["hv",43142,"Wolfgang","Sachs","MGC Bad Salzuflen e.V.","SM2: Sachs, Wolfgang",{"$f":"VLOOKUP(A3028,bangolf_kategorien!$A$2:$B$11,2,FALSE)","v":"SM2"}]
["pa",67072,"Thilo","Sachse","SG Arheilgen Abt. Bahnengolf","SCHM: Sachse, Thilo",{"$f":"VLOOKUP(A3029,bangolf_kategorien!$A$2:$B$11,2,FALSE)","v":"SCHM"}]
["hs",67074,"Torsten","Sachse","SG Arheilgen Abt. Bahnengolf","H: Sachse, Torsten",{"$f":"VLOOKUP(A3030,bangolf_kategorien!$A$2:$B$11,2,FALSE)","v":"H"}]
["ob",29035,"Markus","Sack","MSK Neheim-Hüsten e.V.","SM1: Sack, Markus",{"$f":"VLOOKUP(A3031,bangolf_kategorien!$A$2:$B$11,2,FALSE)","v":"SM1"}]
["hv",66465,"Armin","Sadowski","Bochumer Minigolf-Club 1960 e.V.","SM2: Sadowski, Armin",{"$f":"VLOOKUP(A3032,bangolf_kategorien!$A$2:$B$11,2,FALSE)","v":"SM2"}]
["ob",28574,"Bernd","Sadzeck","1. MSC Hamburg-Neu Wulmstorf","SM1: Sadzeck, Bernd",{"$f":"VLOOKUP(A3033,bangolf_kategorien!$A$2:$B$11,2,FALSE)","v":"SM1"}]
["dj",66089,"Chiana","Saft","MSK Olching e.V.","JW: Saft, Chiana",{"$f":"VLOOKUP(A3034,bangolf_kategorien!$A$2:$B$11,2,FALSE)","v":"JW"}]
["dj",66088,"Ellen","Saft","MSK Olching e.V.","JW: Saft, Ellen",{"$f":"VLOOKUP(A3035,bangolf_kategorien!$A$2:$B$11,2,FALSE)","v":"JW"}]
["og",37428,"Martina","Sagemühl-Römer","SSC Halver e.V.","SW1: Sagemühl-Römer, Martina",{"$f":"VLOOKUP(A3036,bangolf_kategorien!$A$2:$B$11,2,FALSE)","v":"SW1"}]
["ob",3211944,"Carsten","Sahm","Hobby","SM1: Sahm, Carsten",{"$f":"VLOOKUP(A3037,bangolf_kategorien!$A$2:$B$11,2,FALSE)","v":"SM1"}]
["og",66320,"Petra","Sakulski","SSC Attendorn e.V.","SW1: Sakulski, Petra",{"$f":"VLOOKUP(A3038,bangolf_kategorien!$A$2:$B$11,2,FALSE)","v":"SW1"}]
["hv",47016,"Kilian","Salch","BGC Bad Mergentheim e.V.","SM2: Salch, Kilian",{"$f":"VLOOKUP(A3039,bangolf_kategorien!$A$2:$B$11,2,FALSE)","v":"SM2"}]
["hv",3211943,"Alfredo","Saldano","Hobby","SM2: Saldano, Alfredo",{"$f":"VLOOKUP(A3040,bangolf_kategorien!$A$2:$B$11,2,FALSE)","v":"SM2"}]
["ob",45743,"Henri","Salewski","Bochumer Minigolf-Club 1960 e.V.","SM1: Salewski, Henri",{"$f":"VLOOKUP(A3041,bangolf_kategorien!$A$2:$B$11,2,FALSE)","v":"SM1"}]
["hv",33791,"Reiner","Salzmann","MSC Bad Godesberg e.V.","SM2: Salzmann, Reiner",{"$f":"VLOOKUP(A3042,bangolf_kategorien!$A$2:$B$11,2,FALSE)","v":"SM2"}]
["ob",3194218,"Detlef","Sander","Hobby","SM1: Sander, Detlef",{"$f":"VLOOKUP(A3043,bangolf_kategorien!$A$2:$B$11,2,FALSE)","v":"SM1"}]
["hv",6140,"Wilhelm","Sänger","SV 1890 e.V. Dreieichenhain, Abt. Bahnengolf","SM2: Sänger, Wilhelm",{"$f":"VLOOKUP(A3044,bangolf_kategorien!$A$2:$B$11,2,FALSE)","v":"SM2"}]
["ob",33349,"Ralph","Santen","Preetzer TSV von 1861 e.V. Abt. Minigolf","SM1: Santen, Ralph",{"$f":"VLOOKUP(A3045,bangolf_kategorien!$A$2:$B$11,2,FALSE)","v":"SM1"}]
["hv",4382,"Matthias","Sapec","SSV Ulm 1846 Abt. Bahnengolf","SM2: Sapec, Matthias",{"$f":"VLOOKUP(A3046,bangolf_kategorien!$A$2:$B$11,2,FALSE)","v":"SM2"}]
["ob",66760,"Turan","Sariefe","MGC Ingolstadt e.V.","SM1: Sariefe, Turan",{"$f":"VLOOKUP(A3047,bangolf_kategorien!$A$2:$B$11,2,FALSE)","v":"SM1"}]
["hv",6664,"Manfred","Sassenberg","1. MGC Mainz e.V.","SM2: Sassenberg, Manfred",{"$f":"VLOOKUP(A3048,bangolf_kategorien!$A$2:$B$11,2,FALSE)","v":"SM2"}]
["hs",66120,"Michael","Sattler","BGSV Bad Homburg","H: Sattler, Michael",{"$f":"VLOOKUP(A3049,bangolf_kategorien!$A$2:$B$11,2,FALSE)","v":"H"}]
["ob",29845,"Albert","Sauer","BSV 82 Ohlsbach e.V.","SM1: Sauer, Albert",{"$f":"VLOOKUP(A3050,bangolf_kategorien!$A$2:$B$11,2,FALSE)","v":"SM1"}]
["hs",49737,"Kay","Sauerland","MGC Harrislee-Wassersleben","H: Sauerland, Kay",{"$f":"VLOOKUP(A3051,bangolf_kategorien!$A$2:$B$11,2,FALSE)","v":"H"}]
["ob",43149,"Ralf","Sawartowski","MGC Rot-Weiß Wanne-Eickel e.V.","SM1: Sawartowski, Ralf",{"$f":"VLOOKUP(A3052,bangolf_kategorien!$A$2:$B$11,2,FALSE)","v":"SM1"}]
["hj",65989,"Sadettin","Saykin","MGC Bad Soden-Salmünster","JM: Saykin, Sadettin",{"$f":"VLOOKUP(A3053,bangolf_kategorien!$A$2:$B$11,2,FALSE)","v":"JM"}]
["ob",65984,"Sadiddin","Saykin","MGC Bad Soden-Salmünster","SM1: Saykin, Sadiddin",{"$f":"VLOOKUP(A3054,bangolf_kategorien!$A$2:$B$11,2,FALSE)","v":"SM1"}]
["ob",30667,"Jens","Schacht","Hamburger MC von 1965 e.V.","SM1: Schacht, Jens",{"$f":"VLOOKUP(A3055,bangolf_kategorien!$A$2:$B$11,2,FALSE)","v":"SM1"}]
["og",40098,"Monika","Schacht","MGC Harrislee-Wassersleben","SW1: Schacht, Monika",{"$f":"VLOOKUP(A3056,bangolf_kategorien!$A$2:$B$11,2,FALSE)","v":"SW1"}]
["ob",67049,"Frank","Schachtsiek","Bochumer Minigolf-Club 1960 e.V.","SM1: Schachtsiek, Frank",{"$f":"VLOOKUP(A3057,bangolf_kategorien!$A$2:$B$11,2,FALSE)","v":"SM1"}]
["dv",36767,"Doris","Schacke","MSV Berliner Bär e.V.","SW2: Schacke, Doris",{"$f":"VLOOKUP(A3058,bangolf_kategorien!$A$2:$B$11,2,FALSE)","v":"SW2"}]
["hv",12064,"Egon","Schacke","MSV Berliner Bär e.V.","SM2: Schacke, Egon",{"$f":"VLOOKUP(A3059,bangolf_kategorien!$A$2:$B$11,2,FALSE)","v":"SM2"}]
["ob",34164,"Klaus","Schade","MGC Heringen 1997 e.V.","SM1: Schade, Klaus",{"$f":"VLOOKUP(A3060,bangolf_kategorien!$A$2:$B$11,2,FALSE)","v":"SM1"}]
["ob",44021,"Michael","Schaefer","MSC Bad Godesberg e.V.","SM1: Schaefer, Michael",{"$f":"VLOOKUP(A3061,bangolf_kategorien!$A$2:$B$11,2,FALSE)","v":"SM1"}]
["hv",19572,"Achim","Schäfer","MGC Wuppertal-Ronsdorf 1967 e.V.","SM2: Schäfer, Achim",{"$f":"VLOOKUP(A3062,bangolf_kategorien!$A$2:$B$11,2,FALSE)","v":"SM2"}]
["ob",27438,"Armin","Schäfer","MSC Herscheid 1963 e.V.","SM1: Schäfer, Armin",{"$f":"VLOOKUP(A3063,bangolf_kategorien!$A$2:$B$11,2,FALSE)","v":"SM1"}]
["hj",66150,"Dennis","Schäfer","MSC Bensheim-Auerbach e.V.","JM: Schäfer, Dennis",{"$f":"VLOOKUP(A3064,bangolf_kategorien!$A$2:$B$11,2,FALSE)","v":"JM"}]
["dv",66230,"Gabriele","Schäfer","BGC Hamm 1959 e.V.","SW2: Schäfer, Gabriele",{"$f":"VLOOKUP(A3065,bangolf_kategorien!$A$2:$B$11,2,FALSE)","v":"SW2"}]
["ob",24462,"Jürgen","Schäfer","MGC Rot-Weiß Wanne-Eickel e.V.","SM1: Schäfer, Jürgen",{"$f":"VLOOKUP(A3066,bangolf_kategorien!$A$2:$B$11,2,FALSE)","v":"SM1"}]
["hv",22141,"Manfred","Schäfer","MSC Herscheid 1963 e.V.","SM2: Schäfer, Manfred",{"$f":"VLOOKUP(A3067,bangolf_kategorien!$A$2:$B$11,2,FALSE)","v":"SM2"}]
["hv",66231,"Manfred","Schäfer","BGC Hamm 1959 e.V.","SM2: Schäfer, Manfred",{"$f":"VLOOKUP(A3068,bangolf_kategorien!$A$2:$B$11,2,FALSE)","v":"SM2"}]
["hv",1814,"Norbert","Schäfer","1. MGC Kassel 1964 e.V.","SM2: Schäfer, Norbert",{"$f":"VLOOKUP(A3069,bangolf_kategorien!$A$2:$B$11,2,FALSE)","v":"SM2"}]
["ob",26580,"Norbert","Schäfer","MGC Wuppertal-Ronsdorf 1967 e.V.","SM1: Schäfer, Norbert",{"$f":"VLOOKUP(A3070,bangolf_kategorien!$A$2:$B$11,2,FALSE)","v":"SM1"}]
["hs",37818,"Pascal","Schäfer","MGC Traben-Trarbach","H: Schäfer, Pascal",{"$f":"VLOOKUP(A3071,bangolf_kategorien!$A$2:$B$11,2,FALSE)","v":"H"}]
["hv",3108936,"Reiner","Schäfer","Hobby","SM2: Schäfer, Reiner",{"$f":"VLOOKUP(A3072,bangolf_kategorien!$A$2:$B$11,2,FALSE)","v":"SM2"}]
["hv",49087,"Richard","Schäfer","1. MGC Mainz e.V.","SM2: Schäfer, Richard",{"$f":"VLOOKUP(A3073,bangolf_kategorien!$A$2:$B$11,2,FALSE)","v":"SM2"}]
["hs",45844,"Carsten","Schakowski","MGC Monrepos e.V.","H: Schakowski, Carsten",{"$f":"VLOOKUP(A3074,bangolf_kategorien!$A$2:$B$11,2,FALSE)","v":"H"}]
["hv",26089,"Albert","Schamberger","MSK Olching e.V.",{"$f":"CONCATENATE(G3075,\": \",D3075,\", \",C3075)","v":"SM2: Schamberger, Albert"},{"$f":"VLOOKUP(A3075,bangolf_kategorien!$A$2:$B$11,2,FALSE)","v":"SM2"}]
["dv",26088,"Gerda","Schamberger","MSK Olching e.V.","SW2: Schamberger, Gerda",{"$f":"VLOOKUP(A3076,bangolf_kategorien!$A$2:$B$11,2,FALSE)","v":"SW2"}]
["ds",3118752,"Melanie","Schamberger","Hobby","D: Schamberger, Melanie",{"$f":"VLOOKUP(A3077,bangolf_kategorien!$A$2:$B$11,2,FALSE)","v":"D"}]
["og",67243,"Petra","Schäning","1. MGC 1970 Göttingen e.V.","SW1: Schäning, Petra",{"$f":"VLOOKUP(A3078,bangolf_kategorien!$A$2:$B$11,2,FALSE)","v":"SW1"}]
["ob",66787,"Sven","Schäning","1. MGC 1970 Göttingen e.V.","SM1: Schäning, Sven",{"$f":"VLOOKUP(A3079,bangolf_kategorien!$A$2:$B$11,2,FALSE)","v":"SM1"}]
["hs",66792,"Kevin","Schank","1. MGC Oberthal e.V.","H: Schank, Kevin",{"$f":"VLOOKUP(A3080,bangolf_kategorien!$A$2:$B$11,2,FALSE)","v":"H"}]
["hv",6642,"Erich","Schankweiler","VfL Lüneburg Abt. Bahnengolf","SM2: Schankweiler, Erich",{"$f":"VLOOKUP(A3081,bangolf_kategorien!$A$2:$B$11,2,FALSE)","v":"SM2"}]
["ob",46517,"Thomas","Schäpe","BGSV Kerpen e.V.","SM1: Schäpe, Thomas",{"$f":"VLOOKUP(A3082,bangolf_kategorien!$A$2:$B$11,2,FALSE)","v":"SM1"}]
["hv",5062,"Dirk","Schaper","1. BGC Hannover e.V.","SM2: Schaper, Dirk",{"$f":"VLOOKUP(A3083,bangolf_kategorien!$A$2:$B$11,2,FALSE)","v":"SM2"}]
["hv",7907,"Peter","Scharfenberg","MSC Bad Godesberg e.V.","SM2: Scharfenberg, Peter",{"$f":"VLOOKUP(A3084,bangolf_kategorien!$A$2:$B$11,2,FALSE)","v":"SM2"}]
["og",38455,"Helga","Scharnhorst","1. BGC Hannover e.V.","SW1: Scharnhorst, Helga",{"$f":"VLOOKUP(A3085,bangolf_kategorien!$A$2:$B$11,2,FALSE)","v":"SW1"}]
["hv",1549,"Rüdiger","Scharnhorst","1. BGC Hannover e.V.","SM2: Scharnhorst, Rüdiger",{"$f":"VLOOKUP(A3086,bangolf_kategorien!$A$2:$B$11,2,FALSE)","v":"SM2"}]
["og",67147,"Sabine","Scharpe","Bochumer Minigolf-Club 1960 e.V.","SW1: Scharpe, Sabine",{"$f":"VLOOKUP(A3087,bangolf_kategorien!$A$2:$B$11,2,FALSE)","v":"SW1"}]
["hv",66599,"Heinz","Scharvier","SC Wermelskirchen 1976 e.V.","SM2: Scharvier, Heinz",{"$f":"VLOOKUP(A3088,bangolf_kategorien!$A$2:$B$11,2,FALSE)","v":"SM2"}]
["pa",67356,"Lino","Schasse","BSV 86 München e.V.","SCHM: Schasse, Lino",{"$f":"VLOOKUP(A3089,bangolf_kategorien!$A$2:$B$11,2,FALSE)","v":"SCHM"}]
["pa",67357,"Mika","Schasse","BSV 86 München e.V.","SCHM: Schasse, Mika",{"$f":"VLOOKUP(A3090,bangolf_kategorien!$A$2:$B$11,2,FALSE)","v":"SCHM"}]
["hv",27121,"Arno","Schatke","SV Glückauf 1901 Gebhardshagen e.V.","SM2: Schatke, Arno",{"$f":"VLOOKUP(A3091,bangolf_kategorien!$A$2:$B$11,2,FALSE)","v":"SM2"}]
["hv",34453,"Michael","Schätz","1. MGC Mannheim 1968 e.V.","SM2: Schätz, Michael",{"$f":"VLOOKUP(A3092,bangolf_kategorien!$A$2:$B$11,2,FALSE)","v":"SM2"}]
["pa",66477,"Karim","Schaub","MSV Würzburg-Löwenbrücke e.V.","SCHM: Schaub, Karim",{"$f":"VLOOKUP(A3093,bangolf_kategorien!$A$2:$B$11,2,FALSE)","v":"SCHM"}]
["ds",35464,"Susanne","Schaub","MSV Würzburg-Löwenbrücke e.V.","D: Schaub, Susanne",{"$f":"VLOOKUP(A3094,bangolf_kategorien!$A$2:$B$11,2,FALSE)","v":"D"}]
["ob",40975,"Werner","Schechinger","MGC Wolnzach e.V.","SM1: Schechinger, Werner",{"$f":"VLOOKUP(A3095,bangolf_kategorien!$A$2:$B$11,2,FALSE)","v":"SM1"}]
["og",66524,"Christine","Scheder","TG Höchberg von 1862 Bahnengolf e.V.","SW1: Scheder, Christine",{"$f":"VLOOKUP(A3096,bangolf_kategorien!$A$2:$B$11,2,FALSE)","v":"SW1"}]
["dj",66526,"Laura","Scheder","TG Höchberg von 1862 Bahnengolf e.V.","JW: Scheder, Laura",{"$f":"VLOOKUP(A3097,bangolf_kategorien!$A$2:$B$11,2,FALSE)","v":"JW"}]
["ob",66525,"Roland","Scheder","TG Höchberg von 1862 Bahnengolf e.V.","SM1: Scheder, Roland",{"$f":"VLOOKUP(A3098,bangolf_kategorien!$A$2:$B$11,2,FALSE)","v":"SM1"}]
["dv",65969,"Ingelore","Scheffler","SC Bad Münder Abt. Bahnengolf","SW2: Scheffler, Ingelore",{"$f":"VLOOKUP(A3099,bangolf_kategorien!$A$2:$B$11,2,FALSE)","v":"SW2"}]
["hs",33583,"Jens","Scheffler","1. BGC Wesseling 1975 e.V.","H: Scheffler, Jens",{"$f":"VLOOKUP(A3100,bangolf_kategorien!$A$2:$B$11,2,FALSE)","v":"H"}]
["ob",36185,"Christian","Scheffner","MV Lankwitzer Dragons e.V.","SM1: Scheffner, Christian",{"$f":"VLOOKUP(A3101,bangolf_kategorien!$A$2:$B$11,2,FALSE)","v":"SM1"}]
["og",36181,"Kathrin","Scheffner","MV Lankwitzer Dragons e.V.","SW1: Scheffner, Kathrin",{"$f":"VLOOKUP(A3102,bangolf_kategorien!$A$2:$B$11,2,FALSE)","v":"SW1"}]
["hs",47093,"Christian","Scheider","SSC Halver e.V.","H: Scheider, Christian",{"$f":"VLOOKUP(A3103,bangolf_kategorien!$A$2:$B$11,2,FALSE)","v":"H"}]
["ob",24,"Stefan","Scheider","SSC Halver e.V.","SM1: Scheider, Stefan",{"$f":"VLOOKUP(A3104,bangolf_kategorien!$A$2:$B$11,2,FALSE)","v":"SM1"}]
["hs",34772,"Dirk","Scheikowski","1. MSC Wesel 6.6.1966 e.V.","H: Scheikowski, Dirk",{"$f":"VLOOKUP(A3105,bangolf_kategorien!$A$2:$B$11,2,FALSE)","v":"H"}]
["hs",66942,"Dominik","Schellewald","1. MGC Kassel 1964 e.V.","H: Schellewald, Dominik",{"$f":"VLOOKUP(A3106,bangolf_kategorien!$A$2:$B$11,2,FALSE)","v":"H"}]
["hv",631,"Kurt","Schellhas","MGC \"AS\" Witten 1963 e.V.","SM2: Schellhas, Kurt",{"$f":"VLOOKUP(A3107,bangolf_kategorien!$A$2:$B$11,2,FALSE)","v":"SM2"}]
["hv",44026,"Horst-Dieter","Schenk","1. MGC Köln 1961 e.V.","SM2: Schenk, Horst-Dieter",{"$f":"VLOOKUP(A3108,bangolf_kategorien!$A$2:$B$11,2,FALSE)","v":"SM2"}]
["dv",62802,"Linda","Schenk","Freizeit Club Bliesen e.V.","SW2: Schenk, Linda",{"$f":"VLOOKUP(A3109,bangolf_kategorien!$A$2:$B$11,2,FALSE)","v":"SW2"}]
["hs",66598,"Nico","Schenk","MGC Bad Feilnbach e.V.","H: Schenk, Nico",{"$f":"VLOOKUP(A3110,bangolf_kategorien!$A$2:$B$11,2,FALSE)","v":"H"}]
["hv",66951,"Richard","Schenkel","MSC Bensheim-Auerbach e.V.","SM2: Schenkel, Richard",{"$f":"VLOOKUP(A3111,bangolf_kategorien!$A$2:$B$11,2,FALSE)","v":"SM2"}]
["hs",38547,"Peter","Scherber","MGC \"Stahlquelle\" Bad Bocklet","H: Scherber, Peter",{"$f":"VLOOKUP(A3112,bangolf_kategorien!$A$2:$B$11,2,FALSE)","v":"H"}]
["ob",36164,"Markus","Scherkenbach","VfM Bottrop e.V.","SM1: Scherkenbach, Markus",{"$f":"VLOOKUP(A3113,bangolf_kategorien!$A$2:$B$11,2,FALSE)","v":"SM1"}]
["ob",44856,"Irving","Scheunemann","MC \"Möve\" Cuxhaven-Sahlenburg e.V.","SM1: Scheunemann, Irving",{"$f":"VLOOKUP(A3114,bangolf_kategorien!$A$2:$B$11,2,FALSE)","v":"SM1"}]
["ds",65902,"Andrea","Schewcik","MC Ilvesheim e.V.","D: Schewcik, Andrea",{"$f":"VLOOKUP(A3115,bangolf_kategorien!$A$2:$B$11,2,FALSE)","v":"D"}]
["ob",65901,"Andreas","Schewcik","MC Ilvesheim e.V.","SM1: Schewcik, Andreas",{"$f":"VLOOKUP(A3116,bangolf_kategorien!$A$2:$B$11,2,FALSE)","v":"SM1"}]
["hv",18086,"Hans","Schewerda","1. MGC Gelsenkirchen e.V.","SM2: Schewerda, Hans",{"$f":"VLOOKUP(A3117,bangolf_kategorien!$A$2:$B$11,2,FALSE)","v":"SM2"}]
["dv",18085,"Helga","Schewerda","1. MGC Gelsenkirchen e.V.","SW2: Schewerda, Helga",{"$f":"VLOOKUP(A3118,bangolf_kategorien!$A$2:$B$11,2,FALSE)","v":"SW2"}]
["ob",30366,"Ralf","Schewerda","MGC Felderbachtal 1964 e.V.","SM1: Schewerda, Ralf",{"$f":"VLOOKUP(A3119,bangolf_kategorien!$A$2:$B$11,2,FALSE)","v":"SM1"}]
["ob",45472,"Thomas","Schiebel","1. MGC Mainz e.V.","SM1: Schiebel, Thomas",{"$f":"VLOOKUP(A3120,bangolf_kategorien!$A$2:$B$11,2,FALSE)","v":"SM1"}]
["hv",37451,"Wolfgang","Schieblich","SG  Weiterstadt 1886 e.V.","SM2: Schieblich, Wolfgang",{"$f":"VLOOKUP(A3121,bangolf_kategorien!$A$2:$B$11,2,FALSE)","v":"SM2"}]
["dj",67342,"Luisa","Schienbein","1. MGC Kassel 1964 e.V.","JW: Schienbein, Luisa",{"$f":"VLOOKUP(A3122,bangolf_kategorien!$A$2:$B$11,2,FALSE)","v":"JW"}]
["hj",67343,"Marvin","Schienbein","1. MGC Kassel 1964 e.V.","JM: Schienbein, Marvin",{"$f":"VLOOKUP(A3123,bangolf_kategorien!$A$2:$B$11,2,FALSE)","v":"JM"}]
["og",29002,"Charlotte","Schierding","2. MGC Worms","SW1: Schierding, Charlotte",{"$f":"VLOOKUP(A3124,bangolf_kategorien!$A$2:$B$11,2,FALSE)","v":"SW1"}]
["fa",67324,"Sara","Schieren","BSC Ennepetal e.V.","SCHW: Schieren, Sara",{"$f":"VLOOKUP(A3125,bangolf_kategorien!$A$2:$B$11,2,FALSE)","v":"SCHW"}]
["ds",66772,"Angela","Schikorra","BGSV Castrop e.V. 1961","D: Schikorra, Angela",{"$f":"VLOOKUP(A3126,bangolf_kategorien!$A$2:$B$11,2,FALSE)","v":"D"}]
["ob",47492,"Markus","Schild","MGC Schwaikheim e.V.","SM1: Schild, Markus",{"$f":"VLOOKUP(A3127,bangolf_kategorien!$A$2:$B$11,2,FALSE)","v":"SM1"}]
["ob",66246,"Norbert","Schildan","MGC Bergisch Gladbach Gierath e.V.","SM1: Schildan, Norbert",{"$f":"VLOOKUP(A3128,bangolf_kategorien!$A$2:$B$11,2,FALSE)","v":"SM1"}]
["hv",66294,"Werner","Schilitz","MSV Bad Kreuznach","SM2: Schilitz, Werner",{"$f":"VLOOKUP(A3129,bangolf_kategorien!$A$2:$B$11,2,FALSE)","v":"SM2"}]
["ob",41116,"Alfred","Schiller","1. BGC Bad Füssing e.V.","SM1: Schiller, Alfred",{"$f":"VLOOKUP(A3130,bangolf_kategorien!$A$2:$B$11,2,FALSE)","v":"SM1"}]
["hv",5665,"Adolf","Schilling","1. MSC Wesel 6.6.1966 e.V.","SM2: Schilling, Adolf",{"$f":"VLOOKUP(A3131,bangolf_kategorien!$A$2:$B$11,2,FALSE)","v":"SM2"}]
["hv",17470,"Emil","Schilling","1. MGC Mannheim 1968 e.V.","SM2: Schilling, Emil",{"$f":"VLOOKUP(A3132,bangolf_kategorien!$A$2:$B$11,2,FALSE)","v":"SM2"}]
["hs",66653,"Jan-Rainer","Schilling","VfL Lüneburg Abt. Bahnengolf","H: Schilling, Jan-Rainer",{"$f":"VLOOKUP(A3133,bangolf_kategorien!$A$2:$B$11,2,FALSE)","v":"H"}]
["ob",67041,"Arno","Schimanski","MGC Rot-Weiß Wanne-Eickel e.V.","SM1: Schimanski, Arno",{"$f":"VLOOKUP(A3134,bangolf_kategorien!$A$2:$B$11,2,FALSE)","v":"SM1"}]
["ob",46946,"Stefan","Schimscha","1. FMGC Lichtenfels 1961 e.V.","SM1: Schimscha, Stefan",{"$f":"VLOOKUP(A3135,bangolf_kategorien!$A$2:$B$11,2,FALSE)","v":"SM1"}]
["ob",29859,"Ralf","Schindler","1. BGC Celle von 1964 e.V.","SM1: Schindler, Ralf",{"$f":"VLOOKUP(A3136,bangolf_kategorien!$A$2:$B$11,2,FALSE)","v":"SM1"}]
["hs",34905,"Sebastian","Schindler","MGV Eibenstock","H: Schindler, Sebastian",{"$f":"VLOOKUP(A3137,bangolf_kategorien!$A$2:$B$11,2,FALSE)","v":"H"}]
["hv",26183,"Uwe","Schirrmacher","1. MSC Hamburg-Neu Wulmstorf","SM2: Schirrmacher, Uwe",{"$f":"VLOOKUP(A3138,bangolf_kategorien!$A$2:$B$11,2,FALSE)","v":"SM2"}]
["dv",38053,"Suse","Schiwek","1. MGC Köln 1961 e.V.",{"$f":"CONCATENATE(G3139,\": \",D3139,\", \",C3139)","v":"SW2: Schiwek, Suse"},{"$f":"VLOOKUP(A3139,bangolf_kategorien!$A$2:$B$11,2,FALSE)","v":"SW2"}]
["og",66252,"Simone","Schlabbach","SG  Weiterstadt 1886 e.V.","SW1: Schlabbach, Simone",{"$f":"VLOOKUP(A3140,bangolf_kategorien!$A$2:$B$11,2,FALSE)","v":"SW1"}]
["hs",36672,"Thomas","Schlai","BGC Illertissen e.V.","H: Schlai, Thomas",{"$f":"VLOOKUP(A3141,bangolf_kategorien!$A$2:$B$11,2,FALSE)","v":"H"}]
["dv",26005,"Anna-Maria","Schlauch","BGC Bad Berneck e.V.","SW2: Schlauch, Anna-Maria",{"$f":"VLOOKUP(A3142,bangolf_kategorien!$A$2:$B$11,2,FALSE)","v":"SW2"}]
["hs",63701,"Dominik","Schlauch","BGC Bad Berneck e.V.","H: Schlauch, Dominik",{"$f":"VLOOKUP(A3143,bangolf_kategorien!$A$2:$B$11,2,FALSE)","v":"H"}]
["ob",26002,"Peter","Schlauch","BGC Bad Berneck e.V.","SM1: Schlauch, Peter",{"$f":"VLOOKUP(A3144,bangolf_kategorien!$A$2:$B$11,2,FALSE)","v":"SM1"}]
["dj",66312,"Jeanine","Schlaucher","MGC Murnau am Staffelsee e.V.","JW: Schlaucher, Jeanine",{"$f":"VLOOKUP(A3145,bangolf_kategorien!$A$2:$B$11,2,FALSE)","v":"JW"}]
["hv",62840,"Gerd","Schlaudecker","1. MGC Saar 68 St. Ingbert e.V.","SM2: Schlaudecker, Gerd",{"$f":"VLOOKUP(A3146,bangolf_kategorien!$A$2:$B$11,2,FALSE)","v":"SM2"}]
["og",44479,"Vera","Schlaudecker","1. KC Homburg-Saar 1967 e.V.","SW1: Schlaudecker, Vera",{"$f":"VLOOKUP(A3147,bangolf_kategorien!$A$2:$B$11,2,FALSE)","v":"SW1"}]
["ob",65959,"Christian","Schlegel","VFB 21 Neugattersleben e. V.","SM1: Schlegel, Christian",{"$f":"VLOOKUP(A3148,bangolf_kategorien!$A$2:$B$11,2,FALSE)","v":"SM1"}]
["ds",38649,"Christina","Schleich","MSF Brilon e.V.","D: Schleich, Christina",{"$f":"VLOOKUP(A3149,bangolf_kategorien!$A$2:$B$11,2,FALSE)","v":"D"}]
["ds",38217,"Melanie","Schleich","MSF Brilon e.V.","D: Schleich, Melanie",{"$f":"VLOOKUP(A3150,bangolf_kategorien!$A$2:$B$11,2,FALSE)","v":"D"}]
["hv",38218,"Peter","Schleich","MSF Brilon e.V.","SM2: Schleich, Peter",{"$f":"VLOOKUP(A3151,bangolf_kategorien!$A$2:$B$11,2,FALSE)","v":"SM2"}]
["hv",17448,"Manfred","Schleier","1. BGC München e.V.","SM2: Schleier, Manfred",{"$f":"VLOOKUP(A3152,bangolf_kategorien!$A$2:$B$11,2,FALSE)","v":"SM2"}]
["ob",3216564,"Frank","Schleifnig","Hobby","SM1: Schleifnig, Frank",{"$f":"VLOOKUP(A3153,bangolf_kategorien!$A$2:$B$11,2,FALSE)","v":"SM1"}]
["hv",18146,"Wolfgang","Schlenstedt","Minigolf Wölfe Rheinstetten 02","SM2: Schlenstedt, Wolfgang",{"$f":"VLOOKUP(A3154,bangolf_kategorien!$A$2:$B$11,2,FALSE)","v":"SM2"}]
["og",34033,"Annette","Schlereth","MGC \"Stahlquelle\" Bad Bocklet","SW1: Schlereth, Annette",{"$f":"VLOOKUP(A3155,bangolf_kategorien!$A$2:$B$11,2,FALSE)","v":"SW1"}]
["hv",42041,"Klaus","Schleser","1. MGC München-Feldmoching e.V.","SM2: Schleser, Klaus",{"$f":"VLOOKUP(A3156,bangolf_kategorien!$A$2:$B$11,2,FALSE)","v":"SM2"}]
["hs",37858,"Sebastian","Schleser","1. MGC München-Feldmoching e.V.","H: Schleser, Sebastian",{"$f":"VLOOKUP(A3157,bangolf_kategorien!$A$2:$B$11,2,FALSE)","v":"H"}]
["hs",66966,"Fabian","Schlesier","1. BGC Hannover e.V.","H: Schlesier, Fabian",{"$f":"VLOOKUP(A3158,bangolf_kategorien!$A$2:$B$11,2,FALSE)","v":"H"}]
["hv",3738,"Peter","Schlesinger","Bochumer Minigolf-Club 1960 e.V.","SM2: Schlesinger, Peter",{"$f":"VLOOKUP(A3159,bangolf_kategorien!$A$2:$B$11,2,FALSE)","v":"SM2"}]
["hv",3202304,"Jürgen","Schleunitz","Hobby","SM2: Schleunitz, Jürgen",{"$f":"VLOOKUP(A3160,bangolf_kategorien!$A$2:$B$11,2,FALSE)","v":"SM2"}]
["ob",67212,"Peter","Schlicksupp","MGC Bad Homburg vdH e.V.","SM1: Schlicksupp, Peter",{"$f":"VLOOKUP(A3161,bangolf_kategorien!$A$2:$B$11,2,FALSE)","v":"SM1"}]
["ob",29721,"Rainer","Schlieker","MGC Murnau am Staffelsee e.V.","SM1: Schlieker, Rainer",{"$f":"VLOOKUP(A3162,bangolf_kategorien!$A$2:$B$11,2,FALSE)","v":"SM1"}]
["hv",21326,"Hans-Günter","Schlösser","BGSV Kerpen e.V.","SM2: Schlösser, Hans-Günter",{"$f":"VLOOKUP(A3163,bangolf_kategorien!$A$2:$B$11,2,FALSE)","v":"SM2"}]
["ob",43245,"Rainer","Schlottermüller","1. BGC Hannover e.V.","SM1: Schlottermüller, Rainer",{"$f":"VLOOKUP(A3164,bangolf_kategorien!$A$2:$B$11,2,FALSE)","v":"SM1"}]
["hv",36394,"Wilfried","Schlüter","VfB Osnabrück e.V.","SM2: Schlüter, Wilfried",{"$f":"VLOOKUP(A3165,bangolf_kategorien!$A$2:$B$11,2,FALSE)","v":"SM2"}]
["og",67177,"Birgit","Schmäck","1.KGC Mönchengladbach e.V.","SW1: Schmäck, Birgit",{"$f":"VLOOKUP(A3166,bangolf_kategorien!$A$2:$B$11,2,FALSE)","v":"SW1"}]
["ob",67178,"Joachim","Schmäck","1.KGC Mönchengladbach e.V.","SM1: Schmäck, Joachim",{"$f":"VLOOKUP(A3167,bangolf_kategorien!$A$2:$B$11,2,FALSE)","v":"SM1"}]
["ob",67060,"Herbert","Schmalix","1. Münchener MGC e.V.","SM1: Schmalix, Herbert",{"$f":"VLOOKUP(A3168,bangolf_kategorien!$A$2:$B$11,2,FALSE)","v":"SM1"}]
["hs",35113,"Markus","Schmälzle","Miniaturgolf Sportclub Schriesheim e.V","H: Schmälzle, Markus",{"$f":"VLOOKUP(A3169,bangolf_kategorien!$A$2:$B$11,2,FALSE)","v":"H"}]
["hj",66742,"Kenny Marc","Schmeckenbecher","MC 62 Lüdenscheid e.V.","JM: Schmeckenbecher, Kenny Marc",{"$f":"VLOOKUP(A3170,bangolf_kategorien!$A$2:$B$11,2,FALSE)","v":"JM"}]
["ob",38137,"Thomas","Schmeier","MGF Magdeburg 1995 e.V.","SM1: Schmeier, Thomas",{"$f":"VLOOKUP(A3171,bangolf_kategorien!$A$2:$B$11,2,FALSE)","v":"SM1"}]
["ob",203,"Michael","Schmeling","Tempelhofer MV Berlin e.V.","SM1: Schmeling, Michael",{"$f":"VLOOKUP(A3172,bangolf_kategorien!$A$2:$B$11,2,FALSE)","v":"SM1"}]
["dv",40400,"Barbara","Schmid","TV Niederstetten 1862 e.V.  Abt. Minigolf","SW2: Schmid, Barbara",{"$f":"VLOOKUP(A3173,bangolf_kategorien!$A$2:$B$11,2,FALSE)","v":"SW2"}]
["hs",3216552,"Dominic","Schmid","Hobby","H: Schmid, Dominic",{"$f":"VLOOKUP(A3174,bangolf_kategorien!$A$2:$B$11,2,FALSE)","v":"H"}]
["ob",67189,"Manfred","Schmid","MGF Steinbruch Kempten","SM1: Schmid, Manfred",{"$f":"VLOOKUP(A3175,bangolf_kategorien!$A$2:$B$11,2,FALSE)","v":"SM1"}]
["ob",25894,"Roland","Schmid","MGF Hilzingen 80 e.V.","SM1: Schmid, Roland",{"$f":"VLOOKUP(A3176,bangolf_kategorien!$A$2:$B$11,2,FALSE)","v":"SM1"}]
["og",67190,"Sibylle","Schmid","MGF Steinbruch Kempten","SW1: Schmid, Sibylle",{"$f":"VLOOKUP(A3177,bangolf_kategorien!$A$2:$B$11,2,FALSE)","v":"SW1"}]
["ob",67080,"Stephan","Schmid","OMGC Ingolstadt e.V.","SM1: Schmid, Stephan",{"$f":"VLOOKUP(A3178,bangolf_kategorien!$A$2:$B$11,2,FALSE)","v":"SM1"}]
["hv",2334,"Walter","Schmid","Miniaturgolf Sportclub Schriesheim e.V","SM2: Schmid, Walter",{"$f":"VLOOKUP(A3179,bangolf_kategorien!$A$2:$B$11,2,FALSE)","v":"SM2"}]
["og",67081,"Margit","Schmidbauer","OMGC Ingolstadt e.V.","SW1: Schmidbauer, Margit",{"$f":"VLOOKUP(A3180,bangolf_kategorien!$A$2:$B$11,2,FALSE)","v":"SW1"}]
["hv",67082,"Werner","Schmidbauer","OMGC Ingolstadt e.V.","SM2: Schmidbauer, Werner",{"$f":"VLOOKUP(A3181,bangolf_kategorien!$A$2:$B$11,2,FALSE)","v":"SM2"}]
["ob",42558,"Lothar","Schmidhuber","1. BGC Landshut e.V.","SM1: Schmidhuber, Lothar",{"$f":"VLOOKUP(A3182,bangolf_kategorien!$A$2:$B$11,2,FALSE)","v":"SM1"}]
["hs",64760,"Maximilian","Schmidhuber","1. BGC Landshut e.V.","H: Schmidhuber, Maximilian",{"$f":"VLOOKUP(A3183,bangolf_kategorien!$A$2:$B$11,2,FALSE)","v":"H"}]
["dv",3202768,"Barbara","Schmidt","Hobby","SW2: Schmidt, Barbara",{"$f":"VLOOKUP(A3184,bangolf_kategorien!$A$2:$B$11,2,FALSE)","v":"SW2"}]
["og",45345,"Barbara","Schmidt","1. MGC Mitterteich-Großbüchlberg","SW1: Schmidt, Barbara",{"$f":"VLOOKUP(A3185,bangolf_kategorien!$A$2:$B$11,2,FALSE)","v":"SW1"}]
["dv",36324,"Carmen","Schmidt","1. BGC Hannover e.V.","SW2: Schmidt, Carmen",{"$f":"VLOOKUP(A3186,bangolf_kategorien!$A$2:$B$11,2,FALSE)","v":"SW2"}]
["ob",51714,"Christian","Schmidt","BGSC \"Gut Schlag\" Gladbeck e.V.","SM1: Schmidt, Christian",{"$f":"VLOOKUP(A3187,bangolf_kategorien!$A$2:$B$11,2,FALSE)","v":"SM1"}]
["hv",19792,"Dietmar","Schmidt","BIG ASPERG e.V.","SM2: Schmidt, Dietmar",{"$f":"VLOOKUP(A3188,bangolf_kategorien!$A$2:$B$11,2,FALSE)","v":"SM2"}]
["hs",3216552,"Dominic","Schmidt","Hobby","H: Schmidt, Dominic",{"$f":"VLOOKUP(A3189,bangolf_kategorien!$A$2:$B$11,2,FALSE)","v":"H"}]
["hs",37848,"Dustin","Schmidt","MGC Homburger Land e.V.","H: Schmidt, Dustin",{"$f":"VLOOKUP(A3190,bangolf_kategorien!$A$2:$B$11,2,FALSE)","v":"H"}]
["ob",22105,"Frank","Schmidt","MC Neuwied","SM1: Schmidt, Frank",{"$f":"VLOOKUP(A3191,bangolf_kategorien!$A$2:$B$11,2,FALSE)","v":"SM1"}]
["dj",66761,"Hanna","Schmidt","CGC Rauschenberg e.V.","JW: Schmidt, Hanna",{"$f":"VLOOKUP(A3192,bangolf_kategorien!$A$2:$B$11,2,FALSE)","v":"JW"}]
["hv",9197,"Hans-Jürgen","Schmidt","MGC Homburger Land e.V.","SM2: Schmidt, Hans-Jürgen",{"$f":"VLOOKUP(A3193,bangolf_kategorien!$A$2:$B$11,2,FALSE)","v":"SM2"}]
["og",30937,"Heike","Schmidt","BGC Bad Nenndorf e.V.","SW1: Schmidt, Heike",{"$f":"VLOOKUP(A3194,bangolf_kategorien!$A$2:$B$11,2,FALSE)","v":"SW1"}]
["ob",40202,"Helmut","Schmidt","MGC Freizeitzentrum Biebertal","SM1: Schmidt, Helmut",{"$f":"VLOOKUP(A3195,bangolf_kategorien!$A$2:$B$11,2,FALSE)","v":"SM1"}]
["hv",40892,"Horst","Schmidt","1. BGC Hannover e.V.","SM2: Schmidt, Horst",{"$f":"VLOOKUP(A3196,bangolf_kategorien!$A$2:$B$11,2,FALSE)","v":"SM2"}]
["ob",65917,"Lars","Schmidt","BSC Ennepetal e.V.","SM1: Schmidt, Lars",{"$f":"VLOOKUP(A3197,bangolf_kategorien!$A$2:$B$11,2,FALSE)","v":"SM1"}]
["fa",67159,"Leonie","Schmidt","BGC Bremen e.V.","SCHW: Schmidt, Leonie",{"$f":"VLOOKUP(A3198,bangolf_kategorien!$A$2:$B$11,2,FALSE)","v":"SCHW"}]
["hs",37849,"Marvin","Schmidt","MGC Homburger Land e.V.","H: Schmidt, Marvin",{"$f":"VLOOKUP(A3199,bangolf_kategorien!$A$2:$B$11,2,FALSE)","v":"H"}]
["hs",66256,"Maximilian","Schmidt","1. FMGC Lichtenfels 1961 e.V.","H: Schmidt, Maximilian",{"$f":"VLOOKUP(A3200,bangolf_kategorien!$A$2:$B$11,2,FALSE)","v":"H"}]
["hs",66810,"Mirko","Schmidt","MGF Magdeburg 1995 e.V.","H: Schmidt, Mirko",{"$f":"VLOOKUP(A3201,bangolf_kategorien!$A$2:$B$11,2,FALSE)","v":"H"}]
["ob",26491,"Olaf","Schmidt","MGC \"AS\" Witten 1963 e.V.","SM1: Schmidt, Olaf",{"$f":"VLOOKUP(A3202,bangolf_kategorien!$A$2:$B$11,2,FALSE)","v":"SM1"}]
["ob",35706,"Peter","Schmidt","MGV Eibenstock",{"$f":"CONCATENATE(G3203,\": \",D3203,\", \",C3203)","v":"SM1: Schmidt, Peter"},{"$f":"VLOOKUP(A3203,bangolf_kategorien!$A$2:$B$11,2,FALSE)","v":"SM1"}]
["hv",67275,"Peter","Schmidt","BSG Pneumant Fürstenwalde e.V., Abt. Minigolf","SM2: Schmidt, Peter",{"$f":"VLOOKUP(A3204,bangolf_kategorien!$A$2:$B$11,2,FALSE)","v":"SM2"}]
["hv",43009,"Sigurd","Schmidt","MGC Bad Oldesloe e.V.","SM2: Schmidt, Sigurd",{"$f":"VLOOKUP(A3205,bangolf_kategorien!$A$2:$B$11,2,FALSE)","v":"SM2"}]
["dv",67258,"Silvia","Schmidt","1. MGC Mannheim 1968 e.V.","SW2: Schmidt, Silvia",{"$f":"VLOOKUP(A3206,bangolf_kategorien!$A$2:$B$11,2,FALSE)","v":"SW2"}]
["dj",67140,"Sophie","Schmidt","PTSV Hof, Abt. Minigolf","JW: Schmidt, Sophie",{"$f":"VLOOKUP(A3207,bangolf_kategorien!$A$2:$B$11,2,FALSE)","v":"JW"}]
["hs",33928,"Thorben","Schmidt","MGC Brunsbüttel e.V.","H: Schmidt, Thorben",{"$f":"VLOOKUP(A3208,bangolf_kategorien!$A$2:$B$11,2,FALSE)","v":"H"}]
["ob",66746,"Udo","Schmidt","Biskirchener BGV e.V.","SM1: Schmidt, Udo",{"$f":"VLOOKUP(A3209,bangolf_kategorien!$A$2:$B$11,2,FALSE)","v":"SM1"}]
["ob",30657,"Volker","Schmidt","1. MGC Mitterteich-Großbüchlberg","SM1: Schmidt, Volker",{"$f":"VLOOKUP(A3210,bangolf_kategorien!$A$2:$B$11,2,FALSE)","v":"SM1"}]
["ob",31210,"Ralf","Schmidt-Hess","MGF Waldshut 74 e.V.","SM1: Schmidt-Hess, Ralf",{"$f":"VLOOKUP(A3211,bangolf_kategorien!$A$2:$B$11,2,FALSE)","v":"SM1"}]
["og",36631,"Sabine","Schmidt-Hess","1. CGC Blau-Gelb Grötzingen","SW1: Schmidt-Hess, Sabine",{"$f":"VLOOKUP(A3212,bangolf_kategorien!$A$2:$B$11,2,FALSE)","v":"SW1"}]
["hv",5056,"Johannes","Schmiedbauer","1. BGC Bad Füssing e.V.","SM2: Schmiedbauer, Johannes",{"$f":"VLOOKUP(A3213,bangolf_kategorien!$A$2:$B$11,2,FALSE)","v":"SM2"}]
["hs",65889,"Benjamin","Schmitt","1. MGC Kassel 1964 e.V.","H: Schmitt, Benjamin",{"$f":"VLOOKUP(A3214,bangolf_kategorien!$A$2:$B$11,2,FALSE)","v":"H"}]
["ob",44955,"Jürgen","Schmitt","MGC \"AS\" Witten 1963 e.V.","SM1: Schmitt, Jürgen",{"$f":"VLOOKUP(A3215,bangolf_kategorien!$A$2:$B$11,2,FALSE)","v":"SM1"}]
["hs",36110,"Michael","Schmitt","SG Arheilgen Abt. Bahnengolf","H: Schmitt, Michael",{"$f":"VLOOKUP(A3216,bangolf_kategorien!$A$2:$B$11,2,FALSE)","v":"H"}]
["og",46967,"Regina","Schmitt","BGC Uerdingen e.V.","SW1: Schmitt, Regina",{"$f":"VLOOKUP(A3217,bangolf_kategorien!$A$2:$B$11,2,FALSE)","v":"SW1"}]
["dv",60743,"Ursula","Schmitt","SG Arheilgen Abt. Bahnengolf","SW2: Schmitt, Ursula",{"$f":"VLOOKUP(A3218,bangolf_kategorien!$A$2:$B$11,2,FALSE)","v":"SW2"}]
["ob",33891,"Uwe","Schmitt","Miniaturgolf Sportclub Schriesheim e.V","SM1: Schmitt, Uwe",{"$f":"VLOOKUP(A3219,bangolf_kategorien!$A$2:$B$11,2,FALSE)","v":"SM1"}]
["ob",36041,"Joachim","Schmittdiel","1. MGC Kassel 1964 e.V.","SM1: Schmittdiel, Joachim",{"$f":"VLOOKUP(A3220,bangolf_kategorien!$A$2:$B$11,2,FALSE)","v":"SM1"}]
["og",34109,"Karin","Schmitutz","MGC Millennium Lorsch e.V.","SW1: Schmitutz, Karin",{"$f":"VLOOKUP(A3221,bangolf_kategorien!$A$2:$B$11,2,FALSE)","v":"SW1"}]
["hv",9449,"Peter","Schmitutz","MGC Millennium Lorsch e.V.","SM2: Schmitutz, Peter",{"$f":"VLOOKUP(A3222,bangolf_kategorien!$A$2:$B$11,2,FALSE)","v":"SM2"}]
["dv",23979,"Gabriela","Schmitutz-Krause","MGC Millennium Lorsch e.V.","SW2: Schmitutz-Krause, Gabriela",{"$f":"VLOOKUP(A3223,bangolf_kategorien!$A$2:$B$11,2,FALSE)","v":"SW2"}]
["hs",67001,"Dominik","Schmitz","Kölner Miniatur Golf Club e.V.","H: Schmitz, Dominik",{"$f":"VLOOKUP(A3224,bangolf_kategorien!$A$2:$B$11,2,FALSE)","v":"H"}]
["dv",37171,"Ingeborg","Schmitz","BGC Assindia Essen e.V.","SW2: Schmitz, Ingeborg",{"$f":"VLOOKUP(A3225,bangolf_kategorien!$A$2:$B$11,2,FALSE)","v":"SW2"}]
["og",38245,"Sibylle","Schmitz","BGC Dormagen e.V.","SW1: Schmitz, Sibylle",{"$f":"VLOOKUP(A3226,bangolf_kategorien!$A$2:$B$11,2,FALSE)","v":"SW1"}]
["hs",35141,"Tobias","Schmolke","MSC Bensheim-Auerbach e.V.","H: Schmolke, Tobias",{"$f":"VLOOKUP(A3227,bangolf_kategorien!$A$2:$B$11,2,FALSE)","v":"H"}]
["hv",756,"Axel Rolf","Schmurdy","1. MGC Kassel 1964 e.V.","SM2: Schmurdy, Axel Rolf",{"$f":"VLOOKUP(A3228,bangolf_kategorien!$A$2:$B$11,2,FALSE)","v":"SM2"}]
["hs",24639,"Nico","Schnauer","MGC Bad Oldesloe e.V.","H: Schnauer, Nico",{"$f":"VLOOKUP(A3229,bangolf_kategorien!$A$2:$B$11,2,FALSE)","v":"H"}]
["hv",3202303,"Wolfgang","Schneeberg","Hobby","SM2: Schneeberg, Wolfgang",{"$f":"VLOOKUP(A3230,bangolf_kategorien!$A$2:$B$11,2,FALSE)","v":"SM2"}]
["ob",64054,"Reinhold","Schneid","MGV Ansbach e.V.","SM1: Schneid, Reinhold",{"$f":"VLOOKUP(A3231,bangolf_kategorien!$A$2:$B$11,2,FALSE)","v":"SM1"}]
["hs",34319,"Alexander","Schneider","SG Arheilgen Abt. Bahnengolf","H: Schneider, Alexander",{"$f":"VLOOKUP(A3232,bangolf_kategorien!$A$2:$B$11,2,FALSE)","v":"H"}]
["hs",36247,"Andreas","Schneider","SG Arheilgen Abt. Bahnengolf","H: Schneider, Andreas",{"$f":"VLOOKUP(A3233,bangolf_kategorien!$A$2:$B$11,2,FALSE)","v":"H"}]
["hv",61501,"Bernhard","Schneider","MPF Hardt e.V.","SM2: Schneider, Bernhard",{"$f":"VLOOKUP(A3234,bangolf_kategorien!$A$2:$B$11,2,FALSE)","v":"SM2"}]
["ob",43681,"Christian","Schneider","1. MGC 1970 Göttingen e.V.","SM1: Schneider, Christian",{"$f":"VLOOKUP(A3235,bangolf_kategorien!$A$2:$B$11,2,FALSE)","v":"SM1"}]
["ob",66941,"Dirk","Schneider","1. BGC Paderborn e.V.","SM1: Schneider, Dirk",{"$f":"VLOOKUP(A3236,bangolf_kategorien!$A$2:$B$11,2,FALSE)","v":"SM1"}]
["hv",66818,"Franz","Schneider","BSV 82 Ohlsbach e.V.","SM2: Schneider, Franz",{"$f":"VLOOKUP(A3237,bangolf_kategorien!$A$2:$B$11,2,FALSE)","v":"SM2"}]
["hs",66665,"Markus","Schneider","SG Arheilgen Abt. Bahnengolf","H: Schneider, Markus",{"$f":"VLOOKUP(A3238,bangolf_kategorien!$A$2:$B$11,2,FALSE)","v":"H"}]
["ob",67297,"Olaf","Schneider","MGF Steinbruch Kempten","SM1: Schneider, Olaf",{"$f":"VLOOKUP(A3239,bangolf_kategorien!$A$2:$B$11,2,FALSE)","v":"SM1"}]
["hv",61696,"Paul","Schneider","1. MGC Ludwigshafen e.V.","SM2: Schneider, Paul",{"$f":"VLOOKUP(A3240,bangolf_kategorien!$A$2:$B$11,2,FALSE)","v":"SM2"}]
["og",40365,"Renate","Schneider","OMGC Ingolstadt e.V.","SW1: Schneider, Renate",{"$f":"VLOOKUP(A3241,bangolf_kategorien!$A$2:$B$11,2,FALSE)","v":"SW1"}]
["ob",43733,"Simon","Schneider","BGV Bergisch Land 1962 / 63 e.V.","SM1: Schneider, Simon",{"$f":"VLOOKUP(A3242,bangolf_kategorien!$A$2:$B$11,2,FALSE)","v":"SM1"}]
["ob",66666,"Timm","Schneider","SG Arheilgen Abt. Bahnengolf","SM1: Schneider, Timm",{"$f":"VLOOKUP(A3243,bangolf_kategorien!$A$2:$B$11,2,FALSE)","v":"SM1"}]
["hv",28127,"Wolfgang","Schneiderbanger","1. MGC Bamberg e.V.","SM2: Schneiderbanger, Wolfgang",{"$f":"VLOOKUP(A3244,bangolf_kategorien!$A$2:$B$11,2,FALSE)","v":"SM2"}]
["ob",67115,"Michael","Schnell","BSV 82 Ohlsbach e.V.","SM1: Schnell, Michael",{"$f":"VLOOKUP(A3245,bangolf_kategorien!$A$2:$B$11,2,FALSE)","v":"SM1"}]
["ob",47187,"Oliver","Schnickmann","KSV Baltrum e.V.","SM1: Schnickmann, Oliver",{"$f":"VLOOKUP(A3246,bangolf_kategorien!$A$2:$B$11,2,FALSE)","v":"SM1"}]
["og",47186,"Stefanie","Schnickmann","KSV Baltrum e.V.","SW1: Schnickmann, Stefanie",{"$f":"VLOOKUP(A3247,bangolf_kategorien!$A$2:$B$11,2,FALSE)","v":"SW1"}]
["ob",43936,"Martin","Schnittker","Bochumer Minigolf-Club 1960 e.V.","SM1: Schnittker, Martin",{"$f":"VLOOKUP(A3248,bangolf_kategorien!$A$2:$B$11,2,FALSE)","v":"SM1"}]
["ob",66214,"Jörg","Schnoor","MGC Bad Oldesloe e.V.","SM1: Schnoor, Jörg",{"$f":"VLOOKUP(A3249,bangolf_kategorien!$A$2:$B$11,2,FALSE)","v":"SM1"}]
["hv",67367,"Norbert","Schnura","Tempelhofer MV Berlin e.V.","SM2: Schnura, Norbert",{"$f":"VLOOKUP(A3250,bangolf_kategorien!$A$2:$B$11,2,FALSE)","v":"SM2"}]
["dv",67368,"Regina","Schnura","Tempelhofer MV Berlin e.V.","SW2: Schnura, Regina",{"$f":"VLOOKUP(A3251,bangolf_kategorien!$A$2:$B$11,2,FALSE)","v":"SW2"}]
["ob",37048,"Manfred","Schöbel","HMC Büttgen e.V.","SM1: Schöbel, Manfred",{"$f":"VLOOKUP(A3252,bangolf_kategorien!$A$2:$B$11,2,FALSE)","v":"SM1"}]
["hv",67182,"Rudolf","Schocher","Minigolf-Club Diessen","SM2: Schocher, Rudolf",{"$f":"VLOOKUP(A3253,bangolf_kategorien!$A$2:$B$11,2,FALSE)","v":"SM2"}]
["ob",40386,"Thomas","Schöchlin","MSV Würzburg-Löwenbrücke e.V.","SM1: Schöchlin, Thomas",{"$f":"VLOOKUP(A3254,bangolf_kategorien!$A$2:$B$11,2,FALSE)","v":"SM1"}]
["hs",67359,"Kurt","Schöllnast","BSV 86 München e.V.","H: Schöllnast, Kurt",{"$f":"VLOOKUP(A3255,bangolf_kategorien!$A$2:$B$11,2,FALSE)","v":"H"}]
["hs",66299,"Bastian","Scholz","TG Höchberg von 1862 Bahnengolf e.V.","H: Scholz, Bastian",{"$f":"VLOOKUP(A3256,bangolf_kategorien!$A$2:$B$11,2,FALSE)","v":"H"}]
["hs",31280,"Lucas","Scholz","1. MGC Mainz e.V.","H: Scholz, Lucas",{"$f":"VLOOKUP(A3257,bangolf_kategorien!$A$2:$B$11,2,FALSE)","v":"H"}]
["hv",24611,"Renaldo","Scholz","BGC Dormagen e.V.","SM2: Scholz, Renaldo",{"$f":"VLOOKUP(A3258,bangolf_kategorien!$A$2:$B$11,2,FALSE)","v":"SM2"}]
["hv",12780,"Rüdiger","Scholz","MSK Neheim-Hüsten e.V.","SM2: Scholz, Rüdiger",{"$f":"VLOOKUP(A3259,bangolf_kategorien!$A$2:$B$11,2,FALSE)","v":"SM2"}]
["ob",67261,"Rainer","Schölzke","MGC \"Stahlquelle\" Bad Bocklet","SM1: Schölzke, Rainer",{"$f":"VLOOKUP(A3260,bangolf_kategorien!$A$2:$B$11,2,FALSE)","v":"SM1"}]
["hv",35267,"Helmut","Schön","MC Ilvesheim e.V.","SM2: Schön, Helmut",{"$f":"VLOOKUP(A3261,bangolf_kategorien!$A$2:$B$11,2,FALSE)","v":"SM2"}]
["hv",35230,"Wolfgang","Schön","SC Gut Heil Neumünster e.V.","SM2: Schön, Wolfgang",{"$f":"VLOOKUP(A3262,bangolf_kategorien!$A$2:$B$11,2,FALSE)","v":"SM2"}]
["hv",3389,"Horst","Schönfeld","BGC Northeim e.V.","SM2: Schönfeld, Horst",{"$f":"VLOOKUP(A3263,bangolf_kategorien!$A$2:$B$11,2,FALSE)","v":"SM2"}]
["ob",34084,"Karl-Heinz","Schönfeld","VfL Lüneburg Abt. Bahnengolf","SM1: Schönfeld, Karl-Heinz",{"$f":"VLOOKUP(A3264,bangolf_kategorien!$A$2:$B$11,2,FALSE)","v":"SM1"}]
["og",50889,"Ute","Schönherr","1. MGC Köln 1961 e.V.","SW1: Schönherr, Ute",{"$f":"VLOOKUP(A3265,bangolf_kategorien!$A$2:$B$11,2,FALSE)","v":"SW1"}]
["ob",31659,"Uwe","Schonz","MC Tigers Künsebeck e.V.","SM1: Schonz, Uwe",{"$f":"VLOOKUP(A3266,bangolf_kategorien!$A$2:$B$11,2,FALSE)","v":"SM1"}]
["og",44002,"Jutta","Schöpf","BGC Bad Berneck e.V.",{"$f":"CONCATENATE(G3267,\": \",D3267,\", \",C3267)","v":"SW1: Schöpf, Jutta"},{"$f":"VLOOKUP(A3267,bangolf_kategorien!$A$2:$B$11,2,FALSE)","v":"SW1"}]
["pa",67302,"Melvin-Roy","Schöpfer","MGC Bad Salzuflen e.V.","SCHM: Schöpfer, Melvin-Roy",{"$f":"VLOOKUP(A3268,bangolf_kategorien!$A$2:$B$11,2,FALSE)","v":"SCHM"}]
["ob",22686,"Marc","Schöpper","BGSV Kerpen e.V.","SM1: Schöpper, Marc",{"$f":"VLOOKUP(A3269,bangolf_kategorien!$A$2:$B$11,2,FALSE)","v":"SM1"}]
["hj",66449,"Lukas","Schrader","MGC Olympia Kiel e.V.","JM: Schrader, Lukas",{"$f":"VLOOKUP(A3270,bangolf_kategorien!$A$2:$B$11,2,FALSE)","v":"JM"}]
["ob",3211951,"Olaf","Schramm","Hobby","SM1: Schramm, Olaf",{"$f":"VLOOKUP(A3271,bangolf_kategorien!$A$2:$B$11,2,FALSE)","v":"SM1"}]
["hv",44645,"Reiner","Schramm","BGSV Bad Homburg","SM2: Schramm, Reiner",{"$f":"VLOOKUP(A3272,bangolf_kategorien!$A$2:$B$11,2,FALSE)","v":"SM2"}]
["og",3234843,"Anja","Schray","Hobby","SW1: Schray, Anja",{"$f":"VLOOKUP(A3273,bangolf_kategorien!$A$2:$B$11,2,FALSE)","v":"SW1"}]
["hs",41008,"Andreas","Schreck","VfM e.V. Berlin","H: Schreck, Andreas",{"$f":"VLOOKUP(A3274,bangolf_kategorien!$A$2:$B$11,2,FALSE)","v":"H"}]
["hj",66804,"Clemens","Schreiber","1. BGC Wolfsburg","JM: Schreiber, Clemens",{"$f":"VLOOKUP(A3275,bangolf_kategorien!$A$2:$B$11,2,FALSE)","v":"JM"}]
["hv",1017251,"Karl-Heinz","Schreiber","Hobby","SM2: Schreiber, Karl-Heinz",{"$f":"VLOOKUP(A3276,bangolf_kategorien!$A$2:$B$11,2,FALSE)","v":"SM2"}]
["hv",67269,"Lutz","Schreiber","BSG Pneumant Fürstenwalde e.V., Abt. Minigolf","SM2: Schreiber, Lutz",{"$f":"VLOOKUP(A3277,bangolf_kategorien!$A$2:$B$11,2,FALSE)","v":"SM2"}]
["hv",67295,"Manfred","Schreiber","MGC Bad Soden-Salmünster","SM2: Schreiber, Manfred",{"$f":"VLOOKUP(A3278,bangolf_kategorien!$A$2:$B$11,2,FALSE)","v":"SM2"}]
["dv",1017252,"Margret","Schreiber","Hobby","SW2: Schreiber, Margret",{"$f":"VLOOKUP(A3279,bangolf_kategorien!$A$2:$B$11,2,FALSE)","v":"SW2"}]
["og",67296,"Martina","Schreiber","MGC Bad Soden-Salmünster","SW1: Schreiber, Martina",{"$f":"VLOOKUP(A3280,bangolf_kategorien!$A$2:$B$11,2,FALSE)","v":"SW1"}]
["hv",66205,"Udo","Schreiber","1. MGC Epe 1978 e.V.","SM2: Schreiber, Udo",{"$f":"VLOOKUP(A3281,bangolf_kategorien!$A$2:$B$11,2,FALSE)","v":"SM2"}]
["hs",66248,"Patrick","Schreiter","BGS Hardenberg-Pötter e.V.","H: Schreiter, Patrick",{"$f":"VLOOKUP(A3282,bangolf_kategorien!$A$2:$B$11,2,FALSE)","v":"H"}]
["hs",66249,"Sebastian","Schreiter","BGS Hardenberg-Pötter e.V.","H: Schreiter, Sebastian",{"$f":"VLOOKUP(A3283,bangolf_kategorien!$A$2:$B$11,2,FALSE)","v":"H"}]
["hs",38343,"Christopher","Schrettl","BGC Neutraubling e.V.","H: Schrettl, Christopher",{"$f":"VLOOKUP(A3284,bangolf_kategorien!$A$2:$B$11,2,FALSE)","v":"H"}]
["ob",49424,"Thomas","Schrettl","BGC Neutraubling e.V.","SM1: Schrettl, Thomas",{"$f":"VLOOKUP(A3285,bangolf_kategorien!$A$2:$B$11,2,FALSE)","v":"SM1"}]
["ob",67105,"Harald","Schreyl","MGC Wolnzach e.V.","SM1: Schreyl, Harald",{"$f":"VLOOKUP(A3286,bangolf_kategorien!$A$2:$B$11,2,FALSE)","v":"SM1"}]
["ob",66660,"Sebastien","Schrobiltgen","BGS Hardenberg-Pötter e.V.","SM1: Schrobiltgen, Sebastien",{"$f":"VLOOKUP(A3287,bangolf_kategorien!$A$2:$B$11,2,FALSE)","v":"SM1"}]
["hv",38657,"Gerhard","Schröck","BGC Schweinfurt e.V.","SM2: Schröck, Gerhard",{"$f":"VLOOKUP(A3288,bangolf_kategorien!$A$2:$B$11,2,FALSE)","v":"SM2"}]
["dv",4054,"Gabriele","Schröder","1. Berliner Miniaturgolf-Sportclub e.V. 1960","SW2: Schröder, Gabriele",{"$f":"VLOOKUP(A3289,bangolf_kategorien!$A$2:$B$11,2,FALSE)","v":"SW2"}]
["hs",34660,"Jan-Georg","Schröder","MC Flora Elmshorn e.V.","H: Schröder, Jan-Georg",{"$f":"VLOOKUP(A3290,bangolf_kategorien!$A$2:$B$11,2,FALSE)","v":"H"}]
["hv",36274,"Jürgen","Schröder","SSC Halver e.V.","SM2: Schröder, Jürgen",{"$f":"VLOOKUP(A3291,bangolf_kategorien!$A$2:$B$11,2,FALSE)","v":"SM2"}]
["ob",66602,"Jürgen","Schröder","1. MSC Wesel 6.6.1966 e.V.","SM1: Schröder, Jürgen",{"$f":"VLOOKUP(A3292,bangolf_kategorien!$A$2:$B$11,2,FALSE)","v":"SM1"}]
["og",67387,"Manuela","Schröder","VfL Lohbrügge Abt. Bahnengolf","SW1: Schröder, Manuela",{"$f":"VLOOKUP(A3293,bangolf_kategorien!$A$2:$B$11,2,FALSE)","v":"SW1"}]
["ob",66833,"Mario","Schröder","1. Berliner Miniaturgolf-Sportclub e.V. 1960","SM1: Schröder, Mario",{"$f":"VLOOKUP(A3294,bangolf_kategorien!$A$2:$B$11,2,FALSE)","v":"SM1"}]
["ob",40350,"Matthias","Schröder","MGC Dormagen-Brechten e.V.","SM1: Schröder, Matthias",{"$f":"VLOOKUP(A3295,bangolf_kategorien!$A$2:$B$11,2,FALSE)","v":"SM1"}]
["og",66839,"Michaela","Schröder","MGC Bad Salzuflen e.V.","SW1: Schröder, Michaela",{"$f":"VLOOKUP(A3296,bangolf_kategorien!$A$2:$B$11,2,FALSE)","v":"SW1"}]
["hv",3476,"Ulrich","Schröder","1. Berliner Miniaturgolf-Sportclub e.V. 1960","SM2: Schröder, Ulrich",{"$f":"VLOOKUP(A3297,bangolf_kategorien!$A$2:$B$11,2,FALSE)","v":"SM2"}]
["hs",65958,"Marco","Schrödl","VFB 21 Neugattersleben e. V.","H: Schrödl, Marco",{"$f":"VLOOKUP(A3298,bangolf_kategorien!$A$2:$B$11,2,FALSE)","v":"H"}]
["ob",26346,"Michael","Schröter","Reinickendorfer MGC e.V.","SM1: Schröter, Michael",{"$f":"VLOOKUP(A3299,bangolf_kategorien!$A$2:$B$11,2,FALSE)","v":"SM1"}]
["pa",66827,"Jarno","Schrüfer","TSV Pfungstadt Abt. Bahnengolf e.V.","SCHM: Schrüfer, Jarno",{"$f":"VLOOKUP(A3300,bangolf_kategorien!$A$2:$B$11,2,FALSE)","v":"SCHM"}]
["hs",38400,"Marc","Schub","MSK Olching e.V.","H: Schub, Marc",{"$f":"VLOOKUP(A3301,bangolf_kategorien!$A$2:$B$11,2,FALSE)","v":"H"}]
["hs",30765,"Marcel","Schubbe","Reinickendorfer MGC e.V.","H: Schubbe, Marcel",{"$f":"VLOOKUP(A3302,bangolf_kategorien!$A$2:$B$11,2,FALSE)","v":"H"}]
["ob",31091,"Christian","Schubert","1. NMC Kelheim e.V.","SM1: Schubert, Christian",{"$f":"VLOOKUP(A3303,bangolf_kategorien!$A$2:$B$11,2,FALSE)","v":"SM1"}]
["og",66632,"Christiane","Schubert","MGC Bergisch Gladbach Gierath e.V.","SW1: Schubert, Christiane",{"$f":"VLOOKUP(A3304,bangolf_kategorien!$A$2:$B$11,2,FALSE)","v":"SW1"}]
["hj",65980,"Finn","Schubert","MGC Bad Salzuflen e.V.","JM: Schubert, Finn",{"$f":"VLOOKUP(A3305,bangolf_kategorien!$A$2:$B$11,2,FALSE)","v":"JM"}]
["og",3216786,"Kerstin","Schubert","Hobby","SW1: Schubert, Kerstin",{"$f":"VLOOKUP(A3306,bangolf_kategorien!$A$2:$B$11,2,FALSE)","v":"SW1"}]
["hs",65979,"Niklas","Schubert","MGC Bad Salzuflen e.V.","H: Schubert, Niklas",{"$f":"VLOOKUP(A3307,bangolf_kategorien!$A$2:$B$11,2,FALSE)","v":"H"}]
["hv",6795,"Horst","Schuchardt","BGC Bremen e.V.","SM2: Schuchardt, Horst",{"$f":"VLOOKUP(A3308,bangolf_kategorien!$A$2:$B$11,2,FALSE)","v":"SM2"}]
["hs",31757,"Torsten","Schück","1. MGC Mainz e.V.","H: Schück, Torsten",{"$f":"VLOOKUP(A3309,bangolf_kategorien!$A$2:$B$11,2,FALSE)","v":"H"}]
["hs",29088,"Bernd","Schué","BGC Goslar e.V.","H: Schué, Bernd",{"$f":"VLOOKUP(A3310,bangolf_kategorien!$A$2:$B$11,2,FALSE)","v":"H"}]
["og",26338,"Sabine-Simone","Schüler","1. MGC Bamberg e.V.","SW1: Schüler, Sabine-Simone",{"$f":"VLOOKUP(A3311,bangolf_kategorien!$A$2:$B$11,2,FALSE)","v":"SW1"}]
["hj",66081,"Christoph","Schuller","MSK Olching e.V.","JM: Schuller, Christoph",{"$f":"VLOOKUP(A3312,bangolf_kategorien!$A$2:$B$11,2,FALSE)","v":"JM"}]
["hj",66082,"Fabian","Schuller","MSK Olching e.V.","JM: Schuller, Fabian",{"$f":"VLOOKUP(A3313,bangolf_kategorien!$A$2:$B$11,2,FALSE)","v":"JM"}]
["ds",67125,"Dana","Schüller","BGSV Kerpen e.V.","D: Schüller, Dana",{"$f":"VLOOKUP(A3314,bangolf_kategorien!$A$2:$B$11,2,FALSE)","v":"D"}]
["hs",46043,"Jens","Schüller","MGC Bergisch Gladbach Gierath e.V.","H: Schüller, Jens",{"$f":"VLOOKUP(A3315,bangolf_kategorien!$A$2:$B$11,2,FALSE)","v":"H"}]
["hs",40246,"Jan","Schulte","SSC Attendorn e.V.","H: Schulte, Jan",{"$f":"VLOOKUP(A3316,bangolf_kategorien!$A$2:$B$11,2,FALSE)","v":"H"}]
["hv",66898,"Michael","Schulte","BV Sennestadt","SM2: Schulte, Michael",{"$f":"VLOOKUP(A3317,bangolf_kategorien!$A$2:$B$11,2,FALSE)","v":"SM2"}]
["ob",37834,"Udo","Schulte","VfB Osnabrück e.V.","SM1: Schulte, Udo",{"$f":"VLOOKUP(A3318,bangolf_kategorien!$A$2:$B$11,2,FALSE)","v":"SM1"}]
["ob",67286,"Christian","Schultes","MSK Olching e.V.","SM1: Schultes, Christian",{"$f":"VLOOKUP(A3319,bangolf_kategorien!$A$2:$B$11,2,FALSE)","v":"SM1"}]
["hs",67116,"Benjamin","Schultheiss","SG Arheilgen Abt. Bahnengolf","H: Schultheiss, Benjamin",{"$f":"VLOOKUP(A3320,bangolf_kategorien!$A$2:$B$11,2,FALSE)","v":"H"}]
["ob",45666,"Hans-Jürgen","Schulz","MC \"Möve\" Cuxhaven-Sahlenburg e.V.","SM1: Schulz, Hans-Jürgen",{"$f":"VLOOKUP(A3321,bangolf_kategorien!$A$2:$B$11,2,FALSE)","v":"SM1"}]
["dv",6329,"Hildegard","Schulz","1. MC Weinheim e.V.","SW2: Schulz, Hildegard",{"$f":"VLOOKUP(A3322,bangolf_kategorien!$A$2:$B$11,2,FALSE)","v":"SW2"}]
["ob",43682,"Matthias","Schulz","1. MGC 1970 Göttingen e.V.","SM1: Schulz, Matthias",{"$f":"VLOOKUP(A3323,bangolf_kategorien!$A$2:$B$11,2,FALSE)","v":"SM1"}]
["hv",38181,"Peter","Schulz","SV Lurup Abt. Bahnengolf","SM2: Schulz, Peter",{"$f":"VLOOKUP(A3324,bangolf_kategorien!$A$2:$B$11,2,FALSE)","v":"SM2"}]
["ob",31848,"Ralf","Schulz","MC \"Möve\" Cuxhaven-Sahlenburg e.V.","SM1: Schulz, Ralf",{"$f":"VLOOKUP(A3325,bangolf_kategorien!$A$2:$B$11,2,FALSE)","v":"SM1"}]
["hj",66936,"Jonas","Schulze","1. MSC Hamburg-Neu Wulmstorf","JM: Schulze, Jonas",{"$f":"VLOOKUP(A3326,bangolf_kategorien!$A$2:$B$11,2,FALSE)","v":"JM"}]
["hv",48074,"Klaus","Schulze","MGC Dortmund Syburg e.V.","SM2: Schulze, Klaus",{"$f":"VLOOKUP(A3327,bangolf_kategorien!$A$2:$B$11,2,FALSE)","v":"SM2"}]
["hv",66654,"Ralf","Schulze","TSV Arendsee e.V.","SM2: Schulze, Ralf",{"$f":"VLOOKUP(A3328,bangolf_kategorien!$A$2:$B$11,2,FALSE)","v":"SM2"}]
["hs",67277,"Martin Christoph Benjamin","Schulze-Stapen","MGC Lippe-Detmold e.V.","H: Schulze-Stapen, Martin Christoph Benjamin",{"$f":"VLOOKUP(A3329,bangolf_kategorien!$A$2:$B$11,2,FALSE)","v":"H"}]
["hs",67112,"Danny","Schumacher","1. MGC Gelsenkirchen e.V.","H: Schumacher, Danny",{"$f":"VLOOKUP(A3330,bangolf_kategorien!$A$2:$B$11,2,FALSE)","v":"H"}]
["hs",67114,"David","Schumacher","1. MGC Gelsenkirchen e.V.",{"$f":"CONCATENATE(G3331,\": \",D3331,\", \",C3331)","v":"H: Schumacher, David"},{"$f":"VLOOKUP(A3331,bangolf_kategorien!$A$2:$B$11,2,FALSE)","v":"H"}]
["hv",3386,"Klaus","Schumacher","Kölner Miniatur Golf Club e.V.","SM2: Schumacher, Klaus",{"$f":"VLOOKUP(A3332,bangolf_kategorien!$A$2:$B$11,2,FALSE)","v":"SM2"}]
["ds",37475,"Sarah","Schumacher","MGF Hilzingen 80 e.V.","D: Schumacher, Sarah",{"$f":"VLOOKUP(A3333,bangolf_kategorien!$A$2:$B$11,2,FALSE)","v":"D"}]
["fa",66672,"Silvia","Schumacher","BSV Inzlingen 1979 e.V.","SCHW: Schumacher, Silvia",{"$f":"VLOOKUP(A3334,bangolf_kategorien!$A$2:$B$11,2,FALSE)","v":"SCHW"}]
["hj",66673,"Stefan","Schumacher","1. MGC Tuttlingen e.V.","JM: Schumacher, Stefan",{"$f":"VLOOKUP(A3335,bangolf_kategorien!$A$2:$B$11,2,FALSE)","v":"JM"}]
["ob",31332,"Wolfgang","Schumacher","BSV Inzlingen 1979 e.V.","SM1: Schumacher, Wolfgang",{"$f":"VLOOKUP(A3336,bangolf_kategorien!$A$2:$B$11,2,FALSE)","v":"SM1"}]
["hv",49856,"Herbert","Schüngel","BGC Assindia Essen e.V.","SM2: Schüngel, Herbert",{"$f":"VLOOKUP(A3337,bangolf_kategorien!$A$2:$B$11,2,FALSE)","v":"SM2"}]
["dv",49580,"Petra","Schüngel","BGC Assindia Essen e.V.","SW2: Schüngel, Petra",{"$f":"VLOOKUP(A3338,bangolf_kategorien!$A$2:$B$11,2,FALSE)","v":"SW2"}]
["ob",3216780,"Michael","Schüren","Hobby","SM1: Schüren, Michael",{"$f":"VLOOKUP(A3339,bangolf_kategorien!$A$2:$B$11,2,FALSE)","v":"SM1"}]
["hv",30255,"Herbert","Schurig jun.","VfL Lohbrügge Abt. Bahnengolf","SM2: Schurig jun., Herbert",{"$f":"VLOOKUP(A3340,bangolf_kategorien!$A$2:$B$11,2,FALSE)","v":"SM2"}]
["hv",45028,"Klaus","Schürings","1. MGC 1970 Göttingen e.V.","SM2: Schürings, Klaus",{"$f":"VLOOKUP(A3341,bangolf_kategorien!$A$2:$B$11,2,FALSE)","v":"SM2"}]
["og",33960,"Susanne","Schürmann","1. BGC Wesseling 1975 e.V.","SW1: Schürmann, Susanne",{"$f":"VLOOKUP(A3342,bangolf_kategorien!$A$2:$B$11,2,FALSE)","v":"SW1"}]
["ob",3212548,"Fritz","Schury","Hobby","SM1: Schury, Fritz",{"$f":"VLOOKUP(A3343,bangolf_kategorien!$A$2:$B$11,2,FALSE)","v":"SM1"}]
["ob",47009,"Wolfgang","Schury","BGC Bad Mergentheim e.V.","SM1: Schury, Wolfgang",{"$f":"VLOOKUP(A3344,bangolf_kategorien!$A$2:$B$11,2,FALSE)","v":"SM1"}]
["dj",67347,"Jana","Schüßler","MSC Bensheim-Auerbach e.V.","JW: Schüßler, Jana",{"$f":"VLOOKUP(A3345,bangolf_kategorien!$A$2:$B$11,2,FALSE)","v":"JW"}]
["og",38154,"Alexandra","Schuster","BGC Oberhausen e.V.","SW1: Schuster, Alexandra",{"$f":"VLOOKUP(A3346,bangolf_kategorien!$A$2:$B$11,2,FALSE)","v":"SW1"}]
["hs",23509,"David","Schuster","1. MGC Ludwigshafen e.V.","H: Schuster, David",{"$f":"VLOOKUP(A3347,bangolf_kategorien!$A$2:$B$11,2,FALSE)","v":"H"}]
["ob",38046,"Oliver","Schuster","BGC Oberhausen e.V.","SM1: Schuster, Oliver",{"$f":"VLOOKUP(A3348,bangolf_kategorien!$A$2:$B$11,2,FALSE)","v":"SM1"}]
["hv",4645,"Bernhard","Schütterle","BGC Rheinau-Freistett e.V.","SM2: Schütterle, Bernhard",{"$f":"VLOOKUP(A3349,bangolf_kategorien!$A$2:$B$11,2,FALSE)","v":"SM2"}]
["hs",37112,"Ronny","Schüttler","SG  Weiterstadt 1886 e.V.","H: Schüttler, Ronny",{"$f":"VLOOKUP(A3350,bangolf_kategorien!$A$2:$B$11,2,FALSE)","v":"H"}]
["hv",3194208,"Alfred","Schütz","Hobby","SM2: Schütz, Alfred",{"$f":"VLOOKUP(A3351,bangolf_kategorien!$A$2:$B$11,2,FALSE)","v":"SM2"}]
["hs",66591,"Philipp","Schütz","1. MGC Kassel 1964 e.V.","H: Schütz, Philipp",{"$f":"VLOOKUP(A3352,bangolf_kategorien!$A$2:$B$11,2,FALSE)","v":"H"}]
["ob",41299,"Rainer","Schütz","BGC Heilbronn e.V.","SM1: Schütz, Rainer",{"$f":"VLOOKUP(A3353,bangolf_kategorien!$A$2:$B$11,2,FALSE)","v":"SM1"}]
["hv",32907,"Bernd","Schwab","SC Bad Münder Abt. Bahnengolf","SM2: Schwab, Bernd",{"$f":"VLOOKUP(A3354,bangolf_kategorien!$A$2:$B$11,2,FALSE)","v":"SM2"}]
["dv",32908,"Marianne","Schwab","SC Bad Münder Abt. Bahnengolf","SW2: Schwab, Marianne",{"$f":"VLOOKUP(A3355,bangolf_kategorien!$A$2:$B$11,2,FALSE)","v":"SW2"}]
["ob",3211949,"Michael","Schwanitz","Hobby","SM1: Schwanitz, Michael",{"$f":"VLOOKUP(A3356,bangolf_kategorien!$A$2:$B$11,2,FALSE)","v":"SM1"}]
["dv",2283,"Anita","Schwarz","Minigolfclub Karlshagen e.V.","SW2: Schwarz, Anita",{"$f":"VLOOKUP(A3357,bangolf_kategorien!$A$2:$B$11,2,FALSE)","v":"SW2"}]
["hv",49255,"Detlef","Schwarz","MC \"Möve\" Cuxhaven-Sahlenburg e.V.","SM2: Schwarz, Detlef",{"$f":"VLOOKUP(A3358,bangolf_kategorien!$A$2:$B$11,2,FALSE)","v":"SM2"}]
["pa",67094,"Dominik","Schwarz","MSK Olching e.V.","SCHM: Schwarz, Dominik",{"$f":"VLOOKUP(A3359,bangolf_kategorien!$A$2:$B$11,2,FALSE)","v":"SCHM"}]
["hv",2284,"Egon","Schwarz","Minigolfclub Karlshagen e.V.","SM2: Schwarz, Egon",{"$f":"VLOOKUP(A3360,bangolf_kategorien!$A$2:$B$11,2,FALSE)","v":"SM2"}]
["hv",3106821,"Lothar","Schwarz","Hobby","SM2: Schwarz, Lothar",{"$f":"VLOOKUP(A3361,bangolf_kategorien!$A$2:$B$11,2,FALSE)","v":"SM2"}]
["pa",66857,"Luca","Schwarz","Minigolfclub Karlshagen e.V.","SCHM: Schwarz, Luca",{"$f":"VLOOKUP(A3362,bangolf_kategorien!$A$2:$B$11,2,FALSE)","v":"SCHM"}]
["og",35523,"Rosemarie","Schwarz","MSC Bensheim-Auerbach e.V.","SW1: Schwarz, Rosemarie",{"$f":"VLOOKUP(A3363,bangolf_kategorien!$A$2:$B$11,2,FALSE)","v":"SW1"}]
["hv",4629,"Sebastian","Schwarz","MGC Wolnzach e.V.","SM2: Schwarz, Sebastian",{"$f":"VLOOKUP(A3364,bangolf_kategorien!$A$2:$B$11,2,FALSE)","v":"SM2"}]
["pa",66470,"Tobias","Schwarz","MSK Olching e.V.","SCHM: Schwarz, Tobias",{"$f":"VLOOKUP(A3365,bangolf_kategorien!$A$2:$B$11,2,FALSE)","v":"SCHM"}]
["hv",5265,"Peter","Schwarzbach","MCE Sindelfingen e.V.","SM2: Schwarzbach, Peter",{"$f":"VLOOKUP(A3366,bangolf_kategorien!$A$2:$B$11,2,FALSE)","v":"SM2"}]
["hs",50327,"Tobias","Schwarzbach","MCE Sindelfingen e.V.","H: Schwarzbach, Tobias",{"$f":"VLOOKUP(A3367,bangolf_kategorien!$A$2:$B$11,2,FALSE)","v":"H"}]
["hj",66053,"Nils","Schwarzenberger","MGC Murnau am Staffelsee e.V.","JM: Schwarzenberger, Nils",{"$f":"VLOOKUP(A3368,bangolf_kategorien!$A$2:$B$11,2,FALSE)","v":"JM"}]
["pa",66616,"Marco","Schwarzer","Minigolfclub Karlshagen e.V.","SCHM: Schwarzer, Marco",{"$f":"VLOOKUP(A3369,bangolf_kategorien!$A$2:$B$11,2,FALSE)","v":"SCHM"}]
["dv",19804,"Bettina","Schwebinghaus","MGC Wuppertal-Ronsdorf 1967 e.V.","SW2: Schwebinghaus, Bettina",{"$f":"VLOOKUP(A3370,bangolf_kategorien!$A$2:$B$11,2,FALSE)","v":"SW2"}]
["hv",19806,"Ulrich","Schwebinghaus","MGC Wuppertal-Ronsdorf 1967 e.V.","SM2: Schwebinghaus, Ulrich",{"$f":"VLOOKUP(A3371,bangolf_kategorien!$A$2:$B$11,2,FALSE)","v":"SM2"}]
["hv",23183,"Karl-Albert","Schweizer","1. MGC Ludwigshafen e.V.","SM2: Schweizer, Karl-Albert",{"$f":"VLOOKUP(A3372,bangolf_kategorien!$A$2:$B$11,2,FALSE)","v":"SM2"}]
["hv",22937,"Bernd","Schwer","MC Ilvesheim e.V.","SM2: Schwer, Bernd",{"$f":"VLOOKUP(A3373,bangolf_kategorien!$A$2:$B$11,2,FALSE)","v":"SM2"}]
["hs",45141,"Uwe","Schwer","MC Ilvesheim e.V.","H: Schwer, Uwe",{"$f":"VLOOKUP(A3374,bangolf_kategorien!$A$2:$B$11,2,FALSE)","v":"H"}]
["hs",1029324,"Benjamin","Schwerte","Hobby","H: Schwerte, Benjamin",{"$f":"VLOOKUP(A3375,bangolf_kategorien!$A$2:$B$11,2,FALSE)","v":"H"}]
["hs",65944,"Benedikt","Schwickert","BSV Inzlingen 1979 e.V.","H: Schwickert, Benedikt",{"$f":"VLOOKUP(A3376,bangolf_kategorien!$A$2:$B$11,2,FALSE)","v":"H"}]
["hv",36108,"Karl-Willi","Schwind","BGC Dormagen e.V.","SM2: Schwind, Karl-Willi",{"$f":"VLOOKUP(A3377,bangolf_kategorien!$A$2:$B$11,2,FALSE)","v":"SM2"}]
["og",36107,"Regina","Schwind","BGC Dormagen e.V.","SW1: Schwind, Regina",{"$f":"VLOOKUP(A3378,bangolf_kategorien!$A$2:$B$11,2,FALSE)","v":"SW1"}]
["hs",33361,"Sebastian","Schwind","BGC Dormagen e.V.","H: Schwind, Sebastian",{"$f":"VLOOKUP(A3379,bangolf_kategorien!$A$2:$B$11,2,FALSE)","v":"H"}]
["hs",35763,"Sebastian","Schwind","1. MGC Ludwigshafen e.V.","H: Schwind, Sebastian",{"$f":"VLOOKUP(A3380,bangolf_kategorien!$A$2:$B$11,2,FALSE)","v":"H"}]
["ob",29873,"Holger","Schwingen","MGC Dormagen-Brechten e.V.","SM1: Schwingen, Holger",{"$f":"VLOOKUP(A3381,bangolf_kategorien!$A$2:$B$11,2,FALSE)","v":"SM1"}]
["ob",40968,"Markus","Schwinger","BGSC \"Gut Schlag\" Gladbeck e.V.","SM1: Schwinger, Markus",{"$f":"VLOOKUP(A3382,bangolf_kategorien!$A$2:$B$11,2,FALSE)","v":"SM1"}]
["ob",16230,"Thorsten","Seegert","BGC Northeim e.V.","SM1: Seegert, Thorsten",{"$f":"VLOOKUP(A3383,bangolf_kategorien!$A$2:$B$11,2,FALSE)","v":"SM1"}]
["hv",31144,"Uwe","Seeland","BSC Ennepetal e.V.","SM2: Seeland, Uwe",{"$f":"VLOOKUP(A3384,bangolf_kategorien!$A$2:$B$11,2,FALSE)","v":"SM2"}]
["hv",49464,"Norbert","Seelig","BGSC Bochum 1978 e.V.","SM2: Seelig, Norbert",{"$f":"VLOOKUP(A3385,bangolf_kategorien!$A$2:$B$11,2,FALSE)","v":"SM2"}]
["ob",3202318,"Frank","Seemann","Hobby","SM1: Seemann, Frank",{"$f":"VLOOKUP(A3386,bangolf_kategorien!$A$2:$B$11,2,FALSE)","v":"SM1"}]
["hv",35801,"Gerald","Seher","TSV Salzgitter e.V. Abt. Bahnengolf","SM2: Seher, Gerald",{"$f":"VLOOKUP(A3387,bangolf_kategorien!$A$2:$B$11,2,FALSE)","v":"SM2"}]
["hs",66056,"Alexander","Sehm","MSG Kempten e.V.","H: Sehm, Alexander",{"$f":"VLOOKUP(A3388,bangolf_kategorien!$A$2:$B$11,2,FALSE)","v":"H"}]
["hs",36068,"Michael","Seibert","MGC Ostheim / Rhön e.V.","H: Seibert, Michael",{"$f":"VLOOKUP(A3389,bangolf_kategorien!$A$2:$B$11,2,FALSE)","v":"H"}]
["ob",37395,"Andreas","Seidel","MV Lankwitzer Dragons e.V.","SM1: Seidel, Andreas",{"$f":"VLOOKUP(A3390,bangolf_kategorien!$A$2:$B$11,2,FALSE)","v":"SM1"}]
["ob",67273,"Dirk","Seidel","BSG Pneumant Fürstenwalde e.V., Abt. Minigolf","SM1: Seidel, Dirk",{"$f":"VLOOKUP(A3391,bangolf_kategorien!$A$2:$B$11,2,FALSE)","v":"SM1"}]
["ob",50389,"Martin","Seidel","MGC putter Künzell 1970 e.V.","SM1: Seidel, Martin",{"$f":"VLOOKUP(A3392,bangolf_kategorien!$A$2:$B$11,2,FALSE)","v":"SM1"}]
["hv",66621,"Heribert","Seidl","BGC Neutraubling e.V.","SM2: Seidl, Heribert",{"$f":"VLOOKUP(A3393,bangolf_kategorien!$A$2:$B$11,2,FALSE)","v":"SM2"}]
["hs",50138,"Frank","Seidler","BGSV Kerpen e.V.","H: Seidler, Frank",{"$f":"VLOOKUP(A3394,bangolf_kategorien!$A$2:$B$11,2,FALSE)","v":"H"}]
["hv",65912,"Franz","Seifermann","1. MGC Mannheim 1968 e.V.",{"$f":"CONCATENATE(G3395,\": \",D3395,\", \",C3395)","v":"SM2: Seifermann, Franz"},{"$f":"VLOOKUP(A3395,bangolf_kategorien!$A$2:$B$11,2,FALSE)","v":"SM2"}]
["hj",66819,"Colin","Seifert","1. MSC Wesel 6.6.1966 e.V.","JM: Seifert, Colin",{"$f":"VLOOKUP(A3396,bangolf_kategorien!$A$2:$B$11,2,FALSE)","v":"JM"}]
["hj",66364,"Noah","Seifert","1. MSC Wesel 6.6.1966 e.V.","JM: Seifert, Noah",{"$f":"VLOOKUP(A3397,bangolf_kategorien!$A$2:$B$11,2,FALSE)","v":"JM"}]
["ob",66472,"Stefan","Seifert","1. MSC Wesel 6.6.1966 e.V.","SM1: Seifert, Stefan",{"$f":"VLOOKUP(A3398,bangolf_kategorien!$A$2:$B$11,2,FALSE)","v":"SM1"}]
["hv",67133,"Uwe","Seifert","MSK Olching e.V.","SM2: Seifert, Uwe",{"$f":"VLOOKUP(A3399,bangolf_kategorien!$A$2:$B$11,2,FALSE)","v":"SM2"}]
["ob",46233,"Uwe","Seiler","MSC Bad Godesberg e.V.","SM1: Seiler, Uwe",{"$f":"VLOOKUP(A3400,bangolf_kategorien!$A$2:$B$11,2,FALSE)","v":"SM1"}]
["ob",41018,"Oliver","Seilz","Reinickendorfer MGC e.V.","SM1: Seilz, Oliver",{"$f":"VLOOKUP(A3401,bangolf_kategorien!$A$2:$B$11,2,FALSE)","v":"SM1"}]
["ob",44841,"Rainer","Seinsche","MGC Homburger Land e.V.","SM1: Seinsche, Rainer",{"$f":"VLOOKUP(A3402,bangolf_kategorien!$A$2:$B$11,2,FALSE)","v":"SM1"}]
["hv",29950,"Michael","Seiz","MGC Schwaikheim e.V.","SM2: Seiz, Michael",{"$f":"VLOOKUP(A3403,bangolf_kategorien!$A$2:$B$11,2,FALSE)","v":"SM2"}]
["hs",45788,"Heiko","Selka","MSK Neheim-Hüsten e.V.","H: Selka, Heiko",{"$f":"VLOOKUP(A3404,bangolf_kategorien!$A$2:$B$11,2,FALSE)","v":"H"}]
["ob",45198,"Thorsten","Semrau","SGC \"Glocke\" Castrop e.V.","SM1: Semrau, Thorsten",{"$f":"VLOOKUP(A3405,bangolf_kategorien!$A$2:$B$11,2,FALSE)","v":"SM1"}]
["ob",66858,"Andreas","Senke","MGC Rot-Weiß Wanne-Eickel e.V.","SM1: Senke, Andreas",{"$f":"VLOOKUP(A3406,bangolf_kategorien!$A$2:$B$11,2,FALSE)","v":"SM1"}]
["dv",6721,"Bärbel","Senke","MGC Rot-Weiß Wanne-Eickel e.V.","SW2: Senke, Bärbel",{"$f":"VLOOKUP(A3407,bangolf_kategorien!$A$2:$B$11,2,FALSE)","v":"SW2"}]
["ds",66859,"Jessica","Senke","MGC Rot-Weiß Wanne-Eickel e.V.","D: Senke, Jessica",{"$f":"VLOOKUP(A3408,bangolf_kategorien!$A$2:$B$11,2,FALSE)","v":"D"}]
["dv",3108934,"Ursula","Seppi","Hobby","SW2: Seppi, Ursula",{"$f":"VLOOKUP(A3409,bangolf_kategorien!$A$2:$B$11,2,FALSE)","v":"SW2"}]
["ds",66781,"Corinna","Serfling","MSG Kempten e.V.","D: Serfling, Corinna",{"$f":"VLOOKUP(A3410,bangolf_kategorien!$A$2:$B$11,2,FALSE)","v":"D"}]
["hj",67237,"Christoph","Sesselmann","1. FMGC Lichtenfels 1961 e.V.","JM: Sesselmann, Christoph",{"$f":"VLOOKUP(A3411,bangolf_kategorien!$A$2:$B$11,2,FALSE)","v":"JM"}]
["hs",66873,"Moritz","Sesselmann","1. FMGC Lichtenfels 1961 e.V.","H: Sesselmann, Moritz",{"$f":"VLOOKUP(A3412,bangolf_kategorien!$A$2:$B$11,2,FALSE)","v":"H"}]
["dv",34717,"Susanne","Sessler","1. BGC Landshut e.V.","SW2: Sessler, Susanne",{"$f":"VLOOKUP(A3413,bangolf_kategorien!$A$2:$B$11,2,FALSE)","v":"SW2"}]
["hv",34720,"Wolfgang","Sessler","1. BGC Landshut e.V.","SM2: Sessler, Wolfgang",{"$f":"VLOOKUP(A3414,bangolf_kategorien!$A$2:$B$11,2,FALSE)","v":"SM2"}]
["hv",40401,"Jürgen","Seubert","TV Niederstetten 1862 e.V.  Abt. Minigolf","SM2: Seubert, Jürgen",{"$f":"VLOOKUP(A3415,bangolf_kategorien!$A$2:$B$11,2,FALSE)","v":"SM2"}]
["hs",31289,"Andreas","Seumenicht","TSV Kücknitz Abt. Bahnengolf","H: Seumenicht, Andreas",{"$f":"VLOOKUP(A3416,bangolf_kategorien!$A$2:$B$11,2,FALSE)","v":"H"}]
["ob",48952,"Norbert","Seus","MGC Wertheim 91 e.V.","SM1: Seus, Norbert",{"$f":"VLOOKUP(A3417,bangolf_kategorien!$A$2:$B$11,2,FALSE)","v":"SM1"}]
["hs",30411,"Andreas","Seyen","MC \"Möve\" Cuxhaven-Sahlenburg e.V.","H: Seyen, Andreas",{"$f":"VLOOKUP(A3418,bangolf_kategorien!$A$2:$B$11,2,FALSE)","v":"H"}]
["hv",37012,"Edmund","Sibilski","1. BGC Hannover e.V.","SM2: Sibilski, Edmund",{"$f":"VLOOKUP(A3419,bangolf_kategorien!$A$2:$B$11,2,FALSE)","v":"SM2"}]
["dv",6728,"Terezia","Sic","MGC Bad Homburg vdH e.V.","SW2: Sic, Terezia",{"$f":"VLOOKUP(A3420,bangolf_kategorien!$A$2:$B$11,2,FALSE)","v":"SW2"}]
["ob",22127,"Zoltan","Sic","MGC Millennium Lorsch e.V.","SM1: Sic, Zoltan",{"$f":"VLOOKUP(A3421,bangolf_kategorien!$A$2:$B$11,2,FALSE)","v":"SM1"}]
["ob",66620,"Markus","Sieber","ASV Pegnitz, Abt. Minigolf","SM1: Sieber, Markus",{"$f":"VLOOKUP(A3422,bangolf_kategorien!$A$2:$B$11,2,FALSE)","v":"SM1"}]
["hs",37569,"Thomas","Sieber","SG Arheilgen Abt. Bahnengolf","H: Sieber, Thomas",{"$f":"VLOOKUP(A3423,bangolf_kategorien!$A$2:$B$11,2,FALSE)","v":"H"}]
["hs",66412,"Timo","Sieber","ASV Pegnitz, Abt. Minigolf","H: Sieber, Timo",{"$f":"VLOOKUP(A3424,bangolf_kategorien!$A$2:$B$11,2,FALSE)","v":"H"}]
["hv",34384,"Erich","Siebert","MGC Wetzlar e.V.","SM2: Siebert, Erich",{"$f":"VLOOKUP(A3425,bangolf_kategorien!$A$2:$B$11,2,FALSE)","v":"SM2"}]
["hv",36559,"Michael","Siebert","MGS Hildesheim e.V.","SM2: Siebert, Michael",{"$f":"VLOOKUP(A3426,bangolf_kategorien!$A$2:$B$11,2,FALSE)","v":"SM2"}]
["hs",3211952,"Torsten","Siebert","Hobby","H: Siebert, Torsten",{"$f":"VLOOKUP(A3427,bangolf_kategorien!$A$2:$B$11,2,FALSE)","v":"H"}]
["hs",41009,"Thorben","Sielaff","Tempelhofer MV Berlin e.V.","H: Sielaff, Thorben",{"$f":"VLOOKUP(A3428,bangolf_kategorien!$A$2:$B$11,2,FALSE)","v":"H"}]
["hs",67388,"Jörg","Sienknecht","BGC Schweinfurt e.V.","H: Sienknecht, Jörg",{"$f":"VLOOKUP(A3429,bangolf_kategorien!$A$2:$B$11,2,FALSE)","v":"H"}]
["og",66076,"Andrea","Silex","VFB 21 Neugattersleben e. V.","SW1: Silex, Andrea",{"$f":"VLOOKUP(A3430,bangolf_kategorien!$A$2:$B$11,2,FALSE)","v":"SW1"}]
["ds",66077,"Claudia","Silex","VFB 21 Neugattersleben e. V.","D: Silex, Claudia",{"$f":"VLOOKUP(A3431,bangolf_kategorien!$A$2:$B$11,2,FALSE)","v":"D"}]
["ob",65957,"Gerald","Silex","VFB 21 Neugattersleben e. V.","SM1: Silex, Gerald",{"$f":"VLOOKUP(A3432,bangolf_kategorien!$A$2:$B$11,2,FALSE)","v":"SM1"}]
["ds",66140,"Jasmine","Simmerock","MGC Wetzlar e.V.","D: Simmerock, Jasmine",{"$f":"VLOOKUP(A3433,bangolf_kategorien!$A$2:$B$11,2,FALSE)","v":"D"}]
["ob",26101,"Frank","Simons","Kölner Miniatur Golf Club e.V.","SM1: Simons, Frank",{"$f":"VLOOKUP(A3434,bangolf_kategorien!$A$2:$B$11,2,FALSE)","v":"SM1"}]
["ob",48352,"Dirk","Sindorf","1. Minigolf-Club Rheinhausen e.V.","SM1: Sindorf, Dirk",{"$f":"VLOOKUP(A3435,bangolf_kategorien!$A$2:$B$11,2,FALSE)","v":"SM1"}]
["ob",43922,"Michael","Sinzenich","HMC Büttgen e.V.","SM1: Sinzenich, Michael",{"$f":"VLOOKUP(A3436,bangolf_kategorien!$A$2:$B$11,2,FALSE)","v":"SM1"}]
["dv",29482,"Renate","Sinzenich","HMC Büttgen e.V.","SW2: Sinzenich, Renate",{"$f":"VLOOKUP(A3437,bangolf_kategorien!$A$2:$B$11,2,FALSE)","v":"SW2"}]
["hv",34564,"Gerald","Siol","SC Bad Münder Abt. Bahnengolf","SM2: Siol, Gerald",{"$f":"VLOOKUP(A3438,bangolf_kategorien!$A$2:$B$11,2,FALSE)","v":"SM2"}]
["ob",34954,"Andreas","Slowig","BGC Kiel West e.V.","SM1: Slowig, Andreas",{"$f":"VLOOKUP(A3439,bangolf_kategorien!$A$2:$B$11,2,FALSE)","v":"SM1"}]
["hs",67166,"Marek","Smejkal","BGS Hardenberg-Pötter e.V.","H: Smejkal, Marek",{"$f":"VLOOKUP(A3440,bangolf_kategorien!$A$2:$B$11,2,FALSE)","v":"H"}]
["ob",44768,"Thomas","Smyczek","TSV Pfungstadt Abt. Bahnengolf e.V.","SM1: Smyczek, Thomas",{"$f":"VLOOKUP(A3441,bangolf_kategorien!$A$2:$B$11,2,FALSE)","v":"SM1"}]
["dv",17842,"Herma","Snaga","1. BGC Hannover e.V.","SW2: Snaga, Herma",{"$f":"VLOOKUP(A3442,bangolf_kategorien!$A$2:$B$11,2,FALSE)","v":"SW2"}]
["hv",34030,"Siegfried","Söchting","SC Bad Münder Abt. Bahnengolf","SM2: Söchting, Siegfried",{"$f":"VLOOKUP(A3443,bangolf_kategorien!$A$2:$B$11,2,FALSE)","v":"SM2"}]
["ob",38156,"Markus","Sodenkamp","MSK Neheim-Hüsten e.V.","SM1: Sodenkamp, Markus",{"$f":"VLOOKUP(A3444,bangolf_kategorien!$A$2:$B$11,2,FALSE)","v":"SM1"}]
["hv",25441,"Bert-Rainer","Soest","MGC Homburger Land e.V.","SM2: Soest, Bert-Rainer",{"$f":"VLOOKUP(A3445,bangolf_kategorien!$A$2:$B$11,2,FALSE)","v":"SM2"}]
["og",30548,"Heike","Solarski","KGC  Waldstadion Frankfurt am Main","SW1: Solarski, Heike",{"$f":"VLOOKUP(A3446,bangolf_kategorien!$A$2:$B$11,2,FALSE)","v":"SW1"}]
["hs",66335,"Matthias","Söldner","MSV Würzburg-Löwenbrücke e.V.","H: Söldner, Matthias",{"$f":"VLOOKUP(A3447,bangolf_kategorien!$A$2:$B$11,2,FALSE)","v":"H"}]
["hv",25756,"Sebastian","Solleder","MGC Wolnzach e.V.","SM2: Solleder, Sebastian",{"$f":"VLOOKUP(A3448,bangolf_kategorien!$A$2:$B$11,2,FALSE)","v":"SM2"}]
["og",43152,"Birgit","Sommer","MGC Rot-Weiß Wanne-Eickel e.V.","SW1: Sommer, Birgit",{"$f":"VLOOKUP(A3449,bangolf_kategorien!$A$2:$B$11,2,FALSE)","v":"SW1"}]
["hs",3216794,"Dominik","Sommer","Hobby","H: Sommer, Dominik",{"$f":"VLOOKUP(A3450,bangolf_kategorien!$A$2:$B$11,2,FALSE)","v":"H"}]
["ob",3216787,"Oliver","Sommer","Hobby","SM1: Sommer, Oliver",{"$f":"VLOOKUP(A3451,bangolf_kategorien!$A$2:$B$11,2,FALSE)","v":"SM1"}]
["hs",36488,"Ralf","Sommer","MSG Kempten e.V.","H: Sommer, Ralf",{"$f":"VLOOKUP(A3452,bangolf_kategorien!$A$2:$B$11,2,FALSE)","v":"H"}]
["hs",66973,"Reto","Sommer","1. MGC Mainz e.V.","H: Sommer, Reto",{"$f":"VLOOKUP(A3453,bangolf_kategorien!$A$2:$B$11,2,FALSE)","v":"H"}]
["fa",67355,"Zoe-Loreen","Sommer","MSG Kempten e.V.","SCHW: Sommer, Zoe-Loreen",{"$f":"VLOOKUP(A3454,bangolf_kategorien!$A$2:$B$11,2,FALSE)","v":"SCHW"}]
["hs",49260,"Christian","Somnitz","MC \"Möve\" Cuxhaven-Sahlenburg e.V.","H: Somnitz, Christian",{"$f":"VLOOKUP(A3455,bangolf_kategorien!$A$2:$B$11,2,FALSE)","v":"H"}]
["hv",3194210,"Ernst","Sonnenburg","Hobby","SM2: Sonnenburg, Ernst",{"$f":"VLOOKUP(A3456,bangolf_kategorien!$A$2:$B$11,2,FALSE)","v":"SM2"}]
["hv",36572,"Uwe","Sonntag","1. BGC Hannover e.V.","SM2: Sonntag, Uwe",{"$f":"VLOOKUP(A3457,bangolf_kategorien!$A$2:$B$11,2,FALSE)","v":"SM2"}]
["hs",29039,"Daniel","Sorg","MGF 77 Sickenhausen e.V.","H: Sorg, Daniel",{"$f":"VLOOKUP(A3458,bangolf_kategorien!$A$2:$B$11,2,FALSE)","v":"H"}]
["hv",23831,"Heinrich","Sorg","MGF 77 Sickenhausen e.V.",{"$f":"CONCATENATE(G3459,\": \",D3459,\", \",C3459)","v":"SM2: Sorg, Heinrich"},{"$f":"VLOOKUP(A3459,bangolf_kategorien!$A$2:$B$11,2,FALSE)","v":"SM2"}]
["hv",33951,"Rainer","Sorgenfrei","BGC Illertissen e.V.","SM2: Sorgenfrei, Rainer",{"$f":"VLOOKUP(A3460,bangolf_kategorien!$A$2:$B$11,2,FALSE)","v":"SM2"}]
["ds",33712,"Britta","Spandau","1. MGC Peine von 1965 e.V.","D: Spandau, Britta",{"$f":"VLOOKUP(A3461,bangolf_kategorien!$A$2:$B$11,2,FALSE)","v":"D"}]
["ob",42332,"Christian","Spandau","TSV Salzgitter e.V. Abt. Bahnengolf","SM1: Spandau, Christian",{"$f":"VLOOKUP(A3462,bangolf_kategorien!$A$2:$B$11,2,FALSE)","v":"SM1"}]
["hv",34546,"Ernst","Spanner","BGC Illertissen e.V.","SM2: Spanner, Ernst",{"$f":"VLOOKUP(A3463,bangolf_kategorien!$A$2:$B$11,2,FALSE)","v":"SM2"}]
["hs",64594,"Peter","Spehn","MGC Bad Waldsee 1990 e.V.","H: Spehn, Peter",{"$f":"VLOOKUP(A3464,bangolf_kategorien!$A$2:$B$11,2,FALSE)","v":"H"}]
["ob",66545,"Jeffrey","Spence","MGC Bad Homburg vdH e.V.","SM1: Spence, Jeffrey",{"$f":"VLOOKUP(A3465,bangolf_kategorien!$A$2:$B$11,2,FALSE)","v":"SM1"}]
["og",66546,"Manuela","Spence-Kunz","MGC Bad Homburg vdH e.V.","SW1: Spence-Kunz, Manuela",{"$f":"VLOOKUP(A3466,bangolf_kategorien!$A$2:$B$11,2,FALSE)","v":"SW1"}]
["hs",37666,"Christian","Spennesberger","MGC Murnau am Staffelsee e.V.","H: Spennesberger, Christian",{"$f":"VLOOKUP(A3467,bangolf_kategorien!$A$2:$B$11,2,FALSE)","v":"H"}]
["hs",40159,"Sascha","Sperling","BGC Bad Nenndorf e.V.","H: Sperling, Sascha",{"$f":"VLOOKUP(A3468,bangolf_kategorien!$A$2:$B$11,2,FALSE)","v":"H"}]
["ob",51629,"Sascha","Sperling","MSV 05 Bad Münder / Springe e.V.","SM1: Sperling, Sascha",{"$f":"VLOOKUP(A3469,bangolf_kategorien!$A$2:$B$11,2,FALSE)","v":"SM1"}]
["hs",40389,"Sven","Sperling","BGC Diepholz e.V.","H: Sperling, Sven",{"$f":"VLOOKUP(A3470,bangolf_kategorien!$A$2:$B$11,2,FALSE)","v":"H"}]
["ob",35640,"Frank","Spettel","MGC Wertheim 91 e.V.","SM1: Spettel, Frank",{"$f":"VLOOKUP(A3471,bangolf_kategorien!$A$2:$B$11,2,FALSE)","v":"SM1"}]
["dv",6280,"Maria","Spieleder","BGC Neutraubling e.V.","SW2: Spieleder, Maria",{"$f":"VLOOKUP(A3472,bangolf_kategorien!$A$2:$B$11,2,FALSE)","v":"SW2"}]
["hv",31489,"Detlef","Spielfeld","MGC Dortmund Syburg e.V.","SM2: Spielfeld, Detlef",{"$f":"VLOOKUP(A3473,bangolf_kategorien!$A$2:$B$11,2,FALSE)","v":"SM2"}]
["ob",31503,"Manfred","Spielfeld","SGC Hagen e.V.","SM1: Spielfeld, Manfred",{"$f":"VLOOKUP(A3474,bangolf_kategorien!$A$2:$B$11,2,FALSE)","v":"SM1"}]
["hv",31501,"Siegfried","Spielfeld","SGC Hagen e.V.","SM2: Spielfeld, Siegfried",{"$f":"VLOOKUP(A3475,bangolf_kategorien!$A$2:$B$11,2,FALSE)","v":"SM2"}]
["hs",3232044,"Kevin","Spies","Hobby","H: Spies, Kevin",{"$f":"VLOOKUP(A3476,bangolf_kategorien!$A$2:$B$11,2,FALSE)","v":"H"}]
["ob",49066,"Thomas","Spies","HMC Büttgen e.V.","SM1: Spies, Thomas",{"$f":"VLOOKUP(A3477,bangolf_kategorien!$A$2:$B$11,2,FALSE)","v":"SM1"}]
["ob",41300,"Sepp","Splettstößer","Minigolf Wölfe Rheinstetten 02","SM1: Splettstößer, Sepp",{"$f":"VLOOKUP(A3478,bangolf_kategorien!$A$2:$B$11,2,FALSE)","v":"SM1"}]
["ob",26787,"Volker","Spohr","1. BGC Leipzig e.V.","SM1: Spohr, Volker",{"$f":"VLOOKUP(A3479,bangolf_kategorien!$A$2:$B$11,2,FALSE)","v":"SM1"}]
["hs",36205,"Sascha","Spreier","1. KC Homburg-Saar 1967 e.V.","H: Spreier, Sascha",{"$f":"VLOOKUP(A3480,bangolf_kategorien!$A$2:$B$11,2,FALSE)","v":"H"}]
["hj",65836,"Lars","Sprengkamp","MGF Magdeburg 1995 e.V.","JM: Sprengkamp, Lars",{"$f":"VLOOKUP(A3481,bangolf_kategorien!$A$2:$B$11,2,FALSE)","v":"JM"}]
["hs",34782,"Roman","Springer","OMGC Ingolstadt e.V.","H: Springer, Roman",{"$f":"VLOOKUP(A3482,bangolf_kategorien!$A$2:$B$11,2,FALSE)","v":"H"}]
["dv",34841,"Rosmarie","Springer","OMGC Ingolstadt e.V.","SW2: Springer, Rosmarie",{"$f":"VLOOKUP(A3483,bangolf_kategorien!$A$2:$B$11,2,FALSE)","v":"SW2"}]
["hv",35081,"Wilfried","Springer","OMGC Ingolstadt e.V.","SM2: Springer, Wilfried",{"$f":"VLOOKUP(A3484,bangolf_kategorien!$A$2:$B$11,2,FALSE)","v":"SM2"}]
["ds",38017,"Justine","Springob","SSC Attendorn e.V.","D: Springob, Justine",{"$f":"VLOOKUP(A3485,bangolf_kategorien!$A$2:$B$11,2,FALSE)","v":"D"}]
["hs",31572,"Lars","Springob","SSC Attendorn e.V.","H: Springob, Lars",{"$f":"VLOOKUP(A3486,bangolf_kategorien!$A$2:$B$11,2,FALSE)","v":"H"}]
["hs",38477,"René","Springob","MSK Neheim-Hüsten e.V.","H: Springob, René",{"$f":"VLOOKUP(A3487,bangolf_kategorien!$A$2:$B$11,2,FALSE)","v":"H"}]
["ob",64598,"Patric","Sprung","BGC Bad Mergentheim e.V.","SM1: Sprung, Patric",{"$f":"VLOOKUP(A3488,bangolf_kategorien!$A$2:$B$11,2,FALSE)","v":"SM1"}]
["hv",50895,"Georg","Stabl","SSV Ulm 1846 Abt. Bahnengolf","SM2: Stabl, Georg",{"$f":"VLOOKUP(A3489,bangolf_kategorien!$A$2:$B$11,2,FALSE)","v":"SM2"}]
["hs",31903,"Jan","Stachowiak","MGC Rot-Weiß Wanne-Eickel e.V.","H: Stachowiak, Jan",{"$f":"VLOOKUP(A3490,bangolf_kategorien!$A$2:$B$11,2,FALSE)","v":"H"}]
["pa",67285,"Leon","Staeubert","MSK Olching e.V.","SCHM: Staeubert, Leon",{"$f":"VLOOKUP(A3491,bangolf_kategorien!$A$2:$B$11,2,FALSE)","v":"SCHM"}]
["hs",64940,"Jan","Stahmann","1. MGC Lohfelden 1997 e.V.","H: Stahmann, Jan",{"$f":"VLOOKUP(A3492,bangolf_kategorien!$A$2:$B$11,2,FALSE)","v":"H"}]
["ob",66606,"Andreas","Stallkamp","Osnabrücker M.-C. von 1963 e.V.","SM1: Stallkamp, Andreas",{"$f":"VLOOKUP(A3493,bangolf_kategorien!$A$2:$B$11,2,FALSE)","v":"SM1"}]
["hs",66480,"Sebastian","Stallkamp","Osnabrücker M.-C. von 1963 e.V.","H: Stallkamp, Sebastian",{"$f":"VLOOKUP(A3494,bangolf_kategorien!$A$2:$B$11,2,FALSE)","v":"H"}]
["ob",66704,"Thomas","Stallkamp","MC Georgsmarienhütte e.V.","SM1: Stallkamp, Thomas",{"$f":"VLOOKUP(A3495,bangolf_kategorien!$A$2:$B$11,2,FALSE)","v":"SM1"}]
["ob",43996,"Sebastian","Stallmann","MGC Marl 1960 e.V.","SM1: Stallmann, Sebastian",{"$f":"VLOOKUP(A3496,bangolf_kategorien!$A$2:$B$11,2,FALSE)","v":"SM1"}]
["og",38295,"Anita","Stamm","1. Essener CGC \"Blau-Gold\" e.V.","SW1: Stamm, Anita",{"$f":"VLOOKUP(A3497,bangolf_kategorien!$A$2:$B$11,2,FALSE)","v":"SW1"}]
["hv",24288,"Dirk","Stamm","1. Essener CGC \"Blau-Gold\" e.V.","SM2: Stamm, Dirk",{"$f":"VLOOKUP(A3498,bangolf_kategorien!$A$2:$B$11,2,FALSE)","v":"SM2"}]
["ob",33125,"Siegfried","Stanchly","BGC Heilbronn e.V.","SM1: Stanchly, Siegfried",{"$f":"VLOOKUP(A3499,bangolf_kategorien!$A$2:$B$11,2,FALSE)","v":"SM1"}]
["hs",31756,"Carsten","Stang","MGC Bad Hersfeld","H: Stang, Carsten",{"$f":"VLOOKUP(A3500,bangolf_kategorien!$A$2:$B$11,2,FALSE)","v":"H"}]
["og",2241,"Anja","Stange","1. BGC Hannover e.V.","SW1: Stange, Anja",{"$f":"VLOOKUP(A3501,bangolf_kategorien!$A$2:$B$11,2,FALSE)","v":"SW1"}]
["hv",34799,"Hans-Werner","Stange","SV Lurup Abt. Bahnengolf","SM2: Stange, Hans-Werner",{"$f":"VLOOKUP(A3502,bangolf_kategorien!$A$2:$B$11,2,FALSE)","v":"SM2"}]
["ob",1989,"Michael","Stange","1. BGC Hannover e.V.","SM1: Stange, Michael",{"$f":"VLOOKUP(A3503,bangolf_kategorien!$A$2:$B$11,2,FALSE)","v":"SM1"}]
["hs",64902,"Tim-Niklas","Stange","1. BGC Hannover e.V.","H: Stange, Tim-Niklas",{"$f":"VLOOKUP(A3504,bangolf_kategorien!$A$2:$B$11,2,FALSE)","v":"H"}]
["hv",66867,"Karl","Stängl","1. BGC Landshut e.V.","SM2: Stängl, Karl",{"$f":"VLOOKUP(A3505,bangolf_kategorien!$A$2:$B$11,2,FALSE)","v":"SM2"}]
["hs",3149348,"Julian","Stapf","Hobby","H: Stapf, Julian",{"$f":"VLOOKUP(A3506,bangolf_kategorien!$A$2:$B$11,2,FALSE)","v":"H"}]
["ob",29997,"Ulrich","Stappenbeck","1. BGC Wesseling 1975 e.V.","SM1: Stappenbeck, Ulrich",{"$f":"VLOOKUP(A3507,bangolf_kategorien!$A$2:$B$11,2,FALSE)","v":"SM1"}]
["hv",45118,"Wolfgang","Stargardt","1. MGC Metzingen e.V.","SM2: Stargardt, Wolfgang",{"$f":"VLOOKUP(A3508,bangolf_kategorien!$A$2:$B$11,2,FALSE)","v":"SM2"}]
["hs",3202729,"Enrico","Staritz","Hobby","H: Staritz, Enrico",{"$f":"VLOOKUP(A3509,bangolf_kategorien!$A$2:$B$11,2,FALSE)","v":"H"}]
["hv",3108931,"Joachim","Staritz","Hobby","SM2: Staritz, Joachim",{"$f":"VLOOKUP(A3510,bangolf_kategorien!$A$2:$B$11,2,FALSE)","v":"SM2"}]
["hs",65465,"Florian","Stark","MC \"Möve\" Cuxhaven-Sahlenburg e.V.","H: Stark, Florian",{"$f":"VLOOKUP(A3511,bangolf_kategorien!$A$2:$B$11,2,FALSE)","v":"H"}]
["hv",3524,"Rupert","Stark","OMGC Ingolstadt e.V.","SM2: Stark, Rupert",{"$f":"VLOOKUP(A3512,bangolf_kategorien!$A$2:$B$11,2,FALSE)","v":"SM2"}]
["hv",3568,"Werner","Starke","MSK Olching e.V.","SM2: Starke, Werner",{"$f":"VLOOKUP(A3513,bangolf_kategorien!$A$2:$B$11,2,FALSE)","v":"SM2"}]
["hs",36161,"Birk","Starrost","Reinickendorfer MGC e.V.","H: Starrost, Birk",{"$f":"VLOOKUP(A3514,bangolf_kategorien!$A$2:$B$11,2,FALSE)","v":"H"}]
["ob",32959,"Thomas","Staska","MGF Ottobrunn e.V.","SM1: Staska, Thomas",{"$f":"VLOOKUP(A3515,bangolf_kategorien!$A$2:$B$11,2,FALSE)","v":"SM1"}]
["hj",66934,"Marcel","Staudt","Miniaturgolf Sportclub Schriesheim e.V","JM: Staudt, Marcel",{"$f":"VLOOKUP(A3516,bangolf_kategorien!$A$2:$B$11,2,FALSE)","v":"JM"}]
["og",40425,"Ilka","Stautmeister","1. BGC Wolfsburg","SW1: Stautmeister, Ilka",{"$f":"VLOOKUP(A3517,bangolf_kategorien!$A$2:$B$11,2,FALSE)","v":"SW1"}]
["ob",37926,"Ingo","Stawitzke","Minigolfunion Neviges-Odenthal 1968 e.V.","SM1: Stawitzke, Ingo",{"$f":"VLOOKUP(A3518,bangolf_kategorien!$A$2:$B$11,2,FALSE)","v":"SM1"}]
["hv",34775,"Hans-Georg","Steeg","1. Essener CGC \"Blau-Gold\" e.V.","SM2: Steeg, Hans-Georg",{"$f":"VLOOKUP(A3519,bangolf_kategorien!$A$2:$B$11,2,FALSE)","v":"SM2"}]
["hv",5053,"Werner","Steeger","SSC Halver e.V.","SM2: Steeger, Werner",{"$f":"VLOOKUP(A3520,bangolf_kategorien!$A$2:$B$11,2,FALSE)","v":"SM2"}]
["ob",3216890,"Thomas","Steffen","Hobby","SM1: Steffen, Thomas",{"$f":"VLOOKUP(A3521,bangolf_kategorien!$A$2:$B$11,2,FALSE)","v":"SM1"}]
["dv",34507,"Waltraud","Steffens","BGC Goslar e.V.","SW2: Steffens, Waltraud",{"$f":"VLOOKUP(A3522,bangolf_kategorien!$A$2:$B$11,2,FALSE)","v":"SW2"}]
["ds",67304,"Iris","Steffens-Bruelheide","MGC Bad Salzuflen e.V.",{"$f":"CONCATENATE(G3523,\": \",D3523,\", \",C3523)","v":"D: Steffens-Bruelheide, Iris"},{"$f":"VLOOKUP(A3523,bangolf_kategorien!$A$2:$B$11,2,FALSE)","v":"D"}]
["hs",27838,"Ulf","Stegmaier","BIG ASPERG e.V.","H: Stegmaier, Ulf",{"$f":"VLOOKUP(A3524,bangolf_kategorien!$A$2:$B$11,2,FALSE)","v":"H"}]
["ob",66897,"Udo","Stegmayr","MGF Ottobrunn e.V.","SM1: Stegmayr, Udo",{"$f":"VLOOKUP(A3525,bangolf_kategorien!$A$2:$B$11,2,FALSE)","v":"SM1"}]
["hv",44123,"Uwe","Steier","Niendorfer MC v. 1963 e.V.","SM2: Steier, Uwe",{"$f":"VLOOKUP(A3526,bangolf_kategorien!$A$2:$B$11,2,FALSE)","v":"SM2"}]
["og",44379,"Sonja","Steinburg","MGC Dormagen-Brechten e.V.","SW1: Steinburg, Sonja",{"$f":"VLOOKUP(A3527,bangolf_kategorien!$A$2:$B$11,2,FALSE)","v":"SW1"}]
["hv",6796,"Ralf","Steinhausen","BGC Bremen e.V.","SM2: Steinhausen, Ralf",{"$f":"VLOOKUP(A3528,bangolf_kategorien!$A$2:$B$11,2,FALSE)","v":"SM2"}]
["hv",41367,"Hubert","Steinhoff","MSK Neheim-Hüsten e.V.","SM2: Steinhoff, Hubert",{"$f":"VLOOKUP(A3529,bangolf_kategorien!$A$2:$B$11,2,FALSE)","v":"SM2"}]
["hv",33580,"William","Stellato","MGC Wertheim 91 e.V.","SM2: Stellato, William",{"$f":"VLOOKUP(A3530,bangolf_kategorien!$A$2:$B$11,2,FALSE)","v":"SM2"}]
["hv",21876,"Friedhelm","Steller","CGC Illertal Kellmünz","SM2: Steller, Friedhelm",{"$f":"VLOOKUP(A3531,bangolf_kategorien!$A$2:$B$11,2,FALSE)","v":"SM2"}]
["hv",18104,"Jürgen","Stelter","SV Lurup Abt. Bahnengolf","SM2: Stelter, Jürgen",{"$f":"VLOOKUP(A3532,bangolf_kategorien!$A$2:$B$11,2,FALSE)","v":"SM2"}]
["dv",6006,"Karin","Stelter","SV Lurup Abt. Bahnengolf","SW2: Stelter, Karin",{"$f":"VLOOKUP(A3533,bangolf_kategorien!$A$2:$B$11,2,FALSE)","v":"SW2"}]
["hv",6075,"Klaus","Stelter","SV Lurup Abt. Bahnengolf","SM2: Stelter, Klaus",{"$f":"VLOOKUP(A3534,bangolf_kategorien!$A$2:$B$11,2,FALSE)","v":"SM2"}]
["hj",66711,"Kai","Stelzer","1. MGC Paderborn e.V.","JM: Stelzer, Kai",{"$f":"VLOOKUP(A3535,bangolf_kategorien!$A$2:$B$11,2,FALSE)","v":"JM"}]
["dj",37404,"Franziska","Stemplinger","BGC 90 Ottobrunn e.V.","JW: Stemplinger, Franziska",{"$f":"VLOOKUP(A3536,bangolf_kategorien!$A$2:$B$11,2,FALSE)","v":"JW"}]
["hv",33974,"Ludwig","Stemplinger","BGC 90 Ottobrunn e.V.","SM2: Stemplinger, Ludwig",{"$f":"VLOOKUP(A3537,bangolf_kategorien!$A$2:$B$11,2,FALSE)","v":"SM2"}]
["ds",47402,"Michaela","Stemplinger","BGC 90 Ottobrunn e.V.","D: Stemplinger, Michaela",{"$f":"VLOOKUP(A3538,bangolf_kategorien!$A$2:$B$11,2,FALSE)","v":"D"}]
["ob",46386,"Christian","Stendel","Reinickendorfer MGC e.V.","SM1: Stendel, Christian",{"$f":"VLOOKUP(A3539,bangolf_kategorien!$A$2:$B$11,2,FALSE)","v":"SM1"}]
["hs",36312,"Patrick","Steneberg","1. MGC Kassel 1964 e.V.","H: Steneberg, Patrick",{"$f":"VLOOKUP(A3540,bangolf_kategorien!$A$2:$B$11,2,FALSE)","v":"H"}]
["hs",3112248,"Fabian","Stenzel","Hobby","H: Stenzel, Fabian",{"$f":"VLOOKUP(A3541,bangolf_kategorien!$A$2:$B$11,2,FALSE)","v":"H"}]
["hv",4348,"Michael","Stephan","1. BGC Landshut e.V.","SM2: Stephan, Michael",{"$f":"VLOOKUP(A3542,bangolf_kategorien!$A$2:$B$11,2,FALSE)","v":"SM2"}]
["ob",66285,"Markus","Stern","BGC Bremen e.V.","SM1: Stern, Markus",{"$f":"VLOOKUP(A3543,bangolf_kategorien!$A$2:$B$11,2,FALSE)","v":"SM1"}]
["hv",10099,"Udo","Sternemann","BGSV Castrop e.V. 1961","SM2: Sternemann, Udo",{"$f":"VLOOKUP(A3544,bangolf_kategorien!$A$2:$B$11,2,FALSE)","v":"SM2"}]
["dv",66281,"Elisabeth","Stertkamp","BV Sennestadt","SW2: Stertkamp, Elisabeth",{"$f":"VLOOKUP(A3545,bangolf_kategorien!$A$2:$B$11,2,FALSE)","v":"SW2"}]
["hs",27348,"Marco","Sterzenbach","Miniaturgolf Sportclub Schriesheim e.V","H: Sterzenbach, Marco",{"$f":"VLOOKUP(A3546,bangolf_kategorien!$A$2:$B$11,2,FALSE)","v":"H"}]
["hv",35625,"Helmut","Steuer","BGC Illertissen e.V.","SM2: Steuer, Helmut",{"$f":"VLOOKUP(A3547,bangolf_kategorien!$A$2:$B$11,2,FALSE)","v":"SM2"}]
["hs",3216769,"Stefan","Steup","Hobby","H: Steup, Stefan",{"$f":"VLOOKUP(A3548,bangolf_kategorien!$A$2:$B$11,2,FALSE)","v":"H"}]
["ob",66703,"Stephan","Stewens","1. BGC Landshut e.V.","SM1: Stewens, Stephan",{"$f":"VLOOKUP(A3549,bangolf_kategorien!$A$2:$B$11,2,FALSE)","v":"SM1"}]
["pa",67019,"Jan Malte","Stief","MC 62 Lüdenscheid e.V.","SCHM: Stief, Jan Malte",{"$f":"VLOOKUP(A3550,bangolf_kategorien!$A$2:$B$11,2,FALSE)","v":"SCHM"}]
["hv",67223,"Hans-Dieter","Stier","1. MC Weinheim e.V.","SM2: Stier, Hans-Dieter",{"$f":"VLOOKUP(A3551,bangolf_kategorien!$A$2:$B$11,2,FALSE)","v":"SM2"}]
["hs",67097,"Sören","Stift","MGC Harrislee-Wassersleben","H: Stift, Sören",{"$f":"VLOOKUP(A3552,bangolf_kategorien!$A$2:$B$11,2,FALSE)","v":"H"}]
["hs",30319,"Kris","Stille","Niendorfer MC v. 1963 e.V.","H: Stille, Kris",{"$f":"VLOOKUP(A3553,bangolf_kategorien!$A$2:$B$11,2,FALSE)","v":"H"}]
["ob",41929,"Manfred","Stock","MGC Bad Bodendorf e.V.","SM1: Stock, Manfred",{"$f":"VLOOKUP(A3554,bangolf_kategorien!$A$2:$B$11,2,FALSE)","v":"SM1"}]
["hs",66100,"Thomas","Stock","MGC Bad Bodendorf e.V.","H: Stock, Thomas",{"$f":"VLOOKUP(A3555,bangolf_kategorien!$A$2:$B$11,2,FALSE)","v":"H"}]
["hs",356,"Martin","Stöckle","Niendorfer MC v. 1963 e.V.","H: Stöckle, Martin",{"$f":"VLOOKUP(A3556,bangolf_kategorien!$A$2:$B$11,2,FALSE)","v":"H"}]
["hv",5219,"Paul","Stöckle","SSV Ulm 1846 Abt. Bahnengolf","SM2: Stöckle, Paul",{"$f":"VLOOKUP(A3557,bangolf_kategorien!$A$2:$B$11,2,FALSE)","v":"SM2"}]
["hv",63273,"Jochen","Stoll","MGC Bad Oldesloe e.V.","SM2: Stoll, Jochen",{"$f":"VLOOKUP(A3558,bangolf_kategorien!$A$2:$B$11,2,FALSE)","v":"SM2"}]
["hv",18249,"Hans","Stolt","1. MGC Tuttlingen e.V.","SM2: Stolt, Hans",{"$f":"VLOOKUP(A3559,bangolf_kategorien!$A$2:$B$11,2,FALSE)","v":"SM2"}]
["hs",27937,"Branislav","Stoparic","MGC Millennium Lorsch e.V.","H: Stoparic, Branislav",{"$f":"VLOOKUP(A3560,bangolf_kategorien!$A$2:$B$11,2,FALSE)","v":"H"}]
["hs",22496,"Miroslav","Stoparic","1. MGC Mainz e.V.","H: Stoparic, Miroslav",{"$f":"VLOOKUP(A3561,bangolf_kategorien!$A$2:$B$11,2,FALSE)","v":"H"}]
["dv",31829,"Erika","Stopper","BSV 86 München e.V.","SW2: Stopper, Erika",{"$f":"VLOOKUP(A3562,bangolf_kategorien!$A$2:$B$11,2,FALSE)","v":"SW2"}]
["hv",28333,"Martin","Stopper","BSV 86 München e.V.","SM2: Stopper, Martin",{"$f":"VLOOKUP(A3563,bangolf_kategorien!$A$2:$B$11,2,FALSE)","v":"SM2"}]
["og",66637,"Daniela","Störger","MSC Bensheim-Auerbach e.V.","SW1: Störger, Daniela",{"$f":"VLOOKUP(A3564,bangolf_kategorien!$A$2:$B$11,2,FALSE)","v":"SW1"}]
["ob",43139,"Frank","Störmer","KSV Baltrum e.V.","SM1: Störmer, Frank",{"$f":"VLOOKUP(A3565,bangolf_kategorien!$A$2:$B$11,2,FALSE)","v":"SM1"}]
["hv",31301,"Hans-Jürgen","Stötzer","1. BGC Wesseling 1975 e.V.","SM2: Stötzer, Hans-Jürgen",{"$f":"VLOOKUP(A3566,bangolf_kategorien!$A$2:$B$11,2,FALSE)","v":"SM2"}]
["hs",36353,"Stephan","Stranka","1. BGC Garmisch-Partenkirchen","H: Stranka, Stephan",{"$f":"VLOOKUP(A3567,bangolf_kategorien!$A$2:$B$11,2,FALSE)","v":"H"}]
["hv",66600,"Giuseppe","Strano","BGSC \"Gut Schlag\" Gladbeck e.V.","SM2: Strano, Giuseppe",{"$f":"VLOOKUP(A3568,bangolf_kategorien!$A$2:$B$11,2,FALSE)","v":"SM2"}]
["hs",64776,"Christian","Strasser","1. BGC Landshut e.V.","H: Strasser, Christian",{"$f":"VLOOKUP(A3569,bangolf_kategorien!$A$2:$B$11,2,FALSE)","v":"H"}]
["hv",64775,"Johann","Strasser","1. BGC Landshut e.V.","SM2: Strasser, Johann",{"$f":"VLOOKUP(A3570,bangolf_kategorien!$A$2:$B$11,2,FALSE)","v":"SM2"}]
["ds",3106829,"Eva","Strätz","Hobby","D: Strätz, Eva",{"$f":"VLOOKUP(A3571,bangolf_kategorien!$A$2:$B$11,2,FALSE)","v":"D"}]
["hs",33184,"Christian","Straub","MGC Sulzfeld e.V.","H: Straub, Christian",{"$f":"VLOOKUP(A3572,bangolf_kategorien!$A$2:$B$11,2,FALSE)","v":"H"}]
["hs",35657,"Michael","Straub","MGC Sulzfeld e.V.","H: Straub, Michael",{"$f":"VLOOKUP(A3573,bangolf_kategorien!$A$2:$B$11,2,FALSE)","v":"H"}]
["dv",37045,"Christa","Streit","Minigolfunion Neviges-Odenthal 1968 e.V.","SW2: Streit, Christa",{"$f":"VLOOKUP(A3574,bangolf_kategorien!$A$2:$B$11,2,FALSE)","v":"SW2"}]
["ob",33658,"Manfred","Strohmaier","SSV Ulm 1846 Abt. Bahnengolf","SM1: Strohmaier, Manfred",{"$f":"VLOOKUP(A3575,bangolf_kategorien!$A$2:$B$11,2,FALSE)","v":"SM1"}]
["og",67396,"Claudia","Strohmenger","1. MC Weinheim e.V.","SW1: Strohmenger, Claudia",{"$f":"VLOOKUP(A3576,bangolf_kategorien!$A$2:$B$11,2,FALSE)","v":"SW1"}]
["ob",67394,"Uwe","Strohmenger","1. MC Weinheim e.V.","SM1: Strohmenger, Uwe",{"$f":"VLOOKUP(A3577,bangolf_kategorien!$A$2:$B$11,2,FALSE)","v":"SM1"}]
["hj",66889,"Marcello","Stromboli","MTV Seesen Abt. Bahnengolf","JM: Stromboli, Marcello",{"$f":"VLOOKUP(A3578,bangolf_kategorien!$A$2:$B$11,2,FALSE)","v":"JM"}]
["og",35809,"Catalina","Strube","MGC Bad Soden-Salmünster","SW1: Strube, Catalina",{"$f":"VLOOKUP(A3579,bangolf_kategorien!$A$2:$B$11,2,FALSE)","v":"SW1"}]
["ob",34700,"Holger","Strube","MGC Bad Soden-Salmünster","SM1: Strube, Holger",{"$f":"VLOOKUP(A3580,bangolf_kategorien!$A$2:$B$11,2,FALSE)","v":"SM1"}]
["hv",17680,"Günter","Strunk","MC 62 Lüdenscheid e.V.","SM2: Strunk, Günter",{"$f":"VLOOKUP(A3581,bangolf_kategorien!$A$2:$B$11,2,FALSE)","v":"SM2"}]
["hs",35201,"Bernd","Stübgen","1. MGC Peine von 1965 e.V.","H: Stübgen, Bernd",{"$f":"VLOOKUP(A3582,bangolf_kategorien!$A$2:$B$11,2,FALSE)","v":"H"}]
["pa",67042,"Connor","Stübiger","BGSV Aßlar 1987 e.V.","SCHM: Stübiger, Connor",{"$f":"VLOOKUP(A3583,bangolf_kategorien!$A$2:$B$11,2,FALSE)","v":"SCHM"}]
["hs",38224,"Martin","Stukan","BGC Schweinfurt e.V.","H: Stukan, Martin",{"$f":"VLOOKUP(A3584,bangolf_kategorien!$A$2:$B$11,2,FALSE)","v":"H"}]
["ob",38362,"Ingo","Stuppy","1. MGC Mannheim 1968 e.V.","SM1: Stuppy, Ingo",{"$f":"VLOOKUP(A3585,bangolf_kategorien!$A$2:$B$11,2,FALSE)","v":"SM1"}]
["dv",64201,"Dietlind","Sturm","MGC Murnau am Staffelsee e.V.","SW2: Sturm, Dietlind",{"$f":"VLOOKUP(A3586,bangolf_kategorien!$A$2:$B$11,2,FALSE)","v":"SW2"}]
["ob",27255,"Joachim","Sturm","MGC Dormagen-Brechten e.V.",{"$f":"CONCATENATE(G3587,\": \",D3587,\", \",C3587)","v":"SM1: Sturm, Joachim"},{"$f":"VLOOKUP(A3587,bangolf_kategorien!$A$2:$B$11,2,FALSE)","v":"SM1"}]
["hv",26576,"Norbert","Sturm","MGC Ingolstadt e.V.","SM2: Sturm, Norbert",{"$f":"VLOOKUP(A3588,bangolf_kategorien!$A$2:$B$11,2,FALSE)","v":"SM2"}]
["hs",37814,"Tobias","Sturm","MGC Murnau am Staffelsee e.V.","H: Sturm, Tobias",{"$f":"VLOOKUP(A3589,bangolf_kategorien!$A$2:$B$11,2,FALSE)","v":"H"}]
["hv",29722,"Werner","Sturm","MGC Murnau am Staffelsee e.V.","SM2: Sturm, Werner",{"$f":"VLOOKUP(A3590,bangolf_kategorien!$A$2:$B$11,2,FALSE)","v":"SM2"}]
["hv",37460,"Klaus","Stürmer","1. KC Homburg-Saar 1967 e.V.","SM2: Stürmer, Klaus",{"$f":"VLOOKUP(A3591,bangolf_kategorien!$A$2:$B$11,2,FALSE)","v":"SM2"}]
["hs",37147,"Sebastian","Stürmer","1. KC Homburg-Saar 1967 e.V.","H: Stürmer, Sebastian",{"$f":"VLOOKUP(A3592,bangolf_kategorien!$A$2:$B$11,2,FALSE)","v":"H"}]
["ob",36587,"Wolfgang","Stute","MGC Monrepos e.V.","SM1: Stute, Wolfgang",{"$f":"VLOOKUP(A3593,bangolf_kategorien!$A$2:$B$11,2,FALSE)","v":"SM1"}]
["hs",33800,"Oliver","Suche","MGC Schwaikheim e.V.","H: Suche, Oliver",{"$f":"VLOOKUP(A3594,bangolf_kategorien!$A$2:$B$11,2,FALSE)","v":"H"}]
["hs",37780,"Brian","Suchomel","MC Tigers Künsebeck e.V.","H: Suchomel, Brian",{"$f":"VLOOKUP(A3595,bangolf_kategorien!$A$2:$B$11,2,FALSE)","v":"H"}]
["dv",66005,"Dagmar","Suchy","BGSV Bad Homburg","SW2: Suchy, Dagmar",{"$f":"VLOOKUP(A3596,bangolf_kategorien!$A$2:$B$11,2,FALSE)","v":"SW2"}]
["ob",44353,"Frank","Südhoff","CGC Grün-Gold Bad Hamm e.V.","SM1: Südhoff, Frank",{"$f":"VLOOKUP(A3597,bangolf_kategorien!$A$2:$B$11,2,FALSE)","v":"SM1"}]
["ob",26352,"Lutz","Suhrbier","Tempelhofer MV Berlin e.V.","SM1: Suhrbier, Lutz",{"$f":"VLOOKUP(A3598,bangolf_kategorien!$A$2:$B$11,2,FALSE)","v":"SM1"}]
["ob",44865,"Christopher","Süling","MC \"Möve\" Cuxhaven-Sahlenburg e.V.","SM1: Süling, Christopher",{"$f":"VLOOKUP(A3599,bangolf_kategorien!$A$2:$B$11,2,FALSE)","v":"SM1"}]
["dv",32850,"Annelie","Sülzen","MGS Hildesheim e.V.","SW2: Sülzen, Annelie",{"$f":"VLOOKUP(A3600,bangolf_kategorien!$A$2:$B$11,2,FALSE)","v":"SW2"}]
["hv",32849,"Hans-Gerd","Sülzen","MGS Hildesheim e.V.","SM2: Sülzen, Hans-Gerd",{"$f":"VLOOKUP(A3601,bangolf_kategorien!$A$2:$B$11,2,FALSE)","v":"SM2"}]
["hv",24727,"Jürgen","Summ","MGC Sulzfeld e.V.","SM2: Summ, Jürgen",{"$f":"VLOOKUP(A3602,bangolf_kategorien!$A$2:$B$11,2,FALSE)","v":"SM2"}]
["hv",6234,"Rudi","Surau","1. MSC Hamburg-Neu Wulmstorf","SM2: Surau, Rudi",{"$f":"VLOOKUP(A3603,bangolf_kategorien!$A$2:$B$11,2,FALSE)","v":"SM2"}]
["hv",50830,"Udo","Süß","MSV Bad Kreuznach","SM2: Süß, Udo",{"$f":"VLOOKUP(A3604,bangolf_kategorien!$A$2:$B$11,2,FALSE)","v":"SM2"}]
["ob",43693,"Michael","Sussek","1. BGC Wolfsburg","SM1: Sussek, Michael",{"$f":"VLOOKUP(A3605,bangolf_kategorien!$A$2:$B$11,2,FALSE)","v":"SM1"}]
["dv",67256,"Gabriele","Swierczynski","1. MGV Spandau Berlin e.V.","SW2: Swierczynski, Gabriele",{"$f":"VLOOKUP(A3606,bangolf_kategorien!$A$2:$B$11,2,FALSE)","v":"SW2"}]
["hs",67255,"Nadja","Swierczynski","1. MGV Spandau Berlin e.V.","H: Swierczynski, Nadja",{"$f":"VLOOKUP(A3607,bangolf_kategorien!$A$2:$B$11,2,FALSE)","v":"H"}]
["ds",31988,"Daniela","Symanzyk","MC \"Möve\" Cuxhaven-Sahlenburg e.V.","D: Symanzyk, Daniela",{"$f":"VLOOKUP(A3608,bangolf_kategorien!$A$2:$B$11,2,FALSE)","v":"D"}]
["ob",66837,"Patrick","Symanzyk","MC \"Möve\" Cuxhaven-Sahlenburg e.V.","SM1: Symanzyk, Patrick",{"$f":"VLOOKUP(A3609,bangolf_kategorien!$A$2:$B$11,2,FALSE)","v":"SM1"}]
["ob",44243,"André","Szablikowski","1. MGC Mainz e.V.","SM1: Szablikowski, André",{"$f":"VLOOKUP(A3610,bangolf_kategorien!$A$2:$B$11,2,FALSE)","v":"SM1"}]
["og",29090,"Anke","Szablikowski","1. MGC Mainz e.V.","SW1: Szablikowski, Anke",{"$f":"VLOOKUP(A3611,bangolf_kategorien!$A$2:$B$11,2,FALSE)","v":"SW1"}]
["ob",25536,"Axel","Szablikowski","1. MGC Mainz e.V.","SM1: Szablikowski, Axel",{"$f":"VLOOKUP(A3612,bangolf_kategorien!$A$2:$B$11,2,FALSE)","v":"SM1"}]
["ob",30493,"Bernd","Szablikowski","1. MGC Mainz e.V.","SM1: Szablikowski, Bernd",{"$f":"VLOOKUP(A3613,bangolf_kategorien!$A$2:$B$11,2,FALSE)","v":"SM1"}]
["hs",36570,"Manuel","Szablikowski","1. MGC Mainz e.V.","H: Szablikowski, Manuel",{"$f":"VLOOKUP(A3614,bangolf_kategorien!$A$2:$B$11,2,FALSE)","v":"H"}]
["og",29092,"Petra","Szablikowski","1. MGC Mainz e.V.","SW1: Szablikowski, Petra",{"$f":"VLOOKUP(A3615,bangolf_kategorien!$A$2:$B$11,2,FALSE)","v":"SW1"}]
["hj",37981,"Tim","Szablikowski","1. MGC Mainz e.V.","JM: Szablikowski, Tim",{"$f":"VLOOKUP(A3616,bangolf_kategorien!$A$2:$B$11,2,FALSE)","v":"JM"}]
["ob",37507,"Harald","Szabo","1. MGC Hechingen","SM1: Szabo, Harald",{"$f":"VLOOKUP(A3617,bangolf_kategorien!$A$2:$B$11,2,FALSE)","v":"SM1"}]
["ob",48004,"Jörg","Sziele","MGC Wertheim 91 e.V.","SM1: Sziele, Jörg",{"$f":"VLOOKUP(A3618,bangolf_kategorien!$A$2:$B$11,2,FALSE)","v":"SM1"}]
["og",67272,"Ilka","Szukowski","BSG Pneumant Fürstenwalde e.V., Abt. Minigolf","SW1: Szukowski, Ilka",{"$f":"VLOOKUP(A3619,bangolf_kategorien!$A$2:$B$11,2,FALSE)","v":"SW1"}]
["hv",27974,"Peter","Tabor","MGC \"AS\" Witten 1963 e.V.","SM2: Tabor, Peter",{"$f":"VLOOKUP(A3620,bangolf_kategorien!$A$2:$B$11,2,FALSE)","v":"SM2"}]
["hj",38199,"Daniel","Tafel","1. BGC Garmisch-Partenkirchen","JM: Tafel, Daniel",{"$f":"VLOOKUP(A3621,bangolf_kategorien!$A$2:$B$11,2,FALSE)","v":"JM"}]
["hs",36355,"Julian","Tafel","1. BGC Garmisch-Partenkirchen","H: Tafel, Julian",{"$f":"VLOOKUP(A3622,bangolf_kategorien!$A$2:$B$11,2,FALSE)","v":"H"}]
["ob",28604,"Manfred","Tafel","1. BGC Garmisch-Partenkirchen","SM1: Tafel, Manfred",{"$f":"VLOOKUP(A3623,bangolf_kategorien!$A$2:$B$11,2,FALSE)","v":"SM1"}]
["ds",36894,"Melanie","Tafel","1. BGC Garmisch-Partenkirchen","D: Tafel, Melanie",{"$f":"VLOOKUP(A3624,bangolf_kategorien!$A$2:$B$11,2,FALSE)","v":"D"}]
["og",45237,"Susanne","Tafel","1. BGC Garmisch-Partenkirchen","SW1: Tafel, Susanne",{"$f":"VLOOKUP(A3625,bangolf_kategorien!$A$2:$B$11,2,FALSE)","v":"SW1"}]
["hs",38509,"Marcel","Tannheuser","Bochumer Minigolf-Club 1960 e.V.","H: Tannheuser, Marcel",{"$f":"VLOOKUP(A3626,bangolf_kategorien!$A$2:$B$11,2,FALSE)","v":"H"}]
["dv",65724,"Edeltraut","Tasche","SC Wermelskirchen 1976 e.V.","SW2: Tasche, Edeltraut",{"$f":"VLOOKUP(A3627,bangolf_kategorien!$A$2:$B$11,2,FALSE)","v":"SW2"}]
["hv",65725,"Reinhard","Tasche","SC Wermelskirchen 1976 e.V.","SM2: Tasche, Reinhard",{"$f":"VLOOKUP(A3628,bangolf_kategorien!$A$2:$B$11,2,FALSE)","v":"SM2"}]
["ob",41313,"Angelo","Tatti","BGC Heilbronn e.V.","SM1: Tatti, Angelo",{"$f":"VLOOKUP(A3629,bangolf_kategorien!$A$2:$B$11,2,FALSE)","v":"SM1"}]
["hv",3621,"Clemente","Tatti","BGC Heilbronn e.V.","SM2: Tatti, Clemente",{"$f":"VLOOKUP(A3630,bangolf_kategorien!$A$2:$B$11,2,FALSE)","v":"SM2"}]
["ob",30769,"Volker","Tatzelt","Niendorfer MC v. 1963 e.V.","SM1: Tatzelt, Volker",{"$f":"VLOOKUP(A3631,bangolf_kategorien!$A$2:$B$11,2,FALSE)","v":"SM1"}]
["hv",4761,"Peter","Taudien","MSC Bad Godesberg e.V.","SM2: Taudien, Peter",{"$f":"VLOOKUP(A3632,bangolf_kategorien!$A$2:$B$11,2,FALSE)","v":"SM2"}]
["og",36633,"Carmen","Tauterat","BGC Bad Mergentheim e.V.","SW1: Tauterat, Carmen",{"$f":"VLOOKUP(A3633,bangolf_kategorien!$A$2:$B$11,2,FALSE)","v":"SW1"}]
["ob",36632,"Gunter","Tauterat","MGC Monrepos e.V.","SM1: Tauterat, Gunter",{"$f":"VLOOKUP(A3634,bangolf_kategorien!$A$2:$B$11,2,FALSE)","v":"SM1"}]
["dv",33986,"Eleonore","Tautrims","MGC Bad Homburg vdH e.V.","SW2: Tautrims, Eleonore",{"$f":"VLOOKUP(A3635,bangolf_kategorien!$A$2:$B$11,2,FALSE)","v":"SW2"}]
["hv",4244,"Peter","Tautz","VfM Bottrop e.V.","SM2: Tautz, Peter",{"$f":"VLOOKUP(A3636,bangolf_kategorien!$A$2:$B$11,2,FALSE)","v":"SM2"}]
["dv",5715,"Brigitte","Te Kamp","SC Wermelskirchen 1976 e.V.","SW2: Te Kamp, Brigitte",{"$f":"VLOOKUP(A3637,bangolf_kategorien!$A$2:$B$11,2,FALSE)","v":"SW2"}]
["pa",67346,"Finn","Teetzen","MGV Bremen e.V.","SCHM: Teetzen, Finn",{"$f":"VLOOKUP(A3638,bangolf_kategorien!$A$2:$B$11,2,FALSE)","v":"SCHM"}]
["ob",67345,"Michael","Teetzen","MGV Bremen e.V.","SM1: Teetzen, Michael",{"$f":"VLOOKUP(A3639,bangolf_kategorien!$A$2:$B$11,2,FALSE)","v":"SM1"}]
["hv",6014,"Heinrich","Teine","BGC Dormagen e.V.","SM2: Teine, Heinrich",{"$f":"VLOOKUP(A3640,bangolf_kategorien!$A$2:$B$11,2,FALSE)","v":"SM2"}]
["hs",33964,"Marco","Templin","BGS Hardenberg-Pötter e.V.","H: Templin, Marco",{"$f":"VLOOKUP(A3641,bangolf_kategorien!$A$2:$B$11,2,FALSE)","v":"H"}]
["ds",27576,"Bianca","ten Voorde","BGC Bremen e.V.","D: ten Voorde, Bianca",{"$f":"VLOOKUP(A3642,bangolf_kategorien!$A$2:$B$11,2,FALSE)","v":"D"}]
["hs",33367,"Stefan","ten Voorde","BGC Bremen e.V.","H: ten Voorde, Stefan",{"$f":"VLOOKUP(A3643,bangolf_kategorien!$A$2:$B$11,2,FALSE)","v":"H"}]
["ds",37319,"Kerstin","Tennigkeit","1. KC Homburg-Saar 1967 e.V.","D: Tennigkeit, Kerstin",{"$f":"VLOOKUP(A3644,bangolf_kategorien!$A$2:$B$11,2,FALSE)","v":"D"}]
["ob",41710,"Michael","Tesch","BGC Schloß Paffendorf e.V.","SM1: Tesch, Michael",{"$f":"VLOOKUP(A3645,bangolf_kategorien!$A$2:$B$11,2,FALSE)","v":"SM1"}]
["hs",3216566,"Rainer","Tesche","Hobby","H: Tesche, Rainer",{"$f":"VLOOKUP(A3646,bangolf_kategorien!$A$2:$B$11,2,FALSE)","v":"H"}]
["ob",48559,"Jörg","Tetzlaff","Reinickendorfer MGC e.V.","SM1: Tetzlaff, Jörg",{"$f":"VLOOKUP(A3647,bangolf_kategorien!$A$2:$B$11,2,FALSE)","v":"SM1"}]
["hs",3216756,"Thorsten","Teuber","Hobby","H: Teuber, Thorsten",{"$f":"VLOOKUP(A3648,bangolf_kategorien!$A$2:$B$11,2,FALSE)","v":"H"}]
["hv",3106546,"Kurt","Teuteberg","Hobby","SM2: Teuteberg, Kurt",{"$f":"VLOOKUP(A3649,bangolf_kategorien!$A$2:$B$11,2,FALSE)","v":"SM2"}]
["hs",50596,"Jan-Christoph","Theden","MGC Olympia Kiel e.V.","H: Theden, Jan-Christoph",{"$f":"VLOOKUP(A3650,bangolf_kategorien!$A$2:$B$11,2,FALSE)","v":"H"}]
["hv",34879,"Michael","Theimann","BGS Hardenberg-Pötter e.V.",{"$f":"CONCATENATE(G3651,\": \",D3651,\", \",C3651)","v":"SM2: Theimann, Michael"},{"$f":"VLOOKUP(A3651,bangolf_kategorien!$A$2:$B$11,2,FALSE)","v":"SM2"}]
["hs",28510,"Sven","Thelen","BGSV Kerpen e.V.","H: Thelen, Sven",{"$f":"VLOOKUP(A3652,bangolf_kategorien!$A$2:$B$11,2,FALSE)","v":"H"}]
["hs",66593,"Kai","Theobald","TV Nierstein 1901 e.V., Abt. Minigolf","H: Theobald, Kai",{"$f":"VLOOKUP(A3653,bangolf_kategorien!$A$2:$B$11,2,FALSE)","v":"H"}]
["hs",66592,"Tobias","Theobald","TV Nierstein 1901 e.V., Abt. Minigolf","H: Theobald, Tobias",{"$f":"VLOOKUP(A3654,bangolf_kategorien!$A$2:$B$11,2,FALSE)","v":"H"}]
["ob",24892,"Matthias","Thiebes","BGC Bad Mergentheim e.V.","SM1: Thiebes, Matthias",{"$f":"VLOOKUP(A3655,bangolf_kategorien!$A$2:$B$11,2,FALSE)","v":"SM1"}]
["dv",34361,"Gerda","Thiel","1. BGC Hannover e.V.","SW2: Thiel, Gerda",{"$f":"VLOOKUP(A3656,bangolf_kategorien!$A$2:$B$11,2,FALSE)","v":"SW2"}]
["hv",34360,"Helmut","Thiel","1. BGC Hannover e.V.","SM2: Thiel, Helmut",{"$f":"VLOOKUP(A3657,bangolf_kategorien!$A$2:$B$11,2,FALSE)","v":"SM2"}]
["ob",45943,"Stephan","Thiel","MV Lankwitzer Dragons e.V.","SM1: Thiel, Stephan",{"$f":"VLOOKUP(A3658,bangolf_kategorien!$A$2:$B$11,2,FALSE)","v":"SM1"}]
["og",43548,"Elke","Thiem","MSC Bensheim-Auerbach e.V.","SW1: Thiem, Elke",{"$f":"VLOOKUP(A3659,bangolf_kategorien!$A$2:$B$11,2,FALSE)","v":"SW1"}]
["hv",36565,"Frank","Thies","BGC Northeim e.V.","SM2: Thies, Frank",{"$f":"VLOOKUP(A3660,bangolf_kategorien!$A$2:$B$11,2,FALSE)","v":"SM2"}]
["hv",61511,"Paul","Thimm","MPF Hardt e.V.","SM2: Thimm, Paul",{"$f":"VLOOKUP(A3661,bangolf_kategorien!$A$2:$B$11,2,FALSE)","v":"SM2"}]
["hv",48286,"Hans-Jürgen","Thölke","MGC Murnau am Staffelsee e.V.","SM2: Thölke, Hans-Jürgen",{"$f":"VLOOKUP(A3662,bangolf_kategorien!$A$2:$B$11,2,FALSE)","v":"SM2"}]
["hs",38597,"Andreas","Thomas","MGC Ostheim / Rhön e.V.","H: Thomas, Andreas",{"$f":"VLOOKUP(A3663,bangolf_kategorien!$A$2:$B$11,2,FALSE)","v":"H"}]
["hv",67397,"Herbert","Thomas","BGSV Castrop e.V. 1961","SM2: Thomas, Herbert",{"$f":"VLOOKUP(A3664,bangolf_kategorien!$A$2:$B$11,2,FALSE)","v":"SM2"}]
["hj",67099,"Jan","Thomsen","MGC Harrislee-Wassersleben","JM: Thomsen, Jan",{"$f":"VLOOKUP(A3665,bangolf_kategorien!$A$2:$B$11,2,FALSE)","v":"JM"}]
["ds",67100,"Tanja","Thomsen","MGC Harrislee-Wassersleben","D: Thomsen, Tanja",{"$f":"VLOOKUP(A3666,bangolf_kategorien!$A$2:$B$11,2,FALSE)","v":"D"}]
["hs",35702,"Tilo","Thomsen","MGC Olympia Kiel e.V.","H: Thomsen, Tilo",{"$f":"VLOOKUP(A3667,bangolf_kategorien!$A$2:$B$11,2,FALSE)","v":"H"}]
["ob",38501,"Ralf","Thren","MSC Bad Godesberg e.V.","SM1: Thren, Ralf",{"$f":"VLOOKUP(A3668,bangolf_kategorien!$A$2:$B$11,2,FALSE)","v":"SM1"}]
["og",38502,"Sigrid","Thren-Bös","MSC Bad Godesberg e.V.","SW1: Thren-Bös, Sigrid",{"$f":"VLOOKUP(A3669,bangolf_kategorien!$A$2:$B$11,2,FALSE)","v":"SW1"}]
["hs",37289,"Marwin","Throne","ASV Pegnitz, Abt. Minigolf","H: Throne, Marwin",{"$f":"VLOOKUP(A3670,bangolf_kategorien!$A$2:$B$11,2,FALSE)","v":"H"}]
["hv",37290,"Werner","Throne","PTSV Hof, Abt. Minigolf","SM2: Throne, Werner",{"$f":"VLOOKUP(A3671,bangolf_kategorien!$A$2:$B$11,2,FALSE)","v":"SM2"}]
["hs",30924,"Christian","Thümmler","ASV Pegnitz, Abt. Minigolf","H: Thümmler, Christian",{"$f":"VLOOKUP(A3672,bangolf_kategorien!$A$2:$B$11,2,FALSE)","v":"H"}]
["hv",6586,"Dieter","Thun","MGV Bremen e.V.","SM2: Thun, Dieter",{"$f":"VLOOKUP(A3673,bangolf_kategorien!$A$2:$B$11,2,FALSE)","v":"SM2"}]
["hs",31419,"Timo","Thun","MGV Bremen e.V.","H: Thun, Timo",{"$f":"VLOOKUP(A3674,bangolf_kategorien!$A$2:$B$11,2,FALSE)","v":"H"}]
["ob",41317,"Thomas","Thusek","BGC Heilbronn e.V.","SM1: Thusek, Thomas",{"$f":"VLOOKUP(A3675,bangolf_kategorien!$A$2:$B$11,2,FALSE)","v":"SM1"}]
["hv",26670,"Hans-Joachim","Thüsen","MSF Brilon e.V.","SM2: Thüsen, Hans-Joachim",{"$f":"VLOOKUP(A3676,bangolf_kategorien!$A$2:$B$11,2,FALSE)","v":"SM2"}]
["og",3216779,"Dagmar","Tiedeck","Hobby","SW1: Tiedeck, Dagmar",{"$f":"VLOOKUP(A3677,bangolf_kategorien!$A$2:$B$11,2,FALSE)","v":"SW1"}]
["hs",66788,"Michael","Tiedtke","MGV Bremen e.V.","H: Tiedtke, Michael",{"$f":"VLOOKUP(A3678,bangolf_kategorien!$A$2:$B$11,2,FALSE)","v":"H"}]
["hv",4732,"Reinhard","Tierling","SC Olympia Dortmund e.V.","SM2: Tierling, Reinhard",{"$f":"VLOOKUP(A3679,bangolf_kategorien!$A$2:$B$11,2,FALSE)","v":"SM2"}]
["ds",67326,"Marlene","Tietz","1. Essener CGC \"Blau-Gold\" e.V.","D: Tietz, Marlene",{"$f":"VLOOKUP(A3680,bangolf_kategorien!$A$2:$B$11,2,FALSE)","v":"D"}]
["hs",48644,"Axel Eric","Timm","TSV Pfungstadt Abt. Bahnengolf e.V.","H: Timm, Axel Eric",{"$f":"VLOOKUP(A3681,bangolf_kategorien!$A$2:$B$11,2,FALSE)","v":"H"}]
["hv",6771,"Dietmar","Tinney","Hamburger MC von 1965 e.V.","SM2: Tinney, Dietmar",{"$f":"VLOOKUP(A3682,bangolf_kategorien!$A$2:$B$11,2,FALSE)","v":"SM2"}]
["hv",29336,"Uwe","Tinzmann","1. MGSV Netphen e.V.","SM2: Tinzmann, Uwe",{"$f":"VLOOKUP(A3683,bangolf_kategorien!$A$2:$B$11,2,FALSE)","v":"SM2"}]
["hv",43144,"Jürgen","Tismer","MGC Bad Salzuflen e.V.","SM2: Tismer, Jürgen",{"$f":"VLOOKUP(A3684,bangolf_kategorien!$A$2:$B$11,2,FALSE)","v":"SM2"}]
["hv",5438,"Franz","Tockner","MGC \"AS\" Witten 1963 e.V.","SM2: Tockner, Franz",{"$f":"VLOOKUP(A3685,bangolf_kategorien!$A$2:$B$11,2,FALSE)","v":"SM2"}]
["ob",24603,"Klaus","Todtenhöfer","BGC Dormagen e.V.","SM1: Todtenhöfer, Klaus",{"$f":"VLOOKUP(A3686,bangolf_kategorien!$A$2:$B$11,2,FALSE)","v":"SM1"}]
["ob",31347,"Ingolf","Tolk","1. MGC Tuttlingen e.V.","SM1: Tolk, Ingolf",{"$f":"VLOOKUP(A3687,bangolf_kategorien!$A$2:$B$11,2,FALSE)","v":"SM1"}]
["hs",37500,"Mathias","Tomkowitz","KSV Baltrum e.V.","H: Tomkowitz, Mathias",{"$f":"VLOOKUP(A3688,bangolf_kategorien!$A$2:$B$11,2,FALSE)","v":"H"}]
["ds",32802,"Stefanie","Tomkowitz","KSV Baltrum e.V.","D: Tomkowitz, Stefanie",{"$f":"VLOOKUP(A3689,bangolf_kategorien!$A$2:$B$11,2,FALSE)","v":"D"}]
["hs",3216758,"Dino","Tönnies","Hobby","H: Tönnies, Dino",{"$f":"VLOOKUP(A3690,bangolf_kategorien!$A$2:$B$11,2,FALSE)","v":"H"}]
["ds",37907,"Eva","Töpelt","1. BGC Leipzig e.V.","D: Töpelt, Eva",{"$f":"VLOOKUP(A3691,bangolf_kategorien!$A$2:$B$11,2,FALSE)","v":"D"}]
["hs",29648,"Michael","Töpelt","1. BGC Leipzig e.V.","H: Töpelt, Michael",{"$f":"VLOOKUP(A3692,bangolf_kategorien!$A$2:$B$11,2,FALSE)","v":"H"}]
["hv",37793,"Jürgen","Torka","1. MGC Gelsenkirchen e.V.","SM2: Torka, Jürgen",{"$f":"VLOOKUP(A3693,bangolf_kategorien!$A$2:$B$11,2,FALSE)","v":"SM2"}]
["ob",30869,"Andreas","Träger","BGSV Kerpen e.V.","SM1: Träger, Andreas",{"$f":"VLOOKUP(A3694,bangolf_kategorien!$A$2:$B$11,2,FALSE)","v":"SM1"}]
["ob",27087,"Harald","Träger","MGC Bad Salzuflen e.V.","SM1: Träger, Harald",{"$f":"VLOOKUP(A3695,bangolf_kategorien!$A$2:$B$11,2,FALSE)","v":"SM1"}]
["og",43923,"Petra","Träger","HMC Büttgen e.V.","SW1: Träger, Petra",{"$f":"VLOOKUP(A3696,bangolf_kategorien!$A$2:$B$11,2,FALSE)","v":"SW1"}]
["hs",66435,"Manuel","Tramp","KSV Baltrum e.V.","H: Tramp, Manuel",{"$f":"VLOOKUP(A3697,bangolf_kategorien!$A$2:$B$11,2,FALSE)","v":"H"}]
["hs",46126,"Andreas-Wolfram","Trauner","MSK Olching e.V.","H: Trauner, Andreas-Wolfram",{"$f":"VLOOKUP(A3698,bangolf_kategorien!$A$2:$B$11,2,FALSE)","v":"H"}]
["dv",43715,"Anneliese","Trauner","BSV 86 München e.V.","SW2: Trauner, Anneliese",{"$f":"VLOOKUP(A3699,bangolf_kategorien!$A$2:$B$11,2,FALSE)","v":"SW2"}]
["hv",43716,"Karl","Trauner","BSV 86 München e.V.","SM2: Trauner, Karl",{"$f":"VLOOKUP(A3700,bangolf_kategorien!$A$2:$B$11,2,FALSE)","v":"SM2"}]
["ob",36781,"Clemens","Trautmann","1. MGV Spandau Berlin e.V.","SM1: Trautmann, Clemens",{"$f":"VLOOKUP(A3701,bangolf_kategorien!$A$2:$B$11,2,FALSE)","v":"SM1"}]
["hv",67314,"Herbert","Trautmann","MGC Bad Homburg vdH e.V.","SM2: Trautmann, Herbert",{"$f":"VLOOKUP(A3702,bangolf_kategorien!$A$2:$B$11,2,FALSE)","v":"SM2"}]
["hv",5274,"Franz","Treffer","OMGC Ingolstadt e.V.","SM2: Treffer, Franz",{"$f":"VLOOKUP(A3703,bangolf_kategorien!$A$2:$B$11,2,FALSE)","v":"SM2"}]
["ob",47135,"Bernd","Trempenau","MGC Bad Salzuflen e.V.","SM1: Trempenau, Bernd",{"$f":"VLOOKUP(A3704,bangolf_kategorien!$A$2:$B$11,2,FALSE)","v":"SM1"}]
["hs",38530,"Matthias","Trenz","BGC Bildstock e.V.","H: Trenz, Matthias",{"$f":"VLOOKUP(A3705,bangolf_kategorien!$A$2:$B$11,2,FALSE)","v":"H"}]
["og",66644,"Christine","Trepesch","1. MGC Tuttlingen e.V.","SW1: Trepesch, Christine",{"$f":"VLOOKUP(A3706,bangolf_kategorien!$A$2:$B$11,2,FALSE)","v":"SW1"}]
["hv",6191,"Peter","Trettl","MGC putter Künzell 1970 e.V.","SM2: Trettl, Peter",{"$f":"VLOOKUP(A3707,bangolf_kategorien!$A$2:$B$11,2,FALSE)","v":"SM2"}]
["hv",17987,"Adi","Trillges","BGSV Kerpen e.V.","SM2: Trillges, Adi",{"$f":"VLOOKUP(A3708,bangolf_kategorien!$A$2:$B$11,2,FALSE)","v":"SM2"}]
["dv",4880,"Brigitte","Trillges","BGSV Kerpen e.V.","SW2: Trillges, Brigitte",{"$f":"VLOOKUP(A3709,bangolf_kategorien!$A$2:$B$11,2,FALSE)","v":"SW2"}]
["dv",36625,"Bettina","Trinkl","MSK Olching e.V.","SW2: Trinkl, Bettina",{"$f":"VLOOKUP(A3710,bangolf_kategorien!$A$2:$B$11,2,FALSE)","v":"SW2"}]
["hv",36623,"Werner","Trinkl","MSK Olching e.V.","SM2: Trinkl, Werner",{"$f":"VLOOKUP(A3711,bangolf_kategorien!$A$2:$B$11,2,FALSE)","v":"SM2"}]
["pa",66640,"Levi","Tritsch","MSC Bensheim-Auerbach e.V.","SCHM: Tritsch, Levi",{"$f":"VLOOKUP(A3712,bangolf_kategorien!$A$2:$B$11,2,FALSE)","v":"SCHM"}]
["ds",36489,"Katharina","Trojak","MSG Kempten e.V.","D: Trojak, Katharina",{"$f":"VLOOKUP(A3713,bangolf_kategorien!$A$2:$B$11,2,FALSE)","v":"D"}]
["hv",3841,"Manfred","Trojand","SSV Ulm 1846 Abt. Bahnengolf","SM2: Trojand, Manfred",{"$f":"VLOOKUP(A3714,bangolf_kategorien!$A$2:$B$11,2,FALSE)","v":"SM2"}]
["ob",38133,"Jürgen","Tröller","SV 1890 e.V. Dreieichenhain, Abt. Bahnengolf",{"$f":"CONCATENATE(G3715,\": \",D3715,\", \",C3715)","v":"SM1: Tröller, Jürgen"},{"$f":"VLOOKUP(A3715,bangolf_kategorien!$A$2:$B$11,2,FALSE)","v":"SM1"}]
["hv",49289,"Rolf","Trompeter","SSC Halver e.V.","SM2: Trompeter, Rolf",{"$f":"VLOOKUP(A3716,bangolf_kategorien!$A$2:$B$11,2,FALSE)","v":"SM2"}]
["hv",60795,"Hermann","Trossen","1. MGC Peine von 1965 e.V.","SM2: Trossen, Hermann",{"$f":"VLOOKUP(A3717,bangolf_kategorien!$A$2:$B$11,2,FALSE)","v":"SM2"}]
["ob",63610,"Burkhard","Trümbach","MGC \"Stahlquelle\" Bad Bocklet","SM1: Trümbach, Burkhard",{"$f":"VLOOKUP(A3718,bangolf_kategorien!$A$2:$B$11,2,FALSE)","v":"SM1"}]
["ob",3216767,"Olaf","Tschersich","Hobby","SM1: Tschersich, Olaf",{"$f":"VLOOKUP(A3719,bangolf_kategorien!$A$2:$B$11,2,FALSE)","v":"SM1"}]
["hv",40643,"Jürgen","Tschischka","1. MGC München-Feldmoching e.V.","SM2: Tschischka, Jürgen",{"$f":"VLOOKUP(A3720,bangolf_kategorien!$A$2:$B$11,2,FALSE)","v":"SM2"}]
["og",3212020,"Roswitha","Tschoepe","Hobby","SW1: Tschoepe, Roswitha",{"$f":"VLOOKUP(A3721,bangolf_kategorien!$A$2:$B$11,2,FALSE)","v":"SW1"}]
["dv",5739,"Erika","Tuchs","MGC Murnau am Staffelsee e.V.","SW2: Tuchs, Erika",{"$f":"VLOOKUP(A3722,bangolf_kategorien!$A$2:$B$11,2,FALSE)","v":"SW2"}]
["hv",36733,"Rudolf","Tümmers","VfM Bottrop e.V.","SM2: Tümmers, Rudolf",{"$f":"VLOOKUP(A3723,bangolf_kategorien!$A$2:$B$11,2,FALSE)","v":"SM2"}]
["hs",66310,"Cedric Alexander","Türk","MSK Neheim-Hüsten e.V.","H: Türk, Cedric Alexander",{"$f":"VLOOKUP(A3724,bangolf_kategorien!$A$2:$B$11,2,FALSE)","v":"H"}]
["hs",38309,"Nehemia","Türk","1. MGC Mainz e.V.","H: Türk, Nehemia",{"$f":"VLOOKUP(A3725,bangolf_kategorien!$A$2:$B$11,2,FALSE)","v":"H"}]
["hv",36173,"Uwe","Tusch","1. MGC 1970 Göttingen e.V.","SM2: Tusch, Uwe",{"$f":"VLOOKUP(A3726,bangolf_kategorien!$A$2:$B$11,2,FALSE)","v":"SM2"}]
["og",67411,"Marion","Ucka","1. MSC Wesel 6.6.1966 e.V.","SW1: Ucka, Marion",{"$f":"VLOOKUP(A3727,bangolf_kategorien!$A$2:$B$11,2,FALSE)","v":"SW1"}]
["ob",67412,"Wolfgang","Ucka","1. MSC Wesel 6.6.1966 e.V.","SM1: Ucka, Wolfgang",{"$f":"VLOOKUP(A3728,bangolf_kategorien!$A$2:$B$11,2,FALSE)","v":"SM1"}]
["hs",37003,"Tim","Uebe","1. MGC Mainz e.V.","H: Uebe, Tim",{"$f":"VLOOKUP(A3729,bangolf_kategorien!$A$2:$B$11,2,FALSE)","v":"H"}]
["hv",3194215,"Hans-Friedrich","Uebelin","Hobby","SM2: Uebelin, Hans-Friedrich",{"$f":"VLOOKUP(A3730,bangolf_kategorien!$A$2:$B$11,2,FALSE)","v":"SM2"}]
["hv",66441,"Heinrich","Uetzmann","Tempelhofer MV Berlin e.V.","SM2: Uetzmann, Heinrich",{"$f":"VLOOKUP(A3731,bangolf_kategorien!$A$2:$B$11,2,FALSE)","v":"SM2"}]
["pa",67102,"Jason","Uetzmann","Tempelhofer MV Berlin e.V.","SCHM: Uetzmann, Jason",{"$f":"VLOOKUP(A3732,bangolf_kategorien!$A$2:$B$11,2,FALSE)","v":"SCHM"}]
["og",30695,"Birgit","Uhl","MGC Olympia Kiel e.V.","SW1: Uhl, Birgit",{"$f":"VLOOKUP(A3733,bangolf_kategorien!$A$2:$B$11,2,FALSE)","v":"SW1"}]
["ds",34151,"Jasmin Astrid","Uhl","MGC Olympia Kiel e.V.","D: Uhl, Jasmin Astrid",{"$f":"VLOOKUP(A3734,bangolf_kategorien!$A$2:$B$11,2,FALSE)","v":"D"}]
["ob",36133,"Thorsten","Uhlig","MSC Blau-Weiß 2003 München e.V.","SM1: Uhlig, Thorsten",{"$f":"VLOOKUP(A3735,bangolf_kategorien!$A$2:$B$11,2,FALSE)","v":"SM1"}]
["ob",42068,"Thorsten","Uhlir","SSC Halver e.V.","SM1: Uhlir, Thorsten",{"$f":"VLOOKUP(A3736,bangolf_kategorien!$A$2:$B$11,2,FALSE)","v":"SM1"}]
["ob",47176,"Werner","Uhr","1. MSC Hamburg-Neu Wulmstorf","SM1: Uhr, Werner",{"$f":"VLOOKUP(A3737,bangolf_kategorien!$A$2:$B$11,2,FALSE)","v":"SM1"}]
["hs",37956,"Dominik","Ullrich","1. MGC Mainz e.V.","H: Ullrich, Dominik",{"$f":"VLOOKUP(A3738,bangolf_kategorien!$A$2:$B$11,2,FALSE)","v":"H"}]
["ds",66988,"Miriam","Ulrich","1. MGC Ludwigshafen e.V.","D: Ulrich, Miriam",{"$f":"VLOOKUP(A3739,bangolf_kategorien!$A$2:$B$11,2,FALSE)","v":"D"}]
["hs",33761,"Stefan","Ulrich","1. MGC Ludwigshafen e.V.","H: Ulrich, Stefan",{"$f":"VLOOKUP(A3740,bangolf_kategorien!$A$2:$B$11,2,FALSE)","v":"H"}]
["hv",29919,"Uwe","Ulrich","BGC Goslar e.V.","SM2: Ulrich, Uwe",{"$f":"VLOOKUP(A3741,bangolf_kategorien!$A$2:$B$11,2,FALSE)","v":"SM2"}]
["ob",45991,"Andreas","Umbach","1. MGC Kassel 1964 e.V.","SM1: Umbach, Andreas",{"$f":"VLOOKUP(A3742,bangolf_kategorien!$A$2:$B$11,2,FALSE)","v":"SM1"}]
["hv",2411,"Jens","Umhauer","1. MGC Mainz e.V.","SM2: Umhauer, Jens",{"$f":"VLOOKUP(A3743,bangolf_kategorien!$A$2:$B$11,2,FALSE)","v":"SM2"}]
["hs",38310,"Lukas","Umhauer","1. MGC Mainz e.V.","H: Umhauer, Lukas",{"$f":"VLOOKUP(A3744,bangolf_kategorien!$A$2:$B$11,2,FALSE)","v":"H"}]
["hs",34732,"Uwe","Ungermann","BSC Ennepetal e.V.","H: Ungermann, Uwe",{"$f":"VLOOKUP(A3745,bangolf_kategorien!$A$2:$B$11,2,FALSE)","v":"H"}]
["hs",38216,"Thomas","Unglaube","BGC Dormagen e.V.","H: Unglaube, Thomas",{"$f":"VLOOKUP(A3746,bangolf_kategorien!$A$2:$B$11,2,FALSE)","v":"H"}]
["ob",67170,"Joerg","Unruh","MGC Millennium Lorsch e.V.","SM1: Unruh, Joerg",{"$f":"VLOOKUP(A3747,bangolf_kategorien!$A$2:$B$11,2,FALSE)","v":"SM1"}]
["hv",26698,"Horst","Unterleitner","CGC Illertal Kellmünz","SM2: Unterleitner, Horst",{"$f":"VLOOKUP(A3748,bangolf_kategorien!$A$2:$B$11,2,FALSE)","v":"SM2"}]
["og",35605,"Angela","Urban","MGC \"AS\" Witten 1963 e.V.","SW1: Urban, Angela",{"$f":"VLOOKUP(A3749,bangolf_kategorien!$A$2:$B$11,2,FALSE)","v":"SW1"}]
["hj",66186,"Dominic","Urban","MGC \"AS\" Witten 1963 e.V.","JM: Urban, Dominic",{"$f":"VLOOKUP(A3750,bangolf_kategorien!$A$2:$B$11,2,FALSE)","v":"JM"}]
["hs",27425,"Maik","Urban","SSC Halver e.V.","H: Urban, Maik",{"$f":"VLOOKUP(A3751,bangolf_kategorien!$A$2:$B$11,2,FALSE)","v":"H"}]
["ob",35604,"Volker","Urban","MGC \"AS\" Witten 1963 e.V.","SM1: Urban, Volker",{"$f":"VLOOKUP(A3752,bangolf_kategorien!$A$2:$B$11,2,FALSE)","v":"SM1"}]
["hs",30422,"Patrick","Urbanke","MGC Bad Soden-Salmünster","H: Urbanke, Patrick",{"$f":"VLOOKUP(A3753,bangolf_kategorien!$A$2:$B$11,2,FALSE)","v":"H"}]
["ob",41095,"Karsten","Urbanski","1. Essener CGC \"Blau-Gold\" e.V.","SM1: Urbanski, Karsten",{"$f":"VLOOKUP(A3754,bangolf_kategorien!$A$2:$B$11,2,FALSE)","v":"SM1"}]
["ds",32844,"Ricarda","Urbanski","1. Essener CGC \"Blau-Gold\" e.V.","D: Urbanski, Ricarda",{"$f":"VLOOKUP(A3755,bangolf_kategorien!$A$2:$B$11,2,FALSE)","v":"D"}]
["og",23,"Monika","Vahle","MSK Neheim-Hüsten e.V.","SW1: Vahle, Monika",{"$f":"VLOOKUP(A3756,bangolf_kategorien!$A$2:$B$11,2,FALSE)","v":"SW1"}]
["og",67224,"Kerstin","Vallot","MGC Heringen 1997 e.V.","SW1: Vallot, Kerstin",{"$f":"VLOOKUP(A3757,bangolf_kategorien!$A$2:$B$11,2,FALSE)","v":"SW1"}]
["hs",33059,"Dirk","van der Wals","1. MGC Epe 1978 e.V.","H: van der Wals, Dirk",{"$f":"VLOOKUP(A3758,bangolf_kategorien!$A$2:$B$11,2,FALSE)","v":"H"}]
["hs",29061,"Mark","van der Wals","1. MGC Epe 1978 e.V.","H: van der Wals, Mark",{"$f":"VLOOKUP(A3759,bangolf_kategorien!$A$2:$B$11,2,FALSE)","v":"H"}]
["hv",26404,"Wilfried","van der Wals","1. MGC Epe 1978 e.V.","SM2: van der Wals, Wilfried",{"$f":"VLOOKUP(A3760,bangolf_kategorien!$A$2:$B$11,2,FALSE)","v":"SM2"}]
["hj",38505,"Tom","van Diejen","MSC Bensheim-Auerbach e.V.","JM: van Diejen, Tom",{"$f":"VLOOKUP(A3761,bangolf_kategorien!$A$2:$B$11,2,FALSE)","v":"JM"}]
["hj",38415,"Jan","van Eickelen","BGV Bergisch Land 1962 / 63 e.V.","JM: van Eickelen, Jan",{"$f":"VLOOKUP(A3762,bangolf_kategorien!$A$2:$B$11,2,FALSE)","v":"JM"}]
["hv",65919,"Ralf","van Eickelen","BGV Bergisch Land 1962 / 63 e.V.","SM2: van Eickelen, Ralf",{"$f":"VLOOKUP(A3763,bangolf_kategorien!$A$2:$B$11,2,FALSE)","v":"SM2"}]
["hs",36532,"Jan","van Vught","BGC Heilbronn e.V.","H: van Vught, Jan",{"$f":"VLOOKUP(A3764,bangolf_kategorien!$A$2:$B$11,2,FALSE)","v":"H"}]
["ob",40558,"Peter","Vanselow","MGC Sulzfeld e.V.","SM1: Vanselow, Peter",{"$f":"VLOOKUP(A3765,bangolf_kategorien!$A$2:$B$11,2,FALSE)","v":"SM1"}]
["fa",66881,"Svenja","Vatter","1. MGC Ludwigshafen e.V.","SCHW: Vatter, Svenja",{"$f":"VLOOKUP(A3766,bangolf_kategorien!$A$2:$B$11,2,FALSE)","v":"SCHW"}]
["og",67128,"Andrea","Vätter","MTV Seesen Abt. Bahnengolf","SW1: Vätter, Andrea",{"$f":"VLOOKUP(A3767,bangolf_kategorien!$A$2:$B$11,2,FALSE)","v":"SW1"}]
["hv",67066,"Rafael","Vazquez Santos","MC \"Möve\" Cuxhaven-Sahlenburg e.V.","SM2: Vazquez Santos, Rafael",{"$f":"VLOOKUP(A3768,bangolf_kategorien!$A$2:$B$11,2,FALSE)","v":"SM2"}]
["ob",31256,"Bernd","Veit","MGC Wetzlar e.V.","SM1: Veit, Bernd",{"$f":"VLOOKUP(A3769,bangolf_kategorien!$A$2:$B$11,2,FALSE)","v":"SM1"}]
["hs",67124,"Alexander","Vellone","BGC Bad Nenndorf e.V.","H: Vellone, Alexander",{"$f":"VLOOKUP(A3770,bangolf_kategorien!$A$2:$B$11,2,FALSE)","v":"H"}]
["ob",27127,"Nicolo","Vellone","BGC Bad Nenndorf e.V.","SM1: Vellone, Nicolo",{"$f":"VLOOKUP(A3771,bangolf_kategorien!$A$2:$B$11,2,FALSE)","v":"SM1"}]
["ob",48946,"Dirk","Vennemann","VfB Osnabrück e.V.","SM1: Vennemann, Dirk",{"$f":"VLOOKUP(A3772,bangolf_kategorien!$A$2:$B$11,2,FALSE)","v":"SM1"}]
["ob",65961,"Ralf","Vennemann","MC Georgsmarienhütte e.V.","SM1: Vennemann, Ralf",{"$f":"VLOOKUP(A3773,bangolf_kategorien!$A$2:$B$11,2,FALSE)","v":"SM1"}]
["ob",67382,"Gerhard","Verges","1. MGC Ladenburg e.V.","SM1: Verges, Gerhard",{"$f":"VLOOKUP(A3774,bangolf_kategorien!$A$2:$B$11,2,FALSE)","v":"SM1"}]
["ob",29907,"Alfred","Verhoeven","BGC Dormagen e.V.","SM1: Verhoeven, Alfred",{"$f":"VLOOKUP(A3775,bangolf_kategorien!$A$2:$B$11,2,FALSE)","v":"SM1"}]
["hs",37766,"Julian","Vernaleken","MGC Bad Salzuflen e.V.","H: Vernaleken, Julian",{"$f":"VLOOKUP(A3776,bangolf_kategorien!$A$2:$B$11,2,FALSE)","v":"H"}]
["hv",37481,"Michael","Verstegen","1. MSC Wesel 6.6.1966 e.V.","SM2: Verstegen, Michael",{"$f":"VLOOKUP(A3777,bangolf_kategorien!$A$2:$B$11,2,FALSE)","v":"SM2"}]
["ob",41143,"Andreas","Vesper","MGC Bad Homburg vdH e.V.","SM1: Vesper, Andreas",{"$f":"VLOOKUP(A3778,bangolf_kategorien!$A$2:$B$11,2,FALSE)","v":"SM1"}]
["ds",33945,"Renate","Vetter","MSC Bensheim-Auerbach e.V.",{"$f":"CONCATENATE(G3779,\": \",D3779,\", \",C3779)","v":"D: Vetter, Renate"},{"$f":"VLOOKUP(A3779,bangolf_kategorien!$A$2:$B$11,2,FALSE)","v":"D"}]
["dv",36658,"Marieluise","Vielhauer","1. MGC Epe 1978 e.V.","SW2: Vielhauer, Marieluise",{"$f":"VLOOKUP(A3780,bangolf_kategorien!$A$2:$B$11,2,FALSE)","v":"SW2"}]
["hv",36659,"Peter","Vielhauer","1. MGC Epe 1978 e.V.","SM2: Vielhauer, Peter",{"$f":"VLOOKUP(A3781,bangolf_kategorien!$A$2:$B$11,2,FALSE)","v":"SM2"}]
["hv",3221421,"Otto","Vignold","Hobby","SM2: Vignold, Otto",{"$f":"VLOOKUP(A3782,bangolf_kategorien!$A$2:$B$11,2,FALSE)","v":"SM2"}]
["hv",15936,"Joachim","Viohl","Hobby","SM2: Viohl, Joachim",{"$f":"VLOOKUP(A3783,bangolf_kategorien!$A$2:$B$11,2,FALSE)","v":"SM2"}]
["ob",34501,"Ralf","Vittinghoff","1. MGC Ladenburg e.V.","SM1: Vittinghoff, Ralf",{"$f":"VLOOKUP(A3784,bangolf_kategorien!$A$2:$B$11,2,FALSE)","v":"SM1"}]
["hv",5272,"Leonhard","Vocht","OMGC Ingolstadt e.V.","SM2: Vocht, Leonhard",{"$f":"VLOOKUP(A3785,bangolf_kategorien!$A$2:$B$11,2,FALSE)","v":"SM2"}]
["pa",3202289,"Tamino","Voehringer","Hobby","SCHM: Voehringer, Tamino",{"$f":"VLOOKUP(A3786,bangolf_kategorien!$A$2:$B$11,2,FALSE)","v":"SCHM"}]
["hs",38513,"Maximilian","Vogel","MGF Ottobrunn e.V.","H: Vogel, Maximilian",{"$f":"VLOOKUP(A3787,bangolf_kategorien!$A$2:$B$11,2,FALSE)","v":"H"}]
["ob",38512,"Thomas","Vogel","MGF Ottobrunn e.V.","SM1: Vogel, Thomas",{"$f":"VLOOKUP(A3788,bangolf_kategorien!$A$2:$B$11,2,FALSE)","v":"SM1"}]
["ob",3106612,"Frank","Vogelpohl","Hobby","SM1: Vogelpohl, Frank",{"$f":"VLOOKUP(A3789,bangolf_kategorien!$A$2:$B$11,2,FALSE)","v":"SM1"}]
["hv",282,"Klaus","Vogentanz","1. MGC Bamberg e.V.","SM2: Vogentanz, Klaus",{"$f":"VLOOKUP(A3790,bangolf_kategorien!$A$2:$B$11,2,FALSE)","v":"SM2"}]
["hv",17977,"Peter","Vogl","ASV Pegnitz, Abt. Minigolf","SM2: Vogl, Peter",{"$f":"VLOOKUP(A3791,bangolf_kategorien!$A$2:$B$11,2,FALSE)","v":"SM2"}]
["hv",60895,"Karl-Heinz","Vogt","ASV Pegnitz, Abt. Minigolf","SM2: Vogt, Karl-Heinz",{"$f":"VLOOKUP(A3792,bangolf_kategorien!$A$2:$B$11,2,FALSE)","v":"SM2"}]
["ob",44676,"Markus","Vogt","BGC Schloß Paffendorf e.V.","SM1: Vogt, Markus",{"$f":"VLOOKUP(A3793,bangolf_kategorien!$A$2:$B$11,2,FALSE)","v":"SM1"}]
["ob",47299,"Michael","Vogt","MGC Dormagen-Brechten e.V.","SM1: Vogt, Michael",{"$f":"VLOOKUP(A3794,bangolf_kategorien!$A$2:$B$11,2,FALSE)","v":"SM1"}]
["hv",5959,"Johannes","Völk","MGC Murnau am Staffelsee e.V.","SM2: Völk, Johannes",{"$f":"VLOOKUP(A3795,bangolf_kategorien!$A$2:$B$11,2,FALSE)","v":"SM2"}]
["hv",24417,"Erhard","Völkel","1. NMC Kelheim e.V.","SM2: Völkel, Erhard",{"$f":"VLOOKUP(A3796,bangolf_kategorien!$A$2:$B$11,2,FALSE)","v":"SM2"}]
["ob",27141,"Robert","Völkel","ASV Pegnitz, Abt. Minigolf","SM1: Völkel, Robert",{"$f":"VLOOKUP(A3797,bangolf_kategorien!$A$2:$B$11,2,FALSE)","v":"SM1"}]
["ob",47134,"Michael","Volkmer","BV Sennestadt","SM1: Volkmer, Michael",{"$f":"VLOOKUP(A3798,bangolf_kategorien!$A$2:$B$11,2,FALSE)","v":"SM1"}]
["og",47133,"Iris","Volkmer-Ruben","BV Sennestadt","SW1: Volkmer-Ruben, Iris",{"$f":"VLOOKUP(A3799,bangolf_kategorien!$A$2:$B$11,2,FALSE)","v":"SW1"}]
["hv",43224,"Jürgen","Vollmer","1. BGC Paderborn e.V.","SM2: Vollmer, Jürgen",{"$f":"VLOOKUP(A3800,bangolf_kategorien!$A$2:$B$11,2,FALSE)","v":"SM2"}]
["ds",66544,"Anja","Vollrath","MGC Bad Homburg vdH e.V.","D: Vollrath, Anja",{"$f":"VLOOKUP(A3801,bangolf_kategorien!$A$2:$B$11,2,FALSE)","v":"D"}]
["ob",37329,"Frank","Völzke","HMC Büttgen e.V.","SM1: Völzke, Frank",{"$f":"VLOOKUP(A3802,bangolf_kategorien!$A$2:$B$11,2,FALSE)","v":"SM1"}]
["ob",37670,"Peter","vom Berg","BGC Schloß Paffendorf e.V.","SM1: vom Berg, Peter",{"$f":"VLOOKUP(A3803,bangolf_kategorien!$A$2:$B$11,2,FALSE)","v":"SM1"}]
["hs",34494,"Felix","vom Bruch","MSK Neheim-Hüsten e.V.","H: vom Bruch, Felix",{"$f":"VLOOKUP(A3804,bangolf_kategorien!$A$2:$B$11,2,FALSE)","v":"H"}]
["ob",261,"Lars","Vomhof","MSK Neheim-Hüsten e.V.","SM1: Vomhof, Lars",{"$f":"VLOOKUP(A3805,bangolf_kategorien!$A$2:$B$11,2,FALSE)","v":"SM1"}]
["hs",49943,"Kay","von Beuningen","VfL Lohbrügge Abt. Bahnengolf","H: von Beuningen, Kay",{"$f":"VLOOKUP(A3806,bangolf_kategorien!$A$2:$B$11,2,FALSE)","v":"H"}]
["hs",32379,"Sebastian","von Block","MSC Bad Godesberg e.V.","H: von Block, Sebastian",{"$f":"VLOOKUP(A3807,bangolf_kategorien!$A$2:$B$11,2,FALSE)","v":"H"}]
["og",36691,"Alexandra","von dem Knesebeck","1. MGC 1970 Göttingen e.V.","SW1: von dem Knesebeck, Alexandra",{"$f":"VLOOKUP(A3808,bangolf_kategorien!$A$2:$B$11,2,FALSE)","v":"SW1"}]
["ob",25562,"Andreas","von dem Knesebeck","1. MGC 1970 Göttingen e.V.","SM1: von dem Knesebeck, Andreas",{"$f":"VLOOKUP(A3809,bangolf_kategorien!$A$2:$B$11,2,FALSE)","v":"SM1"}]
["hv",5288,"Ingo","von dem Knesebeck","1. MGC 1970 Göttingen e.V.","SM2: von dem Knesebeck, Ingo",{"$f":"VLOOKUP(A3810,bangolf_kategorien!$A$2:$B$11,2,FALSE)","v":"SM2"}]
["ob",40235,"Stephan","von der Pütten","MGC Traben-Trarbach","SM1: von der Pütten, Stephan",{"$f":"VLOOKUP(A3811,bangolf_kategorien!$A$2:$B$11,2,FALSE)","v":"SM1"}]
["ob",14562,"Axel","von Holten","MC \"Möve\" Cuxhaven-Sahlenburg e.V.","SM1: von Holten, Axel",{"$f":"VLOOKUP(A3812,bangolf_kategorien!$A$2:$B$11,2,FALSE)","v":"SM1"}]
["ob",66751,"Jens","von Trümbach","Minigolfclub Karlshagen e.V.","SM1: von Trümbach, Jens",{"$f":"VLOOKUP(A3813,bangolf_kategorien!$A$2:$B$11,2,FALSE)","v":"SM1"}]
["og",66750,"Katarzyna","von Trümbach","Minigolfclub Karlshagen e.V.","SW1: von Trümbach, Katarzyna",{"$f":"VLOOKUP(A3814,bangolf_kategorien!$A$2:$B$11,2,FALSE)","v":"SW1"}]
["hs",34068,"Waldemar","Voos","SSC Halver e.V.","H: Voos, Waldemar",{"$f":"VLOOKUP(A3815,bangolf_kategorien!$A$2:$B$11,2,FALSE)","v":"H"}]
["og",3106836,"Angelika","Vorderwisch","Hobby","SW1: Vorderwisch, Angelika",{"$f":"VLOOKUP(A3816,bangolf_kategorien!$A$2:$B$11,2,FALSE)","v":"SW1"}]
["hv",3720,"Hans-Peter","Vosberg","Minigolfunion Neviges-Odenthal 1968 e.V.","SM2: Vosberg, Hans-Peter",{"$f":"VLOOKUP(A3817,bangolf_kategorien!$A$2:$B$11,2,FALSE)","v":"SM2"}]
["hs",49854,"Björn","Voß","MGC Olympia Kiel e.V.","H: Voß, Björn",{"$f":"VLOOKUP(A3818,bangolf_kategorien!$A$2:$B$11,2,FALSE)","v":"H"}]
["hs",66768,"Christian","Voß","1. MGC Paderborn e.V.","H: Voß, Christian",{"$f":"VLOOKUP(A3819,bangolf_kategorien!$A$2:$B$11,2,FALSE)","v":"H"}]
["hv",18217,"Fritz","Voss","KSV Baltrum e.V.","SM2: Voss, Fritz",{"$f":"VLOOKUP(A3820,bangolf_kategorien!$A$2:$B$11,2,FALSE)","v":"SM2"}]
["hv",5675,"Norbert","Voß","MSK Olching e.V.","SM2: Voß, Norbert",{"$f":"VLOOKUP(A3821,bangolf_kategorien!$A$2:$B$11,2,FALSE)","v":"SM2"}]
["ob",3212054,"Rüdiger","Voß","Hobby","SM1: Voß, Rüdiger",{"$f":"VLOOKUP(A3822,bangolf_kategorien!$A$2:$B$11,2,FALSE)","v":"SM1"}]
["ob",30196,"Johannes","Vosschulte","KSV Baltrum e.V.","SM1: Vosschulte, Johannes",{"$f":"VLOOKUP(A3823,bangolf_kategorien!$A$2:$B$11,2,FALSE)","v":"SM1"}]
["hs",3216760,"Klaus-Mario","Voßmerbäumer","Hobby","H: Voßmerbäumer, Klaus-Mario",{"$f":"VLOOKUP(A3824,bangolf_kategorien!$A$2:$B$11,2,FALSE)","v":"H"}]
["hs",65283,"Manuel Andre","Wächter","MSK Neheim-Hüsten e.V.","H: Wächter, Manuel Andre",{"$f":"VLOOKUP(A3825,bangolf_kategorien!$A$2:$B$11,2,FALSE)","v":"H"}]
["hv",4261,"Reinhard","Wachtl","MGC Bad Homburg vdH e.V.","SM2: Wachtl, Reinhard",{"$f":"VLOOKUP(A3826,bangolf_kategorien!$A$2:$B$11,2,FALSE)","v":"SM2"}]
["dv",4260,"Renate","Wachtl","MGC Bad Homburg vdH e.V.","SW2: Wachtl, Renate",{"$f":"VLOOKUP(A3827,bangolf_kategorien!$A$2:$B$11,2,FALSE)","v":"SW2"}]
["ob",35127,"Sven","Wachtl","MGC Bad Homburg vdH e.V.","SM1: Wachtl, Sven",{"$f":"VLOOKUP(A3828,bangolf_kategorien!$A$2:$B$11,2,FALSE)","v":"SM1"}]
["dv",5997,"Gertrud","Wäcke","MGC \"Stahlquelle\" Bad Bocklet","SW2: Wäcke, Gertrud",{"$f":"VLOOKUP(A3829,bangolf_kategorien!$A$2:$B$11,2,FALSE)","v":"SW2"}]
["ob",26331,"Hans Rolf","Wageck","1. MGC Ludwigshafen e.V.","SM1: Wageck, Hans Rolf",{"$f":"VLOOKUP(A3830,bangolf_kategorien!$A$2:$B$11,2,FALSE)","v":"SM1"}]
["hv",61938,"Reinhold","Wageck","1. BGC Rodalben 1977 e.V.","SM2: Wageck, Reinhold",{"$f":"VLOOKUP(A3831,bangolf_kategorien!$A$2:$B$11,2,FALSE)","v":"SM2"}]
["ob",37142,"Uwe","Wageck","1. BGC Rodalben 1977 e.V.","SM1: Wageck, Uwe",{"$f":"VLOOKUP(A3832,bangolf_kategorien!$A$2:$B$11,2,FALSE)","v":"SM1"}]
["hs",66813,"Christoph","Wagener","MGC Murnau am Staffelsee e.V.","H: Wagener, Christoph",{"$f":"VLOOKUP(A3833,bangolf_kategorien!$A$2:$B$11,2,FALSE)","v":"H"}]
["pa",67083,"Tobias","Wagener","MGC Murnau am Staffelsee e.V.","SCHM: Wagener, Tobias",{"$f":"VLOOKUP(A3834,bangolf_kategorien!$A$2:$B$11,2,FALSE)","v":"SCHM"}]
["ob",66313,"Volker","Wagener","MGC Murnau am Staffelsee e.V.","SM1: Wagener, Volker",{"$f":"VLOOKUP(A3835,bangolf_kategorien!$A$2:$B$11,2,FALSE)","v":"SM1"}]
["dv",4906,"Barbara","Wagner","1. KC Homburg-Saar 1967 e.V.","SW2: Wagner, Barbara",{"$f":"VLOOKUP(A3836,bangolf_kategorien!$A$2:$B$11,2,FALSE)","v":"SW2"}]
["pa",67393,"Ben","Wagner","VfM Bottrop e.V.","SCHM: Wagner, Ben",{"$f":"VLOOKUP(A3837,bangolf_kategorien!$A$2:$B$11,2,FALSE)","v":"SCHM"}]
["hs",50472,"Christian","Wagner","PTSV Hof, Abt. Minigolf","H: Wagner, Christian",{"$f":"VLOOKUP(A3838,bangolf_kategorien!$A$2:$B$11,2,FALSE)","v":"H"}]
["hv",4908,"Franz","Wagner","1. KC Homburg-Saar 1967 e.V.","SM2: Wagner, Franz",{"$f":"VLOOKUP(A3839,bangolf_kategorien!$A$2:$B$11,2,FALSE)","v":"SM2"}]
["hv",61252,"Gerald","Wagner","MSV Würzburg-Löwenbrücke e.V.","SM2: Wagner, Gerald",{"$f":"VLOOKUP(A3840,bangolf_kategorien!$A$2:$B$11,2,FALSE)","v":"SM2"}]
["hv",5805,"Günter","Wagner","MSC Herscheid 1963 e.V.","SM2: Wagner, Günter",{"$f":"VLOOKUP(A3841,bangolf_kategorien!$A$2:$B$11,2,FALSE)","v":"SM2"}]
["ob",26716,"Hans-Joachim","Wagner","1. MGC Mainz e.V.","SM1: Wagner, Hans-Joachim",{"$f":"VLOOKUP(A3842,bangolf_kategorien!$A$2:$B$11,2,FALSE)","v":"SM1"}]
["ds",28224,"Imke","Wagner","Miniaturgolf Sportclub Schriesheim e.V",{"$f":"CONCATENATE(G3843,\": \",D3843,\", \",C3843)","v":"D: Wagner, Imke"},{"$f":"VLOOKUP(A3843,bangolf_kategorien!$A$2:$B$11,2,FALSE)","v":"D"}]
["hs",45065,"Jürgen","Wagner","Miniaturgolf Sportclub Schriesheim e.V","H: Wagner, Jürgen",{"$f":"VLOOKUP(A3844,bangolf_kategorien!$A$2:$B$11,2,FALSE)","v":"H"}]
["dv",36583,"Marita","Wagner","MSC Herscheid 1963 e.V.","SW2: Wagner, Marita",{"$f":"VLOOKUP(A3845,bangolf_kategorien!$A$2:$B$11,2,FALSE)","v":"SW2"}]
["ob",66800,"Robert","Wagner","BSC Ennepetal e.V.","SM1: Wagner, Robert",{"$f":"VLOOKUP(A3846,bangolf_kategorien!$A$2:$B$11,2,FALSE)","v":"SM1"}]
["ds",30067,"Sandra","Waldherr","MGC Wertheim 91 e.V.","D: Waldherr, Sandra",{"$f":"VLOOKUP(A3847,bangolf_kategorien!$A$2:$B$11,2,FALSE)","v":"D"}]
["ob",43576,"Udo","Waldmann","1. BGC Landshut e.V.","SM1: Waldmann, Udo",{"$f":"VLOOKUP(A3848,bangolf_kategorien!$A$2:$B$11,2,FALSE)","v":"SM1"}]
["hs",36560,"Marcel","Waleska","1. MGC 1970 Göttingen e.V.","H: Waleska, Marcel",{"$f":"VLOOKUP(A3849,bangolf_kategorien!$A$2:$B$11,2,FALSE)","v":"H"}]
["dv",1185,"Ingrit","Walkowiak","TSV Salzgitter e.V. Abt. Bahnengolf","SW2: Walkowiak, Ingrit",{"$f":"VLOOKUP(A3850,bangolf_kategorien!$A$2:$B$11,2,FALSE)","v":"SW2"}]
["ob",38081,"Volker","Wallenski","TSV Kücknitz Abt. Bahnengolf","SM1: Wallenski, Volker",{"$f":"VLOOKUP(A3851,bangolf_kategorien!$A$2:$B$11,2,FALSE)","v":"SM1"}]
["ds",3216567,"Daniela","Wallerand","Hobby","D: Wallerand, Daniela",{"$f":"VLOOKUP(A3852,bangolf_kategorien!$A$2:$B$11,2,FALSE)","v":"D"}]
["hs",38499,"Daniel","Wallich","BGC Bildstock e.V.","H: Wallich, Daniel",{"$f":"VLOOKUP(A3853,bangolf_kategorien!$A$2:$B$11,2,FALSE)","v":"H"}]
["dv",65880,"Brigitte","Wallis","SV Glückauf 1901 Gebhardshagen e.V.","SW2: Wallis, Brigitte",{"$f":"VLOOKUP(A3854,bangolf_kategorien!$A$2:$B$11,2,FALSE)","v":"SW2"}]
["hv",65879,"Udo","Wallis","SV Glückauf 1901 Gebhardshagen e.V.","SM2: Wallis, Udo",{"$f":"VLOOKUP(A3855,bangolf_kategorien!$A$2:$B$11,2,FALSE)","v":"SM2"}]
["hs",3216771,"Tim","Waltenberger","Hobby","H: Waltenberger, Tim",{"$f":"VLOOKUP(A3856,bangolf_kategorien!$A$2:$B$11,2,FALSE)","v":"H"}]
["hv",24779,"Udo","Walter","VfM Bottrop e.V.","SM2: Walter, Udo",{"$f":"VLOOKUP(A3857,bangolf_kategorien!$A$2:$B$11,2,FALSE)","v":"SM2"}]
["hv",66885,"Wilfried","Walter","BGC Rheinau-Freistett e.V.","SM2: Walter, Wilfried",{"$f":"VLOOKUP(A3858,bangolf_kategorien!$A$2:$B$11,2,FALSE)","v":"SM2"}]
["hs",38457,"Denis","Walther","Minigolfclub Karlshagen e.V.","H: Walther, Denis",{"$f":"VLOOKUP(A3859,bangolf_kategorien!$A$2:$B$11,2,FALSE)","v":"H"}]
["hv",36712,"Hans-Jürgen","Walther","BGC Assindia Essen e.V.","SM2: Walther, Hans-Jürgen",{"$f":"VLOOKUP(A3860,bangolf_kategorien!$A$2:$B$11,2,FALSE)","v":"SM2"}]
["ob",28026,"Klaus","Walther","BGC Rheinau-Freistett e.V.","SM1: Walther, Klaus",{"$f":"VLOOKUP(A3861,bangolf_kategorien!$A$2:$B$11,2,FALSE)","v":"SM1"}]
["hs",66125,"Markus","Walther","Minigolfclub Karlshagen e.V.","H: Walther, Markus",{"$f":"VLOOKUP(A3862,bangolf_kategorien!$A$2:$B$11,2,FALSE)","v":"H"}]
["ob",40893,"Uwe","Walther","1. MGC Süßen e.V.","SM1: Walther, Uwe",{"$f":"VLOOKUP(A3863,bangolf_kategorien!$A$2:$B$11,2,FALSE)","v":"SM1"}]
["hs",64930,"Fabio","Walz","1. BGC Landshut e.V.","H: Walz, Fabio",{"$f":"VLOOKUP(A3864,bangolf_kategorien!$A$2:$B$11,2,FALSE)","v":"H"}]
["ob",40495,"Christian","Wamboldt","MSK Olching e.V.","SM1: Wamboldt, Christian",{"$f":"VLOOKUP(A3865,bangolf_kategorien!$A$2:$B$11,2,FALSE)","v":"SM1"}]
["og",29768,"Christiane","Wamboldt","MSK Olching e.V.","SW1: Wamboldt, Christiane",{"$f":"VLOOKUP(A3866,bangolf_kategorien!$A$2:$B$11,2,FALSE)","v":"SW1"}]
["hj",66192,"Eric","Wanjek","BGSC \"Gut Schlag\" Gladbeck e.V.","JM: Wanjek, Eric",{"$f":"VLOOKUP(A3867,bangolf_kategorien!$A$2:$B$11,2,FALSE)","v":"JM"}]
["ob",37030,"Guido","Wanjek","BGSC \"Gut Schlag\" Gladbeck e.V.","SM1: Wanjek, Guido",{"$f":"VLOOKUP(A3868,bangolf_kategorien!$A$2:$B$11,2,FALSE)","v":"SM1"}]
["og",37029,"Mandy","Wanjek","BGSC \"Gut Schlag\" Gladbeck e.V.","SW1: Wanjek, Mandy",{"$f":"VLOOKUP(A3869,bangolf_kategorien!$A$2:$B$11,2,FALSE)","v":"SW1"}]
["hs",36782,"Alexander","Wanner","MGF 77 Sickenhausen e.V.","H: Wanner, Alexander",{"$f":"VLOOKUP(A3870,bangolf_kategorien!$A$2:$B$11,2,FALSE)","v":"H"}]
["hs",33543,"Florian","Wanner","MGF 77 Sickenhausen e.V.","H: Wanner, Florian",{"$f":"VLOOKUP(A3871,bangolf_kategorien!$A$2:$B$11,2,FALSE)","v":"H"}]
["ob",25071,"Hans-Jörg","Wanner","MGF 77 Sickenhausen e.V.","SM1: Wanner, Hans-Jörg",{"$f":"VLOOKUP(A3872,bangolf_kategorien!$A$2:$B$11,2,FALSE)","v":"SM1"}]
["ob",33946,"Burkhard","Waptis","BGSV Castrop e.V. 1961","SM1: Waptis, Burkhard",{"$f":"VLOOKUP(A3873,bangolf_kategorien!$A$2:$B$11,2,FALSE)","v":"SM1"}]
["pa",66830,"Silas","Warkentin","TSV Pfungstadt Abt. Bahnengolf e.V.","SCHM: Warkentin, Silas",{"$f":"VLOOKUP(A3874,bangolf_kategorien!$A$2:$B$11,2,FALSE)","v":"SCHM"}]
["og",1612,"Jenifer","Warnecke","BGC Diepholz e.V.","SW1: Warnecke, Jenifer",{"$f":"VLOOKUP(A3875,bangolf_kategorien!$A$2:$B$11,2,FALSE)","v":"SW1"}]
["og",46911,"Nicole","Warnecke","1. BGC Wolfsburg","SW1: Warnecke, Nicole",{"$f":"VLOOKUP(A3876,bangolf_kategorien!$A$2:$B$11,2,FALSE)","v":"SW1"}]
["hs",35215,"Manuel","Warnkens","BGC Bremen e.V.","H: Warnkens, Manuel",{"$f":"VLOOKUP(A3877,bangolf_kategorien!$A$2:$B$11,2,FALSE)","v":"H"}]
["hv",35214,"Thomas","Warnkens","BGC Bremen e.V.","SM2: Warnkens, Thomas",{"$f":"VLOOKUP(A3878,bangolf_kategorien!$A$2:$B$11,2,FALSE)","v":"SM2"}]
["hs",65415,"Tobias","Warschkau","SC Wermelskirchen 1976 e.V.","H: Warschkau, Tobias",{"$f":"VLOOKUP(A3879,bangolf_kategorien!$A$2:$B$11,2,FALSE)","v":"H"}]
["hv",24559,"Hans-Werner","Waschbusch","Freizeit Club Bliesen e.V.","SM2: Waschbusch, Hans-Werner",{"$f":"VLOOKUP(A3880,bangolf_kategorien!$A$2:$B$11,2,FALSE)","v":"SM2"}]
["dv",43441,"Ursula","Waschbusch","Freizeit Club Bliesen e.V.","SW2: Waschbusch, Ursula",{"$f":"VLOOKUP(A3881,bangolf_kategorien!$A$2:$B$11,2,FALSE)","v":"SW2"}]
["ob",67176,"Alexander","Waskow","1.KGC Mönchengladbach e.V.","SM1: Waskow, Alexander",{"$f":"VLOOKUP(A3882,bangolf_kategorien!$A$2:$B$11,2,FALSE)","v":"SM1"}]
["hs",34515,"Sven","Wassermann","1. MGC Kassel 1964 e.V.","H: Wassermann, Sven",{"$f":"VLOOKUP(A3883,bangolf_kategorien!$A$2:$B$11,2,FALSE)","v":"H"}]
["dv",65513,"Brigitte","Waßmer","BSV Inzlingen 1979 e.V.","SW2: Waßmer, Brigitte",{"$f":"VLOOKUP(A3884,bangolf_kategorien!$A$2:$B$11,2,FALSE)","v":"SW2"}]
["hv",37371,"Peter","Waßmer","BSV Inzlingen 1979 e.V.","SM2: Waßmer, Peter",{"$f":"VLOOKUP(A3885,bangolf_kategorien!$A$2:$B$11,2,FALSE)","v":"SM2"}]
["hs",65862,"Dirk","Waxmann","MGC Traben-Trarbach","H: Waxmann, Dirk",{"$f":"VLOOKUP(A3886,bangolf_kategorien!$A$2:$B$11,2,FALSE)","v":"H"}]
["hs",65861,"Sven","Waxmann","MGC Traben-Trarbach","H: Waxmann, Sven",{"$f":"VLOOKUP(A3887,bangolf_kategorien!$A$2:$B$11,2,FALSE)","v":"H"}]
["ob",35116,"Bernd","Weber","VfM Bottrop e.V.","SM1: Weber, Bernd",{"$f":"VLOOKUP(A3888,bangolf_kategorien!$A$2:$B$11,2,FALSE)","v":"SM1"}]
["hs",23179,"Dennis","Weber","MGC Dortmund Syburg e.V.","H: Weber, Dennis",{"$f":"VLOOKUP(A3889,bangolf_kategorien!$A$2:$B$11,2,FALSE)","v":"H"}]
["hs",27911,"Dominik","Weber","KSV Baltrum e.V.","H: Weber, Dominik",{"$f":"VLOOKUP(A3890,bangolf_kategorien!$A$2:$B$11,2,FALSE)","v":"H"}]
["fa",66765,"Elena","Weber","1. BGC Landshut e.V.","SCHW: Weber, Elena",{"$f":"VLOOKUP(A3891,bangolf_kategorien!$A$2:$B$11,2,FALSE)","v":"SCHW"}]
["ob",29622,"Hans-Dieter","Weber","MSC Bad Godesberg e.V.","SM1: Weber, Hans-Dieter",{"$f":"VLOOKUP(A3892,bangolf_kategorien!$A$2:$B$11,2,FALSE)","v":"SM1"}]
["hv",3114564,"Herbert","Weber","Hobby","SM2: Weber, Herbert",{"$f":"VLOOKUP(A3893,bangolf_kategorien!$A$2:$B$11,2,FALSE)","v":"SM2"}]
["fa",66887,"Janina","Weber","MSC Bad Godesberg e.V.","SCHW: Weber, Janina",{"$f":"VLOOKUP(A3894,bangolf_kategorien!$A$2:$B$11,2,FALSE)","v":"SCHW"}]
["ob",47235,"Jörg Markus","Weber","BGSV Bad Homburg","SM1: Weber, Jörg Markus",{"$f":"VLOOKUP(A3895,bangolf_kategorien!$A$2:$B$11,2,FALSE)","v":"SM1"}]
["og",66866,"Jutta","Weber","1. BGC Landshut e.V.","SW1: Weber, Jutta",{"$f":"VLOOKUP(A3896,bangolf_kategorien!$A$2:$B$11,2,FALSE)","v":"SW1"}]
["ds",3216792,"Karin","Weber","Hobby","D: Weber, Karin",{"$f":"VLOOKUP(A3897,bangolf_kategorien!$A$2:$B$11,2,FALSE)","v":"D"}]
["hv",6298,"Karl-Otto","Weber","BGC Bad Mergentheim e.V.","SM2: Weber, Karl-Otto",{"$f":"VLOOKUP(A3898,bangolf_kategorien!$A$2:$B$11,2,FALSE)","v":"SM2"}]
["hs",66802,"Marco","Weber","Miniaturgolf Sportclub Schriesheim e.V","H: Weber, Marco",{"$f":"VLOOKUP(A3899,bangolf_kategorien!$A$2:$B$11,2,FALSE)","v":"H"}]
["og",38167,"Marianne","Weber","BGC Bad Mergentheim e.V.","SW1: Weber, Marianne",{"$f":"VLOOKUP(A3900,bangolf_kategorien!$A$2:$B$11,2,FALSE)","v":"SW1"}]
["ob",3117838,"Ralf","Wedekind","Hobby","SM1: Wedekind, Ralf",{"$f":"VLOOKUP(A3901,bangolf_kategorien!$A$2:$B$11,2,FALSE)","v":"SM1"}]
["ob",46606,"Sven","Wedmann","BGC Bad Nenndorf e.V.","SM1: Wedmann, Sven",{"$f":"VLOOKUP(A3902,bangolf_kategorien!$A$2:$B$11,2,FALSE)","v":"SM1"}]
["ob",35491,"Frank","Wege","BGV Backumer Tal Herten e.V.","SM1: Wege, Frank",{"$f":"VLOOKUP(A3903,bangolf_kategorien!$A$2:$B$11,2,FALSE)","v":"SM1"}]
["hv",33976,"Hugo","Wehlmann","MGC Sulzfeld e.V.","SM2: Wehlmann, Hugo",{"$f":"VLOOKUP(A3904,bangolf_kategorien!$A$2:$B$11,2,FALSE)","v":"SM2"}]
["ob",50935,"Markus","Wehmeyer","1. MGC Epe 1978 e.V.","SM1: Wehmeyer, Markus",{"$f":"VLOOKUP(A3905,bangolf_kategorien!$A$2:$B$11,2,FALSE)","v":"SM1"}]
["hv",37139,"Dieter","Wehn","MGC \"Stahlquelle\" Bad Bocklet","SM2: Wehn, Dieter",{"$f":"VLOOKUP(A3906,bangolf_kategorien!$A$2:$B$11,2,FALSE)","v":"SM2"}]
["og",37252,"Martina","Wehner","HMC Büttgen e.V.",{"$f":"CONCATENATE(G3907,\": \",D3907,\", \",C3907)","v":"SW1: Wehner, Martina"},{"$f":"VLOOKUP(A3907,bangolf_kategorien!$A$2:$B$11,2,FALSE)","v":"SW1"}]
["og",66720,"Petra","Wehner","Reinickendorfer MGC e.V.","SW1: Wehner, Petra",{"$f":"VLOOKUP(A3908,bangolf_kategorien!$A$2:$B$11,2,FALSE)","v":"SW1"}]
["ds",37133,"Svenja","Wehner","HMC Büttgen e.V.","D: Wehner, Svenja",{"$f":"VLOOKUP(A3909,bangolf_kategorien!$A$2:$B$11,2,FALSE)","v":"D"}]
["ob",27861,"Thomas","Wehner","HMC Büttgen e.V.","SM1: Wehner, Thomas",{"$f":"VLOOKUP(A3910,bangolf_kategorien!$A$2:$B$11,2,FALSE)","v":"SM1"}]
["ob",31003,"Uwe","Wehner","Reinickendorfer MGC e.V.","SM1: Wehner, Uwe",{"$f":"VLOOKUP(A3911,bangolf_kategorien!$A$2:$B$11,2,FALSE)","v":"SM1"}]
["ob",67384,"Christofer","Wehrheim","MGC Bad Homburg vdH e.V.","SM1: Wehrheim, Christofer",{"$f":"VLOOKUP(A3912,bangolf_kategorien!$A$2:$B$11,2,FALSE)","v":"SM1"}]
["hs",35645,"Thorsten","Wehrmann","MGC Bad Salzuflen e.V.","H: Wehrmann, Thorsten",{"$f":"VLOOKUP(A3913,bangolf_kategorien!$A$2:$B$11,2,FALSE)","v":"H"}]
["og",44007,"Petra","Weibbrecht","1. FMGC Lichtenfels 1961 e.V.","SW1: Weibbrecht, Petra",{"$f":"VLOOKUP(A3914,bangolf_kategorien!$A$2:$B$11,2,FALSE)","v":"SW1"}]
["hv",17335,"Günter","Weide","1. MGC Kassel 1964 e.V.","SM2: Weide, Günter",{"$f":"VLOOKUP(A3915,bangolf_kategorien!$A$2:$B$11,2,FALSE)","v":"SM2"}]
["dv",5591,"Thusnelda","Weide","1. MGC Kassel 1964 e.V.","SW2: Weide, Thusnelda",{"$f":"VLOOKUP(A3916,bangolf_kategorien!$A$2:$B$11,2,FALSE)","v":"SW2"}]
["hs",51729,"Andreas","Weidel","BGC Neutraubling e.V.","H: Weidel, Andreas",{"$f":"VLOOKUP(A3917,bangolf_kategorien!$A$2:$B$11,2,FALSE)","v":"H"}]
["hv",34555,"Bernhard","Weidemann","TSV Kücknitz Abt. Bahnengolf","SM2: Weidemann, Bernhard",{"$f":"VLOOKUP(A3918,bangolf_kategorien!$A$2:$B$11,2,FALSE)","v":"SM2"}]
["hs",32995,"Stefan","Weidl","MSG Kempten e.V.","H: Weidl, Stefan",{"$f":"VLOOKUP(A3919,bangolf_kategorien!$A$2:$B$11,2,FALSE)","v":"H"}]
["ob",44689,"Ingo","Weidner","1. BGC Hannover e.V.","SM1: Weidner, Ingo",{"$f":"VLOOKUP(A3920,bangolf_kategorien!$A$2:$B$11,2,FALSE)","v":"SM1"}]
["og",3106609,"Wenke","Weiermüller","Hobby","SW1: Weiermüller, Wenke",{"$f":"VLOOKUP(A3921,bangolf_kategorien!$A$2:$B$11,2,FALSE)","v":"SW1"}]
["dv",46277,"Barbara","Weigang","1. BGC Hannover e.V.","SW2: Weigang, Barbara",{"$f":"VLOOKUP(A3922,bangolf_kategorien!$A$2:$B$11,2,FALSE)","v":"SW2"}]
["hv",6605,"Klaus-Dieter","Weigang","1. BGC Hannover e.V.","SM2: Weigang, Klaus-Dieter",{"$f":"VLOOKUP(A3923,bangolf_kategorien!$A$2:$B$11,2,FALSE)","v":"SM2"}]
["hv",38019,"Karlheinz","Weigenand","MC Ilvesheim e.V.","SM2: Weigenand, Karlheinz",{"$f":"VLOOKUP(A3924,bangolf_kategorien!$A$2:$B$11,2,FALSE)","v":"SM2"}]
["hs",41248,"Christian","Weigl","BSV Inzlingen 1979 e.V.","H: Weigl, Christian",{"$f":"VLOOKUP(A3925,bangolf_kategorien!$A$2:$B$11,2,FALSE)","v":"H"}]
["pa",67071,"Dominik","Weihs","BGS Hardenberg-Pötter e.V.","SCHM: Weihs, Dominik",{"$f":"VLOOKUP(A3926,bangolf_kategorien!$A$2:$B$11,2,FALSE)","v":"SCHM"}]
["dv",3488,"Inge","Weinberger","BGC Neutraubling e.V.","SW2: Weinberger, Inge",{"$f":"VLOOKUP(A3927,bangolf_kategorien!$A$2:$B$11,2,FALSE)","v":"SW2"}]
["ob",26955,"Reiner","Weinberger","BGC Neutraubling e.V.","SM1: Weinberger, Reiner",{"$f":"VLOOKUP(A3928,bangolf_kategorien!$A$2:$B$11,2,FALSE)","v":"SM1"}]
["ob",36154,"Reinhold","Weinberger","1. MGC Gelsenkirchen e.V.","SM1: Weinberger, Reinhold",{"$f":"VLOOKUP(A3929,bangolf_kategorien!$A$2:$B$11,2,FALSE)","v":"SM1"}]
["dv",36153,"Sabine","Weinberger","1. MGC Gelsenkirchen e.V.","SW2: Weinberger, Sabine",{"$f":"VLOOKUP(A3930,bangolf_kategorien!$A$2:$B$11,2,FALSE)","v":"SW2"}]
["hs",67377,"Mike","Weingarten","MGC Nümbrecht e.V.","H: Weingarten, Mike",{"$f":"VLOOKUP(A3931,bangolf_kategorien!$A$2:$B$11,2,FALSE)","v":"H"}]
["hv",40354,"Klaus","Weinhold","1. BGC Leipzig e.V.","SM2: Weinhold, Klaus",{"$f":"VLOOKUP(A3932,bangolf_kategorien!$A$2:$B$11,2,FALSE)","v":"SM2"}]
["dv",40360,"Martina","Weinhold","1. BGC Leipzig e.V.","SW2: Weinhold, Martina",{"$f":"VLOOKUP(A3933,bangolf_kategorien!$A$2:$B$11,2,FALSE)","v":"SW2"}]
["hs",35538,"Stefan","Weinhold","1. BGC Wolfsburg","H: Weinhold, Stefan",{"$f":"VLOOKUP(A3934,bangolf_kategorien!$A$2:$B$11,2,FALSE)","v":"H"}]
["dv",62043,"Helga","Weinstein","KGC  Waldstadion Frankfurt am Main","SW2: Weinstein, Helga",{"$f":"VLOOKUP(A3935,bangolf_kategorien!$A$2:$B$11,2,FALSE)","v":"SW2"}]
["ds",36594,"Claudia","Weinzierl","1. BGC Landshut e.V.","D: Weinzierl, Claudia",{"$f":"VLOOKUP(A3936,bangolf_kategorien!$A$2:$B$11,2,FALSE)","v":"D"}]
["ob",41137,"Jörg","Weirich","MSC Bensheim-Auerbach e.V.","SM1: Weirich, Jörg",{"$f":"VLOOKUP(A3937,bangolf_kategorien!$A$2:$B$11,2,FALSE)","v":"SM1"}]
["hv",17988,"Norbert","Weis","BGC Schweinfurt e.V.","SM2: Weis, Norbert",{"$f":"VLOOKUP(A3938,bangolf_kategorien!$A$2:$B$11,2,FALSE)","v":"SM2"}]
["ob",35006,"Ralf","Weis","1. Münchener MGC e.V.","SM1: Weis, Ralf",{"$f":"VLOOKUP(A3939,bangolf_kategorien!$A$2:$B$11,2,FALSE)","v":"SM1"}]
["ob",48288,"Franz","Weiser","MGF Ottobrunn e.V.","SM1: Weiser, Franz",{"$f":"VLOOKUP(A3940,bangolf_kategorien!$A$2:$B$11,2,FALSE)","v":"SM1"}]
["og",48289,"Silvia","Weiser","MGF Ottobrunn e.V.","SW1: Weiser, Silvia",{"$f":"VLOOKUP(A3941,bangolf_kategorien!$A$2:$B$11,2,FALSE)","v":"SW1"}]
["hv",9244,"Wolfgang","Weiser","TSV Pfungstadt Abt. Bahnengolf e.V.","SM2: Weiser, Wolfgang",{"$f":"VLOOKUP(A3942,bangolf_kategorien!$A$2:$B$11,2,FALSE)","v":"SM2"}]
["pa",66719,"Christian","Weiß","TV Niederstetten 1862 e.V.  Abt. Minigolf","SCHM: Weiß, Christian",{"$f":"VLOOKUP(A3943,bangolf_kategorien!$A$2:$B$11,2,FALSE)","v":"SCHM"}]
["pa",67276,"Damon","Weiß","1. MGC Mannheim 1968 e.V.","SCHM: Weiß, Damon",{"$f":"VLOOKUP(A3944,bangolf_kategorien!$A$2:$B$11,2,FALSE)","v":"SCHM"}]
["og",38112,"Jeannette","Weiß","1. MGC Mannheim 1968 e.V.","SW1: Weiß, Jeannette",{"$f":"VLOOKUP(A3945,bangolf_kategorien!$A$2:$B$11,2,FALSE)","v":"SW1"}]
["ob",38113,"Michael","Weiß","1. MGC Mannheim 1968 e.V.","SM1: Weiß, Michael",{"$f":"VLOOKUP(A3946,bangolf_kategorien!$A$2:$B$11,2,FALSE)","v":"SM1"}]
["ob",36070,"Rolf","Weiß","TV Niederstetten 1862 e.V.  Abt. Minigolf","SM1: Weiß, Rolf",{"$f":"VLOOKUP(A3947,bangolf_kategorien!$A$2:$B$11,2,FALSE)","v":"SM1"}]
["hj",38114,"Steven","Weiß","1. MGC Mainz e.V.","JM: Weiß, Steven",{"$f":"VLOOKUP(A3948,bangolf_kategorien!$A$2:$B$11,2,FALSE)","v":"JM"}]
["hs",44173,"Stefan","Weißenberger","TG Höchberg von 1862 Bahnengolf e.V.","H: Weißenberger, Stefan",{"$f":"VLOOKUP(A3949,bangolf_kategorien!$A$2:$B$11,2,FALSE)","v":"H"}]
["ds",30307,"Angela","Weißer","BGC Heilbronn e.V.","D: Weißer, Angela",{"$f":"VLOOKUP(A3950,bangolf_kategorien!$A$2:$B$11,2,FALSE)","v":"D"}]
["ob",35784,"Stephan","Weißer","BGC Heilbronn e.V.","SM1: Weißer, Stephan",{"$f":"VLOOKUP(A3951,bangolf_kategorien!$A$2:$B$11,2,FALSE)","v":"SM1"}]
["hs",33604,"Henning","Weißmann","1. MGC 1970 Göttingen e.V.","H: Weißmann, Henning",{"$f":"VLOOKUP(A3952,bangolf_kategorien!$A$2:$B$11,2,FALSE)","v":"H"}]
["ob",3216847,"Jens","Weitemeier","Hobby","SM1: Weitemeier, Jens",{"$f":"VLOOKUP(A3953,bangolf_kategorien!$A$2:$B$11,2,FALSE)","v":"SM1"}]
["hs",34150,"Dennis","Welpmann","MC Tigers Künsebeck e.V.","H: Welpmann, Dennis",{"$f":"VLOOKUP(A3954,bangolf_kategorien!$A$2:$B$11,2,FALSE)","v":"H"}]
["hs",37781,"Patrick","Welpmann","MC Tigers Künsebeck e.V.","H: Welpmann, Patrick",{"$f":"VLOOKUP(A3955,bangolf_kategorien!$A$2:$B$11,2,FALSE)","v":"H"}]
["ob",67014,"Ralf","Wendland","1. CGC Blau-Gelb Grötzingen","SM1: Wendland, Ralf",{"$f":"VLOOKUP(A3956,bangolf_kategorien!$A$2:$B$11,2,FALSE)","v":"SM1"}]
["ob",49256,"Dieter","Wendlandt","MC \"Möve\" Cuxhaven-Sahlenburg e.V.","SM1: Wendlandt, Dieter",{"$f":"VLOOKUP(A3957,bangolf_kategorien!$A$2:$B$11,2,FALSE)","v":"SM1"}]
["dj",65834,"Amelie","Wendt","MSG Kempten e.V.","JW: Wendt, Amelie",{"$f":"VLOOKUP(A3958,bangolf_kategorien!$A$2:$B$11,2,FALSE)","v":"JW"}]
["og",66014,"Elfi","Wendt","BGC Illertissen e.V.","SW1: Wendt, Elfi",{"$f":"VLOOKUP(A3959,bangolf_kategorien!$A$2:$B$11,2,FALSE)","v":"SW1"}]
["ob",38605,"Klaus","Wendt","MSG Kempten e.V.","SM1: Wendt, Klaus",{"$f":"VLOOKUP(A3960,bangolf_kategorien!$A$2:$B$11,2,FALSE)","v":"SM1"}]
["og",35896,"Gottholde","Weniger","CGC Rauschenberg e.V.","SW1: Weniger, Gottholde",{"$f":"VLOOKUP(A3961,bangolf_kategorien!$A$2:$B$11,2,FALSE)","v":"SW1"}]
["hj",66225,"Timo","Wenner","1. CGC Blau-Gelb Grötzingen","JM: Wenner, Timo",{"$f":"VLOOKUP(A3962,bangolf_kategorien!$A$2:$B$11,2,FALSE)","v":"JM"}]
["hv",32952,"Henry","Wennrich","SC Bad Münder Abt. Bahnengolf","SM2: Wennrich, Henry",{"$f":"VLOOKUP(A3963,bangolf_kategorien!$A$2:$B$11,2,FALSE)","v":"SM2"}]
["hs",37949,"Dominik","Wentzel","Hamburger MC von 1965 e.V.","H: Wentzel, Dominik",{"$f":"VLOOKUP(A3964,bangolf_kategorien!$A$2:$B$11,2,FALSE)","v":"H"}]
["hs",37916,"Marcel","Wentzel","VfL Lohbrügge Abt. Bahnengolf","H: Wentzel, Marcel",{"$f":"VLOOKUP(A3965,bangolf_kategorien!$A$2:$B$11,2,FALSE)","v":"H"}]
["dv",37917,"Veronika","Wentzel","VfL Lohbrügge Abt. Bahnengolf","SW2: Wentzel, Veronika",{"$f":"VLOOKUP(A3966,bangolf_kategorien!$A$2:$B$11,2,FALSE)","v":"SW2"}]
["hs",31459,"Felix","Wenz","BGSV Kerpen e.V.","H: Wenz, Felix",{"$f":"VLOOKUP(A3967,bangolf_kategorien!$A$2:$B$11,2,FALSE)","v":"H"}]
["hs",32089,"Tobias","Wenz","BGSV Kerpen e.V.","H: Wenz, Tobias",{"$f":"VLOOKUP(A3968,bangolf_kategorien!$A$2:$B$11,2,FALSE)","v":"H"}]
["hv",3211945,"Franz","Wenzel","Hobby","SM2: Wenzel, Franz",{"$f":"VLOOKUP(A3969,bangolf_kategorien!$A$2:$B$11,2,FALSE)","v":"SM2"}]
["hv",66221,"Norbert","Wenzel","1. BGC Hannover e.V.","SM2: Wenzel, Norbert",{"$f":"VLOOKUP(A3970,bangolf_kategorien!$A$2:$B$11,2,FALSE)","v":"SM2"}]
["hv",5994,"Karl","Wenzke","MGC \"Stahlquelle\" Bad Bocklet",{"$f":"CONCATENATE(G3971,\": \",D3971,\", \",C3971)","v":"SM2: Wenzke, Karl"},{"$f":"VLOOKUP(A3971,bangolf_kategorien!$A$2:$B$11,2,FALSE)","v":"SM2"}]
["hv",3202286,"Günter","Wermke","Hobby","SM2: Wermke, Günter",{"$f":"VLOOKUP(A3972,bangolf_kategorien!$A$2:$B$11,2,FALSE)","v":"SM2"}]
["hs",35061,"Ulrich","Wernecke","MGC Bad Oldesloe e.V.","H: Wernecke, Ulrich",{"$f":"VLOOKUP(A3973,bangolf_kategorien!$A$2:$B$11,2,FALSE)","v":"H"}]
["hv",37605,"Uwe","Wernecke","MGC Bad Oldesloe e.V.","SM2: Wernecke, Uwe",{"$f":"VLOOKUP(A3974,bangolf_kategorien!$A$2:$B$11,2,FALSE)","v":"SM2"}]
["ob",31120,"Hans Jürgen","Werner","MSC Bensheim-Auerbach e.V.","SM1: Werner, Hans Jürgen",{"$f":"VLOOKUP(A3975,bangolf_kategorien!$A$2:$B$11,2,FALSE)","v":"SM1"}]
["hs",36311,"Lars","Werner","MGC Freizeitzentrum Biebertal","H: Werner, Lars",{"$f":"VLOOKUP(A3976,bangolf_kategorien!$A$2:$B$11,2,FALSE)","v":"H"}]
["ds",37386,"Simone","Werner","MGC Murnau am Staffelsee e.V.","D: Werner, Simone",{"$f":"VLOOKUP(A3977,bangolf_kategorien!$A$2:$B$11,2,FALSE)","v":"D"}]
["ds",35666,"Jana","Wernicke","BGC Neutraubling e.V.","D: Wernicke, Jana",{"$f":"VLOOKUP(A3978,bangolf_kategorien!$A$2:$B$11,2,FALSE)","v":"D"}]
["ob",28786,"Karlheinz","Werres","1.KGC Mönchengladbach e.V.","SM1: Werres, Karlheinz",{"$f":"VLOOKUP(A3979,bangolf_kategorien!$A$2:$B$11,2,FALSE)","v":"SM1"}]
["hs",36292,"Eike-Fabian","Wesemann","BGC Diepholz e.V.","H: Wesemann, Eike-Fabian",{"$f":"VLOOKUP(A3980,bangolf_kategorien!$A$2:$B$11,2,FALSE)","v":"H"}]
["hs",35546,"Florian","Wesemann","BGC Diepholz e.V.","H: Wesemann, Florian",{"$f":"VLOOKUP(A3981,bangolf_kategorien!$A$2:$B$11,2,FALSE)","v":"H"}]
["hs",50388,"Christoph","Wess","MGC putter Künzell 1970 e.V.","H: Wess, Christoph",{"$f":"VLOOKUP(A3982,bangolf_kategorien!$A$2:$B$11,2,FALSE)","v":"H"}]
["ob",43598,"Volker","Wesselmäcking","TSV Salzgitter e.V. Abt. Bahnengolf","SM1: Wesselmäcking, Volker",{"$f":"VLOOKUP(A3983,bangolf_kategorien!$A$2:$B$11,2,FALSE)","v":"SM1"}]
["hv",37466,"Klaus","Wessendorf","MC Georgsmarienhütte e.V.","SM2: Wessendorf, Klaus",{"$f":"VLOOKUP(A3984,bangolf_kategorien!$A$2:$B$11,2,FALSE)","v":"SM2"}]
["hv",66199,"Stefan","Westerfeld","VfB Osnabrück e.V.","SM2: Westerfeld, Stefan",{"$f":"VLOOKUP(A3985,bangolf_kategorien!$A$2:$B$11,2,FALSE)","v":"SM2"}]
["ob",34970,"Lars","Westermann","1. Porzer MGC Grün-Weiß 1969 e.V.","SM1: Westermann, Lars",{"$f":"VLOOKUP(A3986,bangolf_kategorien!$A$2:$B$11,2,FALSE)","v":"SM1"}]
["ds",67407,"Stefanie","Westerwelle","BV Sennestadt","D: Westerwelle, Stefanie",{"$f":"VLOOKUP(A3987,bangolf_kategorien!$A$2:$B$11,2,FALSE)","v":"D"}]
["og",2238,"Karin","Westrup","MGC Lippe-Detmold e.V.","SW1: Westrup, Karin",{"$f":"VLOOKUP(A3988,bangolf_kategorien!$A$2:$B$11,2,FALSE)","v":"SW1"}]
["ob",66696,"Rainer","Wettstädt","MV Lankwitzer Dragons e.V.","SM1: Wettstädt, Rainer",{"$f":"VLOOKUP(A3989,bangolf_kategorien!$A$2:$B$11,2,FALSE)","v":"SM1"}]
["og",31216,"Cornelia","Wetzel","1. CGC Blau-Gelb Grötzingen","SW1: Wetzel, Cornelia",{"$f":"VLOOKUP(A3990,bangolf_kategorien!$A$2:$B$11,2,FALSE)","v":"SW1"}]
["og",44673,"Heike","Wetzel","BGC Dormagen e.V.","SW1: Wetzel, Heike",{"$f":"VLOOKUP(A3991,bangolf_kategorien!$A$2:$B$11,2,FALSE)","v":"SW1"}]
["hj",37659,"Jonas","Wetzel","BGC Dormagen e.V.","JM: Wetzel, Jonas",{"$f":"VLOOKUP(A3992,bangolf_kategorien!$A$2:$B$11,2,FALSE)","v":"JM"}]
["ob",31721,"Klaus","Wetzel","BGC Dormagen e.V.","SM1: Wetzel, Klaus",{"$f":"VLOOKUP(A3993,bangolf_kategorien!$A$2:$B$11,2,FALSE)","v":"SM1"}]
["ob",42610,"Markus","Wetzel","BGC Dormagen e.V.","SM1: Wetzel, Markus",{"$f":"VLOOKUP(A3994,bangolf_kategorien!$A$2:$B$11,2,FALSE)","v":"SM1"}]
["hv",5581,"Paul","Wetzel","1. MGC Süßen e.V.","SM2: Wetzel, Paul",{"$f":"VLOOKUP(A3995,bangolf_kategorien!$A$2:$B$11,2,FALSE)","v":"SM2"}]
["hv",3309,"Christian","Weyandt","SSV Ulm 1846 Abt. Bahnengolf","SM2: Weyandt, Christian",{"$f":"VLOOKUP(A3996,bangolf_kategorien!$A$2:$B$11,2,FALSE)","v":"SM2"}]
["ob",46965,"Stefan","Weyers","BGC Uerdingen e.V.","SM1: Weyers, Stefan",{"$f":"VLOOKUP(A3997,bangolf_kategorien!$A$2:$B$11,2,FALSE)","v":"SM1"}]
["ob",29149,"Frank","Weygold","1. MGC Ladenburg e.V.","SM1: Weygold, Frank",{"$f":"VLOOKUP(A3998,bangolf_kategorien!$A$2:$B$11,2,FALSE)","v":"SM1"}]
["ob",27809,"Thomas","Weygoldt","1. MGC Ladenburg e.V.","SM1: Weygoldt, Thomas",{"$f":"VLOOKUP(A3999,bangolf_kategorien!$A$2:$B$11,2,FALSE)","v":"SM1"}]
["ob",45696,"Andreas","Wiards","KSV Baltrum e.V.","SM1: Wiards, Andreas",{"$f":"VLOOKUP(A4000,bangolf_kategorien!$A$2:$B$11,2,FALSE)","v":"SM1"}]
["ob",43497,"Marcus","Wiche","MSC Bad Godesberg e.V.","SM1: Wiche, Marcus",{"$f":"VLOOKUP(A4001,bangolf_kategorien!$A$2:$B$11,2,FALSE)","v":"SM1"}]
["dv",3219,"Christa","Wichmann","Niendorfer MC v. 1963 e.V.","SW2: Wichmann, Christa",{"$f":"VLOOKUP(A4002,bangolf_kategorien!$A$2:$B$11,2,FALSE)","v":"SW2"}]
["hv",3808,"Peter","Wichmann","Niendorfer MC v. 1963 e.V.","SM2: Wichmann, Peter",{"$f":"VLOOKUP(A4003,bangolf_kategorien!$A$2:$B$11,2,FALSE)","v":"SM2"}]
["hs",38324,"Daniel","Wick","MGC Traben-Trarbach","H: Wick, Daniel",{"$f":"VLOOKUP(A4004,bangolf_kategorien!$A$2:$B$11,2,FALSE)","v":"H"}]
["ob",33820,"Stefan","Wicke","1. MGC Lohfelden 1997 e.V.","SM1: Wicke, Stefan",{"$f":"VLOOKUP(A4005,bangolf_kategorien!$A$2:$B$11,2,FALSE)","v":"SM1"}]
["hv",30278,"Frank","Wickel","MGC Heven e.V.","SM2: Wickel, Frank",{"$f":"VLOOKUP(A4006,bangolf_kategorien!$A$2:$B$11,2,FALSE)","v":"SM2"}]
["ds",33510,"Melanie","Wickel-Paffrath","MGC Heven e.V.","D: Wickel-Paffrath, Melanie",{"$f":"VLOOKUP(A4007,bangolf_kategorien!$A$2:$B$11,2,FALSE)","v":"D"}]
["ob",41894,"Bernd","Widera","1. BGC Wolfsburg","SM1: Widera, Bernd",{"$f":"VLOOKUP(A4008,bangolf_kategorien!$A$2:$B$11,2,FALSE)","v":"SM1"}]
["hv",30082,"Peter","Widmair","MGC Bad Feilnbach e.V.","SM2: Widmair, Peter",{"$f":"VLOOKUP(A4009,bangolf_kategorien!$A$2:$B$11,2,FALSE)","v":"SM2"}]
["hs",47446,"Roland","Widmair","MGC Bad Feilnbach e.V.","H: Widmair, Roland",{"$f":"VLOOKUP(A4010,bangolf_kategorien!$A$2:$B$11,2,FALSE)","v":"H"}]
["dv",65464,"Christine","Wiebauer","1. MGC Ludwigshafen e.V.","SW2: Wiebauer, Christine",{"$f":"VLOOKUP(A4011,bangolf_kategorien!$A$2:$B$11,2,FALSE)","v":"SW2"}]
["hv",37722,"Peter","Wiebauer","1. MGC Ludwigshafen e.V.","SM2: Wiebauer, Peter",{"$f":"VLOOKUP(A4012,bangolf_kategorien!$A$2:$B$11,2,FALSE)","v":"SM2"}]
["hv",32946,"Friedrich","Wiebusch","SC Wermelskirchen 1976 e.V.","SM2: Wiebusch, Friedrich",{"$f":"VLOOKUP(A4013,bangolf_kategorien!$A$2:$B$11,2,FALSE)","v":"SM2"}]
["hv",61922,"Herbert","Wieck","VfL Lüneburg Abt. Bahnengolf","SM2: Wieck, Herbert",{"$f":"VLOOKUP(A4014,bangolf_kategorien!$A$2:$B$11,2,FALSE)","v":"SM2"}]
["hv",38379,"Klaus-Heinrich","Wiedemann","VfM e.V. Berlin","SM2: Wiedemann, Klaus-Heinrich",{"$f":"VLOOKUP(A4015,bangolf_kategorien!$A$2:$B$11,2,FALSE)","v":"SM2"}]
["hs",36603,"Oliver","Wieder","SV Glückauf 1901 Gebhardshagen e.V.","H: Wieder, Oliver",{"$f":"VLOOKUP(A4016,bangolf_kategorien!$A$2:$B$11,2,FALSE)","v":"H"}]
["hv",50331,"Peter","Wiedmaier","MCE Sindelfingen e.V.","SM2: Wiedmaier, Peter",{"$f":"VLOOKUP(A4017,bangolf_kategorien!$A$2:$B$11,2,FALSE)","v":"SM2"}]
["ob",34736,"Dieter","Wiedmann","TV Niederstetten 1862 e.V.  Abt. Minigolf","SM1: Wiedmann, Dieter",{"$f":"VLOOKUP(A4018,bangolf_kategorien!$A$2:$B$11,2,FALSE)","v":"SM1"}]
["ob",33568,"Stephan","Wiedmann","SG Arheilgen Abt. Bahnengolf","SM1: Wiedmann, Stephan",{"$f":"VLOOKUP(A4019,bangolf_kategorien!$A$2:$B$11,2,FALSE)","v":"SM1"}]
["hv",1002,"Dieter","Wiegand","1. BGC Hannover e.V.","SM2: Wiegand, Dieter",{"$f":"VLOOKUP(A4020,bangolf_kategorien!$A$2:$B$11,2,FALSE)","v":"SM2"}]
["hs",38058,"Florian","Wiegard","MGC putter Künzell 1970 e.V.","H: Wiegard, Florian",{"$f":"VLOOKUP(A4021,bangolf_kategorien!$A$2:$B$11,2,FALSE)","v":"H"}]
["hs",48335,"Michael","Wiegard","MGC putter Künzell 1970 e.V.","H: Wiegard, Michael",{"$f":"VLOOKUP(A4022,bangolf_kategorien!$A$2:$B$11,2,FALSE)","v":"H"}]
["hs",38061,"Marvin","Wiegel","Bochumer Minigolf-Club 1960 e.V.","H: Wiegel, Marvin",{"$f":"VLOOKUP(A4023,bangolf_kategorien!$A$2:$B$11,2,FALSE)","v":"H"}]
["hv",4859,"Reinhold","Wiegelmann","Minigolf Wölfe Rheinstetten 02","SM2: Wiegelmann, Reinhold",{"$f":"VLOOKUP(A4024,bangolf_kategorien!$A$2:$B$11,2,FALSE)","v":"SM2"}]
["og",42659,"Beate","Wiemer","TSV Pfungstadt Abt. Bahnengolf e.V.","SW1: Wiemer, Beate",{"$f":"VLOOKUP(A4025,bangolf_kategorien!$A$2:$B$11,2,FALSE)","v":"SW1"}]
["hv",25211,"Thomas","Wiemer","MSC Bensheim-Auerbach e.V.","SM2: Wiemer, Thomas",{"$f":"VLOOKUP(A4026,bangolf_kategorien!$A$2:$B$11,2,FALSE)","v":"SM2"}]
["ds",49980,"Ellen","Wienand","1. BGC Paderborn e.V.","D: Wienand, Ellen",{"$f":"VLOOKUP(A4027,bangolf_kategorien!$A$2:$B$11,2,FALSE)","v":"D"}]
["hs",50367,"Thomas","Wiertz","MGC Bad Salzuflen e.V.","H: Wiertz, Thomas",{"$f":"VLOOKUP(A4028,bangolf_kategorien!$A$2:$B$11,2,FALSE)","v":"H"}]
["ob",30856,"Lutz","Wierum","BGV Bergisch Land 1962 / 63 e.V.","SM1: Wierum, Lutz",{"$f":"VLOOKUP(A4029,bangolf_kategorien!$A$2:$B$11,2,FALSE)","v":"SM1"}]
["ob",37893,"René","Wieser","HMC Büttgen e.V.","SM1: Wieser, René",{"$f":"VLOOKUP(A4030,bangolf_kategorien!$A$2:$B$11,2,FALSE)","v":"SM1"}]
["hj",66667,"Julian","Wiesinger","MGF Ottobrunn e.V.","JM: Wiesinger, Julian",{"$f":"VLOOKUP(A4031,bangolf_kategorien!$A$2:$B$11,2,FALSE)","v":"JM"}]
["ds",66730,"Nicole","Wiesinger","MGF Ottobrunn e.V.","D: Wiesinger, Nicole",{"$f":"VLOOKUP(A4032,bangolf_kategorien!$A$2:$B$11,2,FALSE)","v":"D"}]
["ob",66714,"Peter","Wiesinger","MGF Ottobrunn e.V.","SM1: Wiesinger, Peter",{"$f":"VLOOKUP(A4033,bangolf_kategorien!$A$2:$B$11,2,FALSE)","v":"SM1"}]
["hs",46031,"Florian","Wietz","Niendorfer MC v. 1963 e.V.","H: Wietz, Florian",{"$f":"VLOOKUP(A4034,bangolf_kategorien!$A$2:$B$11,2,FALSE)","v":"H"}]
["ob",3212027,"Rui","Wigand","Hobby",{"$f":"CONCATENATE(G4035,\": \",D4035,\", \",C4035)","v":"SM1: Wigand, Rui"},{"$f":"VLOOKUP(A4035,bangolf_kategorien!$A$2:$B$11,2,FALSE)","v":"SM1"}]
["og",67025,"Barbara","Wihler","2. MGC Worms","SW1: Wihler, Barbara",{"$f":"VLOOKUP(A4036,bangolf_kategorien!$A$2:$B$11,2,FALSE)","v":"SW1"}]
["ob",28564,"Horst","Wihler jun.","2. MGC Worms","SM1: Wihler jun., Horst",{"$f":"VLOOKUP(A4037,bangolf_kategorien!$A$2:$B$11,2,FALSE)","v":"SM1"}]
["dv",10721,"Annemarie","Wild","MGSC Wernau e.V.","SW2: Wild, Annemarie",{"$f":"VLOOKUP(A4038,bangolf_kategorien!$A$2:$B$11,2,FALSE)","v":"SW2"}]
["hv",24312,"Dieter","Wild","MGSC Wernau e.V.","SM2: Wild, Dieter",{"$f":"VLOOKUP(A4039,bangolf_kategorien!$A$2:$B$11,2,FALSE)","v":"SM2"}]
["hs",34737,"Markus","Wild","TV Niederstetten 1862 e.V.  Abt. Minigolf","H: Wild, Markus",{"$f":"VLOOKUP(A4040,bangolf_kategorien!$A$2:$B$11,2,FALSE)","v":"H"}]
["dv",3167204,"Edith","Wildhagen","Hobby","SW2: Wildhagen, Edith",{"$f":"VLOOKUP(A4041,bangolf_kategorien!$A$2:$B$11,2,FALSE)","v":"SW2"}]
["hv",29310,"Walter","Wildt","MGF Hammer e.V.","SM2: Wildt, Walter",{"$f":"VLOOKUP(A4042,bangolf_kategorien!$A$2:$B$11,2,FALSE)","v":"SM2"}]
["hs",66453,"Carsten","Wilhelm","BGC Bildstock e.V.","H: Wilhelm, Carsten",{"$f":"VLOOKUP(A4043,bangolf_kategorien!$A$2:$B$11,2,FALSE)","v":"H"}]
["hv",4057,"Horst-Peter","Wilhelm","Reinickendorfer MGC e.V.","SM2: Wilhelm, Horst-Peter",{"$f":"VLOOKUP(A4044,bangolf_kategorien!$A$2:$B$11,2,FALSE)","v":"SM2"}]
["pa",67132,"Nils","Wilhelm","BGC Bildstock e.V.","SCHM: Wilhelm, Nils",{"$f":"VLOOKUP(A4045,bangolf_kategorien!$A$2:$B$11,2,FALSE)","v":"SCHM"}]
["og",46290,"Alexandra","Wilhelms","BSC Ennepetal e.V.","SW1: Wilhelms, Alexandra",{"$f":"VLOOKUP(A4046,bangolf_kategorien!$A$2:$B$11,2,FALSE)","v":"SW1"}]
["ob",44805,"Ralf","Wilhelms","BSC Ennepetal e.V.","SM1: Wilhelms, Ralf",{"$f":"VLOOKUP(A4047,bangolf_kategorien!$A$2:$B$11,2,FALSE)","v":"SM1"}]
["dj",66164,"Valerie","Wilhelms","BSC Ennepetal e.V.","JW: Wilhelms, Valerie",{"$f":"VLOOKUP(A4048,bangolf_kategorien!$A$2:$B$11,2,FALSE)","v":"JW"}]
["ob",28156,"Andreas","Wilkening","BGC Schweinfurt e.V.","SM1: Wilkening, Andreas",{"$f":"VLOOKUP(A4049,bangolf_kategorien!$A$2:$B$11,2,FALSE)","v":"SM1"}]
["hv",3575,"Hans-Peter","Wilkesmann","BGC Dormagen e.V.","SM2: Wilkesmann, Hans-Peter",{"$f":"VLOOKUP(A4050,bangolf_kategorien!$A$2:$B$11,2,FALSE)","v":"SM2"}]
["ob",42431,"Jan","Wille","BGSC Bochum 1978 e.V.","SM1: Wille, Jan",{"$f":"VLOOKUP(A4051,bangolf_kategorien!$A$2:$B$11,2,FALSE)","v":"SM1"}]
["ob",66006,"Michael","Willeke","MC 62 Lüdenscheid e.V.","SM1: Willeke, Michael",{"$f":"VLOOKUP(A4052,bangolf_kategorien!$A$2:$B$11,2,FALSE)","v":"SM1"}]
["ob",29879,"Marcus","Willems","1. BGC Wesseling 1975 e.V.","SM1: Willems, Marcus",{"$f":"VLOOKUP(A4053,bangolf_kategorien!$A$2:$B$11,2,FALSE)","v":"SM1"}]
["ds",33849,"Anke","Willenbockel","Minigolfclub Karlshagen e.V.","D: Willenbockel, Anke",{"$f":"VLOOKUP(A4054,bangolf_kategorien!$A$2:$B$11,2,FALSE)","v":"D"}]
["hv",3839,"Eike","Willenbockel","MC \"Möve\" Cuxhaven-Sahlenburg e.V.","SM2: Willenbockel, Eike",{"$f":"VLOOKUP(A4055,bangolf_kategorien!$A$2:$B$11,2,FALSE)","v":"SM2"}]
["dv",29796,"Marion","Willenbockel","MC \"Möve\" Cuxhaven-Sahlenburg e.V.","SW2: Willenbockel, Marion",{"$f":"VLOOKUP(A4056,bangolf_kategorien!$A$2:$B$11,2,FALSE)","v":"SW2"}]
["ds",32333,"Melanie","Willfroth","KSV Baltrum e.V.","D: Willfroth, Melanie",{"$f":"VLOOKUP(A4057,bangolf_kategorien!$A$2:$B$11,2,FALSE)","v":"D"}]
["hv",38004,"Lothar","Willkommen","TSV Arendsee e.V.","SM2: Willkommen, Lothar",{"$f":"VLOOKUP(A4058,bangolf_kategorien!$A$2:$B$11,2,FALSE)","v":"SM2"}]
["ds",46364,"Jacqueline","Willnus","1. BGC Wolfsburg","D: Willnus, Jacqueline",{"$f":"VLOOKUP(A4059,bangolf_kategorien!$A$2:$B$11,2,FALSE)","v":"D"}]
["hs",37540,"Marco","Willnus","1. MGC 1970 Göttingen e.V.","H: Willnus, Marco",{"$f":"VLOOKUP(A4060,bangolf_kategorien!$A$2:$B$11,2,FALSE)","v":"H"}]
["hj",66123,"Pascal","Willy","BSV 82 Ohlsbach e.V.","JM: Willy, Pascal",{"$f":"VLOOKUP(A4061,bangolf_kategorien!$A$2:$B$11,2,FALSE)","v":"JM"}]
["ds",37683,"Katrin","Wilms","CGC Grün-Gold Bad Hamm e.V.","D: Wilms, Katrin",{"$f":"VLOOKUP(A4062,bangolf_kategorien!$A$2:$B$11,2,FALSE)","v":"D"}]
["hv",42963,"Joachim","Wilsch","HMC Büttgen e.V.","SM2: Wilsch, Joachim",{"$f":"VLOOKUP(A4063,bangolf_kategorien!$A$2:$B$11,2,FALSE)","v":"SM2"}]
["dv",42964,"Petra","Wilsch","HMC Büttgen e.V.","SW2: Wilsch, Petra",{"$f":"VLOOKUP(A4064,bangolf_kategorien!$A$2:$B$11,2,FALSE)","v":"SW2"}]
["og",33708,"Kirsten","Wimmer","MSC Bensheim-Auerbach e.V.","SW1: Wimmer, Kirsten",{"$f":"VLOOKUP(A4065,bangolf_kategorien!$A$2:$B$11,2,FALSE)","v":"SW1"}]
["hs",37311,"Michael","Wimmer","MSK Olching e.V.","H: Wimmer, Michael",{"$f":"VLOOKUP(A4066,bangolf_kategorien!$A$2:$B$11,2,FALSE)","v":"H"}]
["ob",33926,"Andreas","Winkel","MGSC Wernau e.V.","SM1: Winkel, Andreas",{"$f":"VLOOKUP(A4067,bangolf_kategorien!$A$2:$B$11,2,FALSE)","v":"SM1"}]
["ob",36541,"Dirk","Winkler","BGSC \"Gut Schlag\" Gladbeck e.V.","SM1: Winkler, Dirk",{"$f":"VLOOKUP(A4068,bangolf_kategorien!$A$2:$B$11,2,FALSE)","v":"SM1"}]
["hs",38201,"Simon Leon","Winter","MGC Wetzlar e.V.","H: Winter, Simon Leon",{"$f":"VLOOKUP(A4069,bangolf_kategorien!$A$2:$B$11,2,FALSE)","v":"H"}]
["ob",45644,"Peter","Winters","BGSV Kerpen e.V.","SM1: Winters, Peter",{"$f":"VLOOKUP(A4070,bangolf_kategorien!$A$2:$B$11,2,FALSE)","v":"SM1"}]
["ds",29261,"Stefanie","Winters","BGSV Kerpen e.V.","D: Winters, Stefanie",{"$f":"VLOOKUP(A4071,bangolf_kategorien!$A$2:$B$11,2,FALSE)","v":"D"}]
["hs",37763,"Thorsten","Winzer","MGC Freizeitzentrum Biebertal","H: Winzer, Thorsten",{"$f":"VLOOKUP(A4072,bangolf_kategorien!$A$2:$B$11,2,FALSE)","v":"H"}]
["ob",36520,"Toni","Wirbals","TSV Kücknitz Abt. Bahnengolf","SM1: Wirbals, Toni",{"$f":"VLOOKUP(A4073,bangolf_kategorien!$A$2:$B$11,2,FALSE)","v":"SM1"}]
["hv",25167,"Michael","Wirth","1. Duisburger Minigolf Club 1962 e.V.","SM2: Wirth, Michael",{"$f":"VLOOKUP(A4074,bangolf_kategorien!$A$2:$B$11,2,FALSE)","v":"SM2"}]
["hs",32625,"Karsten","Wischeropp","MGF Magdeburg 1995 e.V.","H: Wischeropp, Karsten",{"$f":"VLOOKUP(A4075,bangolf_kategorien!$A$2:$B$11,2,FALSE)","v":"H"}]
["og",45007,"Birthe","Wischnath","MGC Bad Oldesloe e.V.","SW1: Wischnath, Birthe",{"$f":"VLOOKUP(A4076,bangolf_kategorien!$A$2:$B$11,2,FALSE)","v":"SW1"}]
["pa",67416,"Fynn","Wischott","MSK Neheim-Hüsten e.V.","SCHM: Wischott, Fynn",{"$f":"VLOOKUP(A4077,bangolf_kategorien!$A$2:$B$11,2,FALSE)","v":"SCHM"}]
["hs",34695,"Marc","Wisnewski","1. MSC Wesel 6.6.1966 e.V.","H: Wisnewski, Marc",{"$f":"VLOOKUP(A4078,bangolf_kategorien!$A$2:$B$11,2,FALSE)","v":"H"}]
["hs",3111713,"Bernd","Wissing","Hobby","H: Wissing, Bernd",{"$f":"VLOOKUP(A4079,bangolf_kategorien!$A$2:$B$11,2,FALSE)","v":"H"}]
["hj",67340,"Luca Marius","Witt","Osnabrücker M.-C. von 1963 e.V.","JM: Witt, Luca Marius",{"$f":"VLOOKUP(A4080,bangolf_kategorien!$A$2:$B$11,2,FALSE)","v":"JM"}]
["og",1691,"Birgit","Witte","Tempelhofer MV Berlin e.V.","SW1: Witte, Birgit",{"$f":"VLOOKUP(A4081,bangolf_kategorien!$A$2:$B$11,2,FALSE)","v":"SW1"}]
["hv",36971,"Thomas","Witte","Tempelhofer MV Berlin e.V.","SM2: Witte, Thomas",{"$f":"VLOOKUP(A4082,bangolf_kategorien!$A$2:$B$11,2,FALSE)","v":"SM2"}]
["ob",67055,"Thorsten","Witte","MGC Heringen 1997 e.V.","SM1: Witte, Thorsten",{"$f":"VLOOKUP(A4083,bangolf_kategorien!$A$2:$B$11,2,FALSE)","v":"SM1"}]
["ob",41466,"Peter","Wittek","1. BGC Hannover e.V.","SM1: Wittek, Peter",{"$f":"VLOOKUP(A4084,bangolf_kategorien!$A$2:$B$11,2,FALSE)","v":"SM1"}]
["ob",29626,"Andreas","Wittke","MGC Dormagen-Brechten e.V.","SM1: Wittke, Andreas",{"$f":"VLOOKUP(A4085,bangolf_kategorien!$A$2:$B$11,2,FALSE)","v":"SM1"}]
["og",37992,"Helga","Wittkopf","BGC Bremen e.V.","SW1: Wittkopf, Helga",{"$f":"VLOOKUP(A4086,bangolf_kategorien!$A$2:$B$11,2,FALSE)","v":"SW1"}]
["fa",67339,"Kiara","Wittling","Osnabrücker M.-C. von 1963 e.V.","SCHW: Wittling, Kiara",{"$f":"VLOOKUP(A4087,bangolf_kategorien!$A$2:$B$11,2,FALSE)","v":"SCHW"}]
["hs",67230,"Marcel","Wittling","Osnabrücker M.-C. von 1963 e.V.","H: Wittling, Marcel",{"$f":"VLOOKUP(A4088,bangolf_kategorien!$A$2:$B$11,2,FALSE)","v":"H"}]
["hs",33415,"Christian","Wittwer","MSV Bad Kreuznach","H: Wittwer, Christian",{"$f":"VLOOKUP(A4089,bangolf_kategorien!$A$2:$B$11,2,FALSE)","v":"H"}]
["hs",33416,"Daniel","Wittwer","MSV Bad Kreuznach","H: Wittwer, Daniel",{"$f":"VLOOKUP(A4090,bangolf_kategorien!$A$2:$B$11,2,FALSE)","v":"H"}]
["dj",3216568,"Anna Maria","Wiziald","Hobby","JW: Wiziald, Anna Maria",{"$f":"VLOOKUP(A4091,bangolf_kategorien!$A$2:$B$11,2,FALSE)","v":"JW"}]
["ob",37964,"Joachim","Wodok","BGC Bremen e.V.","SM1: Wodok, Joachim",{"$f":"VLOOKUP(A4092,bangolf_kategorien!$A$2:$B$11,2,FALSE)","v":"SM1"}]
["hv",35096,"Joachim","Wohlfarth","MSV Würzburg-Löwenbrücke e.V.","SM2: Wohlfarth, Joachim",{"$f":"VLOOKUP(A4093,bangolf_kategorien!$A$2:$B$11,2,FALSE)","v":"SM2"}]
["dv",35095,"Luise","Wohlfarth","MSV Würzburg-Löwenbrücke e.V.","SW2: Wohlfarth, Luise",{"$f":"VLOOKUP(A4094,bangolf_kategorien!$A$2:$B$11,2,FALSE)","v":"SW2"}]
["og",3202282,"Martina","Wohlrab","Hobby","SW1: Wohlrab, Martina",{"$f":"VLOOKUP(A4095,bangolf_kategorien!$A$2:$B$11,2,FALSE)","v":"SW1"}]
["ob",67361,"Michael","Wöhrmann","BSV 86 München e.V.","SM1: Wöhrmann, Michael",{"$f":"VLOOKUP(A4096,bangolf_kategorien!$A$2:$B$11,2,FALSE)","v":"SM1"}]
["ds",67362,"Tatjana","Wöhrmann","BSV 86 München e.V.","D: Wöhrmann, Tatjana",{"$f":"VLOOKUP(A4097,bangolf_kategorien!$A$2:$B$11,2,FALSE)","v":"D"}]
["hv",66409,"Arnold","Wolf","SC Bastion Rot Weiß Lippstadt e.V.","SM2: Wolf, Arnold",{"$f":"VLOOKUP(A4098,bangolf_kategorien!$A$2:$B$11,2,FALSE)","v":"SM2"}]
["hs",66234,"Carsten","Wolf","BGV Backumer Tal Herten e.V.",{"$f":"CONCATENATE(G4099,\": \",D4099,\", \",C4099)","v":"H: Wolf, Carsten"},{"$f":"VLOOKUP(A4099,bangolf_kategorien!$A$2:$B$11,2,FALSE)","v":"H"}]
["hv",4639,"Henning","Wolf","BGC Northeim e.V.","SM2: Wolf, Henning",{"$f":"VLOOKUP(A4100,bangolf_kategorien!$A$2:$B$11,2,FALSE)","v":"SM2"}]
["ds",66627,"Jessica","Wolf","BGSV Castrop e.V. 1961","D: Wolf, Jessica",{"$f":"VLOOKUP(A4101,bangolf_kategorien!$A$2:$B$11,2,FALSE)","v":"D"}]
["hv",4835,"Karl-Heinz","Wolf","SC Bastion Rot Weiß Lippstadt e.V.","SM2: Wolf, Karl-Heinz",{"$f":"VLOOKUP(A4102,bangolf_kategorien!$A$2:$B$11,2,FALSE)","v":"SM2"}]
["dv",3951,"Renate","Wolf","BGC Northeim e.V.","SW2: Wolf, Renate",{"$f":"VLOOKUP(A4103,bangolf_kategorien!$A$2:$B$11,2,FALSE)","v":"SW2"}]
["ds",35847,"Stefanie","Wolf","ASV Pegnitz, Abt. Minigolf","D: Wolf, Stefanie",{"$f":"VLOOKUP(A4104,bangolf_kategorien!$A$2:$B$11,2,FALSE)","v":"D"}]
["og",548,"Beate","Wolff","BSV 82 Ohlsbach e.V.","SW1: Wolff, Beate",{"$f":"VLOOKUP(A4105,bangolf_kategorien!$A$2:$B$11,2,FALSE)","v":"SW1"}]
["hv",20690,"Bertram","Wolff","BSV 82 Ohlsbach e.V.","SM2: Wolff, Bertram",{"$f":"VLOOKUP(A4106,bangolf_kategorien!$A$2:$B$11,2,FALSE)","v":"SM2"}]
["hv",4096,"Hermann","Wolff","MC 62 Lüdenscheid e.V.","SM2: Wolff, Hermann",{"$f":"VLOOKUP(A4107,bangolf_kategorien!$A$2:$B$11,2,FALSE)","v":"SM2"}]
["hs",40341,"Julian","Wolff","MC 62 Lüdenscheid e.V.","H: Wolff, Julian",{"$f":"VLOOKUP(A4108,bangolf_kategorien!$A$2:$B$11,2,FALSE)","v":"H"}]
["hs",66059,"Marko","Wolff","BGC Uerdingen e.V.","H: Wolff, Marko",{"$f":"VLOOKUP(A4109,bangolf_kategorien!$A$2:$B$11,2,FALSE)","v":"H"}]
["hv",66527,"Ulf-Michael","Wolff","1. BGC Hannover e.V.","SM2: Wolff, Ulf-Michael",{"$f":"VLOOKUP(A4110,bangolf_kategorien!$A$2:$B$11,2,FALSE)","v":"SM2"}]
["hv",51529,"Michael","Wollenweber","MTV Seesen Abt. Bahnengolf","SM2: Wollenweber, Michael",{"$f":"VLOOKUP(A4111,bangolf_kategorien!$A$2:$B$11,2,FALSE)","v":"SM2"}]
["hs",66940,"Stefan","Woller","1. MGC Gelsenkirchen e.V.","H: Woller, Stefan",{"$f":"VLOOKUP(A4112,bangolf_kategorien!$A$2:$B$11,2,FALSE)","v":"H"}]
["hs",37471,"Maximilian","Wolper","BGV Backumer Tal Herten e.V.","H: Wolper, Maximilian",{"$f":"VLOOKUP(A4113,bangolf_kategorien!$A$2:$B$11,2,FALSE)","v":"H"}]
["ob",37084,"Dirk","Wolter","MGC Wuppertal-Ronsdorf 1967 e.V.","SM1: Wolter, Dirk",{"$f":"VLOOKUP(A4114,bangolf_kategorien!$A$2:$B$11,2,FALSE)","v":"SM1"}]
["hv",33461,"Fritz-Herbert","Woltmann","MGV Bremen e.V.","SM2: Woltmann, Fritz-Herbert",{"$f":"VLOOKUP(A4115,bangolf_kategorien!$A$2:$B$11,2,FALSE)","v":"SM2"}]
["dv",839,"Inge","Woltmann","MGV Bremen e.V.","SW2: Woltmann, Inge",{"$f":"VLOOKUP(A4116,bangolf_kategorien!$A$2:$B$11,2,FALSE)","v":"SW2"}]
["ob",37276,"Martin","Wolyniak","SV 1890 e.V. Dreieichenhain, Abt. Bahnengolf","SM1: Wolyniak, Martin",{"$f":"VLOOKUP(A4117,bangolf_kategorien!$A$2:$B$11,2,FALSE)","v":"SM1"}]
["ob",66515,"Hajo","Wonka","TSV Pfungstadt Abt. Bahnengolf e.V.","SM1: Wonka, Hajo",{"$f":"VLOOKUP(A4118,bangolf_kategorien!$A$2:$B$11,2,FALSE)","v":"SM1"}]
["ds",38503,"Sonja","Wontroba","MSC Bad Godesberg e.V.","D: Wontroba, Sonja",{"$f":"VLOOKUP(A4119,bangolf_kategorien!$A$2:$B$11,2,FALSE)","v":"D"}]
["hv",20394,"Frank-Thomas","Wortmann","CGC Grün-Gold Bad Hamm e.V.","SM2: Wortmann, Frank-Thomas",{"$f":"VLOOKUP(A4120,bangolf_kategorien!$A$2:$B$11,2,FALSE)","v":"SM2"}]
["hv",18282,"Ulrich","Wörz","1. MGC Metzingen e.V.","SM2: Wörz, Ulrich",{"$f":"VLOOKUP(A4121,bangolf_kategorien!$A$2:$B$11,2,FALSE)","v":"SM2"}]
["ob",547,"Jörg","Wössner","BGSV Kerpen e.V.","SM1: Wössner, Jörg",{"$f":"VLOOKUP(A4122,bangolf_kategorien!$A$2:$B$11,2,FALSE)","v":"SM1"}]
["hv",66210,"Wolfgang","Wotzlawek","1. BGC Landshut e.V.","SM2: Wotzlawek, Wolfgang",{"$f":"VLOOKUP(A4123,bangolf_kategorien!$A$2:$B$11,2,FALSE)","v":"SM2"}]
["hv",10260,"Hans","Wriedt","MC Flora Elmshorn e.V.","SM2: Wriedt, Hans",{"$f":"VLOOKUP(A4124,bangolf_kategorien!$A$2:$B$11,2,FALSE)","v":"SM2"}]
["og",66919,"Susanne","Wriedt","MC Flora Elmshorn e.V.","SW1: Wriedt, Susanne",{"$f":"VLOOKUP(A4125,bangolf_kategorien!$A$2:$B$11,2,FALSE)","v":"SW1"}]
["ob",66408,"Wolfgang","Wruck","SC Bastion Rot Weiß Lippstadt e.V.","SM1: Wruck, Wolfgang",{"$f":"VLOOKUP(A4126,bangolf_kategorien!$A$2:$B$11,2,FALSE)","v":"SM1"}]
["hv",67036,"Dirk","Wulhorst","1. BGC Hannover e.V.","SM2: Wulhorst, Dirk",{"$f":"VLOOKUP(A4127,bangolf_kategorien!$A$2:$B$11,2,FALSE)","v":"SM2"}]
["ds",33821,"Gaby","Wunderlich","1. MGSV Netphen e.V.","D: Wunderlich, Gaby",{"$f":"VLOOKUP(A4128,bangolf_kategorien!$A$2:$B$11,2,FALSE)","v":"D"}]
["hv",38072,"Günter","Wunderlich","1. MGSV Netphen e.V.","SM2: Wunderlich, Günter",{"$f":"VLOOKUP(A4129,bangolf_kategorien!$A$2:$B$11,2,FALSE)","v":"SM2"}]
["ob",43556,"Mario","Wunderlich","SV Lurup Abt. Bahnengolf","SM1: Wunderlich, Mario",{"$f":"VLOOKUP(A4130,bangolf_kategorien!$A$2:$B$11,2,FALSE)","v":"SM1"}]
["ob",66541,"Sascha Markus","Würges","BGC Kiel West e.V.","SM1: Würges, Sascha Markus",{"$f":"VLOOKUP(A4131,bangolf_kategorien!$A$2:$B$11,2,FALSE)","v":"SM1"}]
["hj",65922,"Jan","Würthle","BSV 82 Ohlsbach e.V.","JM: Würthle, Jan",{"$f":"VLOOKUP(A4132,bangolf_kategorien!$A$2:$B$11,2,FALSE)","v":"JM"}]
["ob",44527,"Jürgen","Würthle","BSV 82 Ohlsbach e.V.","SM1: Würthle, Jürgen",{"$f":"VLOOKUP(A4133,bangolf_kategorien!$A$2:$B$11,2,FALSE)","v":"SM1"}]
["ds",38504,"Michelle","Würthle","BSV 82 Ohlsbach e.V.","D: Würthle, Michelle",{"$f":"VLOOKUP(A4134,bangolf_kategorien!$A$2:$B$11,2,FALSE)","v":"D"}]
["ob",28259,"Christian","Wustrack","MC \"Möve\" Cuxhaven-Sahlenburg e.V.","SM1: Wustrack, Christian",{"$f":"VLOOKUP(A4135,bangolf_kategorien!$A$2:$B$11,2,FALSE)","v":"SM1"}]
["dv",63375,"Elke","Wuttke","1. BGC Hannover e.V.","SW2: Wuttke, Elke",{"$f":"VLOOKUP(A4136,bangolf_kategorien!$A$2:$B$11,2,FALSE)","v":"SW2"}]
["og",34420,"Angelika","Wycisk","1. BGC Leipzig e.V.","SW1: Wycisk, Angelika",{"$f":"VLOOKUP(A4137,bangolf_kategorien!$A$2:$B$11,2,FALSE)","v":"SW1"}]
["hs",66187,"Sergen","Yildiz","1. MGC Peine von 1965 e.V.","H: Yildiz, Sergen",{"$f":"VLOOKUP(A4138,bangolf_kategorien!$A$2:$B$11,2,FALSE)","v":"H"}]
["hs",3216753,"Oktay","Yilmaz","Hobby","H: Yilmaz, Oktay",{"$f":"VLOOKUP(A4139,bangolf_kategorien!$A$2:$B$11,2,FALSE)","v":"H"}]
["og",50593,"Bettina","Zabel","1. BGC Hannover e.V.","SW1: Zabel, Bettina",{"$f":"VLOOKUP(A4140,bangolf_kategorien!$A$2:$B$11,2,FALSE)","v":"SW1"}]
["hs",45917,"Jürgen","Zahner","KGC Bad Urach e.V.","H: Zahner, Jürgen",{"$f":"VLOOKUP(A4141,bangolf_kategorien!$A$2:$B$11,2,FALSE)","v":"H"}]
["ob",41670,"Michael","Zahner","KGC Bad Urach e.V.","SM1: Zahner, Michael",{"$f":"VLOOKUP(A4142,bangolf_kategorien!$A$2:$B$11,2,FALSE)","v":"SM1"}]
["hv",4495,"Klaus","Zamponi","1. MGSV Netphen e.V.","SM2: Zamponi, Klaus",{"$f":"VLOOKUP(A4143,bangolf_kategorien!$A$2:$B$11,2,FALSE)","v":"SM2"}]
["hv",30058,"Hilmer","Zander","SG  Weiterstadt 1886 e.V.","SM2: Zander, Hilmer",{"$f":"VLOOKUP(A4144,bangolf_kategorien!$A$2:$B$11,2,FALSE)","v":"SM2"}]
["hs",37272,"Michel","Zazzi","1. Essener CGC \"Blau-Gold\" e.V.","H: Zazzi, Michel",{"$f":"VLOOKUP(A4145,bangolf_kategorien!$A$2:$B$11,2,FALSE)","v":"H"}]
["ob",35402,"Thorsten","Zazzi","1. Essener CGC \"Blau-Gold\" e.V.","SM1: Zazzi, Thorsten",{"$f":"VLOOKUP(A4146,bangolf_kategorien!$A$2:$B$11,2,FALSE)","v":"SM1"}]
["hv",38261,"Johann","Zech","1. Bahnengolf-Club Singen e.V.","SM2: Zech, Johann",{"$f":"VLOOKUP(A4147,bangolf_kategorien!$A$2:$B$11,2,FALSE)","v":"SM2"}]
["hs",45973,"Michael","Zehe","MGC Ostheim / Rhön e.V.","H: Zehe, Michael",{"$f":"VLOOKUP(A4148,bangolf_kategorien!$A$2:$B$11,2,FALSE)","v":"H"}]
["dv",60359,"Emma","Zehtner","BSV 86 München e.V.","SW2: Zehtner, Emma",{"$f":"VLOOKUP(A4149,bangolf_kategorien!$A$2:$B$11,2,FALSE)","v":"SW2"}]
["hv",47089,"Klaus","Zeisler","SSC Halver e.V.","SM2: Zeisler, Klaus",{"$f":"VLOOKUP(A4150,bangolf_kategorien!$A$2:$B$11,2,FALSE)","v":"SM2"}]
["hv",4438,"Werner","Zeisler","SSC Halver e.V.","SM2: Zeisler, Werner",{"$f":"VLOOKUP(A4151,bangolf_kategorien!$A$2:$B$11,2,FALSE)","v":"SM2"}]
["ob",40499,"Bernd","Zeller","MSK Olching e.V.","SM1: Zeller, Bernd",{"$f":"VLOOKUP(A4152,bangolf_kategorien!$A$2:$B$11,2,FALSE)","v":"SM1"}]
["dv",5676,"Edeltraud","Zeller","MSK Olching e.V.","SW2: Zeller, Edeltraud",{"$f":"VLOOKUP(A4153,bangolf_kategorien!$A$2:$B$11,2,FALSE)","v":"SW2"}]
["hv",3569,"Gerd","Zeller","MSK Olching e.V.","SM2: Zeller, Gerd",{"$f":"VLOOKUP(A4154,bangolf_kategorien!$A$2:$B$11,2,FALSE)","v":"SM2"}]
["dv",47417,"Monika","Zeller","1. MGC München-Feldmoching e.V.","SW2: Zeller, Monika",{"$f":"VLOOKUP(A4155,bangolf_kategorien!$A$2:$B$11,2,FALSE)","v":"SW2"}]
["hv",31736,"Helmut","Zender","MGC Bergisch Gladbach Gierath e.V.","SM2: Zender, Helmut",{"$f":"VLOOKUP(A4156,bangolf_kategorien!$A$2:$B$11,2,FALSE)","v":"SM2"}]
["hs",46752,"Markus","Zender","MGC Bad Bodendorf e.V.","H: Zender, Markus",{"$f":"VLOOKUP(A4157,bangolf_kategorien!$A$2:$B$11,2,FALSE)","v":"H"}]
["dv",3211284,"Christine","Zentgraf","Hobby","SW2: Zentgraf, Christine",{"$f":"VLOOKUP(A4158,bangolf_kategorien!$A$2:$B$11,2,FALSE)","v":"SW2"}]
["hv",18151,"Heinz","Zideller","BGSC Bochum 1978 e.V.","SM2: Zideller, Heinz",{"$f":"VLOOKUP(A4159,bangolf_kategorien!$A$2:$B$11,2,FALSE)","v":"SM2"}]
["hv",6175,"Klaus","Ziebell","Tempelhofer MV Berlin e.V.","SM2: Ziebell, Klaus",{"$f":"VLOOKUP(A4160,bangolf_kategorien!$A$2:$B$11,2,FALSE)","v":"SM2"}]
["ob",66330,"Andreas","Ziegler","MSK Olching e.V.","SM1: Ziegler, Andreas",{"$f":"VLOOKUP(A4161,bangolf_kategorien!$A$2:$B$11,2,FALSE)","v":"SM1"}]
["hs",36994,"Frank","Ziegler","TG Höchberg von 1862 Bahnengolf e.V.","H: Ziegler, Frank",{"$f":"VLOOKUP(A4162,bangolf_kategorien!$A$2:$B$11,2,FALSE)","v":"H"}]
["hv",36995,"Roland","Ziegler","MGV Ansbach e.V.",{"$f":"CONCATENATE(G4163,\": \",D4163,\", \",C4163)","v":"SM2: Ziegler, Roland"},{"$f":"VLOOKUP(A4163,bangolf_kategorien!$A$2:$B$11,2,FALSE)","v":"SM2"}]
["hs",38485,"Thomas","Ziegler","BGC Schloß Paffendorf e.V.","H: Ziegler, Thomas",{"$f":"VLOOKUP(A4164,bangolf_kategorien!$A$2:$B$11,2,FALSE)","v":"H"}]
["ob",66643,"Uwe","Ziegler","MGC \"Stahlquelle\" Bad Bocklet","SM1: Ziegler, Uwe",{"$f":"VLOOKUP(A4165,bangolf_kategorien!$A$2:$B$11,2,FALSE)","v":"SM1"}]
["hs",38205,"Christian","Zielaff","1. MSC Wesel 6.6.1966 e.V.","H: Zielaff, Christian",{"$f":"VLOOKUP(A4166,bangolf_kategorien!$A$2:$B$11,2,FALSE)","v":"H"}]
["ob",33643,"Robert","Zierl","MGC Wertheim 91 e.V.","SM1: Zierl, Robert",{"$f":"VLOOKUP(A4167,bangolf_kategorien!$A$2:$B$11,2,FALSE)","v":"SM1"}]
["dv",35462,"Sabine","Zierl","MGC Wertheim 91 e.V.","SW2: Zierl, Sabine",{"$f":"VLOOKUP(A4168,bangolf_kategorien!$A$2:$B$11,2,FALSE)","v":"SW2"}]
["ob",38515,"René","Ziesing","MSV Berliner Bär e.V.","SM1: Ziesing, René",{"$f":"VLOOKUP(A4169,bangolf_kategorien!$A$2:$B$11,2,FALSE)","v":"SM1"}]
["dj",67398,"Clara","Zimmermann","MSV Bad Kreuznach","JW: Zimmermann, Clara",{"$f":"VLOOKUP(A4170,bangolf_kategorien!$A$2:$B$11,2,FALSE)","v":"JW"}]
["ob",66463,"Dieter","Zimmermann","1. BGC Paderborn e.V.","SM1: Zimmermann, Dieter",{"$f":"VLOOKUP(A4171,bangolf_kategorien!$A$2:$B$11,2,FALSE)","v":"SM1"}]
["pa",67334,"Iven","Zimmermann","MSV Bad Kreuznach","SCHM: Zimmermann, Iven",{"$f":"VLOOKUP(A4172,bangolf_kategorien!$A$2:$B$11,2,FALSE)","v":"SCHM"}]
["pa",67333,"Lowis","Zimmermann","MSV Bad Kreuznach","SCHM: Zimmermann, Lowis",{"$f":"VLOOKUP(A4173,bangolf_kategorien!$A$2:$B$11,2,FALSE)","v":"SCHM"}]
["hs",36344,"Lukas","Zimmermann","BGC Heilbronn e.V.","H: Zimmermann, Lukas",{"$f":"VLOOKUP(A4174,bangolf_kategorien!$A$2:$B$11,2,FALSE)","v":"H"}]
["hj",67335,"Malte","Zimmermann","MSV Bad Kreuznach","JM: Zimmermann, Malte",{"$f":"VLOOKUP(A4175,bangolf_kategorien!$A$2:$B$11,2,FALSE)","v":"JM"}]
["ob",67332,"Torsten","Zimmermann","MSV Bad Kreuznach","SM1: Zimmermann, Torsten",{"$f":"VLOOKUP(A4176,bangolf_kategorien!$A$2:$B$11,2,FALSE)","v":"SM1"}]
["hs",36086,"Christopher","Zink","BGC Northeim e.V.","H: Zink, Christopher",{"$f":"VLOOKUP(A4177,bangolf_kategorien!$A$2:$B$11,2,FALSE)","v":"H"}]
["ob",3106815,"Armin","Zipfel","Hobby","SM1: Zipfel, Armin",{"$f":"VLOOKUP(A4178,bangolf_kategorien!$A$2:$B$11,2,FALSE)","v":"SM1"}]
["hv",45833,"Gerhard","Zipfel","BGC Illertissen e.V.","SM2: Zipfel, Gerhard",{"$f":"VLOOKUP(A4179,bangolf_kategorien!$A$2:$B$11,2,FALSE)","v":"SM2"}]
["ds",35900,"Bianca","Zirkenbach","MGC Bad Homburg vdH e.V.","D: Zirkenbach, Bianca",{"$f":"VLOOKUP(A4180,bangolf_kategorien!$A$2:$B$11,2,FALSE)","v":"D"}]
["fa",65132,"Lavinia","Zirkenbach","MGC Bad Homburg vdH e.V.","SCHW: Zirkenbach, Lavinia",{"$f":"VLOOKUP(A4181,bangolf_kategorien!$A$2:$B$11,2,FALSE)","v":"SCHW"}]
["hs",3119653,"Thomas","Zirnsack","Hobby","H: Zirnsack, Thomas",{"$f":"VLOOKUP(A4182,bangolf_kategorien!$A$2:$B$11,2,FALSE)","v":"H"}]
["ds",50153,"Bianca","Zodrow-Wenke","1. MGC 1970 Göttingen e.V.","D: Zodrow-Wenke, Bianca",{"$f":"VLOOKUP(A4183,bangolf_kategorien!$A$2:$B$11,2,FALSE)","v":"D"}]
["dv",3510,"Sieglinde","Zollinger","MGF Hilzingen 80 e.V.","SW2: Zollinger, Sieglinde",{"$f":"VLOOKUP(A4184,bangolf_kategorien!$A$2:$B$11,2,FALSE)","v":"SW2"}]
["hs",32674,"Lars","Zornstein","KSV Baltrum e.V.","H: Zornstein, Lars",{"$f":"VLOOKUP(A4185,bangolf_kategorien!$A$2:$B$11,2,FALSE)","v":"H"}]
["ds",36168,"Nicole","Zornstein","KSV Baltrum e.V.","D: Zornstein, Nicole",{"$f":"VLOOKUP(A4186,bangolf_kategorien!$A$2:$B$11,2,FALSE)","v":"D"}]
["hv",36914,"Ronald","Zoschke","MGF Magdeburg 1995 e.V.","SM2: Zoschke, Ronald",{"$f":"VLOOKUP(A4187,bangolf_kategorien!$A$2:$B$11,2,FALSE)","v":"SM2"}]
["ds",38006,"Hannah","Zschäpe","VfB Osnabrück e.V.","D: Zschäpe, Hannah",{"$f":"VLOOKUP(A4188,bangolf_kategorien!$A$2:$B$11,2,FALSE)","v":"D"}]
["hv",37751,"Jens-Bob","Zschäpe","VfB Osnabrück e.V.","SM2: Zschäpe, Jens-Bob",{"$f":"VLOOKUP(A4189,bangolf_kategorien!$A$2:$B$11,2,FALSE)","v":"SM2"}]
["ds",37750,"Ruth Friederike","Zschäpe","VfB Osnabrück e.V.","D: Zschäpe, Ruth Friederike",{"$f":"VLOOKUP(A4190,bangolf_kategorien!$A$2:$B$11,2,FALSE)","v":"D"}]
["ob",25152,"Jörg","Zseby","1. MGV Spandau Berlin e.V.","SM1: Zseby, Jörg",{"$f":"VLOOKUP(A4191,bangolf_kategorien!$A$2:$B$11,2,FALSE)","v":"SM1"}]
["hv",27316,"Hans-Ulrich","Zünkler","SC Bastion Rot Weiß Lippstadt e.V.","SM2: Zünkler, Hans-Ulrich",{"$f":"VLOOKUP(A4192,bangolf_kategorien!$A$2:$B$11,2,FALSE)","v":"SM2"}]
["ds",37389,"Michaela","Zwirlein","MGC Murnau am Staffelsee e.V.","D: Zwirlein, Michaela",{"$f":"VLOOKUP(A4193,bangolf_kategorien!$A$2:$B$11,2,FALSE)","v":"D"}]
["ob",37390,"Rainer","Zwirlein","MGC Murnau am Staffelsee e.V.","SM1: Zwirlein, Rainer",{"$f":"VLOOKUP(A4194,bangolf_kategorien!$A$2:$B$11,2,FALSE)","v":"SM1"}]
["hv",67051,"Johann","Zymelka","BGC Bildstock e.V.","SM2: Zymelka, Johann",{"$f":"VLOOKUP(A4195,bangolf_kategorien!$A$2:$B$11,2,FALSE)","v":"SM2"}]
["hv","Hobby1","Peter","Hesse","Hobby","SM2: Hesse, Peter",{"$f":"VLOOKUP(A4196,bangolf_kategorien!$A$2:$B$11,2,FALSE)","v":"SM2"}]
["dv","Hobby2","Ulla","Barthauer","Hobby","SW2: Barthauer, Ulla",{"$f":"VLOOKUP(A4197,bangolf_kategorien!$A$2:$B$11,2,FALSE)","v":"SW2"}]
["hv","Hobby3","Bernd","Preißinger","Hobby","SM2: Preißinger, Bernd",{"$f":"VLOOKUP(A4198,bangolf_kategorien!$A$2:$B$11,2,FALSE)","v":"SM2"}]
["hv","Hobby4","Günter","Schmidtbauer","Hobby","SM2: Schmidtbauer, Günter",{"$f":"VLOOKUP(A4199,bangolf_kategorien!$A$2:$B$11,2,FALSE)","v":"SM2"}]
["hs","Hobby5","Thorsten","Goldau","Hobby","H: Goldau, Thorsten",{"$f":"VLOOKUP(A4200,bangolf_kategorien!$A$2:$B$11,2,FALSE)","v":"H"}]
["og","Hobby6","Brigitte","Börgmann","Hobby","SW1: Börgmann, Brigitte",{"$f":"VLOOKUP(A4201,bangolf_kategorien!$A$2:$B$11,2,FALSE)","v":"SW1"}]
["ds","Hobby7","Nicole","Lieber","Hobby","D: Lieber, Nicole",{"$f":"VLOOKUP(A4202,bangolf_kategorien!$A$2:$B$11,2,FALSE)","v":"D"}]
["hs","Hobby10","Frank","Skischalli","Hobby","H: Skischalli, Frank",{"$f":"VLOOKUP(A4203,bangolf_kategorien!$A$2:$B$11,2,FALSE)","v":"H"}]
["hv","Hobby11","Michael","Puschner","Hobby","SM2: Puschner, Michael",{"$f":"VLOOKUP(A4204,bangolf_kategorien!$A$2:$B$11,2,FALSE)","v":"SM2"}]
["hv","Hobby13","Walter","Lütje","Hobby","SM2: Lütje, Walter",{"$f":"VLOOKUP(A4205,bangolf_kategorien!$A$2:$B$11,2,FALSE)","v":"SM2"}]
["dv","Hobby14","Ursula","Lütje","Hobby","SW2: Lütje, Ursula",{"$f":"VLOOKUP(A4206,bangolf_kategorien!$A$2:$B$11,2,FALSE)","v":"SW2"}]
["ob","Hobby15","Ulrich","Börgmann","Hobby","SM1: Börgmann, Ulrich",{"$f":"VLOOKUP(A4207,bangolf_kategorien!$A$2:$B$11,2,FALSE)","v":"SM1"}]
["ob","Hobby16","Karsten","Gattner","Hobby","SM1: Gattner, Karsten",{"$f":"VLOOKUP(A4208,bangolf_kategorien!$A$2:$B$11,2,FALSE)","v":"SM1"}]
["dv","Hobby17","Ellen","Keruth","Hobby","SW2: Keruth, Ellen",{"$f":"VLOOKUP(A4209,bangolf_kategorien!$A$2:$B$11,2,FALSE)","v":"SW2"}]
["dv","Hobby18","Ursula","Koch","Hobby","SW2: Koch, Ursula",{"$f":"VLOOKUP(A4210,bangolf_kategorien!$A$2:$B$11,2,FALSE)","v":"SW2"}]
["hv","Hobby19","Klaus","Fechner","Hobby","SM2: Fechner, Klaus",{"$f":"VLOOKUP(A4211,bangolf_kategorien!$A$2:$B$11,2,FALSE)","v":"SM2"}]
["hs","Hobby20","Endres","Puschner","Hobby","H: Puschner, Endres",{"$f":"VLOOKUP(A4212,bangolf_kategorien!$A$2:$B$11,2,FALSE)","v":"H"}]
["dv","Hobby21","Silke","Puschner","Hobby","SW2: Puschner, Silke",{"$f":"VLOOKUP(A4213,bangolf_kategorien!$A$2:$B$11,2,FALSE)","v":"SW2"}]
["ob","Hobby22","Christian","Nopens","Hobby","SM1: Nopens, Christian",{"$f":"VLOOKUP(A4214,bangolf_kategorien!$A$2:$B$11,2,FALSE)","v":"SM1"}]
["og","Hobby23","Ute","Nopens","Hobby","SW1: Nopens, Ute",{"$f":"VLOOKUP(A4215,bangolf_kategorien!$A$2:$B$11,2,FALSE)","v":"SW1"}]
["ds","Hobby25","Petra","Hünnebeck","Hobby","D: Hünnebeck, Petra",{"$f":"VLOOKUP(A4216,bangolf_kategorien!$A$2:$B$11,2,FALSE)","v":"D"}]
["dv","Hobby26","Angela","Janz","Hobby","SW2: Janz, Angela",{"$f":"VLOOKUP(A4217,bangolf_kategorien!$A$2:$B$11,2,FALSE)","v":"SW2"}]
["hs","Hobby27","Saddrik","Leibrandt","Hobby","H: Leibrandt, Saddrik",{"$f":"VLOOKUP(A4218,bangolf_kategorien!$A$2:$B$11,2,FALSE)","v":"H"}]
["hv","Hobby28","Uwe","Frost","Hobby",{"$f":"CONCATENATE(G4219,\": \",D4219,\", \",C4219)","v":"SM2: Frost, Uwe"},{"$f":"VLOOKUP(A4219,bangolf_kategorien!$A$2:$B$11,2,FALSE)","v":"SM2"}]
["hv","Hobby29","Thomas","Hoffmann","Hobby","SM2: Hoffmann, Thomas",{"$f":"VLOOKUP(A4220,bangolf_kategorien!$A$2:$B$11,2,FALSE)","v":"SM2"}]
["og","Hobby31","Sabine","Kortmann","Hobby","SW1: Kortmann, Sabine",{"$f":"VLOOKUP(A4221,bangolf_kategorien!$A$2:$B$11,2,FALSE)","v":"SW1"}]
["ob","Hobby32","Uwe","Kortmann","Hobby","SM1: Kortmann, Uwe",{"$f":"VLOOKUP(A4222,bangolf_kategorien!$A$2:$B$11,2,FALSE)","v":"SM1"}]
["ob","Hobby38","Frank","Brunnenkant","Hobby","SM1: Brunnenkant, Frank",{"$f":"VLOOKUP(A4223,bangolf_kategorien!$A$2:$B$11,2,FALSE)","v":"SM1"}]
["ob","Hobby39","Andreas","Wilke","Hobby","SM1: Wilke, Andreas",{"$f":"VLOOKUP(A4224,bangolf_kategorien!$A$2:$B$11,2,FALSE)","v":"SM1"}]
["ob","Hobby40","Martin","Kunz","Hobby","SM1: Kunz, Martin",{"$f":"VLOOKUP(A4225,bangolf_kategorien!$A$2:$B$11,2,FALSE)","v":"SM1"}]
["hv","Hobby34","Bernd","Peine","Hobby","SM2: Peine, Bernd",{"$f":"VLOOKUP(A4226,bangolf_kategorien!$A$2:$B$11,2,FALSE)","v":"SM2"}]
["og","Hobby35","Ute","Nopens","Hobby","SW1: Nopens, Ute",{"$f":"VLOOKUP(A4227,bangolf_kategorien!$A$2:$B$11,2,FALSE)","v":"SW1"}]
["ob","Hobby36","Christian","Nopens","Hobby","SM1: Nopens, Christian",{"$f":"VLOOKUP(A4228,bangolf_kategorien!$A$2:$B$11,2,FALSE)","v":"SM1"}]
["hs","Hobby41","Chris","Petersmann","Hobby","H: Petersmann, Chris",{"$f":"VLOOKUP(A4229,bangolf_kategorien!$A$2:$B$11,2,FALSE)","v":"H"}]
["hs","Hobby42","Torben","Wortmann","Hobby",{"$f":"CONCATENATE(G4230,\": \",D4230,\", \",C4230)","v":"H: Wortmann, Torben"},{"$f":"VLOOKUP(A4230,bangolf_kategorien!$A$2:$B$11,2,FALSE)","v":"H"}]
["ds","Hobby37","Anna","Kortmann","Hobby",{"$f":"CONCATENATE(G4231,\": \",D4231,\", \",C4231)","v":"D: Kortmann, Anna"},{"$f":"VLOOKUP(A4231,bangolf_kategorien!$A$2:$B$11,2,FALSE)","v":"D"}]

{"sheet":"Teilnehmer","index":23,"n_rows":96,"n_cols":9,"rows_kept":96,"cut":false,"hidden":true,"merged":[[0,0,0,4]]}
["Sommer-Cup im Freizeittreff Herbede - Teilnehmerliste",null,null,null,null,null,null,"aus players.data:"]
["Spieler","Verein","Passnr.","Kat.","fehlt?",null,"Kat.","Verein","Kat. Ok"]
["Arens, Ingo",{"$f":"VLOOKUP(H3,Vereine!$A$2:$B$26,2,FALSE)","v":"Ennep."},27450,"SM1",{"$f":"COUNTIF(Gesamtstand!$B$3:$B$104,$A3)=0","v":true},null,{"$f":"VLOOKUP($C3,bangolf_players!$B$2:$G$4863,6,FALSE)","v":"SM1"},{"$f":"VLOOKUP($C3,bangolf_players!$B$2:$G$4863,4,FALSE)","v":"BSC Ennepetal e.V."},{"$f":"G3=D3","v":true}]
["Battling, Hendrik",{"$f":"VLOOKUP(H4,Vereine!$A$2:$B$26,2,FALSE)","v":"ASW"},37799,"H",{"$f":"COUNTIF(Gesamtstand!$B$3:$B$104,$A4)=0","v":true},null,{"$f":"VLOOKUP($C4,bangolf_players!$B$2:$G$4863,6,FALSE)","v":"H"},{"$f":"VLOOKUP($C4,bangolf_players!$B$2:$G$4863,4,FALSE)","v":"MGC \"AS\" Witten 1963 e.V."},{"$f":"G4=D4","v":true}]
["Battig, Wolfgang",{"$f":"VLOOKUP(H5,Vereine!$A$2:$B$26,2,FALSE)","v":"Lüd."},23741,"SM1",{"$f":"COUNTIF(Gesamtstand!$B$3:$B$104,$A5)=0","v":false},null,{"$f":"VLOOKUP($C5,bangolf_players!$B$2:$G$4863,6,FALSE)","v":"SM1"},{"$f":"VLOOKUP($C5,bangolf_players!$B$2:$G$4863,4,FALSE)","v":"MC 62 Lüdenscheid e.V."},{"$f":"G5=D5","v":true}]
["Baumgart, Thorben",{"$f":"VLOOKUP(H6,Vereine!$A$2:$B$26,2,FALSE)","v":"NEH"},37760,"H",{"$f":"COUNTIF(Gesamtstand!$B$3:$B$104,$A6)=0","v":true},null,{"$f":"VLOOKUP($C6,bangolf_players!$B$2:$G$4863,6,FALSE)","v":"H"},{"$f":"VLOOKUP($C6,bangolf_players!$B$2:$G$4863,4,FALSE)","v":"MSK Neheim-Hüsten e.V."},true]
["Behrens, Stephan",{"$f":"VLOOKUP(H7,Vereine!$A$2:$B$26,2,FALSE)","v":"NIE"},34186,"H",{"$f":"COUNTIF(Gesamtstand!$B$3:$B$104,$A7)=0","v":true},null,{"$f":"VLOOKUP($C7,bangolf_players!$B$2:$G$4863,6,FALSE)","v":"H"},{"$f":"VLOOKUP($C7,bangolf_players!$B$2:$G$4863,4,FALSE)","v":"Niendorfer MC v. 1963 e.V."},true]
["Blasek, Nicole",{"$f":"VLOOKUP(H8,Vereine!$A$2:$B$26,2,FALSE)","v":"KÖL"},35663,"SW1",{"$f":"COUNTIF(Gesamtstand!$B$3:$B$104,$A8)=0","v":true},null,{"$f":"VLOOKUP($C8,bangolf_players!$B$2:$G$4863,6,FALSE)","v":"SW1"},{"$f":"VLOOKUP($C8,bangolf_players!$B$2:$G$4863,4,FALSE)","v":"1. MGC Köln 1961 e.V."},true]
["Blümer, Severin",{"$f":"VLOOKUP(H9,Vereine!$A$2:$B$26,2,FALSE)","v":"Wesel"},66049,"H",{"$f":"COUNTIF(Gesamtstand!$B$3:$B$104,$A9)=0","v":true},null,{"$f":"VLOOKUP($C9,bangolf_players!$B$2:$G$4863,6,FALSE)","v":"H"},{"$f":"VLOOKUP($C9,bangolf_players!$B$2:$G$4863,4,FALSE)","v":"1. MSC Wesel 6.6.1966 e.V."},true]
["Börgmann, Brigitte",{"$f":"VLOOKUP(H10,Vereine!$A$2:$B$26,2,FALSE)","v":"Hobby"},"Hobby6","SW1",{"$f":"COUNTIF(Gesamtstand!$B$3:$B$104,$A10)=0","v":false},null,{"$f":"VLOOKUP($C10,bangolf_players!$B$2:$G$4863,6,FALSE)","v":"SW1"},{"$f":"VLOOKUP($C10,bangolf_players!$B$2:$G$4863,4,FALSE)","v":"Hobby"},true]
["Börgmann, Ulrich",{"$f":"VLOOKUP(H11,Vereine!$A$2:$B$26,2,FALSE)","v":"Hobby"},"Hobby15","SM1",{"$f":"COUNTIF(Gesamtstand!$B$3:$B$104,$A11)=0","v":false},null,{"$f":"VLOOKUP($C11,bangolf_players!$B$2:$G$4863,6,FALSE)","v":"SM1"},{"$f":"VLOOKUP($C11,bangolf_players!$B$2:$G$4863,4,FALSE)","v":"Hobby"},true]
["Breitbarth, Frank",{"$f":"VLOOKUP(H12,Vereine!$A$2:$B$26,2,FALSE)","v":"Oly"},67219,"SM1",{"$f":"COUNTIF(Gesamtstand!$B$3:$B$104,$A12)=0","v":true},null,{"$f":"VLOOKUP($C12,bangolf_players!$B$2:$G$4863,6,FALSE)","v":"SM1"},{"$f":"VLOOKUP($C12,bangolf_players!$B$2:$G$4863,4,FALSE)","v":"SC Olympia Dortmund e.V."},true]
["Buchholz, Ansgar",{"$f":"VLOOKUP(H13,Vereine!$A$2:$B$26,2,FALSE)","v":"ASW"},31513,"SM1",{"$f":"COUNTIF(Gesamtstand!$B$3:$B$104,$A13)=0","v":false},null,{"$f":"VLOOKUP($C13,bangolf_players!$B$2:$G$4863,6,FALSE)","v":"SM1"},{"$f":"VLOOKUP($C13,bangolf_players!$B$2:$G$4863,4,FALSE)","v":"MGC \"AS\" Witten 1963 e.V."},true]
["Brunnenkant, Frank",{"$f":"VLOOKUP(H14,Vereine!$A$2:$B$26,2,FALSE)","v":"Hobby"},"Hobby38","SM1",{"$f":"COUNTIF(Gesamtstand!$B$3:$B$104,$A14)=0","v":false},null,{"$f":"VLOOKUP($C14,bangolf_players!$B$2:$G$4863,6,FALSE)","v":"SM1"},{"$f":"VLOOKUP($C14,bangolf_players!$B$2:$G$4863,4,FALSE)","v":"Hobby"},true]
["Dammann, Reinhold",{"$f":"VLOOKUP(H15,Vereine!$A$2:$B$26,2,FALSE)","v":"ASW"},25732,"SM2",{"$f":"COUNTIF(Gesamtstand!$B$3:$B$104,$A15)=0","v":false},null,{"$f":"VLOOKUP($C15,bangolf_players!$B$2:$G$4863,6,FALSE)","v":"SM2"},{"$f":"VLOOKUP($C15,bangolf_players!$B$2:$G$4863,4,FALSE)","v":"MGC \"AS\" Witten 1963 e.V."},true]
["Dietzel, Gerhard",{"$f":"VLOOKUP(H16,Vereine!$A$2:$B$26,2,FALSE)","v":"FEL"},5745,"SM2",{"$f":"COUNTIF(Gesamtstand!$B$3:$B$104,$A16)=0","v":true},null,{"$f":"VLOOKUP($C16,bangolf_players!$B$2:$G$4863,6,FALSE)","v":"SM2"},{"$f":"VLOOKUP($C16,bangolf_players!$B$2:$G$4863,4,FALSE)","v":"MGC Felderbachtal 1964 e.V."},true]
["Dreischer, Burkhard",{"$f":"VLOOKUP(H17,Vereine!$A$2:$B$26,2,FALSE)","v":"Oly"},23778,"SM2",{"$f":"COUNTIF(Gesamtstand!$B$3:$B$104,$A17)=0","v":false},null,{"$f":"VLOOKUP($C17,bangolf_players!$B$2:$G$4863,6,FALSE)","v":"SM2"},{"$f":"VLOOKUP($C17,bangolf_players!$B$2:$G$4863,4,FALSE)","v":"SC Olympia Dortmund e.V."},true]
["Fritzenkötter, Dietmar",{"$f":"VLOOKUP(H18,Vereine!$A$2:$B$26,2,FALSE)","v":"CAS"},37088,"SM2",{"$f":"COUNTIF(Gesamtstand!$B$3:$B$104,$A18)=0","v":true},null,{"$f":"VLOOKUP($C18,bangolf_players!$B$2:$G$4863,6,FALSE)","v":"SM2"},{"$f":"VLOOKUP($C18,bangolf_players!$B$2:$G$4863,4,FALSE)","v":"BGSV Castrop e.V. 1961"},{"$f":"G18=D18","v":true}]
["Fritzenkötter, Margot",{"$f":"VLOOKUP(H19,Vereine!$A$2:$B$26,2,FALSE)","v":"CAS"},37089,"SW2",{"$f":"COUNTIF(Gesamtstand!$B$3:$B$104,$A19)=0","v":true},null,{"$f":"VLOOKUP($C19,bangolf_players!$B$2:$G$4863,6,FALSE)","v":"SW2"},{"$f":"VLOOKUP($C19,bangolf_players!$B$2:$G$4863,4,FALSE)","v":"BGSV Castrop e.V. 1961"},true]
["Frost, Uwe",{"$f":"VLOOKUP(H20,Vereine!$A$2:$B$26,2,FALSE)","v":"Hobby"},"Hobby28","SM2",{"$f":"COUNTIF(Gesamtstand!$B$3:$B$104,$A20)=0","v":true},null,{"$f":"VLOOKUP($C20,bangolf_players!$B$2:$G$4863,6,FALSE)","v":"SM2"},{"$f":"VLOOKUP($C20,bangolf_players!$B$2:$G$4863,4,FALSE)","v":"Hobby"},true]
["Gattner, Karsten",{"$f":"VLOOKUP(H21,Vereine!$A$2:$B$26,2,FALSE)","v":"Hobby"},"Hobby16","SM1",{"$f":"COUNTIF(Gesamtstand!$B$3:$B$104,$A21)=0","v":true},null,{"$f":"VLOOKUP($C21,bangolf_players!$B$2:$G$4863,6,FALSE)","v":"SM1"},{"$f":"VLOOKUP($C21,bangolf_players!$B$2:$G$4863,4,FALSE)","v":"Hobby"},true]
["Ginschel, Rudolf",{"$f":"VLOOKUP(H22,Vereine!$A$2:$B$26,2,FALSE)","v":"BMC"},66864,"SM2",{"$f":"COUNTIF(Gesamtstand!$B$3:$B$104,$A22)=0","v":false},null,{"$f":"VLOOKUP($C22,bangolf_players!$B$2:$G$4863,6,FALSE)","v":"SM2"},{"$f":"VLOOKUP($C22,bangolf_players!$B$2:$G$4863,4,FALSE)","v":"Bochumer Minigolf-Club 1960 e.V."},true]
["Goldau, Thorsten",{"$f":"VLOOKUP(H23,Vereine!$A$2:$B$26,2,FALSE)","v":"Hobby"},"Hobby5","H",{"$f":"COUNTIF(Gesamtstand!$B$3:$B$104,$A23)=0","v":true},null,{"$f":"VLOOKUP($C23,bangolf_players!$B$2:$G$4863,6,FALSE)","v":"H"},{"$f":"VLOOKUP($C23,bangolf_players!$B$2:$G$4863,4,FALSE)","v":"Hobby"},{"$f":"G23=D23","v":true}]
["Greiffendorf, Hellmut",{"$f":"VLOOKUP(H24,Vereine!$A$2:$B$26,2,FALSE)","v":"ASW"},3800,"SM2",{"$f":"COUNTIF(Gesamtstand!$B$3:$B$104,$A24)=0","v":false},null,{"$f":"VLOOKUP($C24,bangolf_players!$B$2:$G$4863,6,FALSE)","v":"SM2"},{"$f":"VLOOKUP($C24,bangolf_players!$B$2:$G$4863,4,FALSE)","v":"MGC \"AS\" Witten 1963 e.V."},true]
["Grügelsberg, Jürgen",{"$f":"VLOOKUP(H25,Vereine!$A$2:$B$26,2,FALSE)","v":"ASW"},3802,"SM2",{"$f":"COUNTIF(Gesamtstand!$B$3:$B$104,$A25)=0","v":true},null,{"$f":"VLOOKUP($C25,bangolf_players!$B$2:$G$4863,6,FALSE)","v":"SM2"},{"$f":"VLOOKUP($C25,bangolf_players!$B$2:$G$4863,4,FALSE)","v":"MGC \"AS\" Witten 1963 e.V."},{"$f":"G25=D25","v":true}]
["Grügelsberg, Marianne",{"$f":"VLOOKUP(H26,Vereine!$A$2:$B$26,2,FALSE)","v":"ASW"},3126,"SW2",{"$f":"COUNTIF(Gesamtstand!$B$3:$B$104,$A26)=0","v":true},null,{"$f":"VLOOKUP($C26,bangolf_players!$B$2:$G$4863,6,FALSE)","v":"SW2"},{"$f":"VLOOKUP($C26,bangolf_players!$B$2:$G$4863,4,FALSE)","v":"MGC \"AS\" Witten 1963 e.V."},true]
["Gust, Klaus",{"$f":"VLOOKUP(H27,Vereine!$A$2:$B$26,2,FALSE)","v":"FEL"},6740,"SM2",{"$f":"COUNTIF(Gesamtstand!$B$3:$B$104,$A27)=0","v":true},null,{"$f":"VLOOKUP($C27,bangolf_players!$B$2:$G$4863,6,FALSE)","v":"SM2"},{"$f":"VLOOKUP($C27,bangolf_players!$B$2:$G$4863,4,FALSE)","v":"MGC Felderbachtal 1964 e.V."},true]
["Hein, Hans-Jörg",{"$f":"VLOOKUP(H28,Vereine!$A$2:$B$26,2,FALSE)","v":"ASW"},27863,"SM1",{"$f":"COUNTIF(Gesamtstand!$B$3:$B$104,$A28)=0","v":false},null,{"$f":"VLOOKUP($C28,bangolf_players!$B$2:$G$4863,6,FALSE)","v":"SM1"},{"$f":"VLOOKUP($C28,bangolf_players!$B$2:$G$4863,4,FALSE)","v":"MGC \"AS\" Witten 1963 e.V."},true]
["Hensel, Tobias",{"$f":"VLOOKUP(H29,Vereine!$A$2:$B$26,2,FALSE)","v":"Ennep."},37011,"H",{"$f":"COUNTIF(Gesamtstand!$B$3:$B$104,$A29)=0","v":true},null,{"$f":"VLOOKUP($C29,bangolf_players!$B$2:$G$4863,6,FALSE)","v":"H"},{"$f":"VLOOKUP($C29,bangolf_players!$B$2:$G$4863,4,FALSE)","v":"BSC Ennepetal e.V."},true]
["Henseler, Rainer",{"$f":"VLOOKUP(H30,Vereine!$A$2:$B$26,2,FALSE)","v":"Paderb."},65852,"SM2",{"$f":"COUNTIF(Gesamtstand!$B$3:$B$104,$A30)=0","v":true},null,{"$f":"VLOOKUP($C30,bangolf_players!$B$2:$G$4863,6,FALSE)","v":"SM2"},{"$f":"VLOOKUP($C30,bangolf_players!$B$2:$G$4863,4,FALSE)","v":"1. MGC Paderborn e.V."},true]
["Hesse, Peter",{"$f":"VLOOKUP(H31,Vereine!$A$2:$B$26,2,FALSE)","v":"Hobby"},"Hobby1","SM2",{"$f":"COUNTIF(Gesamtstand!$B$3:$B$104,$A31)=0","v":true},null,{"$f":"VLOOKUP($C31,bangolf_players!$B$2:$G$4863,6,FALSE)","v":"SM2"},{"$f":"VLOOKUP($C31,bangolf_players!$B$2:$G$4863,4,FALSE)","v":"Hobby"},true]
["Hettrich, Willi",{"$f":"VLOOKUP(H32,Vereine!$A$2:$B$26,2,FALSE)","v":"CAS"},35236,"SM2",{"$f":"COUNTIF(Gesamtstand!$B$3:$B$104,$A32)=0","v":true},null,{"$f":"VLOOKUP($C32,bangolf_players!$B$2:$G$4863,6,FALSE)","v":"SM2"},{"$f":"VLOOKUP($C32,bangolf_players!$B$2:$G$4863,4,FALSE)","v":"BGSV Castrop e.V. 1961"},true]
["Hoffmann, Thomas",{"$f":"VLOOKUP(H33,Vereine!$A$2:$B$26,2,FALSE)","v":"Hobby"},"Hobby29","SM2",{"$f":"COUNTIF(Gesamtstand!$B$3:$B$104,$A33)=0","v":false},null,{"$f":"VLOOKUP($C33,bangolf_players!$B$2:$G$4863,6,FALSE)","v":"SM2"},{"$f":"VLOOKUP($C33,bangolf_players!$B$2:$G$4863,4,FALSE)","v":"Hobby"},true]
["Hünnebeck, Petra",{"$f":"VLOOKUP(H34,Vereine!$A$2:$B$26,2,FALSE)","v":"Hobby"},"Hobby25","D",{"$f":"COUNTIF(Gesamtstand!$B$3:$B$104,$A34)=0","v":true},null,{"$f":"VLOOKUP($C34,bangolf_players!$B$2:$G$4863,6,FALSE)","v":"D"},{"$f":"VLOOKUP($C34,bangolf_players!$B$2:$G$4863,4,FALSE)","v":"Hobby"},true]
["Janz, Angela",{"$f":"VLOOKUP(H35,Vereine!$A$2:$B$26,2,FALSE)","v":"Hobby"},"Hobby26","SW2",{"$f":"COUNTIF(Gesamtstand!$B$3:$B$104,$A35)=0","v":true},null,{"$f":"VLOOKUP($C35,bangolf_players!$B$2:$G$4863,6,FALSE)","v":"SW2"},{"$f":"VLOOKUP($C35,bangolf_players!$B$2:$G$4863,4,FALSE)","v":"Hobby"},true]
["Jezierski, Marie-Luise",{"$f":"VLOOKUP(H36,Vereine!$A$2:$B$26,2,FALSE)","v":"ASW"},61958,"SW2",{"$f":"COUNTIF(Gesamtstand!$B$3:$B$104,$A36)=0","v":false},null,{"$f":"VLOOKUP($C36,bangolf_players!$B$2:$G$4863,6,FALSE)","v":"SW2"},{"$f":"VLOOKUP($C36,bangolf_players!$B$2:$G$4863,4,FALSE)","v":"MGC \"AS\" Witten 1963 e.V."},true]
["Keller, Markus",{"$f":"VLOOKUP(H37,Vereine!$A$2:$B$26,2,FALSE)","v":"BMC"},67050,"SM1",{"$f":"COUNTIF(Gesamtstand!$B$3:$B$104,$A37)=0","v":true},null,{"$f":"VLOOKUP($C37,bangolf_players!$B$2:$G$4863,6,FALSE)","v":"SM1"},{"$f":"VLOOKUP($C37,bangolf_players!$B$2:$G$4863,4,FALSE)","v":"Bochumer Minigolf-Club 1960 e.V."},{"$f":"G37=D37","v":true}]
["Kersch, Uwe",{"$f":"VLOOKUP(H38,Vereine!$A$2:$B$26,2,FALSE)","v":"HEV"},67352,"SM2",{"$f":"COUNTIF(Gesamtstand!$B$3:$B$104,$A38)=0","v":false},null,{"$f":"VLOOKUP($C38,bangolf_players!$B$2:$G$4863,6,FALSE)","v":"SM2"},{"$f":"VLOOKUP($C38,bangolf_players!$B$2:$G$4863,4,FALSE)","v":"MGC Heven e.V."},{"$f":"G38=D38","v":true}]
["Keruth, Ellen",{"$f":"VLOOKUP(H39,Vereine!$A$2:$B$26,2,FALSE)","v":"Hobby"},"Hobby17","SW2",{"$f":"COUNTIF(Gesamtstand!$B$3:$B$104,$A39)=0","v":true},null,{"$f":"VLOOKUP($C39,bangolf_players!$B$2:$G$4863,6,FALSE)","v":"SW2"},{"$f":"VLOOKUP($C39,bangolf_players!$B$2:$G$4863,4,FALSE)","v":"Hobby"},true]
["Keuth, Marita",{"$f":"VLOOKUP(H40,Vereine!$A$2:$B$26,2,FALSE)","v":"HEV"},67351,"SW1",{"$f":"COUNTIF(Gesamtstand!$B$3:$B$104,$A40)=0","v":true},null,{"$f":"VLOOKUP($C40,bangolf_players!$B$2:$G$4863,6,FALSE)","v":"SW1"},{"$f":"VLOOKUP($C40,bangolf_players!$B$2:$G$4863,4,FALSE)","v":"MGC Heven e.V."},{"$f":"G40=D40","v":true}]
["Klein, Sabine",{"$f":"VLOOKUP(H41,Vereine!$A$2:$B$26,2,FALSE)","v":"BÜT"},36474,"SW1",{"$f":"COUNTIF(Gesamtstand!$B$3:$B$104,$A41)=0","v":true},null,{"$f":"VLOOKUP($C41,bangolf_players!$B$2:$G$4863,6,FALSE)","v":"SW1"},{"$f":"VLOOKUP($C41,bangolf_players!$B$2:$G$4863,4,FALSE)","v":"HMC Büttgen e.V."},true]
["Klein, Theo",{"$f":"VLOOKUP(H42,Vereine!$A$2:$B$26,2,FALSE)","v":"Halver"},40219,"SM1",{"$f":"COUNTIF(Gesamtstand!$B$3:$B$104,$A42)=0","v":true},null,{"$f":"VLOOKUP($C42,bangolf_players!$B$2:$G$4863,6,FALSE)","v":"SM1"},{"$f":"VLOOKUP($C42,bangolf_players!$B$2:$G$4863,4,FALSE)","v":"SSC Halver e.V."},true]
["Koch, Ursula",{"$f":"VLOOKUP(H43,Vereine!$A$2:$B$26,2,FALSE)","v":"Hobby"},"Hobby18","SW2",{"$f":"COUNTIF(Gesamtstand!$B$3:$B$104,$A43)=0","v":true},null,{"$f":"VLOOKUP($C43,bangolf_players!$B$2:$G$4863,6,FALSE)","v":"SW2"},{"$f":"VLOOKUP($C43,bangolf_players!$B$2:$G$4863,4,FALSE)","v":"Hobby"},true]
["Kortmann, Sabine",{"$f":"VLOOKUP(H44,Vereine!$A$2:$B$26,2,FALSE)","v":"Hobby"},"Hobby31","SW1",{"$f":"COUNTIF(Gesamtstand!$B$3:$B$104,$A44)=0","v":false},null,{"$f":"VLOOKUP($C44,bangolf_players!$B$2:$G$4863,6,FALSE)","v":"SW1"},{"$f":"VLOOKUP($C44,bangolf_players!$B$2:$G$4863,4,FALSE)","v":"Hobby"},{"$f":"G44=D44","v":true}]
["Kortmann, Uwe",{"$f":"VLOOKUP(H45,Vereine!$A$2:$B$26,2,FALSE)","v":"Hobby"},"Hobby32","SM1",{"$f":"COUNTIF(Gesamtstand!$B$3:$B$104,$A45)=0","v":false},null,{"$f":"VLOOKUP($C45,bangolf_players!$B$2:$G$4863,6,FALSE)","v":"SM1"},{"$f":"VLOOKUP($C45,bangolf_players!$B$2:$G$4863,4,FALSE)","v":"Hobby"},true]
["Kottek, Sabine",{"$f":"VLOOKUP(H46,Vereine!$A$2:$B$26,2,FALSE)","v":"HEV"},67152,"D",{"$f":"COUNTIF(Gesamtstand!$B$3:$B$104,$A46)=0","v":true},null,{"$f":"VLOOKUP($C46,bangolf_players!$B$2:$G$4863,6,FALSE)","v":"D"},{"$f":"VLOOKUP($C46,bangolf_players!$B$2:$G$4863,4,FALSE)","v":"MGC Heven e.V."},true]
["Kube, Sebastian",{"$f":"VLOOKUP(H47,Vereine!$A$2:$B$26,2,FALSE)","v":"Do-Bre"},35655,"H",{"$f":"COUNTIF(Gesamtstand!$B$3:$B$104,$A47)=0","v":true},null,{"$f":"VLOOKUP($C47,bangolf_players!$B$2:$G$4863,6,FALSE)","v":"H"},{"$f":"VLOOKUP($C47,bangolf_players!$B$2:$G$4863,4,FALSE)","v":"MGC Dormagen-Brechten e.V."},true]
["Kunz, Martin",{"$f":"VLOOKUP(H48,Vereine!$A$2:$B$26,2,FALSE)","v":"Hobby"},"Hobby40","SM1",{"$f":"COUNTIF(Gesamtstand!$B$3:$B$104,$A48)=0","v":false},null,{"$f":"VLOOKUP($C48,bangolf_players!$B$2:$G$4863,6,FALSE)","v":"SM1"},{"$f":"VLOOKUP($C48,bangolf_players!$B$2:$G$4863,4,FALSE)","v":"Hobby"},{"$f":"G48=D48","v":true}]
["Kuschel, Raphael",{"$f":"VLOOKUP(H49,Vereine!$A$2:$B$26,2,FALSE)","v":"Do-Bre"},66103,"H",{"$f":"COUNTIF(Gesamtstand!$B$3:$B$104,$A49)=0","v":true},null,{"$f":"VLOOKUP($C49,bangolf_players!$B$2:$G$4863,6,FALSE)","v":"H"},{"$f":"VLOOKUP($C49,bangolf_players!$B$2:$G$4863,4,FALSE)","v":"MGC Dormagen-Brechten e.V."},{"$f":"G49=D49","v":true}]
["Lange, Phillipp",{"$f":"VLOOKUP(H50,Vereine!$A$2:$B$26,2,FALSE)","v":"CAS"},37204,"H",{"$f":"COUNTIF(Gesamtstand!$B$3:$B$104,$A50)=0","v":true},null,{"$f":"VLOOKUP($C50,bangolf_players!$B$2:$G$4863,6,FALSE)","v":"H"},{"$f":"VLOOKUP($C50,bangolf_players!$B$2:$G$4863,4,FALSE)","v":"BGSV Castrop e.V. 1961"},true]
["Lange, Wilfried",{"$f":"VLOOKUP(H51,Vereine!$A$2:$B$26,2,FALSE)","v":"CAS"},66415,"SM2",{"$f":"COUNTIF(Gesamtstand!$B$3:$B$104,$A51)=0","v":true},null,{"$f":"VLOOKUP($C51,bangolf_players!$B$2:$G$4863,6,FALSE)","v":"SM2"},{"$f":"VLOOKUP($C51,bangolf_players!$B$2:$G$4863,4,FALSE)","v":"BGSV Castrop e.V. 1961"},true]
["Lehmann, Niclas",{"$f":"VLOOKUP(H52,Vereine!$A$2:$B$26,2,FALSE)","v":"Oly"},67372,"H",{"$f":"COUNTIF(Gesamtstand!$B$3:$B$104,$A52)=0","v":false},null,{"$f":"VLOOKUP($C52,bangolf_players!$B$2:$G$4863,6,FALSE)","v":"H"},{"$f":"VLOOKUP($C52,bangolf_players!$B$2:$G$4863,4,FALSE)","v":"SC Olympia Dortmund e.V."},true]
["Leibrandt, Saddrik",{"$f":"VLOOKUP(H53,Vereine!$A$2:$B$26,2,FALSE)","v":"Hobby"},"Hobby27","H",{"$f":"COUNTIF(Gesamtstand!$B$3:$B$104,$A53)=0","v":true},null,{"$f":"VLOOKUP($C53,bangolf_players!$B$2:$G$4863,6,FALSE)","v":"H"},{"$f":"VLOOKUP($C53,bangolf_players!$B$2:$G$4863,4,FALSE)","v":"Hobby"},true]
["Lenk, Rolf",{"$f":"VLOOKUP(H54,Vereine!$A$2:$B$26,2,FALSE)","v":"ASW"},61716,"SM2",{"$f":"COUNTIF(Gesamtstand!$B$3:$B$104,$A54)=0","v":false},null,{"$f":"VLOOKUP($C54,bangolf_players!$B$2:$G$4863,6,FALSE)","v":"SM2"},{"$f":"VLOOKUP($C54,bangolf_players!$B$2:$G$4863,4,FALSE)","v":"MGC \"AS\" Witten 1963 e.V."},{"$f":"G54=D54","v":true}]
["Lieber, Nicole",{"$f":"VLOOKUP(H55,Vereine!$A$2:$B$26,2,FALSE)","v":"Hobby"},"Hobby7","D",{"$f":"COUNTIF(Gesamtstand!$B$3:$B$104,$A55)=0","v":false},null,{"$f":"VLOOKUP($C55,bangolf_players!$B$2:$G$4863,6,FALSE)","v":"D"},{"$f":"VLOOKUP($C55,bangolf_players!$B$2:$G$4863,4,FALSE)","v":"Hobby"},true]
["Lütje, Ursula",{"$f":"VLOOKUP(H56,Vereine!$A$2:$B$26,2,FALSE)","v":"Hobby"},"Hobby14","SW2",{"$f":"COUNTIF(Gesamtstand!$B$3:$B$104,$A56)=0","v":true},null,{"$f":"VLOOKUP($C56,bangolf_players!$B$2:$G$4863,6,FALSE)","v":"SW2"},{"$f":"VLOOKUP($C56,bangolf_players!$B$2:$G$4863,4,FALSE)","v":"Hobby"},true]
["Lütje, Walter",{"$f":"VLOOKUP(H57,Vereine!$A$2:$B$26,2,FALSE)","v":"Hobby"},"Hobby13","SM2",{"$f":"COUNTIF(Gesamtstand!$B$3:$B$104,$A57)=0","v":true},null,{"$f":"VLOOKUP($C57,bangolf_players!$B$2:$G$4863,6,FALSE)","v":"SM2"},{"$f":"VLOOKUP($C57,bangolf_players!$B$2:$G$4863,4,FALSE)","v":"Hobby"},true]
["Lüttenberg, Winfried",{"$f":"VLOOKUP(H58,Vereine!$A$2:$B$26,2,FALSE)","v":"1. CGC"},21946,"SM2",{"$f":"COUNTIF(Gesamtstand!$B$3:$B$104,$A58)=0","v":true},null,{"$f":"VLOOKUP($C58,bangolf_players!$B$2:$G$4863,6,FALSE)","v":"SM2"},{"$f":"VLOOKUP($C58,bangolf_players!$B$2:$G$4863,4,FALSE)","v":"1. Essener CGC \"Blau-Gold\" e.V."},true]
["Matthies, Angelika",{"$f":"VLOOKUP(H59,Vereine!$A$2:$B$26,2,FALSE)","v":"ASW"},65803,"SW2",{"$f":"COUNTIF(Gesamtstand!$B$3:$B$104,$A59)=0","v":true},null,{"$f":"VLOOKUP($C59,bangolf_players!$B$2:$G$4863,6,FALSE)","v":"SW2"},{"$f":"VLOOKUP($C59,bangolf_players!$B$2:$G$4863,4,FALSE)","v":"MGC \"AS\" Witten 1963 e.V."},true]
["Matthies, Bernd",{"$f":"VLOOKUP(H60,Vereine!$A$2:$B$26,2,FALSE)","v":"ASW"},65804,"SM2",{"$f":"COUNTIF(Gesamtstand!$B$3:$B$104,$A60)=0","v":true},null,{"$f":"VLOOKUP($C60,bangolf_players!$B$2:$G$4863,6,FALSE)","v":"SM2"},{"$f":"VLOOKUP($C60,bangolf_players!$B$2:$G$4863,4,FALSE)","v":"MGC \"AS\" Witten 1963 e.V."},true]
["Mühling, Dirk",{"$f":"VLOOKUP(H61,Vereine!$A$2:$B$26,2,FALSE)","v":"HEV"},49369,"SM1",{"$f":"COUNTIF(Gesamtstand!$B$3:$B$104,$A61)=0","v":false},null,{"$f":"VLOOKUP($C61,bangolf_players!$B$2:$G$4863,6,FALSE)","v":"SM1"},{"$f":"VLOOKUP($C61,bangolf_players!$B$2:$G$4863,4,FALSE)","v":"MGC Heven e.V."},true]
["Neufeld, Marvin",{"$f":"VLOOKUP(H62,Vereine!$A$2:$B$26,2,FALSE)","v":"Hardenb."},37047,"H",{"$f":"COUNTIF(Gesamtstand!$B$3:$B$104,$A62)=0","v":true},null,{"$f":"VLOOKUP($C62,bangolf_players!$B$2:$G$4863,6,FALSE)","v":"H"},{"$f":"VLOOKUP($C62,bangolf_players!$B$2:$G$4863,4,FALSE)","v":"BGS Hardenberg-Pötter e.V."},true]
["Niederdräing, Dieter",{"$f":"VLOOKUP(H63,Vereine!$A$2:$B$26,2,FALSE)","v":"FEL"},11191,"SM2",{"$f":"COUNTIF(Gesamtstand!$B$3:$B$104,$A63)=0","v":true},null,{"$f":"VLOOKUP($C63,bangolf_players!$B$2:$G$4863,6,FALSE)","v":"SM2"},{"$f":"VLOOKUP($C63,bangolf_players!$B$2:$G$4863,4,FALSE)","v":"MGC Felderbachtal 1964 e.V."},true]
["Nopens, Christian",{"$f":"VLOOKUP(H64,Vereine!$A$2:$B$26,2,FALSE)","v":"Hobby"},"Hobby22","SM1",{"$f":"COUNTIF(Gesamtstand!$B$3:$B$104,$A64)=0","v":true},null,{"$f":"VLOOKUP($C64,bangolf_players!$B$2:$G$4863,6,FALSE)","v":"SM1"},{"$f":"VLOOKUP($C64,bangolf_players!$B$2:$G$4863,4,FALSE)","v":"Hobby"},true]
["Nopens, Ute",{"$f":"VLOOKUP(H65,Vereine!$A$2:$B$26,2,FALSE)","v":"Hobby"},"Hobby23","SW1",{"$f":"COUNTIF(Gesamtstand!$B$3:$B$104,$A65)=0","v":true},null,{"$f":"VLOOKUP($C65,bangolf_players!$B$2:$G$4863,6,FALSE)","v":"SW1"},{"$f":"VLOOKUP($C65,bangolf_players!$B$2:$G$4863,4,FALSE)","v":"Hobby"},{"$f":"G65=D65","v":true}]
["Paffrath, Ben",{"$f":"VLOOKUP(H66,Vereine!$A$2:$B$26,2,FALSE)","v":"HEV"},66565,"JM",{"$f":"COUNTIF(Gesamtstand!$B$3:$B$104,$A66)=0","v":true},null,{"$f":"VLOOKUP($C66,bangolf_players!$B$2:$G$4863,6,FALSE)","v":"JM"},{"$f":"VLOOKUP($C66,bangolf_players!$B$2:$G$4863,4,FALSE)","v":"MGC Heven e.V."},{"$f":"G66=D66","v":true}]
["Paffrath, Siegfried",{"$f":"VLOOKUP(H67,Vereine!$A$2:$B$26,2,FALSE)","v":"HEV"},33511,"SM2",{"$f":"COUNTIF(Gesamtstand!$B$3:$B$104,$A67)=0","v":true},null,{"$f":"VLOOKUP($C67,bangolf_players!$B$2:$G$4863,6,FALSE)","v":"SM2"},{"$f":"VLOOKUP($C67,bangolf_players!$B$2:$G$4863,4,FALSE)","v":"MGC Heven e.V."},true]
["Petersen, Robin",{"$f":"VLOOKUP(H68,Vereine!$A$2:$B$26,2,FALSE)","v":"Oly"},67371,"H",{"$f":"COUNTIF(Gesamtstand!$B$3:$B$104,$A68)=0","v":false},null,{"$f":"VLOOKUP($C68,bangolf_players!$B$2:$G$4863,6,FALSE)","v":"H"},{"$f":"VLOOKUP($C68,bangolf_players!$B$2:$G$4863,4,FALSE)","v":"SC Olympia Dortmund e.V."},true]
["Petersmann, Chris",null,"Hobby41","H",{"$f":"COUNTIF(Gesamtstand!$B$3:$B$104,$A69)=0","v":false},null,{"$f":"VLOOKUP($C69,bangolf_players!$B$2:$G$4863,6,FALSE)","v":"H"},{"$f":"VLOOKUP($C69,bangolf_players!$B$2:$G$4863,4,FALSE)","v":"Hobby"},true]
["Preißinger, Bernd",{"$f":"VLOOKUP(H70,Vereine!$A$2:$B$26,2,FALSE)","v":"Hobby"},"Hobby3","SM2",{"$f":"COUNTIF(Gesamtstand!$B$3:$B$104,$A70)=0","v":true},null,{"$f":"VLOOKUP($C70,bangolf_players!$B$2:$G$4863,6,FALSE)","v":"SM2"},{"$f":"VLOOKUP($C70,bangolf_players!$B$2:$G$4863,4,FALSE)","v":"Hobby"},true]
["Presser, Wolfgang",{"$f":"VLOOKUP(H71,Vereine!$A$2:$B$26,2,FALSE)","v":"HEV"},67151,"SM1",{"$f":"COUNTIF(Gesamtstand!$B$3:$B$104,$A71)=0","v":false},null,{"$f":"VLOOKUP($C71,bangolf_players!$B$2:$G$4863,6,FALSE)","v":"SM1"},{"$f":"VLOOKUP($C71,bangolf_players!$B$2:$G$4863,4,FALSE)","v":"MGC Heven e.V."},true]
["Puschner, Endres",{"$f":"VLOOKUP(H72,Vereine!$A$2:$B$26,2,FALSE)","v":"Hobby"},"Hobby20","H",{"$f":"COUNTIF(Gesamtstand!$B$3:$B$104,$A72)=0","v":true},null,{"$f":"VLOOKUP($C72,bangolf_players!$B$2:$G$4863,6,FALSE)","v":"H"},{"$f":"VLOOKUP($C72,bangolf_players!$B$2:$G$4863,4,FALSE)","v":"Hobby"},{"$f":"G72=D72","v":true}]
["Puschner, Michael",{"$f":"VLOOKUP(H73,Vereine!$A$2:$B$26,2,FALSE)","v":"Hobby"},"Hobby11","SM2",{"$f":"COUNTIF(Gesamtstand!$B$3:$B$104,$A73)=0","v":false},null,{"$f":"VLOOKUP($C73,bangolf_players!$B$2:$G$4863,6,FALSE)","v":"SM2"},{"$f":"VLOOKUP($C73,bangolf_players!$B$2:$G$4863,4,FALSE)","v":"Hobby"},true]
["Puschner, Silke",{"$f":"VLOOKUP(H74,Vereine!$A$2:$B$26,2,FALSE)","v":"Hobby"},"Hobby21","SW2",{"$f":"COUNTIF(Gesamtstand!$B$3:$B$104,$A74)=0","v":true},null,{"$f":"VLOOKUP($C74,bangolf_players!$B$2:$G$4863,6,FALSE)","v":"SW2"},{"$f":"VLOOKUP($C74,bangolf_players!$B$2:$G$4863,4,FALSE)","v":"Hobby"},true]
["Rade, Marcus",{"$f":"VLOOKUP(H75,Vereine!$A$2:$B$26,2,FALSE)","v":"ASW"},38625,"H",{"$f":"COUNTIF(Gesamtstand!$B$3:$B$104,$A75)=0","v":false},null,{"$f":"VLOOKUP($C75,bangolf_players!$B$2:$G$4863,6,FALSE)","v":"H"},{"$f":"VLOOKUP($C75,bangolf_players!$B$2:$G$4863,4,FALSE)","v":"MGC \"AS\" Witten 1963 e.V."},true]
["Reese, Andreas",{"$f":"VLOOKUP(H76,Vereine!$A$2:$B$26,2,FALSE)","v":"NEH"},50224,"SM1",{"$f":"COUNTIF(Gesamtstand!$B$3:$B$104,$A76)=0","v":true},null,{"$f":"VLOOKUP($C76,bangolf_players!$B$2:$G$4863,6,FALSE)","v":"SM1"},{"$f":"VLOOKUP($C76,bangolf_players!$B$2:$G$4863,4,FALSE)","v":"MSK Neheim-Hüsten e.V."},true]
["Richter, Mike",{"$f":"VLOOKUP(H77,Vereine!$A$2:$B$26,2,FALSE)","v":"Eiben."},34904,"H",{"$f":"COUNTIF(Gesamtstand!$B$3:$B$104,$A77)=0","v":true},null,{"$f":"VLOOKUP($C77,bangolf_players!$B$2:$G$4863,6,FALSE)","v":"H"},{"$f":"VLOOKUP($C77,bangolf_players!$B$2:$G$4863,4,FALSE)","v":"MGV Eibenstock"},true]
["Scharpe, Sabine",{"$f":"VLOOKUP(H78,Vereine!$A$2:$B$26,2,FALSE)","v":"BMC"},67147,"SW1",{"$f":"COUNTIF(Gesamtstand!$B$3:$B$104,$A78)=0","v":false},null,{"$f":"VLOOKUP($C78,bangolf_players!$B$2:$G$4863,6,FALSE)","v":"SW1"},{"$f":"VLOOKUP($C78,bangolf_players!$B$2:$G$4863,4,FALSE)","v":"Bochumer Minigolf-Club 1960 e.V."},true]
["Schmidt, Barbara",{"$f":"VLOOKUP(H79,Vereine!$A$2:$B$26,2,FALSE)","v":"Hobby"},3202768,"SW2",{"$f":"COUNTIF(Gesamtstand!$B$3:$B$104,$A79)=0","v":false},null,{"$f":"VLOOKUP($C79,bangolf_players!$B$2:$G$4863,6,FALSE)","v":"SW2"},{"$f":"VLOOKUP($C79,bangolf_players!$B$2:$G$4863,4,FALSE)","v":"Hobby"},{"$f":"G79=D79","v":true}]
["Schmidtbauer, Günter",{"$f":"VLOOKUP(H80,Vereine!$A$2:$B$26,2,FALSE)","v":"Hobby"},"Hobby4","SM2",{"$f":"COUNTIF(Gesamtstand!$B$3:$B$104,$A80)=0","v":false},null,{"$f":"VLOOKUP($C80,bangolf_players!$B$2:$G$4863,6,FALSE)","v":"SM2"},{"$f":"VLOOKUP($C80,bangolf_players!$B$2:$G$4863,4,FALSE)","v":"Hobby"},true]
["Schmitt, Jürgen",{"$f":"VLOOKUP(H81,Vereine!$A$2:$B$26,2,FALSE)","v":"ASW"},44955,"SM1",{"$f":"COUNTIF(Gesamtstand!$B$3:$B$104,$A81)=0","v":false},null,{"$f":"VLOOKUP($C81,bangolf_players!$B$2:$G$4863,6,FALSE)","v":"SM1"},{"$f":"VLOOKUP($C81,bangolf_players!$B$2:$G$4863,4,FALSE)","v":"MGC \"AS\" Witten 1963 e.V."},true]
["Schmitz, Ingeborg",{"$f":"VLOOKUP(H82,Vereine!$A$2:$B$26,2,FALSE)","v":"ASS"},37171,"SW2",{"$f":"COUNTIF(Gesamtstand!$B$3:$B$104,$A82)=0","v":false},null,{"$f":"VLOOKUP($C82,bangolf_players!$B$2:$G$4863,6,FALSE)","v":"SW2"},{"$f":"VLOOKUP($C82,bangolf_players!$B$2:$G$4863,4,FALSE)","v":"BGC Assindia Essen e.V."},{"$f":"G82=D82","v":true}]
["Seifert, Noah",{"$f":"VLOOKUP(H83,Vereine!$A$2:$B$26,2,FALSE)","v":"Wesel"},66364,"JM",{"$f":"COUNTIF(Gesamtstand!$B$3:$B$104,$A83)=0","v":true},null,{"$f":"VLOOKUP($C83,bangolf_players!$B$2:$G$4863,6,FALSE)","v":"JM"},{"$f":"VLOOKUP($C83,bangolf_players!$B$2:$G$4863,4,FALSE)","v":"1. MSC Wesel 6.6.1966 e.V."},true]
["Seifert, Stefan",{"$f":"VLOOKUP(H84,Vereine!$A$2:$B$26,2,FALSE)","v":"Wesel"},66472,"SM1",{"$f":"COUNTIF(Gesamtstand!$B$3:$B$104,$A84)=0","v":true},null,{"$f":"VLOOKUP($C84,bangolf_players!$B$2:$G$4863,6,FALSE)","v":"SM1"},{"$f":"VLOOKUP($C84,bangolf_players!$B$2:$G$4863,4,FALSE)","v":"1. MSC Wesel 6.6.1966 e.V."},true]
["Skischalli, Frank",{"$f":"VLOOKUP(H85,Vereine!$A$2:$B$26,2,FALSE)","v":"Hobby"},"Hobby10","H",{"$f":"COUNTIF(Gesamtstand!$B$3:$B$104,$A85)=0","v":true},null,{"$f":"VLOOKUP($C85,bangolf_players!$B$2:$G$4863,6,FALSE)","v":"H"},{"$f":"VLOOKUP($C85,bangolf_players!$B$2:$G$4863,4,FALSE)","v":"Hobby"},true]
["Springob, René",{"$f":"VLOOKUP(H86,Vereine!$A$2:$B$26,2,FALSE)","v":"NEH"},38477,"H",{"$f":"COUNTIF(Gesamtstand!$B$3:$B$104,$A86)=0","v":true},null,{"$f":"VLOOKUP($C86,bangolf_players!$B$2:$G$4863,6,FALSE)","v":"H"},{"$f":"VLOOKUP($C86,bangolf_players!$B$2:$G$4863,4,FALSE)","v":"MSK Neheim-Hüsten e.V."},true]
["Tabor, Peter",{"$f":"VLOOKUP(H87,Vereine!$A$2:$B$26,2,FALSE)","v":"ASW"},65804,"SM2",{"$f":"COUNTIF(Gesamtstand!$B$3:$B$104,$A87)=0","v":false},null,{"$f":"VLOOKUP($C87,bangolf_players!$B$2:$G$4863,6,FALSE)","v":"SM2"},{"$f":"VLOOKUP($C87,bangolf_players!$B$2:$G$4863,4,FALSE)","v":"MGC \"AS\" Witten 1963 e.V."},true]
["Tannheuser, Marcel",{"$f":"VLOOKUP(H88,Vereine!$A$2:$B$26,2,FALSE)","v":"BMC"},38509,"H",{"$f":"COUNTIF(Gesamtstand!$B$3:$B$104,$A88)=0","v":true},null,{"$f":"VLOOKUP($C88,bangolf_players!$B$2:$G$4863,6,FALSE)","v":"H"},{"$f":"VLOOKUP($C88,bangolf_players!$B$2:$G$4863,4,FALSE)","v":"Bochumer Minigolf-Club 1960 e.V."},true]
["Tockner, Franz",{"$f":"VLOOKUP(H89,Vereine!$A$2:$B$26,2,FALSE)","v":"ASW"},5438,"SM2",{"$f":"COUNTIF(Gesamtstand!$B$3:$B$104,$A89)=0","v":true},null,{"$f":"VLOOKUP($C89,bangolf_players!$B$2:$G$4863,6,FALSE)","v":"SM2"},{"$f":"VLOOKUP($C89,bangolf_players!$B$2:$G$4863,4,FALSE)","v":"MGC \"AS\" Witten 1963 e.V."},true]
["Urban, Angela",{"$f":"VLOOKUP(H90,Vereine!$A$2:$B$26,2,FALSE)","v":"ASW"},35605,"SW1",{"$f":"COUNTIF(Gesamtstand!$B$3:$B$104,$A90)=0","v":false},null,{"$f":"VLOOKUP($C90,bangolf_players!$B$2:$G$4863,6,FALSE)","v":"SW1"},{"$f":"VLOOKUP($C90,bangolf_players!$B$2:$G$4863,4,FALSE)","v":"MGC \"AS\" Witten 1963 e.V."},true]
["Urban, Dominic",{"$f":"VLOOKUP(H91,Vereine!$A$2:$B$26,2,FALSE)","v":"ASW"},66186,"JM",{"$f":"COUNTIF(Gesamtstand!$B$3:$B$104,$A91)=0","v":false},null,{"$f":"VLOOKUP($C91,bangolf_players!$B$2:$G$4863,6,FALSE)","v":"JM"},{"$f":"VLOOKUP($C91,bangolf_players!$B$2:$G$4863,4,FALSE)","v":"MGC \"AS\" Witten 1963 e.V."},true]
["Urban, Volker",{"$f":"VLOOKUP(H92,Vereine!$A$2:$B$26,2,FALSE)","v":"ASW"},35604,"SM1",{"$f":"COUNTIF(Gesamtstand!$B$3:$B$104,$A92)=0","v":false},null,{"$f":"VLOOKUP($C92,bangolf_players!$B$2:$G$4863,6,FALSE)","v":"SM1"},{"$f":"VLOOKUP($C92,bangolf_players!$B$2:$G$4863,4,FALSE)","v":"MGC \"AS\" Witten 1963 e.V."},true]
["Wickel-Paffrath, Melanie",{"$f":"VLOOKUP(H93,Vereine!$A$2:$B$26,2,FALSE)","v":"HEV"},33510,"D",{"$f":"COUNTIF(Gesamtstand!$B$3:$B$104,$A93)=0","v":false},null,{"$f":"VLOOKUP($C93,bangolf_players!$B$2:$G$4863,6,FALSE)","v":"D"},{"$f":"VLOOKUP($C93,bangolf_players!$B$2:$G$4863,4,FALSE)","v":"MGC Heven e.V."},{"$f":"G93=D93","v":true}]
["Wilhelms, Ralf",{"$f":"VLOOKUP(H94,Vereine!$A$2:$B$26,2,FALSE)","v":"Ennep."},44805,"SM1",{"$f":"COUNTIF(Gesamtstand!$B$3:$B$104,$A94)=0","v":false},null,{"$f":"VLOOKUP($C94,bangolf_players!$B$2:$G$4863,6,FALSE)","v":"SM1"},{"$f":"VLOOKUP($C94,bangolf_players!$B$2:$G$4863,4,FALSE)","v":"BSC Ennepetal e.V."},true]
["Wilke, Andreas",{"$f":"VLOOKUP(H95,Vereine!$A$2:$B$26,2,FALSE)","v":"Hobby"},"Hobby39","SM1",{"$f":"COUNTIF(Gesamtstand!$B$3:$B$104,$A95)=0","v":false},null,{"$f":"VLOOKUP($C95,bangolf_players!$B$2:$G$4863,6,FALSE)","v":"SM1"},{"$f":"VLOOKUP($C95,bangolf_players!$B$2:$G$4863,4,FALSE)","v":"Hobby"},true]
["Wortmann, Torben",{"$f":"VLOOKUP(H96,Vereine!$A$2:$B$26,2,FALSE)","v":"Hobby"},"Hobby42","H",{"$f":"COUNTIF(Gesamtstand!$B$3:$B$104,$A96)=0","v":false},null,{"$f":"VLOOKUP($C96,bangolf_players!$B$2:$G$4863,6,FALSE)","v":"H"},{"$f":"VLOOKUP($C96,bangolf_players!$B$2:$G$4863,4,FALSE)","v":"Hobby"},true]

{"sheet":"bangolf_kategorien","index":24,"n_rows":11,"n_cols":2,"rows_kept":11,"cut":false,"hidden":true,"merged":[]}
["Bangolf","Kategorie"]
["dv","SW2"]
["og","SW1"]
["ds","D"]
["hv","SM2"]
["ob","SM1"]
["hs","H"]
["dj","JW"]
["hj","JM"]
["fa","SCHW"]
["pa","SCHM"]

{"sheet":"Punkteschema","index":25,"n_rows":101,"n_cols":2,"rows_kept":101,"cut":false,"hidden":true,"merged":[]}
["Platz","Punkte"]
[0,0]
[1,25]
[2,21]
[3,18]
[4,15]
[5,15]
[6,15]
[7,10]
[8,10]
[9,10]
[10,10]
[11,5]
[12,5]
[13,5]
[14,5]
[15,5]
[16,3]
[17,3]
[18,3]
[19,3]
[20,3]
[21,1]
[22,1]
[23,1]
[24,1]
[25,1]
[26,1]
[27,1]
[28,1]
[29,1]
[30,1]
[31,1]
[32,1]
[33,1]
[34,1]
[35,1]
[36,1]
[37,1]
[38,1]
[39,1]
[40,1]
[41,1]
[42,1]
[43,1]
[44,1]
[45,1]
[46,1]
[47,1]
[48,1]
[49,1]
[50,1]
[51,1]
[52,1]
[53,1]
[54,1]
[55,1]
[56,1]
[57,1]
[58,1]
[59,1]
[60,1]
[61,1]
[62,1]
[63,1]
[64,1]
[65,1]
[66,1]
[67,1]
[68,1]
[69,1]
[70,1]
[71,1]
[72,1]
[73,1]
[74,1]
[75,1]
[76,1]
[77,1]
[78,1]
[79,1]
[80,1]
[81,1]
[82,1]
[83,1]
[84,1]
[85,1]
[86,1]
[87,1]
[88,1]
[89,1]
[90,1]
[91,1]
[92,1]
[93,1]
[94,1]
[95,1]
[96,1]
[97,1]
[98,1]
[99,1]

{"sheet":"Hilfe","index":26,"n_rows":14,"n_cols":5,"rows_kept":14,"cut":false,"hidden":true,"merged":[]}
[10,"<- die besten … Punktzahlen werden gewertet"]
[null,"(11 von 18, also die besten ca. 61% der Spieltage)"]
[null,"Quali für Preise: mindestens 13 von 18 Spieltagen,"]
[null,"also etwa an mindestens 72% der Spieltage"]
[]
[]
[]
[null,null,"Standard","aktuell","gerundet"]
[null,"gesamt",17,16,{"$f":"ROUND(D9,0)","v":16}]
[null,"gewertet",11,{"$f":"D9/$C$9*$C10","v":10.352941176470589},{"$f":"ROUND(D10,0)","v":10}]
[null,"Mindestteilnahme",12,{"$f":"D9/$C$9*$C11","v":11.294117647058822},{"$f":"ROUND(D11,0)","v":11}]
[]
[null,"% gewertet",{"$f":"C10/C9","v":0.6470588235294118},{"$f":"D10/D9","v":0.6470588235294118},{"$f":"E10/E9","v":0.625}]
[null,"% Mindestteilnahme",{"$f":"C11/C9","v":0.70588235294117652},{"$f":"D11/D9","v":0.70588235294117641},{"$f":"E11/E9","v":0.6875}]

{"sheet":"Vereine","index":27,"n_rows":26,"n_cols":2,"rows_kept":26,"cut":false,"hidden":true,"merged":[]}
["Vereinsname","Kürzel"]
["MGC \"AS\" Witten 1963 e.V.","ASW"]
["MSK Neheim-Hüsten e.V.","NEH"]
["Niendorfer MC v. 1963 e.V.","NIE"]
["1. MGC Köln 1961 e.V.","KÖL"]
["HMC Büttgen e.V.","BÜT"]
["BGC Assindia Essen e.V.","ASS"]
["BGSC Bochum 1978 e.V.","BGSC"]
["BGS Hardenberg-Pötter e.V.","Hardenb."]
["Hobby","Hobby"]
["MGC Felderbachtal 1964 e.V.","FEL"]
["1. MGC Gelsenkirchen e.V.","Gels."]
["BGV Bergisch Land 1962 / 63 e.V.","B.-Land"]
["BSC Ennepetal e.V.","Ennep."]
["Bochumer Minigolf-Club 1960 e.V.","BMC"]
["BGSV Castrop e.V. 1961","CAS"]
["1. Essener CGC \"Blau-Gold\" e.V.","1. CGC"]
["1. MGC Paderborn e.V.","Paderb."]
["SSC Halver e.V.","Halver"]
["MSC Herscheid 1963 e.V.","Hersch."]
["SC Olympia Dortmund e.V.","Oly"]
["MGC Dormagen-Brechten e.V.","Do-Bre"]
["MGC Heven e.V.","HEV"]
["MGV Eibenstock","Eiben."]
["MC 62 Lüdenscheid e.V.","Lüd."]
["1. MSC Wesel 6.6.1966 e.V.","Wesel"]

{"sheet":"Preise","index":28,"n_rows":16,"n_cols":5,"rows_kept":16,"cut":false,"hidden":true,"merged":[]}
[20,"Teilnehmer"]
[17,"Starts"]
[{"$f":"A2*A1","v":340},"TN*Starts"]
[{"$f":"1123.5/389","v":2.8881748071979434},"Mittel bis Tag18"]
[3,"Startgeld"]
[{"$f":"A5*A3","v":1020},"Einnahmen"]
[{"$f":"Gesamtstand!Z42","v":867},"Einnahmen echt"]
[]
[null,"Ausschreibung","% Einnahmen","analog","% analog"]
[1,145,{"$f":"B10/A$6","v":0.14215686274509803},{"$f":"ROUND(C10*A$7,-1)","v":120},{"$f":"IF(A$7=0,0,D10/A$7)","v":0.13840830449826991}]
[2,110,{"$f":"B11/A$6","v":0.10784313725490197},90,{"$f":"IF(A$7=0,0,D11/A$7)","v":0.10380622837370242}]
[3,85,8.3333333333333329E-2,70,8.073817762399077E-2]
[4,70,6.8627450980392163E-2,60,6.9204152249134954E-2]
[5,55,5.3921568627450983E-2,50,5.7670126874279123E-2]
[6,45,4.4117647058823532E-2,40,4.61361014994233E-2]
["Summe",{"$f":"SUM(B10:B15)","v":510},0.5,{"$f":"SUM(D10:D15)","v":430},0.49596309111880044]